{"text_format":"1","workbook":"xlsx","n_sheets":6,"sheets":["Table 1","Main","P_sentences_overview","H_sentences_overview","Engine","Front"],"not_rendered":{"charts":0,"images":0,"macros":1,"external_links":0,"defined_names":8,"comments":0,"pivot_tables":0},"unopened":[],"bounds":{"document_bytes":16777216,"sheet_cells":100000,"rows_first":2000,"rows_last":500,"rows_between":2000,"halvings":0,"cell_chars":16384,"cell_head_chars":4096},"cells_cut":0,"cells_raw":0,"read":"whole","date_system":"1900"}

{"sheet":"Table 1","index":0,"n_rows":703,"n_cols":90,"rows_kept":703,"cut":false,"hidden":true,"merged":[[701,1,701,21],[701,22,701,59],[701,71,701,85],[702,1,702,21],[702,22,702,59],[702,71,702,85],[74,1,74,22],[74,23,74,48],[76,1,76,22],[76,23,76,48],[99,1,99,26],[99,27,99,52],[101,27,101,52],[104,1,104,26],[104,27,104,52],[106,1,106,26],[106,27,106,52],[108,1,108,26],[108,27,108,52],[101,1,101,26],[97,1,97,26],[97,27,97,52],[176,1,176,26],[176,27,176,52],[174,1,174,26],[174,27,174,52],[625,25,625,57],[626,25,626,57],[627,25,627,57],[628,25,628,57],[687,1,687,21],[687,22,687,59],[687,71,687,85],[688,22,688,59],[688,71,700,85],[689,22,689,59],[690,22,690,59],[691,22,691,59],[692,22,692,59],[693,22,693,59],[694,22,694,59],[695,22,695,59],[696,22,696,59],[697,22,697,59],[698,22,698,59],[699,22,699,59],[700,22,700,59],[673,1,673,24],[673,25,673,57],[673,71,673,85],[674,1,674,24],[674,25,674,57],[674,71,674,85],[676,1,676,21],[676,22,676,59],[676,71,676,85],[677,22,677,59],[677,71,686,85],[678,22,678,59],[679,22,679,59],[680,22,680,59],[681,22,681,59],[682,22,682,59],[683,22,683,59],[684,22,684,59],[685,22,685,59],[686,22,686,59],[668,25,668,57],[668,71,670,85],[669,25,669,57],[670,25,670,57],[671,1,671,24],[671,25,671,57],[671,71,671,85],[672,1,672,24],[672,25,672,57],[672,71,672,85],[661,25,661,57],[661,71,665,85],[662,25,662,57],[663,25,663,57],[664,25,664,57],[665,25,665,57],[667,1,667,24],[667,25,667,57],[667,71,667,85],[651,25,651,57],[651,71,651,85],[652,25,652,57],[652,71,652,85],[653,25,653,57],[653,71,654,85],[654,25,654,57],[655,1,655,24],[655,25,655,57],[655,71,655,85],[656,25,656,57],[656,71,657,85],[657,25,657,57],[658,1,658,24],[658,25,658,57],[658,71,658,85],[659,1,659,24],[659,25,659,57],[659,71,659,85],[637,25,637,57],[637,71,647,85],[638,25,638,57],[639,25,639,57],[640,25,640,57],[641,25,641,57],[642,25,642,57],[643,25,643,57],[644,25,644,57],[645,25,645,57],[646,25,646,57],[647,25,647,57],[648,1,648,24],[648,25,648,57],[648,71,648,85],[649,1,649,24],[649,25,649,57],[649,71,649,85],[623,25,623,57],[623,71,628,85],[624,25,624,57],[629,25,629,57],[629,71,629,85],[630,25,630,57],[630,71,631,85],[631,25,631,57],[632,25,632,57],[632,71,634,85],[633,25,633,57],[634,25,634,57],[635,1,635,24],[635,25,635,57],[635,71,635,85],[636,1,636,24],[636,25,636,57],[636,71,636,85],[613,0,614,0],[613,1,614,24],[613,68,614,85],[615,1,615,24],[615,68,615,85],[616,1,616,24],[616,68,616,85],[617,1,617,24],[617,68,617,85],[619,1,619,24],[619,25,619,57],[619,71,619,85],[615,0,616,0],[620,25,620,57],[620,71,621,85],[621,25,621,57],[622,1,622,24],[622,25,622,57],[622,71,622,85],[602,1,602,24],[602,25,602,57],[602,68,604,85],[603,25,603,57],[604,25,604,57],[605,25,606,57],[605,68,608,85],[607,25,607,57],[608,25,608,57],[609,25,610,57],[609,68,611,85],[611,25,611,57],[605,1,605,24],[609,1,609,24],[611,1,611,24],[612,1,612,24],[612,25,612,57],[612,68,612,85],[588,1,588,24],[588,25,588,57],[588,68,588,85],[589,1,589,24],[589,25,589,57],[589,68,589,85],[590,1,591,24],[590,68,593,85],[592,1,592,24],[593,1,593,24],[594,1,594,24],[594,25,594,57],[594,68,600,85],[595,25,597,57],[598,25,600,57],[599,1,599,24],[600,1,600,24],[595,1,595,24],[598,1,598,24],[573,1,573,24],[573,25,573,57],[573,68,573,85],[574,1,574,24],[574,25,574,57],[574,68,574,85],[575,1,575,24],[575,25,575,57],[575,68,575,85],[576,68,577,85],[578,1,578,24],[578,68,578,85],[579,1,579,24],[579,68,579,85],[580,1,580,24],[580,68,580,85],[581,1,581,24],[581,25,581,57],[581,68,587,85],[582,25,584,57],[585,25,587,57],[586,1,586,24],[587,1,587,24],[560,1,560,24],[560,25,560,57],[560,68,560,85],[561,25,561,57],[561,68,569,85],[562,25,562,57],[563,25,563,57],[564,25,564,57],[565,25,565,57],[566,25,566,57],[567,25,567,57],[568,25,568,57],[569,25,569,57],[571,1,571,24],[571,25,571,57],[571,68,571,85],[572,1,572,24],[572,25,572,57],[572,68,572,85],[556,1,556,24],[556,25,556,57],[556,68,556,85],[557,25,557,57],[557,68,559,85],[558,25,558,57],[559,25,559,57],[550,1,550,24],[550,25,550,57],[550,68,550,85],[551,1,551,24],[551,25,551,57],[551,68,551,85],[552,1,552,24],[552,25,552,57],[552,68,552,85],[553,1,553,24],[553,25,553,57],[553,68,553,85],[554,1,554,24],[554,25,554,57],[554,68,554,85],[543,25,543,57],[543,68,544,85],[544,25,544,57],[545,1,545,24],[545,25,545,57],[545,68,545,85],[546,25,546,57],[546,68,549,85],[547,25,547,57],[548,25,548,57],[549,25,549,57],[555,1,555,24],[555,25,555,57],[555,68,555,85],[537,1,537,24],[537,25,537,57],[537,68,537,85],[538,25,538,57],[538,68,542,85],[539,25,539,57],[540,25,540,57],[541,25,541,57],[542,25,542,57],[530,25,530,57],[530,68,531,85],[531,25,531,57],[532,1,532,24],[532,25,532,57],[532,68,532,85],[533,1,533,24],[533,25,533,57],[533,68,533,85],[534,25,534,57],[518,25,518,57],[518,68,524,85],[519,25,519,57],[520,25,520,57],[521,25,521,57],[522,25,522,57],[523,25,523,57],[524,1,524,24],[524,25,524,57],[534,68,536,85],[535,25,535,57],[536,25,536,57],[525,1,525,24],[525,25,525,57],[525,68,525,85],[526,1,526,24],[526,25,526,57],[526,68,526,85],[527,25,527,57],[527,68,528,85],[528,25,528,57],[529,1,529,24],[529,25,529,57],[529,68,529,85],[502,25,502,57],[502,68,506,85],[503,25,503,57],[504,25,504,57],[505,25,505,57],[506,25,506,57],[507,1,507,24],[507,25,507,57],[507,68,507,85],[508,1,508,24],[508,25,508,57],[508,68,508,85],[509,25,509,57],[509,68,517,85],[510,25,510,57],[511,25,511,57],[512,25,512,57],[513,25,513,57],[514,25,514,57],[515,25,515,57],[516,25,516,57],[517,25,517,57],[492,68,492,85],[493,68,493,85],[494,25,494,57],[494,68,495,85],[495,25,495,57],[496,25,497,57],[496,68,496,85],[497,68,497,85],[498,25,498,57],[498,68,499,85],[499,25,499,57],[500,1,500,24],[500,25,500,57],[500,68,500,85],[501,25,501,57],[501,68,501,85],[492,25,492,57],[477,25,477,57],[477,68,488,85],[478,25,478,57],[479,25,479,57],[480,25,480,57],[481,25,481,57],[482,25,482,57],[483,25,483,57],[484,25,484,57],[485,25,485,57],[486,25,486,57],[487,25,487,57],[488,25,488,57],[489,25,489,57],[489,68,491,85],[490,25,490,57],[491,25,491,57],[465,25,465,57],[465,68,467,85],[466,25,466,57],[467,25,467,57],[468,25,468,57],[468,68,470,85],[469,25,469,57],[470,25,470,57],[471,1,471,24],[471,25,471,57],[471,68,471,85],[472,25,472,57],[472,68,474,85],[473,25,473,57],[474,25,474,57],[476,1,476,24],[476,25,476,57],[476,68,476,85],[452,1,452,24],[452,25,452,57],[452,68,452,85],[454,25,454,57],[454,68,456,85],[455,25,455,57],[456,25,456,57],[457,25,457,57],[457,68,459,85],[458,25,458,57],[459,25,459,57],[460,25,460,57],[460,68,461,85],[461,25,461,57],[463,25,463,57],[463,68,464,85],[464,25,464,57],[446,1,446,24],[446,25,446,57],[446,68,446,85],[447,25,447,57],[447,68,451,85],[448,25,448,57],[449,25,449,57],[450,25,450,57],[451,25,451,57],[439,25,439,57],[439,68,440,85],[440,25,440,57],[441,1,441,24],[441,25,441,57],[441,68,441,85],[442,1,442,24],[442,25,442,57],[442,68,442,85],[443,25,443,57],[425,25,425,57],[425,68,427,85],[426,25,426,57],[427,25,427,57],[428,25,428,57],[428,68,428,85],[430,25,430,57],[430,68,431,85],[431,25,431,57],[432,25,432,57],[432,68,433,85],[433,25,433,57],[443,68,445,85],[444,25,444,57],[445,25,445,57],[434,1,434,24],[434,25,434,57],[434,68,434,85],[435,1,435,24],[435,25,435,57],[435,68,435,85],[436,25,436,57],[436,68,437,85],[437,25,437,57],[438,25,438,57],[438,68,438,85],[418,1,418,24],[418,25,418,57],[418,68,418,85],[419,1,419,24],[419,25,419,57],[419,68,419,85],[420,1,420,24],[420,25,420,57],[420,68,420,85],[421,1,421,24],[421,25,421,57],[421,68,421,85],[422,25,422,57],[422,68,422,85],[423,25,423,57],[423,68,423,85],[424,25,424,57],[424,68,424,85],[411,25,411,57],[411,68,417,85],[412,25,412,57],[413,25,413,57],[414,25,414,57],[415,25,415,57],[416,25,416,57],[417,25,417,57],[403,25,403,57],[403,68,405,85],[404,25,404,57],[405,25,405,57],[406,25,406,57],[406,68,410,85],[407,25,407,57],[408,25,408,57],[409,25,409,57],[410,25,410,57],[388,25,388,57],[388,68,389,85],[389,25,389,57],[391,25,391,57],[391,68,394,85],[392,25,392,57],[393,25,393,57],[394,25,394,57],[395,25,395,57],[395,68,395,85],[396,1,396,24],[396,25,396,57],[396,68,396,85],[397,25,397,57],[397,68,402,85],[398,25,398,57],[399,25,399,57],[400,25,400,57],[401,25,401,57],[402,25,402,57],[372,25,372,57],[372,68,377,85],[373,25,373,57],[374,25,374,57],[375,25,375,57],[376,25,376,57],[377,25,377,57],[378,25,378,57],[378,68,379,85],[379,25,379,57],[380,25,380,57],[380,68,384,85],[381,25,381,57],[382,25,382,57],[383,25,383,57],[384,25,384,57],[385,25,385,57],[385,68,387,85],[386,25,386,57],[387,25,387,57],[349,65,350,85],[350,21,350,52],[351,21,351,52],[351,65,351,85],[352,21,352,52],[352,65,352,85],[353,21,353,52],[353,65,354,85],[354,21,354,52],[366,1,366,20],[366,21,366,52],[366,65,366,85],[368,1,368,24],[368,25,368,57],[368,68,368,85],[369,25,369,57],[369,68,371,85],[370,25,370,57],[371,25,371,57],[359,21,359,52],[360,1,360,20],[360,21,360,52],[360,65,360,85],[361,21,361,52],[361,65,362,85],[362,21,362,52],[363,21,363,52],[363,65,364,85],[364,21,364,52],[347,21,347,52],[330,21,330,52],[330,65,332,85],[331,21,331,52],[332,21,332,52],[333,1,333,20],[333,21,333,52],[333,65,333,85],[334,21,334,52],[334,65,335,85],[335,21,335,52],[355,21,355,52],[355,65,356,85],[356,21,356,52],[357,21,357,52],[357,65,359,85],[358,21,358,52],[337,21,337,52],[337,65,347,85],[338,21,338,52],[339,21,339,52],[340,21,340,52],[341,21,341,52],[342,21,342,52],[343,21,343,52],[344,21,344,52],[345,21,345,52],[346,21,346,52],[348,1,348,20],[348,21,348,52],[348,65,348,85],[349,21,349,52],[322,21,322,52],[322,65,323,85],[323,21,323,52],[309,21,309,52],[309,65,313,85],[310,21,310,52],[311,21,311,52],[312,21,312,52],[313,21,313,52],[314,1,314,20],[314,21,314,52],[314,65,314,85],[324,1,324,20],[324,21,324,52],[324,65,324,85],[325,21,325,52],[325,65,329,85],[326,21,326,52],[327,21,327,52],[328,21,328,52],[329,21,329,52],[315,1,315,20],[315,21,315,52],[315,65,315,85],[316,21,316,52],[316,65,321,85],[317,21,317,52],[318,21,318,52],[319,21,319,52],[320,21,320,52],[321,21,321,52],[294,21,294,52],[294,65,294,85],[307,21,307,52],[307,65,308,85],[308,21,308,52],[295,21,295,52],[295,65,295,85],[296,21,296,52],[296,65,296,85],[297,1,297,20],[297,21,297,52],[297,65,297,85],[298,1,298,20],[298,21,298,52],[298,65,298,85],[299,1,299,20],[299,21,299,52],[299,65,299,85],[300,1,300,20],[300,21,300,52],[300,65,300,85],[301,1,301,20],[301,21,301,52],[301,65,301,85],[302,1,302,20],[302,21,302,52],[302,65,302,85],[304,21,304,52],[304,65,306,85],[305,21,305,52],[306,21,306,52],[286,21,286,52],[286,65,286,85],[287,21,287,52],[287,65,287,85],[289,1,289,20],[289,21,289,52],[289,65,289,85],[290,21,290,52],[290,65,290,85],[291,21,291,52],[291,65,291,85],[288,21,288,52],[288,65,288,85],[292,21,292,52],[292,65,292,85],[293,21,293,52],[293,65,293,85],[281,21,281,52],[281,65,284,85],[282,21,282,52],[283,21,283,52],[284,21,284,52],[285,21,285,52],[270,21,270,52],[270,65,271,85],[271,21,271,52],[272,21,272,52],[272,65,272,85],[274,21,274,52],[274,65,274,85],[275,21,275,52],[275,65,275,85],[276,21,276,52],[276,65,276,85],[277,21,277,52],[277,65,277,85],[278,21,278,52],[278,65,280,85],[279,21,279,52],[280,21,280,52],[285,65,285,85],[256,1,256,20],[256,21,256,52],[256,65,256,85],[257,1,257,20],[257,21,257,52],[257,65,257,85],[259,21,259,52],[259,65,261,85],[260,21,260,52],[261,21,261,52],[269,1,269,20],[269,21,269,52],[269,65,269,85],[273,1,273,20],[273,21,273,52],[273,65,273,85],[262,21,262,52],[262,65,264,85],[263,21,263,52],[264,21,264,52],[265,1,265,20],[265,21,265,52],[265,65,265,85],[267,21,267,52],[267,65,267,85],[268,21,268,52],[268,65,268,85],[233,21,233,52],[233,65,233,85],[234,21,234,52],[234,65,237,85],[235,21,235,52],[236,21,236,52],[237,21,237,52],[238,21,238,52],[238,65,242,85],[239,21,239,52],[240,21,240,52],[241,21,241,52],[242,21,242,52],[243,1,243,20],[243,21,243,52],[243,65,243,85],[244,21,244,52],[244,65,255,85],[245,21,245,52],[246,21,246,52],[247,21,247,52],[248,21,248,52],[249,21,249,52],[250,21,250,52],[251,21,251,52],[252,21,252,52],[253,21,253,52],[254,21,254,52],[255,21,255,52],[227,1,227,24],[227,25,227,59],[227,60,227,69],[227,70,227,85],[228,1,228,24],[228,25,228,59],[228,60,228,69],[228,70,228,85],[229,1,229,24],[229,25,229,59],[229,60,229,69],[229,70,229,85],[230,1,230,24],[230,25,230,59],[230,60,230,69],[230,70,230,85],[232,1,232,20],[232,21,232,52],[232,53,232,64],[232,65,232,85],[182,1,182,24],[182,25,182,51],[183,1,183,24],[183,25,183,51],[184,1,184,24],[184,25,184,51],[185,1,185,24],[185,25,185,51],[187,1,187,24],[187,25,187,51],[170,1,170,26],[170,27,170,52],[173,1,173,26],[173,27,173,52],[177,1,177,24],[177,25,177,51],[178,1,178,24],[178,25,178,51],[179,1,179,24],[179,25,179,51],[180,1,180,24],[180,25,180,51],[157,1,157,26],[157,27,157,52],[159,1,159,26],[159,27,159,52],[161,1,161,26],[161,27,161,52],[164,1,164,26],[164,27,164,52],[166,1,166,26],[166,27,166,52],[168,1,168,26],[168,27,168,52],[144,1,144,26],[144,27,144,52],[147,1,147,26],[147,27,147,52],[148,1,148,26],[148,27,148,52],[150,1,150,26],[150,27,150,52],[152,1,152,26],[152,27,152,52],[155,1,155,26],[155,27,155,52],[156,1,156,26],[156,27,156,52],[158,1,158,26],[158,27,158,52],[160,1,160,26],[160,27,160,52],[162,1,162,26],[162,27,162,52],[133,1,133,26],[133,27,133,52],[135,1,135,26],[135,27,135,52],[137,1,137,26],[137,27,137,52],[139,1,139,26],[139,27,139,52],[141,1,141,26],[141,27,141,52],[126,1,126,26],[126,27,126,52],[127,1,127,26],[127,27,127,52],[128,1,128,26],[128,27,128,52],[130,1,130,26],[130,27,130,52],[131,1,131,26],[131,27,131,52],[132,1,132,26],[132,27,132,52],[136,1,136,26],[136,27,136,52],[118,1,118,26],[118,27,118,52],[119,1,119,26],[119,27,119,52],[120,1,120,26],[120,27,120,52],[123,1,123,26],[123,27,123,52],[124,1,124,26],[124,27,124,52],[110,1,110,26],[110,27,110,52],[111,1,111,26],[111,27,111,52],[112,1,112,26],[112,27,112,52],[113,1,113,26],[113,27,113,52],[114,1,114,26],[114,27,114,52],[116,1,116,26],[116,27,116,52],[100,1,100,26],[100,27,100,52],[102,1,102,26],[102,27,102,52],[103,1,103,26],[103,27,103,52],[105,1,105,26],[105,27,105,52],[107,1,107,26],[107,27,107,52],[109,1,109,26],[109,27,109,52],[92,1,92,26],[92,27,92,52],[93,1,93,26],[93,27,93,52],[94,1,94,26],[94,27,94,52],[95,1,95,26],[95,27,95,52],[96,1,96,26],[96,27,96,52],[98,1,98,26],[98,27,98,52],[85,1,85,26],[85,27,85,52],[86,1,86,26],[86,27,86,52],[87,1,87,26],[87,27,87,52],[88,1,88,26],[88,27,88,52],[89,1,89,26],[89,27,89,52],[90,1,90,26],[90,27,90,52],[75,1,75,22],[75,23,75,48],[77,1,77,22],[77,23,77,48],[78,1,78,22],[78,23,78,48],[80,1,80,22],[80,23,80,48],[84,1,84,26],[84,27,84,52],[67,1,67,22],[67,23,67,48],[68,1,68,22],[68,23,68,48],[69,1,69,22],[69,23,69,48],[70,1,70,22],[70,23,70,48],[72,1,72,22],[72,23,72,48],[73,1,73,22],[73,23,73,48],[56,1,56,22],[56,23,56,48],[59,1,59,22],[59,23,59,48],[60,1,60,22],[60,23,60,48],[62,1,62,22],[62,23,62,48],[64,1,64,22],[64,23,64,48],[66,1,66,22],[66,23,66,48],[57,1,57,22],[57,23,57,48],[61,1,61,22],[61,23,61,48],[63,1,63,22],[63,23,63,48],[65,1,65,22],[65,23,65,48],[50,23,50,48],[52,1,52,22],[52,23,52,48],[53,1,53,22],[53,23,53,48],[54,1,54,22],[54,23,54,48],[43,1,43,22],[43,23,43,48],[44,1,44,22],[44,23,44,48],[45,1,45,22],[45,23,45,48],[46,1,46,22],[46,23,46,48],[47,1,47,22],[47,23,47,48],[48,1,48,22],[48,23,48,48],[153,1,153,26],[153,27,153,52],[154,1,154,26],[154,27,154,52],[36,1,36,22],[36,23,36,48],[37,1,37,22],[37,23,37,48],[38,1,38,22],[38,23,38,48],[39,1,39,22],[39,23,39,48],[41,1,41,22],[41,23,41,48],[42,1,42,22],[42,23,42,48],[30,1,30,22],[30,23,30,48],[30,49,30,61],[31,1,31,22],[31,23,31,48],[32,1,32,22],[32,23,32,48],[33,1,33,22],[33,23,33,48],[34,1,34,22],[34,23,34,48],[35,1,35,22],[35,23,35,48],[49,1,49,22],[49,23,49,48],[50,1,50,22],[163,1,163,26]],"merged_total":1031,"flags":["merged_cut"]}
["ANNEX 3"]
["CODIFICATION OF HAZARD"]
["STATEMENTS, CODIFICATION AND USE OF PRECAUTIONARY STATEMENTS, CODIFICATION OF HAZARD PICTOGRAMS AND EXAMPLES OF PRECAUTIONARY PICTOGRAMS"]
["ANNEX 3"]
["Section 1"]
["CODIFICATION OF HAZARD STATEMENTS"]
["A3.1.1                 Introduction"]
["A3.1.1.1               Hazard statement means a statement assigned to a hazard class and category that describes the nature of the hazards of a hazardous product, including, where appropriate, the degree of hazard."]
["A3.1.1.2               This section contains the recommended codes assigned to each of the hazard statements applicable to the hazard categories under the GHS."]
["A3.1.1.3               The hazard statement codes are intended to be used for reference purposes. They are not part of the hazard statement text and should not be used to replace it."]
["A3.1.2                 Codification of hazard statements"]
["A3.1.2.1               Hazard statements are assigned a unique alphanumerical code which consists of one letter and three numbers, as follows:"]
["(a)       the letter “H” (for “hazard statement”);"]
["(b)       a number designating the type of hazard to which the hazard statement is assigned according to the numbering of the different parts of the GHS, as follows:"]
["     “2” for physical hazards;"]
["     “3” for health hazards;"]
["     “4” for environmental hazards;"]
["(c)       two numbers corresponding to the sequential numbering of hazards arising from the intrinsic properties  of  the  substance   or   mixture,   such  as  explosivity  (codes  from  200   to  210), flammability (codes from 220 to 230), etc."]
["A3.1.2.2               The codes to be used for designating hazard statements are listed, in numerical order, in Table A3.1.1 for  physical  hazards,  Table  A3.1.2  for  health  hazards  and  Table  A3.1.3  for  environmental  hazards.    Each  table  is divided into 4 columns containing the following information:"]
["Column (1)       The hazard statement code; Column (2)       The hazard statement text;"]
["The  text  in  bold  should  appear  on  the  label,  except  as  otherwise  specified.    The information  in  italics  should  also  appear  as  part  of  the  hazard  statement  when  the information is known."]
["For  example:  “causes  damages  to  organs  (or  state  all  organs  affected,  if  known) through prolonged or repeated exposure (state route of exposure if it is conclusively proven that no other routes of exposure cause the hazard)”."]
["Column (3)       Hazard class, with a reference to the chapter of the GHS where information about the hazard class may be found."]
["Column (4)       The hazard category or categories within a hazard class for which the use of a hazard statement is applicable."]
["A3.1.2.3               In  addition  to  individual  hazard  statements,  a  number  of  combined  hazard  statements  are  given  in Table A3.1.2.   The alphanumerical codes for the combined statements are constructed from the codes for the individual"]
[]
["- 269 -"]
["statements that are combined, conjoined with the plus (“+”) sign.  For example, H300 + H310 indicates that the text to appear on the label is “Fatal if swallowed or in contact with skin”."]
["A3.1.2.4               All assigned hazard statements should appear on the label unless otherwise specified in 1.4.10.5.3.3. The  competent  authority  may  specify  the  order  in  which  they  appear.  Also,  where  a  combined  hazard  statement  is indicated  for  two  or  more  hazard  statements,  the  competent  authority  may  specify  whether  the  combined  hazard statement  or  the  corresponding  individual  statements  should  appear  on  the  label,  or  may  leave  the  choice  to  the manufacturer/supplier."]
["Table A3.1.1:  Hazard statement codes for physical hazards"]
["Code (1)","Physical hazard statements (2)",null,null,null,null,null,null,null,null,null,null,null,null,null,null,null,null,null,null,null,null,null,"Hazard class  (GHS chapter) (3)",null,null,null,null,null,null,null,null,null,null,null,null,null,null,null,null,null,null,null,null,null,null,null,null,null,"Hazard category (4)"]
["H200","Unstable explosive",null,null,null,null,null,null,null,null,null,null,null,null,null,null,null,null,null,null,null,null,null,"Explosives (chapter 2.1)",null,null,null,null,null,null,null,null,null,null,null,null,null,null,null,null,null,null,null,null,null,null,null,null,null,"Unstable explosive",null,null,null,null,null,null,null,null,null,null,null,null,null,null,null,{"$f":"IF(V234=X32,A32,)","v":"H200"},{"$f":"IF(W234=Y32,B32,)","v":"Unstable explosive"}]
["H201","Explosive; mass explosion hazard",null,null,null,null,null,null,null,null,null,null,null,null,null,null,null,null,null,null,null,null,null,"Explosives (chapter 2.1)",null,null,null,null,null,null,null,null,null,null,null,null,null,null,null,null,null,null,null,null,null,null,null,null,null,"1.1"]
["H202","Explosive; severe projection hazard",null,null,null,null,null,null,null,null,null,null,null,null,null,null,null,null,null,null,null,null,null,"Explosives (chapter 2.1)",null,null,null,null,null,null,null,null,null,null,null,null,null,null,null,null,null,null,null,null,null,null,null,null,null,"1.2"]
["H203","Explosive; fire, blast or projection hazard",null,null,null,null,null,null,null,null,null,null,null,null,null,null,null,null,null,null,null,null,null,"Explosives (chapter 2.1)",null,null,null,null,null,null,null,null,null,null,null,null,null,null,null,null,null,null,null,null,null,null,null,null,null,"1.3"]
["H204","Fire or projection hazard",null,null,null,null,null,null,null,null,null,null,null,null,null,null,null,null,null,null,null,null,null,"Explosives (chapter 2.1)",null,null,null,null,null,null,null,null,null,null,null,null,null,null,null,null,null,null,null,null,null,null,null,null,null,"1.4"]
["H205","May mass explode in fire",null,null,null,null,null,null,null,null,null,null,null,null,null,null,null,null,null,null,null,null,null,"Explosives (chapter 2.1)",null,null,null,null,null,null,null,null,null,null,null,null,null,null,null,null,null,null,null,null,null,null,null,null,null,"1.5"]
["H206","Fire, blast or projection hazard; increased risk of explosion if desensitizing agent is reduced",null,null,null,null,null,null,null,null,null,null,null,null,null,null,null,null,null,null,null,null,null,"Desensitized explosives (chapter 2.17)",null,null,null,null,null,null,null,null,null,null,null,null,null,null,null,null,null,null,null,null,null,null,null,null,null,1]
["H207","Fire or projection hazard; increased risk of explosion if desensitizing agent is reduced",null,null,null,null,null,null,null,null,null,null,null,null,null,null,null,null,null,null,null,null,null,"Desensitized explosives (chapter 2.17)",null,null,null,null,null,null,null,null,null,null,null,null,null,null,null,null,null,null,null,null,null,null,null,null,null,2,3]
["H208","Fire hazard; increased risk of explosion if desensitizing agent is reduced",null,null,null,null,null,null,null,null,null,null,null,null,null,null,null,null,null,null,null,null,null,"Desensitized explosives (chapter 2.17)",null,null,null,null,null,null,null,null,null,null,null,null,null,null,null,null,null,null,null,null,null,null,null,null,null,4]
[]
["H220","Extremely flammable gas",null,null,null,null,null,null,null,null,null,null,null,null,null,null,null,null,null,null,null,null,null,"Flammable gases (chapter 2.2)",null,null,null,null,null,null,null,null,null,null,null,null,null,null,null,null,null,null,null,null,null,null,null,null,null,"1A"]
["H221","Flammable gas",null,null,null,null,null,null,null,null,null,null,null,null,null,null,null,null,null,null,null,null,null,"Flammable gases (chapter 2.2)",null,null,null,null,null,null,null,null,null,null,null,null,null,null,null,null,null,null,null,null,null,null,null,null,null,"1B",2]
["H222","Extremely flammable aerosol",null,null,null,null,null,null,null,null,null,null,null,null,null,null,null,null,null,null,null,null,null,"Aerosols (chapter 2.3)",null,null,null,null,null,null,null,null,null,null,null,null,null,null,null,null,null,null,null,null,null,null,null,null,null,1]
["H223","Flammable aerosol",null,null,null,null,null,null,null,null,null,null,null,null,null,null,null,null,null,null,null,null,null,"Aerosols (chapter 2.3)",null,null,null,null,null,null,null,null,null,null,null,null,null,null,null,null,null,null,null,null,null,null,null,null,null,2]
["H224","Extremely flammable liquid and vapour",null,null,null,null,null,null,null,null,null,null,null,null,null,null,null,null,null,null,null,null,null,"Flammable liquids (chapter 2.6)",null,null,null,null,null,null,null,null,null,null,null,null,null,null,null,null,null,null,null,null,null,null,null,null,null,1]
["H225","Highly flammable liquid and vapour",null,null,null,null,null,null,null,null,null,null,null,null,null,null,null,null,null,null,null,null,null,"Flammable liquids (chapter 2.6)",null,null,null,null,null,null,null,null,null,null,null,null,null,null,null,null,null,null,null,null,null,null,null,null,null,2]
["H226","Flammable liquid and vapour",null,null,null,null,null,null,null,null,null,null,null,null,null,null,null,null,null,null,null,null,null,"Flammable liquids (chapter 2.6)",null,null,null,null,null,null,null,null,null,null,null,null,null,null,null,null,null,null,null,null,null,null,null,null,null,3]
["H227","Combustible liquid",null,null,null,null,null,null,null,null,null,null,null,null,null,null,null,null,null,null,null,null,null,"Flammable liquids (chapter 2.6)",null,null,null,null,null,null,null,null,null,null,null,null,null,null,null,null,null,null,null,null,null,null,null,null,null,4]
["H228","Flammable solid",null,null,null,null,null,null,null,null,null,null,null,null,null,null,null,null,null,null,null,null,null,"Flammable solids (chapter 2.7)",null,null,null,null,null,null,null,null,null,null,null,null,null,null,null,null,null,null,null,null,null,null,null,null,null,1,2]
["H229","Pressurized container: may burst if heated",null,null,null,null,null,null,null,null,null,null,null,null,null,null,null,null,null,null,null,null,null,"Aerosols (chapter 2.3)",null,null,null,null,null,null,null,null,null,null,null,null,null,null,null,null,null,null,null,null,null,null,null,null,null,1,2,3]
[]
["H230","May react explosively even in the absence of air",null,null,null,null,null,null,null,null,null,null,null,null,null,null,null,null,null,null,null,null,null,"Flammable gases (chapter 2.2)",null,null,null,null,null,null,null,null,null,null,null,null,null,null,null,null,null,null,null,null,null,null,null,null,null,"1A","Chemically unstable gasA"]
["H231","May react explosively even in the absence of air at elevated pressure and/or temperature",null,null,null,null,null,null,null,null,null,null,null,null,null,null,null,null,null,null,null,null,null,"Flammable gases (chapter 2.2)",null,null,null,null,null,null,null,null,null,null,null,null,null,null,null,null,null,null,null,null,null,null,null,null,null,"1A","Chemically unstable gasB"]
["H232","May ignite spontaneously if exposed to air",null,null,null,null,null,null,null,null,null,null,null,null,null,null,null,null,null,null,null,null,null,"Flammable gases (chapter 2.2)",null,null,null,null,null,null,null,null,null,null,null,null,null,null,null,null,null,null,null,null,null,null,null,null,null,"1A","pyrophoric gas"]
[]
["H240","Heating may cause an explosion",null,null,null,null,null,null,null,null,null,null,null,null,null,null,null,null,null,null,null,null,null,"Self-reactive substances and mixtures (chapter 2.8)",null,null,null,null,null,null,null,null,null,null,null,null,null,null,null,null,null,null,null,null,null,null,null,null,null,"A"]
["H240","Heating may cause an explosion",null,null,null,null,null,null,null,null,null,null,null,null,null,null,null,null,null,null,null,null,null,"Organic peroxides (chapter 2.15)",null,null,null,null,null,null,null,null,null,null,null,null,null,null,null,null,null,null,null,null,null,null,null,null,null,"A"]
[]
["Code (1)","Physical hazard statements (2)",null,null,null,null,null,null,null,null,null,null,null,null,null,null,null,null,null,null,null,null,null,"Hazard class  (GHS chapter) (3)",null,null,null,null,null,null,null,null,null,null,null,null,null,null,null,null,null,null,null,null,null,null,null,null,null,"Hazard category (4)"]
["H241","Heating may cause a fire or explosion",null,null,null,null,null,null,null,null,null,null,null,null,null,null,null,null,null,null,null,null,null,"Self-reactive substances and mixtures (chapter 2.8)",null,null,null,null,null,null,null,null,null,null,null,null,null,null,null,null,null,null,null,null,null,null,null,null,null,"B"]
["H241","Heating may cause a fire or explosion",null,null,null,null,null,null,null,null,null,null,null,null,null,null,null,null,null,null,null,null,null,"Organic peroxides (chapter 2.15)",null,null,null,null,null,null,null,null,null,null,null,null,null,null,null,null,null,null,null,null,null,null,null,null,null,"B"]
["H242","Heating may cause a fire",null,null,null,null,null,null,null,null,null,null,null,null,null,null,null,null,null,null,null,null,null,"Self-reactive substances and mixtures (chapter 2.8)",null,null,null,null,null,null,null,null,null,null,null,null,null,null,null,null,null,null,null,null,null,null,null,null,null,"C","D","E","F"]
["H242","Heating may cause a fire",null,null,null,null,null,null,null,null,null,null,null,null,null,null,null,null,null,null,null,null,null,"Organic peroxides (chapter 2.15)",null,null,null,null,null,null,null,null,null,null,null,null,null,null,null,null,null,null,null,null,null,null,null,null,null,"C","D","E","F"]
["H250","Catches fire spontaneously if exposed to air",null,null,null,null,null,null,null,null,null,null,null,null,null,null,null,null,null,null,null,null,null,"Pyrophoric liquids (chapter 2.9)",null,null,null,null,null,null,null,null,null,null,null,null,null,null,null,null,null,null,null,null,null,null,null,null,null,1]
["H250","Catches fire spontaneously if exposed to air",null,null,null,null,null,null,null,null,null,null,null,null,null,null,null,null,null,null,null,null,null,"Pyrophoric solids (chapter 2.10)",null,null,null,null,null,null,null,null,null,null,null,null,null,null,null,null,null,null,null,null,null,null,null,null,null,1]
["H251","Self-heating; may catch fire",null,null,null,null,null,null,null,null,null,null,null,null,null,null,null,null,null,null,null,null,null,"Self-heating substances and mixtures (chapter 2.11)",null,null,null,null,null,null,null,null,null,null,null,null,null,null,null,null,null,null,null,null,null,null,null,null,null,1]
["H252","Self-heating in large quantities; may catch fire",null,null,null,null,null,null,null,null,null,null,null,null,null,null,null,null,null,null,null,null,null,"Self-heating substances and mixtures (chapter 2.11)",null,null,null,null,null,null,null,null,null,null,null,null,null,null,null,null,null,null,null,null,null,null,null,null,null,2]
[]
["H260","In contact with water releases flammable gases which may ignite spontaneously",null,null,null,null,null,null,null,null,null,null,null,null,null,null,null,null,null,null,null,null,null,"Substances and mixtures which, in contact with water, emit flammable gases (chapter 2.12)",null,null,null,null,null,null,null,null,null,null,null,null,null,null,null,null,null,null,null,null,null,null,null,null,null,1]
["H261","In contact with water releases flammable gas",null,null,null,null,null,null,null,null,null,null,null,null,null,null,null,null,null,null,null,null,null,"Substances and mixtures which, in contact with water, emit flammable gases (chapter 2.12)",null,null,null,null,null,null,null,null,null,null,null,null,null,null,null,null,null,null,null,null,null,null,null,null,null,2,3]
[]
["H270","May cause or intensify fire; oxidizer",null,null,null,null,null,null,null,null,null,null,null,null,null,null,null,null,null,null,null,null,null,"Oxidizing gases (chapter 2.4)",null,null,null,null,null,null,null,null,null,null,null,null,null,null,null,null,null,null,null,null,null,null,null,null,null,1]
["H271","May cause fire or explosion; strong oxidizer",null,null,null,null,null,null,null,null,null,null,null,null,null,null,null,null,null,null,null,null,null,"Oxidizing liquids (chapter 2.13)",null,null,null,null,null,null,null,null,null,null,null,null,null,null,null,null,null,null,null,null,null,null,null,null,null,1]
["H271","May cause fire or explosion; strong oxidizer",null,null,null,null,null,null,null,null,null,null,null,null,null,null,null,null,null,null,null,null,null,"Oxidizing solids (chapter 2.14)",null,null,null,null,null,null,null,null,null,null,null,null,null,null,null,null,null,null,null,null,null,null,null,null,null,1]
["H272","May intensify fire; oxidizer",null,null,null,null,null,null,null,null,null,null,null,null,null,null,null,null,null,null,null,null,null,"Oxidizing liquids (chapter 2.13)",null,null,null,null,null,null,null,null,null,null,null,null,null,null,null,null,null,null,null,null,null,null,null,null,null,2,3]
["H272","May intensify fire; oxidizer",null,null,null,null,null,null,null,null,null,null,null,null,null,null,null,null,null,null,null,null,null,"Oxidizing solids (chapter 2.14)",null,null,null,null,null,null,null,null,null,null,null,null,null,null,null,null,null,null,null,null,null,null,null,null,null,2,3]
["H280","Contains gas under pressure; may explode if heated",null,null,null,null,null,null,null,null,null,null,null,null,null,null,null,null,null,null,null,null,null,"Gases under pressure (chapter 2.5)",null,null,null,null,null,null,null,null,null,null,null,null,null,null,null,null,null,null,null,null,null,null,null,null,null,"Compressed gas Liquefied gasDissolved gas"]
["H281","Contains refrigerated gas; may cause cryogenic burns or injury",null,null,null,null,null,null,null,null,null,null,null,null,null,null,null,null,null,null,null,null,null,"Gases under pressure (chapter 2.5)",null,null,null,null,null,null,null,null,null,null,null,null,null,null,null,null,null,null,null,null,null,null,null,null,null,"Refrigerated liquefied gas"]
[]
["H290","May be corrosive to metals",null,null,null,null,null,null,null,null,null,null,null,null,null,null,null,null,null,null,null,null,null,"Corrosive to metals (chapter 2.16)",null,null,null,null,null,null,null,null,null,null,null,null,null,null,null,null,null,null,null,null,null,null,null,null,null,1]
[]
["- 271 -"]
["Table A3.1.2:  Hazard statement codes for health hazards"]
["Code (1)","Health hazard statements (2)",null,null,null,null,null,null,null,null,null,null,null,null,null,null,null,null,null,null,null,null,null,null,null,null,null,"Hazard class (GHS chapter) (3)",null,null,null,null,null,null,null,null,null,null,null,null,null,null,null,null,null,null,null,null,null,null,null,null,null,"Hazard category (4)"]
["H300","Fatal if swallowed",null,null,null,null,null,null,null,null,null,null,null,null,null,null,null,null,null,null,null,null,null,null,null,null,null,"Acute toxicity, oral (chapter 3.1)",null,null,null,null,null,null,null,null,null,null,null,null,null,null,null,null,null,null,null,null,null,null,null,null,null,1,2]
["H301","Toxic if swallowed",null,null,null,null,null,null,null,null,null,null,null,null,null,null,null,null,null,null,null,null,null,null,null,null,null,"Acute toxicity, oral (chapter 3.1)",null,null,null,null,null,null,null,null,null,null,null,null,null,null,null,null,null,null,null,null,null,null,null,null,null,3]
["H302","Harmful if swallowed",null,null,null,null,null,null,null,null,null,null,null,null,null,null,null,null,null,null,null,null,null,null,null,null,null,"Acute toxicity, oral (chapter 3.1)",null,null,null,null,null,null,null,null,null,null,null,null,null,null,null,null,null,null,null,null,null,null,null,null,null,4]
["H303","May be harmful if swallowed",null,null,null,null,null,null,null,null,null,null,null,null,null,null,null,null,null,null,null,null,null,null,null,null,null,"Acute toxicity, oral (chapter 3.1)",null,null,null,null,null,null,null,null,null,null,null,null,null,null,null,null,null,null,null,null,null,null,null,null,null,5]
["H304","May be fatal if swallowed and enters airways",null,null,null,null,null,null,null,null,null,null,null,null,null,null,null,null,null,null,null,null,null,null,null,null,null,"Aspiration hazard (chapter 3.10)",null,null,null,null,null,null,null,null,null,null,null,null,null,null,null,null,null,null,null,null,null,null,null,null,null,1]
["H305","May be harmful if swallowed and enters airways",null,null,null,null,null,null,null,null,null,null,null,null,null,null,null,null,null,null,null,null,null,null,null,null,null,"Aspiration hazard (chapter 3.10)",null,null,null,null,null,null,null,null,null,null,null,null,null,null,null,null,null,null,null,null,null,null,null,null,null,2]
[]
["H310","Fatal in contact with skin",null,null,null,null,null,null,null,null,null,null,null,null,null,null,null,null,null,null,null,null,null,null,null,null,null,"Acute toxicity, dermal (chapter 3.1)",null,null,null,null,null,null,null,null,null,null,null,null,null,null,null,null,null,null,null,null,null,null,null,null,null,1,2]
["H311","Toxic in contact with skin",null,null,null,null,null,null,null,null,null,null,null,null,null,null,null,null,null,null,null,null,null,null,null,null,null,"Acute toxicity, dermal (chapter 3.1)",null,null,null,null,null,null,null,null,null,null,null,null,null,null,null,null,null,null,null,null,null,null,null,null,null,3]
["H312","Harmful in contact with skin",null,null,null,null,null,null,null,null,null,null,null,null,null,null,null,null,null,null,null,null,null,null,null,null,null,"Acute toxicity, dermal (chapter 3.1)",null,null,null,null,null,null,null,null,null,null,null,null,null,null,null,null,null,null,null,null,null,null,null,null,null,4]
["H313","May be harmful in contact with skin",null,null,null,null,null,null,null,null,null,null,null,null,null,null,null,null,null,null,null,null,null,null,null,null,null,"Acute toxicity, dermal (chapter 3.1)",null,null,null,null,null,null,null,null,null,null,null,null,null,null,null,null,null,null,null,null,null,null,null,null,null,5]
["H314 (1 - Skin corrosion)","Causes severe skin burns and eye damage",null,null,null,null,null,null,null,null,null,null,null,null,null,null,null,null,null,null,null,null,null,null,null,null,null,"Skin corrosion (chapter 3.2)",null,null,null,null,null,null,null,null,null,null,null,null,null,null,null,null,null,null,null,null,null,null,null,null,null,"1A","1B","1C"]
["H314 (2 - Skin irritation)","Causes severe skin burns and eye damage",null,null,null,null,null,null,null,null,null,null,null,null,null,null,null,null,null,null,null,null,null,null,null,null,null,"Skin irritation (chapter 3.2)",null,null,null,null,null,null,null,null,null,null,null,null,null,null,null,null,null,null,null,null,null,null,null,null,null,"1A","1B","1C"]
["H315 (1 - Skin corrosion)","Causes skin irritation",null,null,null,null,null,null,null,null,null,null,null,null,null,null,null,null,null,null,null,null,null,null,null,null,null,"Skin corrosion (chapter 3.2)",null,null,null,null,null,null,null,null,null,null,null,null,null,null,null,null,null,null,null,null,null,null,null,null,null,2]
["H315 (2 - Skin irritation)","Causes skin irritation",null,null,null,null,null,null,null,null,null,null,null,null,null,null,null,null,null,null,null,null,null,null,null,null,null,"Skin irritation (chapter 3.2)",null,null,null,null,null,null,null,null,null,null,null,null,null,null,null,null,null,null,null,null,null,null,null,null,null,2]
["H316 (1 - Skin corrosion)","Causes mild skin irritation",null,null,null,null,null,null,null,null,null,null,null,null,null,null,null,null,null,null,null,null,null,null,null,null,null,"Skin corrosion (chapter 3.2)",null,null,null,null,null,null,null,null,null,null,null,null,null,null,null,null,null,null,null,null,null,null,null,null,null,3]
["H316 (2 - Skin irritation)","Causes mild skin irritation",null,null,null,null,null,null,null,null,null,null,null,null,null,null,null,null,null,null,null,null,null,null,null,null,null,"Skin irritation (chapter 3.2)",null,null,null,null,null,null,null,null,null,null,null,null,null,null,null,null,null,null,null,null,null,null,null,null,null,3]
["H317","May cause an allergic skin reaction",null,null,null,null,null,null,null,null,null,null,null,null,null,null,null,null,null,null,null,null,null,null,null,null,null,"Skin sensitisation (chapter 3.4)",null,null,null,null,null,null,null,null,null,null,null,null,null,null,null,null,null,null,null,null,null,null,null,null,null,1,"1A","1B"]
["H318 (1 - Serious eye damage)","Causes serious eye damage",null,null,null,null,null,null,null,null,null,null,null,null,null,null,null,null,null,null,null,null,null,null,null,null,null,"Serious eye damage (chapter 3.3)",null,null,null,null,null,null,null,null,null,null,null,null,null,null,null,null,null,null,null,null,null,null,null,null,null,1]
["H318 (2 - Eye irritation)","Causes serious eye damage",null,null,null,null,null,null,null,null,null,null,null,null,null,null,null,null,null,null,null,null,null,null,null,null,null,"Eye irritation (chapter 3.3)",null,null,null,null,null,null,null,null,null,null,null,null,null,null,null,null,null,null,null,null,null,null,null,null,null,1]
["H319 (1 - Serious eye damage)","Causes serious eye irritation",null,null,null,null,null,null,null,null,null,null,null,null,null,null,null,null,null,null,null,null,null,null,null,null,null,"Serious eye damage (chapter 3.3)",null,null,null,null,null,null,null,null,null,null,null,null,null,null,null,null,null,null,null,null,null,null,null,null,null,"2A"]
["H319 (2 - Eye irritation)","Causes serious eye irritation",null,null,null,null,null,null,null,null,null,null,null,null,null,null,null,null,null,null,null,null,null,null,null,null,null,"Eye irritation (chapter 3.3)",null,null,null,null,null,null,null,null,null,null,null,null,null,null,null,null,null,null,null,null,null,null,null,null,null,"2A"]
["H320 (1 - Serious eye damage)","Causes eye irritation",null,null,null,null,null,null,null,null,null,null,null,null,null,null,null,null,null,null,null,null,null,null,null,null,null,"Serious eye damage (chapter 3.3)",null,null,null,null,null,null,null,null,null,null,null,null,null,null,null,null,null,null,null,null,null,null,null,null,null,"2B"]
["H320 (2 - Eye irritation)","Causes eye irritation",null,null,null,null,null,null,null,null,null,null,null,null,null,null,null,null,null,null,null,null,null,null,null,null,null,"Eye irritation (chapter 3.3)",null,null,null,null,null,null,null,null,null,null,null,null,null,null,null,null,null,null,null,null,null,null,null,null,null,"2B"]
["H330","Fatal if inhaled",null,null,null,null,null,null,null,null,null,null,null,null,null,null,null,null,null,null,null,null,null,null,null,null,null,"Acute toxicity, inhalation (chapter 3.1)",null,null,null,null,null,null,null,null,null,null,null,null,null,null,null,null,null,null,null,null,null,null,null,null,null,1,2]
["H331","Toxic if inhaled",null,null,null,null,null,null,null,null,null,null,null,null,null,null,null,null,null,null,null,null,null,null,null,null,null,"Acute toxicity, inhalation (chapter 3.1)",null,null,null,null,null,null,null,null,null,null,null,null,null,null,null,null,null,null,null,null,null,null,null,null,null,3]
["H332","Harmful if inhaled",null,null,null,null,null,null,null,null,null,null,null,null,null,null,null,null,null,null,null,null,null,null,null,null,null,"Acute toxicity, inhalation (chapter 3.1)",null,null,null,null,null,null,null,null,null,null,null,null,null,null,null,null,null,null,null,null,null,null,null,null,null,4]
["H333","May be harmful if inhaled",null,null,null,null,null,null,null,null,null,null,null,null,null,null,null,null,null,null,null,null,null,null,null,null,null,"Acute toxicity, inhalation (chapter 3.1)",null,null,null,null,null,null,null,null,null,null,null,null,null,null,null,null,null,null,null,null,null,null,null,null,null,5]
["H334","May cause allergy or asthma symptoms or breathing difficulties if inhaled",null,null,null,null,null,null,null,null,null,null,null,null,null,null,null,null,null,null,null,null,null,null,null,null,null,"Respiratory sensitisation (chapter 3.4)",null,null,null,null,null,null,null,null,null,null,null,null,null,null,null,null,null,null,null,null,null,null,null,null,null,1,"1A","1B"]
["H335 (1 - Specific target organ toxicity, single exposure)","May cause respiratory irritation",null,null,null,null,null,null,null,null,null,null,null,null,null,null,null,null,null,null,null,null,null,null,null,null,null,"Specific target organ toxicity, single exposure (chapter 3.8)",null,null,null,null,null,null,null,null,null,null,null,null,null,null,null,null,null,null,null,null,null,null,null,null,null,3]
["H335 (2 - Respiratory tract irritation)","May cause respiratory irritation",null,null,null,null,null,null,null,null,null,null,null,null,null,null,null,null,null,null,null,null,null,null,null,null,null,"Respiratory tract irritation (chapter 3.8)",null,null,null,null,null,null,null,null,null,null,null,null,null,null,null,null,null,null,null,null,null,null,null,null,null,3]
["H336 (1 - Specific target organ toxicity, single exposure)","May cause drowsiness or dizziness",null,null,null,null,null,null,null,null,null,null,null,null,null,null,null,null,null,null,null,null,null,null,null,null,null,"Specific target organ toxicity, single exposure (chapter 3.8)",null,null,null,null,null,null,null,null,null,null,null,null,null,null,null,null,null,null,null,null,null,null,null,null,null,3]
["H336 (2 - Narcotic effects)","May cause drowsiness or dizziness",null,null,null,null,null,null,null,null,null,null,null,null,null,null,null,null,null,null,null,null,null,null,null,null,null,"Narcotic effects (chapter 3.8)",null,null,null,null,null,null,null,null,null,null,null,null,null,null,null,null,null,null,null,null,null,null,null,null,null,3]
["H340","May cause genetic defects (state route of exposure if it is conclusively proven that no other routes of exposure cause the hazard)",null,null,null,null,null,null,null,null,null,null,null,null,null,null,null,null,null,null,null,null,null,null,null,null,null,"Germ cell mutagenicity (chapter 3.5)",null,null,null,null,null,null,null,null,null,null,null,null,null,null,null,null,null,null,null,null,null,null,null,null,null,"1A","1B"]
["H341","Suspected of causing genetic defects (state route of exposure if it is conclusively proven that no other routes of exposure cause the hazard)",null,null,null,null,null,null,null,null,null,null,null,null,null,null,null,null,null,null,null,null,null,null,null,null,null,"Germ cell mutagenicity (chapter 3.5)",null,null,null,null,null,null,null,null,null,null,null,null,null,null,null,null,null,null,null,null,null,null,null,null,null,2]
["H350","May cause cancer (state route of exposure if it is conclusively proven that no other routes of exposure cause the hazard)",null,null,null,null,null,null,null,null,null,null,null,null,null,null,null,null,null,null,null,null,null,null,null,null,null,"Carcinogenicity (chapter 3.6)",null,null,null,null,null,null,null,null,null,null,null,null,null,null,null,null,null,null,null,null,null,null,null,null,null,"1A","1B"]
[]
["- 272 -"]
["Code (1)","Health hazard statements (2)",null,null,null,null,null,null,null,null,null,null,null,null,null,null,null,null,null,null,null,null,null,null,null,null,null,"Hazard class (GHS chapter) (3)",null,null,null,null,null,null,null,null,null,null,null,null,null,null,null,null,null,null,null,null,null,null,null,null,null,"Hazard category (4)"]
["H351","Suspected of causing cancer (state route of exposure if it is conclusively proven that no other routes of exposure cause the hazard)",null,null,null,null,null,null,null,null,null,null,null,null,null,null,null,null,null,null,null,null,null,null,null,null,null,"Carcinogenicity (chapter 3.6)",null,null,null,null,null,null,null,null,null,null,null,null,null,null,null,null,null,null,null,null,null,null,null,null,null,2]
[]
["H360","May damage fertility or the unborn child (state specific effect if known)(state route of exposure if it is conclusively proven that no other routes of exposure cause the hazard)",null,null,null,null,null,null,null,null,null,null,null,null,null,null,null,null,null,null,null,null,null,null,null,null,null,"Reproductive toxicity (chapter 3.7)",null,null,null,null,null,null,null,null,null,null,null,null,null,null,null,null,null,null,null,null,null,null,null,null,null,"1A","1B"]
["H361","Suspected of damaging fertility or the unborn child (state specific effect if known)(state route of exposure if it is conclusively proven that no other routes of exposure cause the hazard)",null,null,null,null,null,null,null,null,null,null,null,null,null,null,null,null,null,null,null,null,null,null,null,null,null,"Reproductive toxicity (chapter 3.7)",null,null,null,null,null,null,null,null,null,null,null,null,null,null,null,null,null,null,null,null,null,null,null,null,null,2]
["H362","May cause harm to breast-fed children",null,null,null,null,null,null,null,null,null,null,null,null,null,null,null,null,null,null,null,null,null,null,null,null,null,"Reproductive toxicity, effects on or via lactation (chapter 3.7)",null,null,null,null,null,null,null,null,null,null,null,null,null,null,null,null,null,null,null,null,null,null,null,null,null,"Additional category"]
[]
["H370","Causes damage to organs (or state all organs affected, if known) (state route of exposure if it is conclusively proven that no other routes of exposure cause the hazard)",null,null,null,null,null,null,null,null,null,null,null,null,null,null,null,null,null,null,null,null,null,null,null,null,null,"Specific target organ toxicity, single exposure (chapter 3.8)",null,null,null,null,null,null,null,null,null,null,null,null,null,null,null,null,null,null,null,null,null,null,null,null,null,1]
["H371","May cause damage to organs (or state all organs affected, if known)(state route of exposure if it is conclusively proven that no other routes of exposure cause the hazard)",null,null,null,null,null,null,null,null,null,null,null,null,null,null,null,null,null,null,null,null,null,null,null,null,null,"Specific target organ toxicity, single exposure (chapter 3.8)",null,null,null,null,null,null,null,null,null,null,null,null,null,null,null,null,null,null,null,null,null,null,null,null,null,2]
["H372","Causes damage to organs ( state all organs affected, if known) through prolonged or repeated exposure (state route of exposure if it is conclusively proven that no other routes of exposure cause the hazard)",null,null,null,null,null,null,null,null,null,null,null,null,null,null,null,null,null,null,null,null,null,null,null,null,null,"Specific target organ toxicity, repeated exposure (chapter 3.9)",null,null,null,null,null,null,null,null,null,null,null,null,null,null,null,null,null,null,null,null,null,null,null,null,null,1]
["H373","May cause damage to organs ( state all organs affected, if known) through prolonged or repeated exposure (state route of exposure if it is conclusively proven that no other routes of exposure cause the hazard)",null,null,null,null,null,null,null,null,null,null,null,null,null,null,null,null,null,null,null,null,null,null,null,null,null,"Specific target organ toxicity, repeated exposure (chapter 3.9)",null,null,null,null,null,null,null,null,null,null,null,null,null,null,null,null,null,null,null,null,null,null,null,null,null,2]
[]
["H300 + H310 (1- Acute toxicity, oral)","Fatal if swallowed or in contact with skin",null,null,null,null,null,null,null,null,null,null,null,null,null,null,null,null,null,null,null,null,null,null,null,null,null,"Acute toxicity, oral (chapter 3.1)",null,null,null,null,null,null,null,null,null,null,null,null,null,null,null,null,null,null,null,null,null,null,null,null,null,1,2]
["H300 + H310 (2 - Acute toxicity, dermal)","Fatal if swallowed or in contact with skin",null,null,null,null,null,null,null,null,null,null,null,null,null,null,null,null,null,null,null,null,null,null,null,null,null,"Acute toxicity, dermal (chapter 3.1)",null,null,null,null,null,null,null,null,null,null,null,null,null,null,null,null,null,null,null,null,null,null,null,null,null,1,2]
["H300 + H330 (1 - Acute toxicity, oral)","Fatal if swallowed or if inhaled",null,null,null,null,null,null,null,null,null,null,null,null,null,null,null,null,null,null,null,null,null,null,null,null,null,"Acute toxicity, oral (chapter 3.1)",null,null,null,null,null,null,null,null,null,null,null,null,null,null,null,null,null,null,null,null,null,null,null,null,null,1,2]
["H300 + H330 (2 - Acute toxicity, inhalation)","Fatal if swallowed or if inhaled",null,null,null,null,null,null,null,null,null,null,null,null,null,null,null,null,null,null,null,null,null,null,null,null,null,"Acute toxicity, inhalation (chapter 3.1)",null,null,null,null,null,null,null,null,null,null,null,null,null,null,null,null,null,null,null,null,null,null,null,null,null,1,2]
["H310 + H330 (1 - Acute toxicity, dermal)","Fatal in contact with skin or if inhaled",null,null,null,null,null,null,null,null,null,null,null,null,null,null,null,null,null,null,null,null,null,null,null,null,null,"Acute toxicity, dermal (chapter 3.1)",null,null,null,null,null,null,null,null,null,null,null,null,null,null,null,null,null,null,null,null,null,null,null,null,null,1,2]
["H310 + H330 (2 - Acute toxicity, inhalation)","Fatal in contact with skin or if inhaled",null,null,null,null,null,null,null,null,null,null,null,null,null,null,null,null,null,null,null,null,null,null,null,null,null,"Acute toxicity, inhalation (chapter 3.1)",null,null,null,null,null,null,null,null,null,null,null,null,null,null,null,null,null,null,null,null,null,null,null,null,null,1,2]
["H300 + H310 + H330 (1 - Acute toxicity, oral )","Fatal if swallowed, in contact with skin or if inhaled",null,null,null,null,null,null,null,null,null,null,null,null,null,null,null,null,null,null,null,null,null,null,null,null,null,"Acute toxicity, oral (chapter 3.1)",null,null,null,null,null,null,null,null,null,null,null,null,null,null,null,null,null,null,null,null,null,null,null,null,null,1,2]
["H300 + H310 + H330 (2 - Acute toxicity, dermal)","Fatal if swallowed, in contact with skin or if inhaled",null,null,null,null,null,null,null,null,null,null,null,null,null,null,null,null,null,null,null,null,null,null,null,null,null,"Acute toxicity, dermal (chapter 3.1)",null,null,null,null,null,null,null,null,null,null,null,null,null,null,null,null,null,null,null,null,null,null,null,null,null,1,2]
["H300 + H310 + H330 (3 - Acute toxicity, inhalation)","Fatal if swallowed, in contact with skin or if inhaled",null,null,null,null,null,null,null,null,null,null,null,null,null,null,null,null,null,null,null,null,null,null,null,null,null,"Acute toxicity, inhalation (chapter 3.1)",null,null,null,null,null,null,null,null,null,null,null,null,null,null,null,null,null,null,null,null,null,null,null,null,null,1,2]
["H301 + H311 (1 - Acute toxicity, oral)","Toxic if swallowed or in contact with skin",null,null,null,null,null,null,null,null,null,null,null,null,null,null,null,null,null,null,null,null,null,null,null,null,null,"Acute toxicity, oral (chapter 3.1)",null,null,null,null,null,null,null,null,null,null,null,null,null,null,null,null,null,null,null,null,null,null,null,null,null,3]
["H301 + H311 (2 - Acute toxicity, dermal)","Toxic if swallowed or in contact with skin",null,null,null,null,null,null,null,null,null,null,null,null,null,null,null,null,null,null,null,null,null,null,null,null,null,"Acute toxicity, dermal (chapter 3.1)",null,null,null,null,null,null,null,null,null,null,null,null,null,null,null,null,null,null,null,null,null,null,null,null,null,3]
[]
["Code (1)","Health hazard statements (2)",null,null,null,null,null,null,null,null,null,null,null,null,null,null,null,null,null,null,null,null,null,null,null,null,null,"Hazard class (GHS chapter) (3)",null,null,null,null,null,null,null,null,null,null,null,null,null,null,null,null,null,null,null,null,null,null,null,null,null,"Hazard category (4)"]
["H301 + H331 (1 - Acute toxicity, oral)","Toxic if swallowed or if inhaled",null,null,null,null,null,null,null,null,null,null,null,null,null,null,null,null,null,null,null,null,null,null,null,null,null,"Acute toxicity, oral (chapter 3.1)",null,null,null,null,null,null,null,null,null,null,null,null,null,null,null,null,null,null,null,null,null,null,null,null,null,3]
["H301 + H331 (2 - Acute toxicity, inhalation)","Toxic if swallowed or if inhaled",null,null,null,null,null,null,null,null,null,null,null,null,null,null,null,null,null,null,null,null,null,null,null,null,null,"Acute toxicity, inhalation (chapter 3.1)",null,null,null,null,null,null,null,null,null,null,null,null,null,null,null,null,null,null,null,null,null,null,null,null,null,3]
["H311 + H331 (1 - Acute toxicity, dermal)","Toxic in contact with skin or if inhaled",null,null,null,null,null,null,null,null,null,null,null,null,null,null,null,null,null,null,null,null,null,null,null,null,null,"Acute toxicity, dermal (chapter 3.1)",null,null,null,null,null,null,null,null,null,null,null,null,null,null,null,null,null,null,null,null,null,null,null,null,null,3]
["H311 + H331 (2 - Acute toxicity, inhalation)","Toxic in contact with skin or if inhaled",null,null,null,null,null,null,null,null,null,null,null,null,null,null,null,null,null,null,null,null,null,null,null,null,null,"Acute toxicity, inhalation (chapter 3.1)",null,null,null,null,null,null,null,null,null,null,null,null,null,null,null,null,null,null,null,null,null,null,null,null,null,3]
["H301 + H311 + H331 (1 -  Acute toxicity, oral)","Toxic if swallowed, in contact with skin or if inhaled",null,null,null,null,null,null,null,null,null,null,null,null,null,null,null,null,null,null,null,null,null,null,null,null,null,"Acute toxicity, oral (chapter 3.1)",null,null,null,null,null,null,null,null,null,null,null,null,null,null,null,null,null,null,null,null,null,null,null,null,null,3]
["H301 + H311 + H331 (2 -  Acute toxicity, dermal)","Toxic if swallowed, in contact with skin or if inhaled",null,null,null,null,null,null,null,null,null,null,null,null,null,null,null,null,null,null,null,null,null,null,null,null,null,"Acute toxicity, dermal (chapter 3.1)",null,null,null,null,null,null,null,null,null,null,null,null,null,null,null,null,null,null,null,null,null,null,null,null,null,3]
["H301 + H311 + H331 (3 -  Acute toxicity, inhalation)","Toxic if swallowed, in contact with skin or if inhaled",null,null,null,null,null,null,null,null,null,null,null,null,null,null,null,null,null,null,null,null,null,null,null,null,null,"Acute toxicity, inhalation (chapter 3.1)",null,null,null,null,null,null,null,null,null,null,null,null,null,null,null,null,null,null,null,null,null,null,null,null,null,3]
["H302 + H312 (1 - Acute toxicity, oral)","Harmful if swallowed or in contact with skin",null,null,null,null,null,null,null,null,null,null,null,null,null,null,null,null,null,null,null,null,null,null,null,null,null,"Acute toxicity, oral (chapter 3.1)",null,null,null,null,null,null,null,null,null,null,null,null,null,null,null,null,null,null,null,null,null,null,null,null,null,4]
["H302 + H312 (2 - Acute toxicity, dermal)","Harmful if swallowed or in contact with skin",null,null,null,null,null,null,null,null,null,null,null,null,null,null,null,null,null,null,null,null,null,null,null,null,null,"Acute toxicity, dermal (chapter 3.1)",null,null,null,null,null,null,null,null,null,null,null,null,null,null,null,null,null,null,null,null,null,null,null,null,null,4]
["H302 + H332 (1 - Acute toxicity, oral)","Harmful if swallowed or if inhaled",null,null,null,null,null,null,null,null,null,null,null,null,null,null,null,null,null,null,null,null,null,null,null,null,null,"Acute toxicity, oral (chapter 3.1)",null,null,null,null,null,null,null,null,null,null,null,null,null,null,null,null,null,null,null,null,null,null,null,null,null,4]
["H302 + H332 (2 - Acute toxicity, inhalation)","Harmful if swallowed or if inhaled",null,null,null,null,null,null,null,null,null,null,null,null,null,null,null,null,null,null,null,null,null,null,null,null,null,"Acute toxicity, inhalation (chapter 3.1)",null,null,null,null,null,null,null,null,null,null,null,null,null,null,null,null,null,null,null,null,null,null,null,null,null,4]
["H312 + H332 (1 - Acute toxicity, dermal)","Harmful in contact with skin or if inhaled",null,null,null,null,null,null,null,null,null,null,null,null,null,null,null,null,null,null,null,null,null,null,null,null,null,"Acute toxicity, dermal (chapter 3.1)",null,null,null,null,null,null,null,null,null,null,null,null,null,null,null,null,null,null,null,null,null,null,null,null,null,4]
["H312 + H332 (2 - Acute toxicity, inhalation)","Harmful in contact with skin or if inhaled",null,null,null,null,null,null,null,null,null,null,null,null,null,null,null,null,null,null,null,null,null,null,null,null,null,"Acute toxicity, inhalation (chapter 3.1)",null,null,null,null,null,null,null,null,null,null,null,null,null,null,null,null,null,null,null,null,null,null,null,null,null,4]
["H302 + H312 + H332 (1 - Acute toxicity, oral)","Harmful if swallowed, in contact with skin or if inhaled",null,null,null,null,null,null,null,null,null,null,null,null,null,null,null,null,null,null,null,null,null,null,null,null,null,"Acute toxicity, oral (chapter 3.1)",null,null,null,null,null,null,null,null,null,null,null,null,null,null,null,null,null,null,null,null,null,null,null,null,null,4]
["H302 + H312 + H332 (2 - Acute toxicity, dermal)","Harmful if swallowed, in contact with skin or if inhaled",null,null,null,null,null,null,null,null,null,null,null,null,null,null,null,null,null,null,null,null,null,null,null,null,null,"Acute toxicity, dermal (chapter 3.1)",null,null,null,null,null,null,null,null,null,null,null,null,null,null,null,null,null,null,null,null,null,null,null,null,null,4]
["H302 + H312 + H332 (3 - Acute toxicity, inhalation)","Harmful if swallowed, in contact with skin or if inhaled",null,null,null,null,null,null,null,null,null,null,null,null,null,null,null,null,null,null,null,null,null,null,null,null,null,"Acute toxicity, inhalation (chapter 3.1)",null,null,null,null,null,null,null,null,null,null,null,null,null,null,null,null,null,null,null,null,null,null,null,null,null,4]
["H303 + H313 (1 - Acute toxicity, oral)","May be harmful if swallowed or in contact with skin",null,null,null,null,null,null,null,null,null,null,null,null,null,null,null,null,null,null,null,null,null,null,null,null,null,"Acute toxicity, oral (chapter 3.1)",null,null,null,null,null,null,null,null,null,null,null,null,null,null,null,null,null,null,null,null,null,null,null,null,null,5]
["H303 + H313 (2 - Acute toxicity, dermal)","May be harmful if swallowed or in contact with skin",null,null,null,null,null,null,null,null,null,null,null,null,null,null,null,null,null,null,null,null,null,null,null,null,null,"Acute toxicity, dermal (chapter 3.1)",null,null,null,null,null,null,null,null,null,null,null,null,null,null,null,null,null,null,null,null,null,null,null,null,null,5]
["H303 + H333 (1 - Acute toxicity, oral)","May be harmful if swallowed or if inhaled",null,null,null,null,null,null,null,null,null,null,null,null,null,null,null,null,null,null,null,null,null,null,null,null,null,"Acute toxicity, oral (chapter 3.1)",null,null,null,null,null,null,null,null,null,null,null,null,null,null,null,null,null,null,null,null,null,null,null,null,null,5]
["H303 + H333 (2 - Acute toxicity, inhalation)","May be harmful if swallowed or if inhaled",null,null,null,null,null,null,null,null,null,null,null,null,null,null,null,null,null,null,null,null,null,null,null,null,null,"Acute toxicity, inhalation (chapter 3.1)",null,null,null,null,null,null,null,null,null,null,null,null,null,null,null,null,null,null,null,null,null,null,null,null,null,5]
["H313 + H333 (1 - Acute toxicity, dermal)","May be harmful in contact with skin or if inhaled",null,null,null,null,null,null,null,null,null,null,null,null,null,null,null,null,null,null,null,null,null,null,null,null,null,"Acute toxicity, dermal (chapter 3.1)",null,null,null,null,null,null,null,null,null,null,null,null,null,null,null,null,null,null,null,null,null,null,null,null,null,5]
["H313 + H333 (2 - Acute toxicity, inhalation)","May be harmful in contact with skin or if inhaled",null,null,null,null,null,null,null,null,null,null,null,null,null,null,null,null,null,null,null,null,null,null,null,null,null,"Acute toxicity, inhalation (chapter 3.1)",null,null,null,null,null,null,null,null,null,null,null,null,null,null,null,null,null,null,null,null,null,null,null,null,null,5]
["H303 + H313 + H333 (1 - Acute toxicity, oral)","May be harmful if swallowed, in contact with skin or if inhaled",null,null,null,null,null,null,null,null,null,null,null,null,null,null,null,null,null,null,null,null,null,null,null,null,null,"Acute toxicity, oral (chapter 3.1)",null,null,null,null,null,null,null,null,null,null,null,null,null,null,null,null,null,null,null,null,null,null,null,null,null,5]
["H303 + H313 + H333 (2 - Acute toxicity, inhalation)","May be harmful if swallowed, in contact with skin or if inhaled",null,null,null,null,null,null,null,null,null,null,null,null,null,null,null,null,null,null,null,null,null,null,null,null,null,"Acute toxicity, inhalation (chapter 3.1)",null,null,null,null,null,null,null,null,null,null,null,null,null,null,null,null,null,null,null,null,null,null,null,null,null,5]
["H303 + H313 + H333 (3 - Acute toxicity, inhalation)","May be harmful if swallowed, in contact with skin or if inhaled",null,null,null,null,null,null,null,null,null,null,null,null,null,null,null,null,null,null,null,null,null,null,null,null,null,"Acute toxicity, inhalation (chapter 3.1)",null,null,null,null,null,null,null,null,null,null,null,null,null,null,null,null,null,null,null,null,null,null,null,null,null,5]
["H315 + H320 (1 - Skin corrosion)","Causes skin and eye irritation",null,null,null,null,null,null,null,null,null,null,null,null,null,null,null,null,null,null,null,null,null,null,null,null,null,"Skin corrosion (chapter 3.2)",null,null,null,null,null,null,null,null,null,null,null,null,null,null,null,null,null,null,null,null,null,null,null,null,null,2]
["H315 + H320 (2 - Skin irritation)","Causes skin and eye irritation",null,null,null,null,null,null,null,null,null,null,null,null,null,null,null,null,null,null,null,null,null,null,null,null,null,"Skin irritation (chapter 3.2)",null,null,null,null,null,null,null,null,null,null,null,null,null,null,null,null,null,null,null,null,null,null,null,null,null,2]
["H315 + H320 (3 - Serious eye damage)","Causes skin and eye irritation",null,null,null,null,null,null,null,null,null,null,null,null,null,null,null,null,null,null,null,null,null,null,null,null,null,"Serious eye damage (chapter 3.3)",null,null,null,null,null,null,null,null,null,null,null,null,null,null,null,null,null,null,null,null,null,null,null,null,null,"2B"]
["H315 + H320 (4 - Eye irritation)","Causes skin and eye irritation",null,null,null,null,null,null,null,null,null,null,null,null,null,null,null,null,null,null,null,null,null,null,null,null,null,"Eye irritation (chapter 3.3)",null,null,null,null,null,null,null,null,null,null,null,null,null,null,null,null,null,null,null,null,null,null,null,null,null,"2B"]
["Code (1)","Environmental hazard statements (2)",null,null,null,null,null,null,null,null,null,null,null,null,null,null,null,null,null,null,null,null,null,null,null,"Hazard class (GHS chapter) (3)",null,null,null,null,null,null,null,null,null,null,null,null,null,null,null,null,null,null,null,null,null,null,null,null,null,null,"Hazard category (4)"]
["H400","Very toxic to aquatic life",null,null,null,null,null,null,null,null,null,null,null,null,null,null,null,null,null,null,null,null,null,null,null,"Hazardous to the aquatic environment, acute hazard (chapter 4.1)",null,null,null,null,null,null,null,null,null,null,null,null,null,null,null,null,null,null,null,null,null,null,null,null,null,null,1]
["H401","Toxic to aquatic life",null,null,null,null,null,null,null,null,null,null,null,null,null,null,null,null,null,null,null,null,null,null,null,"Hazardous to the aquatic environment, acute hazard (chapter 4.1)",null,null,null,null,null,null,null,null,null,null,null,null,null,null,null,null,null,null,null,null,null,null,null,null,null,null,2]
["H402","Harmful to aquatic life",null,null,null,null,null,null,null,null,null,null,null,null,null,null,null,null,null,null,null,null,null,null,null,"Hazardous to the aquatic environment, acute hazard (chapter 4.1)",null,null,null,null,null,null,null,null,null,null,null,null,null,null,null,null,null,null,null,null,null,null,null,null,null,null,3]
[]
["H410","Very toxic to aquatic life with long lasting effects",null,null,null,null,null,null,null,null,null,null,null,null,null,null,null,null,null,null,null,null,null,null,null,"Hazardous to the aquatic environment, long-term hazard (chapter 4.1)",null,null,null,null,null,null,null,null,null,null,null,null,null,null,null,null,null,null,null,null,null,null,null,null,null,null,1]
["H411","Toxic to aquatic life with long lasting effects",null,null,null,null,null,null,null,null,null,null,null,null,null,null,null,null,null,null,null,null,null,null,null,"Hazardous to the aquatic environment, long-term hazard (chapter 4.1)",null,null,null,null,null,null,null,null,null,null,null,null,null,null,null,null,null,null,null,null,null,null,null,null,null,null,2]
["H412","Harmful to aquatic life with long lasting effects",null,null,null,null,null,null,null,null,null,null,null,null,null,null,null,null,null,null,null,null,null,null,null,"Hazardous to the aquatic environment, long-term hazard (chapter 4.1)",null,null,null,null,null,null,null,null,null,null,null,null,null,null,null,null,null,null,null,null,null,null,null,null,null,null,3]
["H413","May cause long lasting harmful effects to aquatic life",null,null,null,null,null,null,null,null,null,null,null,null,null,null,null,null,null,null,null,null,null,null,null,"Hazardous to the aquatic environment, long-term hazard (chapter 4.1)",null,null,null,null,null,null,null,null,null,null,null,null,null,null,null,null,null,null,null,null,null,null,null,null,null,null,4]
[]
["H420","Harms public health and the environment by destroying ozone in the upper atmosphere",null,null,null,null,null,null,null,null,null,null,null,null,null,null,null,null,null,null,null,null,null,null,null,"Hazardous to the ozone layer (chapter 4.2)",null,null,null,null,null,null,null,null,null,null,null,null,null,null,null,null,null,null,null,null,null,null,null,null,null,null,1]
[]
[]
[]
[]
[]
[]
[]
[]
[]
[]
[]
[]
[]
[]
[]
[]
[]
[]
[]
[]
[]
[]
[]
[]
[]
[]
[]
[]
[]
[]
[]
[]
[]
[]
[]
[]
[]
[]
["Table A3.2.1:  Codification of general precautionary statements"]
["Code (1)","General precautionary statements (2)",null,null,null,null,null,null,null,null,null,null,null,null,null,null,null,null,null,null,null,null,null,null,null,"Hazard class (3)",null,null,null,null,null,null,null,null,null,null,null,null,null,null,null,null,null,null,null,null,null,null,null,null,null,null,null,null,null,null,null,null,null,null,"Hazard category (4)",null,null,null,null,null,null,null,null,null,"Conditions for use (5)"]
["P101","If medical advice is needed, have product container or label at hand.",null,null,null,null,null,null,null,null,null,null,null,null,null,null,null,null,null,null,null,null,null,null,null,"as appropriate",null,null,null,null,null,null,null,null,null,null,null,null,null,null,null,null,null,null,null,null,null,null,null,null,null,null,null,null,null,null,null,null,null,null,null,null,null,null,null,null,null,null,null,null,"Consumer products"]
["P102","Keep out of reach of children.",null,null,null,null,null,null,null,null,null,null,null,null,null,null,null,null,null,null,null,null,null,null,null,"as appropriate",null,null,null,null,null,null,null,null,null,null,null,null,null,null,null,null,null,null,null,null,null,null,null,null,null,null,null,null,null,null,null,null,null,null,null,null,null,null,null,null,null,null,null,null,"Consumer products"]
["P103","Read carefully and follow all instructions.",null,null,null,null,null,null,null,null,null,null,null,null,null,null,null,null,null,null,null,null,null,null,null,"as appropriate",null,null,null,null,null,null,null,null,null,null,null,null,null,null,null,null,null,null,null,null,null,null,null,null,null,null,null,null,null,null,null,null,null,null,null,null,null,null,null,null,null,null,null,null,"Consumer products - omit where P202 is used."]
["Table A3.2.2:  Codification of prevention precautionary statements"]
["Code (1)","Prevention precautionary statements (2)",null,null,null,null,null,null,null,null,null,null,null,null,null,null,null,null,null,null,null,"Hazard class (3)",null,null,null,null,null,null,null,null,null,null,null,null,null,null,null,null,null,null,null,null,null,null,null,null,null,null,null,null,null,null,null,"Hazard category (4)",null,null,null,null,null,null,null,null,null,null,null,"Conditions for use (5)"]
["P201","Obtain special instructions before use.",null,null,null,null,null,null,null,null,null,null,null,null,null,null,null,null,null,null,null,"Explosives (chapter 2.1)",null,null,null,null,null,null,null,null,null,null,null,null,null,null,null,null,null,null,null,null,null,null,null,null,null,null,null,null,null,null,null,"Unstable explosive"]
["P201","Obtain special instructions before use.",null,null,null,null,null,null,null,null,null,null,null,null,null,null,null,null,null,null,null,"Germ cell mutagenicity (chapter 3.5)",null,null,null,null,null,null,null,null,null,null,null,null,null,null,null,null,null,null,null,null,null,null,null,null,null,null,null,null,null,null,null,"1A","1B",2,null,null,null,null,null,null,null,null,null,"- omit for consumer products where P202 is used."]
["P201","Obtain special instructions before use.",null,null,null,null,null,null,null,null,null,null,null,null,null,null,null,null,null,null,null,"Carcinogenicity (chapter 3.6)",null,null,null,null,null,null,null,null,null,null,null,null,null,null,null,null,null,null,null,null,null,null,null,null,null,null,null,null,null,null,null,"1A","1B",2]
["P201","Obtain special instructions before use.",null,null,null,null,null,null,null,null,null,null,null,null,null,null,null,null,null,null,null,"Reproductive toxicity (chapter 3.7)",null,null,null,null,null,null,null,null,null,null,null,null,null,null,null,null,null,null,null,null,null,null,null,null,null,null,null,null,null,null,null,"1A","1B",2]
["P201","Obtain special instructions before use.",null,null,null,null,null,null,null,null,null,null,null,null,null,null,null,null,null,null,null,"Reproductive toxicity, effects on or via lactation (chapter 3.7)",null,null,null,null,null,null,null,null,null,null,null,null,null,null,null,null,null,null,null,null,null,null,null,null,null,null,null,null,null,null,null,"Additional category"]
["P202","Do not handle until all safety precautions have been read and understood.",null,null,null,null,null,null,null,null,null,null,null,null,null,null,null,null,null,null,null,"Flammable gases (chapter 2.2)",null,null,null,null,null,null,null,null,null,null,null,null,null,null,null,null,null,null,null,null,null,null,null,null,null,null,null,null,null,null,null,"A","B (chemically unstable gases)"]
["P202","Do not handle until all safety precautions have been read and understood.",null,null,null,null,null,null,null,null,null,null,null,null,null,null,null,null,null,null,null,"Germ cell mutagenicity (chapter 3.5)",null,null,null,null,null,null,null,null,null,null,null,null,null,null,null,null,null,null,null,null,null,null,null,null,null,null,null,null,null,null,null,"1A","1B",2]
["P202","Do not handle until all safety precautions have been read and understood.",null,null,null,null,null,null,null,null,null,null,null,null,null,null,null,null,null,null,null,"Carcinogenicity (chapter 3.6)",null,null,null,null,null,null,null,null,null,null,null,null,null,null,null,null,null,null,null,null,null,null,null,null,null,null,null,null,null,null,null,"1A","1B",2]
["P202","Do not handle until all safety precautions have been read and understood.",null,null,null,null,null,null,null,null,null,null,null,null,null,null,null,null,null,null,null,"Reproductive toxicity (chapter 3.7)",null,null,null,null,null,null,null,null,null,null,null,null,null,null,null,null,null,null,null,null,null,null,null,null,null,null,null,null,null,null,null,"1A","1B",2]
["P202","Do not handle until all safety precautions have been read and understood.",null,null,null,null,null,null,null,null,null,null,null,null,null,null,null,null,null,null,null,"Reproductive toxicity, effects on or via lactation (chapter 3.7)",null,null,null,null,null,null,null,null,null,null,null,null,null,null,null,null,null,null,null,null,null,null,null,null,null,null,null,null,null,null,null,"Additional category"]
["Code (1)","Prevention precautionary statements (2)",null,null,null,null,null,null,null,null,null,null,null,null,null,null,null,null,null,null,null,"Hazard class (3)",null,null,null,null,null,null,null,null,null,null,null,null,null,null,null,null,null,null,null,null,null,null,null,null,null,null,null,null,null,null,null,"Hazard category (4)",null,null,null,null,null,null,null,null,null,null,null,"Conditions for use (5)"]
["P210","Keep away from heat, hot surfaces, sparks, open flames and other ignition sources. No smoking.",null,null,null,null,null,null,null,null,null,null,null,null,null,null,null,null,null,null,null,"Explosives (chapter 2.1)",null,null,null,null,null,null,null,null,null,null,null,null,null,null,null,null,null,null,null,null,null,null,null,null,null,null,null,null,null,null,null,"1.1","1.2","1.3","1.4","1.5"]
["P210","Keep away from heat, hot surfaces, sparks, open flames and other ignition sources. No smoking.",null,null,null,null,null,null,null,null,null,null,null,null,null,null,null,null,null,null,null,"Flammable gases (chapter 2.2)",null,null,null,null,null,null,null,null,null,null,null,null,null,null,null,null,null,null,null,null,null,null,null,null,null,null,null,null,null,null,null,"1A","1B",2]
["P210","Keep away from heat, hot surfaces, sparks, open flames and other ignition sources. No smoking.",null,null,null,null,null,null,null,null,null,null,null,null,null,null,null,null,null,null,null,"Aerosols (chapter 2.3)",null,null,null,null,null,null,null,null,null,null,null,null,null,null,null,null,null,null,null,null,null,null,null,null,null,null,null,null,null,null,null,1,2,3]
["P210","Keep away from heat, hot surfaces, sparks, open flames and other ignition sources. No smoking.",null,null,null,null,null,null,null,null,null,null,null,null,null,null,null,null,null,null,null,"Flammable liquids (chapter 2.6)",null,null,null,null,null,null,null,null,null,null,null,null,null,null,null,null,null,null,null,null,null,null,null,null,null,null,null,null,null,null,null,1,2,3,4]
["P210","Keep away from heat, hot surfaces, sparks, open flames and other ignition sources. No smoking.",null,null,null,null,null,null,null,null,null,null,null,null,null,null,null,null,null,null,null,"Flammable solids (chapter 2.7)",null,null,null,null,null,null,null,null,null,null,null,null,null,null,null,null,null,null,null,null,null,null,null,null,null,null,null,null,null,null,null,1,2]
["P210","Keep away from heat, hot surfaces, sparks, open flames and other ignition sources. No smoking.",null,null,null,null,null,null,null,null,null,null,null,null,null,null,null,null,null,null,null,"Self-reactive substances and mixtures (chapter 2.8)",null,null,null,null,null,null,null,null,null,null,null,null,null,null,null,null,null,null,null,null,null,null,null,null,null,null,null,null,null,null,null,"A","B","C","D","E","F"]
["P210","Keep away from heat, hot surfaces, sparks, open flames and other ignition sources. No smoking.",null,null,null,null,null,null,null,null,null,null,null,null,null,null,null,null,null,null,null,"Pyrophoric liquids (chapter 2.9)",null,null,null,null,null,null,null,null,null,null,null,null,null,null,null,null,null,null,null,null,null,null,null,null,null,null,null,null,null,null,null,1]
["P210","Keep away from heat, hot surfaces, sparks, open flames and other ignition sources. No smoking.",null,null,null,null,null,null,null,null,null,null,null,null,null,null,null,null,null,null,null,"Pyrophoric solids (chapter 2.10)",null,null,null,null,null,null,null,null,null,null,null,null,null,null,null,null,null,null,null,null,null,null,null,null,null,null,null,null,null,null,null,1]
["P210","Keep away from heat, hot surfaces, sparks, open flames and other ignition sources. No smoking.",null,null,null,null,null,null,null,null,null,null,null,null,null,null,null,null,null,null,null,"Oxidizing liquids (chapter 2.13)",null,null,null,null,null,null,null,null,null,null,null,null,null,null,null,null,null,null,null,null,null,null,null,null,null,null,null,null,null,null,null,1,2,3]
["P210","Keep away from heat, hot surfaces, sparks, open flames and other ignition sources. No smoking.",null,null,null,null,null,null,null,null,null,null,null,null,null,null,null,null,null,null,null,"Oxidizing solids (chapter 2.14)",null,null,null,null,null,null,null,null,null,null,null,null,null,null,null,null,null,null,null,null,null,null,null,null,null,null,null,null,null,null,null,1,2,3]
["P210","Keep away from heat, hot surfaces, sparks, open flames and other ignition sources. No smoking.",null,null,null,null,null,null,null,null,null,null,null,null,null,null,null,null,null,null,null,"Organic peroxides (chapter 2.15)",null,null,null,null,null,null,null,null,null,null,null,null,null,null,null,null,null,null,null,null,null,null,null,null,null,null,null,null,null,null,null,"A","B","C","D","E","F"]
["P210","Keep away from heat, hot surfaces, sparks, open flames and other ignition sources. No smoking.",null,null,null,null,null,null,null,null,null,null,null,null,null,null,null,null,null,null,null,"Desensitized explosives (chapter 2.17)",null,null,null,null,null,null,null,null,null,null,null,null,null,null,null,null,null,null,null,null,null,null,null,null,null,null,null,null,null,null,null,1,2,3,4]
["P211","Do not spray on an open flame or other ignition source.",null,null,null,null,null,null,null,null,null,null,null,null,null,null,null,null,null,null,null,"Aerosols (chapter 2.3)",null,null,null,null,null,null,null,null,null,null,null,null,null,null,null,null,null,null,null,null,null,null,null,null,null,null,null,null,null,null,null,1,2]
["P212","Avoid heating under confinement or reduction of the desensitized agent",null,null,null,null,null,null,null,null,null,null,null,null,null,null,null,null,null,null,null,"Desensitized explosives (chapter 2.17)",null,null,null,null,null,null,null,null,null,null,null,null,null,null,null,null,null,null,null,null,null,null,null,null,null,null,null,null,null,null,null,1,2,3,4]
[]
["P220","Keep away from clothing and other combustible materials.",null,null,null,null,null,null,null,null,null,null,null,null,null,null,null,null,null,null,null,"Oxidizing gases (chapter 2.4)",null,null,null,null,null,null,null,null,null,null,null,null,null,null,null,null,null,null,null,null,null,null,null,null,null,null,null,null,null,null,null,1]
["P220","Keep away from clothing and other combustible materials.",null,null,null,null,null,null,null,null,null,null,null,null,null,null,null,null,null,null,null,"Oxidizing liquids (chapter 2.13)",null,null,null,null,null,null,null,null,null,null,null,null,null,null,null,null,null,null,null,null,null,null,null,null,null,null,null,null,null,null,null,1,2,3]
["P220","Keep away from clothing and other combustible materials.",null,null,null,null,null,null,null,null,null,null,null,null,null,null,null,null,null,null,null,"Oxidizing solids (chapter 2.14)",null,null,null,null,null,null,null,null,null,null,null,null,null,null,null,null,null,null,null,null,null,null,null,null,null,null,null,null,null,null,null,1,2,3]
["P222","Do not allow contact with air.",null,null,null,null,null,null,null,null,null,null,null,null,null,null,null,null,null,null,null,"Flammable gases (chapter 2.2)",null,null,null,null,null,null,null,null,null,null,null,null,null,null,null,null,null,null,null,null,null,null,null,null,null,null,null,null,null,null,null,"Pyrophoric gas",null,null,null,null,null,null,null,null,null,null,null,"– if emphasis of the hazard statement is deemed necessary."]
["P222","Do not allow contact with air.",null,null,null,null,null,null,null,null,null,null,null,null,null,null,null,null,null,null,null,"Pyrophoric liquids (chapter 2.9)",null,null,null,null,null,null,null,null,null,null,null,null,null,null,null,null,null,null,null,null,null,null,null,null,null,null,null,null,null,null,null,1]
["P222","Do not allow contact with air.",null,null,null,null,null,null,null,null,null,null,null,null,null,null,null,null,null,null,null,"Pyrophoric solids (chapter 2.10)",null,null,null,null,null,null,null,null,null,null,null,null,null,null,null,null,null,null,null,null,null,null,null,null,null,null,null,null,null,null,null,1]
["P223","Do not allow contact with water.",null,null,null,null,null,null,null,null,null,null,null,null,null,null,null,null,null,null,null,"Substances and mixtures which, in contact with water, emit flammable gases (chapter 2.12)",null,null,null,null,null,null,null,null,null,null,null,null,null,null,null,null,null,null,null,null,null,null,null,null,null,null,null,null,null,null,null,1,2,null,null,null,null,null,null,null,null,null,null,"– if emphasis of the hazard statement is deemed necessary."]
[]
["P230","Keep wetted with ...",null,null,null,null,null,null,null,null,null,null,null,null,null,null,null,null,null,null,null,"Explosives (chapter 2.1)",null,null,null,null,null,null,null,null,null,null,null,null,null,null,null,null,null,null,null,null,null,null,null,null,null,null,null,null,null,null,null,"1.1","1.2","1.3","1.5",null,null,null,null,null,null,null,null,"–  for substances and mixtures which are wetted, diluted, dissolved or suspended with a phlegmatizer in order to suppress their explosive properties ....Manufacturer/supplier or the competent authority to specify appropriate material."]
["P230","Keep wetted with ...",null,null,null,null,null,null,null,null,null,null,null,null,null,null,null,null,null,null,null,"Desensitized explosives (chapter 2.17)",null,null,null,null,null,null,null,null,null,null,null,null,null,null,null,null,null,null,null,null,null,null,null,null,null,null,null,null,null,null,null,1,2,3,4,null,null,null,null,null,null,null,null,"...Manufacturer/supplier or the competent authority to specify appropriate material."]
["Code (1)","Prevention precautionary statements (2)",null,null,null,null,null,null,null,null,null,null,null,null,null,null,null,null,null,null,null,"Hazard class (3)",null,null,null,null,null,null,null,null,null,null,null,null,null,null,null,null,null,null,null,null,null,null,null,null,null,null,null,null,null,null,null,"Hazard category (4)",null,null,null,null,null,null,null,null,null,null,null,"Conditions for use (5)"]
["P231","Handle and store contents under inert gas/...",null,null,null,null,null,null,null,null,null,null,null,null,null,null,null,null,null,null,null,"Pyrophoric liquids (chapter 2.9)",null,null,null,null,null,null,null,null,null,null,null,null,null,null,null,null,null,null,null,null,null,null,null,null,null,null,null,null,null,null,null,1,null,null,null,null,null,null,null,null,null,null,null,"…Manufacturer/supplier or the competent authority to specify appropriate liquid or gas if “inert gas” is not appropriate."]
["P231","Handle and store contents under inert gas/...",null,null,null,null,null,null,null,null,null,null,null,null,null,null,null,null,null,null,null,"Pyrophoric solids (chapter 2.10)",null,null,null,null,null,null,null,null,null,null,null,null,null,null,null,null,null,null,null,null,null,null,null,null,null,null,null,null,null,null,null,1]
["P231","Handle and store contents under inert gas/...",null,null,null,null,null,null,null,null,null,null,null,null,null,null,null,null,null,null,null,"Substances and mixtures which, in contact with water, emit flammable gases (chapter 2.12)",null,null,null,null,null,null,null,null,null,null,null,null,null,null,null,null,null,null,null,null,null,null,null,null,null,null,null,null,null,null,null,1,2,3,null,null,null,null,null,null,null,null,null,"– if the substance or mixture reacts readily with moisture in air. …Manufacturer/supplier or the competent authority to specify appropriate liquid or gas if “inert gas” is not appropriate."]
["P232","Protect from moisture.",null,null,null,null,null,null,null,null,null,null,null,null,null,null,null,null,null,null,null,"Substances and mixtures which, in contact with water, emit flammable gases (chapter 2.12)",null,null,null,null,null,null,null,null,null,null,null,null,null,null,null,null,null,null,null,null,null,null,null,null,null,null,null,null,null,null,null,1,2,3]
["P233","Keep container tightly closed.",null,null,null,null,null,null,null,null,null,null,null,null,null,null,null,null,null,null,null,"Flammable liquids (chapter 2.6)",null,null,null,null,null,null,null,null,null,null,null,null,null,null,null,null,null,null,null,null,null,null,null,null,null,null,null,null,null,null,null,1,2,3,null,null,null,null,null,null,null,null,null,"– if the liquid is volatile and may generate an explosive atmosphere."]
["P233","Keep container tightly closed.",null,null,null,null,null,null,null,null,null,null,null,null,null,null,null,null,null,null,null,"Pyrophoric liquids (chapter 2.9)",null,null,null,null,null,null,null,null,null,null,null,null,null,null,null,null,null,null,null,null,null,null,null,null,null,null,null,null,null,null,null,1]
["P233","Keep container tightly closed.",null,null,null,null,null,null,null,null,null,null,null,null,null,null,null,null,null,null,null,"Pyrophoric solids (chapter 2.10)",null,null,null,null,null,null,null,null,null,null,null,null,null,null,null,null,null,null,null,null,null,null,null,null,null,null,null,null,null,null,null,1]
["P233","Keep container tightly closed.",null,null,null,null,null,null,null,null,null,null,null,null,null,null,null,null,null,null,null,"Desensitized explosives (chapter 2.17)",null,null,null,null,null,null,null,null,null,null,null,null,null,null,null,null,null,null,null,null,null,null,null,null,null,null,null,null,null,null,null,1,2,3,4]
["P233","Keep container tightly closed.",null,null,null,null,null,null,null,null,null,null,null,null,null,null,null,null,null,null,null,"Acute toxicity, inhalation (chapter 3.1)",null,null,null,null,null,null,null,null,null,null,null,null,null,null,null,null,null,null,null,null,null,null,null,null,null,null,null,null,null,null,null,1,2,3,null,null,null,null,null,null,null,null,null,"– if the chemical is volatile and may generate a hazardous atmosphere."]
["P233","Keep container tightly closed.",null,null,null,null,null,null,null,null,null,null,null,null,null,null,null,null,null,null,null,"Specific target organ toxicity, single exposure; respiratory tract irritation (chapter 3.8)",null,null,null,null,null,null,null,null,null,null,null,null,null,null,null,null,null,null,null,null,null,null,null,null,null,null,null,null,null,null,null,3]
["P233","Keep container tightly closed.",null,null,null,null,null,null,null,null,null,null,null,null,null,null,null,null,null,null,null,"Specific target organ toxicity, single exposure; narcotic effects (chapter 3.8)",null,null,null,null,null,null,null,null,null,null,null,null,null,null,null,null,null,null,null,null,null,null,null,null,null,null,null,null,null,null,null,3]
["P234","Keep only in original packaging.",null,null,null,null,null,null,null,null,null,null,null,null,null,null,null,null,null,null,null,"Explosives (chapter 2.1)",null,null,null,null,null,null,null,null,null,null,null,null,null,null,null,null,null,null,null,null,null,null,null,null,null,null,null,null,null,null,null,"1.1","1.2","1.3","1.4","1.5"]
["P234","Keep only in original packaging.",null,null,null,null,null,null,null,null,null,null,null,null,null,null,null,null,null,null,null,"Self-reactive substances and mixtures (chapter 2.8)",null,null,null,null,null,null,null,null,null,null,null,null,null,null,null,null,null,null,null,null,null,null,null,null,null,null,null,null,null,null,null,"A","B","C","D","E","F"]
["P234","Keep only in original packaging.",null,null,null,null,null,null,null,null,null,null,null,null,null,null,null,null,null,null,null,"Organic peroxides (chapter 2.15)",null,null,null,null,null,null,null,null,null,null,null,null,null,null,null,null,null,null,null,null,null,null,null,null,null,null,null,null,null,null,null,"A","B","C","D","E","F"]
["P234","Keep only in original packaging.",null,null,null,null,null,null,null,null,null,null,null,null,null,null,null,null,null,null,null,"Corrosive to metals (chapter 2.16)",null,null,null,null,null,null,null,null,null,null,null,null,null,null,null,null,null,null,null,null,null,null,null,null,null,null,null,null,null,null,null,1]
["P235","Keep cool.",null,null,null,null,null,null,null,null,null,null,null,null,null,null,null,null,null,null,null,"Flammable liquids (chapter 2.6)",null,null,null,null,null,null,null,null,null,null,null,null,null,null,null,null,null,null,null,null,null,null,null,null,null,null,null,null,null,null,null,1,2,3,null,null,null,null,null,null,null,null,null,"– for flammable liquids Category 1 and other flammable liquids that are volatile and may generate an explosive atmosphere."]
["P235","Keep cool.",null,null,null,null,null,null,null,null,null,null,null,null,null,null,null,null,null,null,null,"Self-reactive substances and mixtures (chapter 2.8)",null,null,null,null,null,null,null,null,null,null,null,null,null,null,null,null,null,null,null,null,null,null,null,null,null,null,null,null,null,null,null,"A","B","C","D","E","F",null,null,null,null,null,null,"– may be omitted if P411 is given on the label."]
["P235","Keep cool.",null,null,null,null,null,null,null,null,null,null,null,null,null,null,null,null,null,null,null,"Self-heating substances and mixtures (chapter 2.11)",null,null,null,null,null,null,null,null,null,null,null,null,null,null,null,null,null,null,null,null,null,null,null,null,null,null,null,null,null,null,null,1,2,null,null,null,null,null,null,null,null,null,null,"– may be omitted if P413 is given on the label."]
["P235","Keep cool.",null,null,null,null,null,null,null,null,null,null,null,null,null,null,null,null,null,null,null,"Organic peroxides (chapter 2.15)",null,null,null,null,null,null,null,null,null,null,null,null,null,null,null,null,null,null,null,null,null,null,null,null,null,null,null,null,null,null,null,"A","B","C","D","E","F",null,null,null,null,null,null,"– may be omitted if P411 is given on the label."]
["Code (1)","Prevention precautionary statements (2)",null,null,null,null,null,null,null,null,null,null,null,null,null,null,null,null,null,null,null,"Hazard class (3)",null,null,null,null,null,null,null,null,null,null,null,null,null,null,null,null,null,null,null,null,null,null,null,null,null,null,null,null,null,null,null,"Hazard category (4)",null,null,null,null,null,null,null,null,null,null,null,"Conditions for use (5)"]
["P240","Ground and bond container and receiving equipment.",null,null,null,null,null,null,null,null,null,null,null,null,null,null,null,null,null,null,null,"Explosives (chapter 2.1)",null,null,null,null,null,null,null,null,null,null,null,null,null,null,null,null,null,null,null,null,null,null,null,null,null,null,null,null,null,null,null,"1.1","1.2","1.3","1.4","1.5",null,null,null,null,null,null,null,"– if the explosive is electrostatically sensitive."]
["P240","Ground and bond container and receiving equipment.",null,null,null,null,null,null,null,null,null,null,null,null,null,null,null,null,null,null,null,"Flammable liquids (chapter 2.6)",null,null,null,null,null,null,null,null,null,null,null,null,null,null,null,null,null,null,null,null,null,null,null,null,null,null,null,null,null,null,null,1,2,3,null,null,null,null,null,null,null,null,null,"– if the liquid is volatile and may generate an explosive atmosphere."]
["P240","Ground and bond container and receiving equipment.",null,null,null,null,null,null,null,null,null,null,null,null,null,null,null,null,null,null,null,"Flammable solids (chapter 2.7)",null,null,null,null,null,null,null,null,null,null,null,null,null,null,null,null,null,null,null,null,null,null,null,null,null,null,null,null,null,null,null,1,2,null,null,null,null,null,null,null,null,null,null,"–  if the solid is electrostatically sensitive."]
["P240","Ground and bond container and receiving equipment.",null,null,null,null,null,null,null,null,null,null,null,null,null,null,null,null,null,null,null,"Self-reactive substances and mixtures (chapter 2.8)",null,null,null,null,null,null,null,null,null,null,null,null,null,null,null,null,null,null,null,null,null,null,null,null,null,null,null,null,null,null,null,"A","B","C","D","E","F",null,null,null,null,null,null,"–  if electrostatically sensitive and able to generate an explosive atmosphere."]
["P240","Ground and bond container and receiving equipment.",null,null,null,null,null,null,null,null,null,null,null,null,null,null,null,null,null,null,null,"Organic peroxides (chapter 2.15)",null,null,null,null,null,null,null,null,null,null,null,null,null,null,null,null,null,null,null,null,null,null,null,null,null,null,null,null,null,null,null,"A","B","C","D","E","F",null,null,null,null,null,null,"–  if electrostatically sensitive and able to generate an explosive atmosphere."]
["P241","Use explosion-proof [electrical/ventilating/lighting/...] equipment.",null,null,null,null,null,null,null,null,null,null,null,null,null,null,null,null,null,null,null,"Flammable liquids (chapter 2.6)",null,null,null,null,null,null,null,null,null,null,null,null,null,null,null,null,null,null,null,null,null,null,null,null,null,null,null,null,null,null,null,1,2,3,null,null,null,null,null,null,null,null,null,"–  if the liquid is volatile and may generate an explosive atmosphere. –  text in square brackets may be used to specify specific electrical, ventilating, lighting or other equipment if necessary and as appropriate. –  precautionary statement may be omitted where local or national legislation introduces more specific provisions."]
["P241","Use explosion-proof [electrical/ventilating/lighting/...] equipment.",null,null,null,null,null,null,null,null,null,null,null,null,null,null,null,null,null,null,null,"Flammable solids (chapter 2.7)",null,null,null,null,null,null,null,null,null,null,null,null,null,null,null,null,null,null,null,null,null,null,null,null,null,null,null,null,null,null,null,1,2,null,null,null,null,null,null,null,null,null,null,"–  if dust clouds can occur. –  text in square brackets may be used to specify specific electrical, ventilating, lighting or other equipment if necessary and as appropriate. –  precautionary statement may be omitted where local or national legislation introduces more specific provisions."]
["P242","Use non-sparking tools.",null,null,null,null,null,null,null,null,null,null,null,null,null,null,null,null,null,null,null,"Flammable liquids (chapter 2.6)",null,null,null,null,null,null,null,null,null,null,null,null,null,null,null,null,null,null,null,null,null,null,null,null,null,null,null,null,null,null,null,1,2,3,null,null,null,null,null,null,null,null,null,"–  if the liquid is volatile and may generate an explosive atmosphere and if the minimum ignition energy is very low.  (This applies to substances and mixtures where the minimum ignition energy is <0.1mJ, e.g. carbon disulphide)."]
["P243","Take action to prevent static discharges.",null,null,null,null,null,null,null,null,null,null,null,null,null,null,null,null,null,null,null,"Flammable liquids (chapter 2.6)",null,null,null,null,null,null,null,null,null,null,null,null,null,null,null,null,null,null,null,null,null,null,null,null,null,null,null,null,null,null,null,1,2,3,null,null,null,null,null,null,null,null,null,"– if the liquid is volatile and may generate an explosive atmosphere. – may be omitted where local or national legislation introduces more specific provisions."]
["P244","Keep valves and fittings free from oil and grease.",null,null,null,null,null,null,null,null,null,null,null,null,null,null,null,null,null,null,null,"Oxidizing gases (chapter 2.4)",null,null,null,null,null,null,null,null,null,null,null,null,null,null,null,null,null,null,null,null,null,null,null,null,null,null,null,null,null,null,null,1]
["Code (1)","Prevention precautionary statements (2)",null,null,null,null,null,null,null,null,null,null,null,null,null,null,null,null,null,null,null,"Hazard class (3)",null,null,null,null,null,null,null,null,null,null,null,null,null,null,null,null,null,null,null,null,null,null,null,null,null,null,null,null,null,null,null,"Hazard category (4)",null,null,null,null,null,null,null,null,null,null,null,"Conditions for use (5)"]
["P250","Do not subject to grinding/shock/friction/….",null,null,null,null,null,null,null,null,null,null,null,null,null,null,null,null,null,null,null,"Explosives (chapter 2.1)",null,null,null,null,null,null,null,null,null,null,null,null,null,null,null,null,null,null,null,null,null,null,null,null,null,null,null,null,null,null,null,"Unstable explosive","1.1","1.2","1.3","1.4","1.5",null,null,null,null,null,null,"– if the explosive is mechanically sensitive ...Manufacturer/supplier or the competent authority to specify applicable rough handling."]
["P251","Do not pierce or burn, even after use.",null,null,null,null,null,null,null,null,null,null,null,null,null,null,null,null,null,null,null,"Aerosols (chapter 2.3)",null,null,null,null,null,null,null,null,null,null,null,null,null,null,null,null,null,null,null,null,null,null,null,null,null,null,null,null,null,null,null,1,2,3]
[]
["P260","Do not breathe dust/fume/gas/mist/vapours/spray.",null,null,null,null,null,null,null,null,null,null,null,null,null,null,null,null,null,null,null,"Acute toxicity, inhalation (chapter 3.1)",null,null,null,null,null,null,null,null,null,null,null,null,null,null,null,null,null,null,null,null,null,null,null,null,null,null,null,null,null,null,null,1,2,null,null,null,null,null,null,null,null,null,null,"Manufacturer/supplier or the competent authority to specify applicable conditions."]
["P260","Do not breathe dust/fume/gas/mist/vapours/spray.",null,null,null,null,null,null,null,null,null,null,null,null,null,null,null,null,null,null,null,"Specific target organ toxicity, single exposure (chapter 3.8)",null,null,null,null,null,null,null,null,null,null,null,null,null,null,null,null,null,null,null,null,null,null,null,null,null,null,null,null,null,null,null,1,2]
["P260","Do not breathe dust/fume/gas/mist/vapours/spray.",null,null,null,null,null,null,null,null,null,null,null,null,null,null,null,null,null,null,null,"Specific target organ toxicity, repeated exposure (chapter 3.9)",null,null,null,null,null,null,null,null,null,null,null,null,null,null,null,null,null,null,null,null,null,null,null,null,null,null,null,null,null,null,null,1,2]
["P260","Do not breathe dust/fume/gas/mist/vapours/spray.",null,null,null,null,null,null,null,null,null,null,null,null,null,null,null,null,null,null,null,"Skin corrosion (chapter 3.2)",null,null,null,null,null,null,null,null,null,null,null,null,null,null,null,null,null,null,null,null,null,null,null,null,null,null,null,null,null,null,null,"1A","1B","1C",null,null,null,null,null,null,null,null,null,"–  specify do not breathe dusts or mists –  if inhalable particles of dusts or mists may occur during use."]
["P260","Do not breathe dust/fume/gas/mist/vapours/spray.",null,null,null,null,null,null,null,null,null,null,null,null,null,null,null,null,null,null,null,"Reproductive toxicity, effects on or via lactation (chapter 3.7)",null,null,null,null,null,null,null,null,null,null,null,null,null,null,null,null,null,null,null,null,null,null,null,null,null,null,null,null,null,null,null,"Additional category"]
["P261","Avoid breathing dust/fume/gas/mist/vapours/spray.",null,null,null,null,null,null,null,null,null,null,null,null,null,null,null,null,null,null,null,"Acute toxicity, inhalation (chapter 3.1)",null,null,null,null,null,null,null,null,null,null,null,null,null,null,null,null,null,null,null,null,null,null,null,null,null,null,null,null,null,null,null,3,4,null,null,null,null,null,null,null,null,null,null,"– may be omitted if P260 is given on the label. Manufacturer/supplier or the competent authority to specify applicable conditions."]
["P261","Avoid breathing dust/fume/gas/mist/vapours/spray.",null,null,null,null,null,null,null,null,null,null,null,null,null,null,null,null,null,null,null,"Respiratory sensitization (chapter 3.4)",null,null,null,null,null,null,null,null,null,null,null,null,null,null,null,null,null,null,null,null,null,null,null,null,null,null,null,null,null,null,null,1,"1A","1B"]
["P261","Avoid breathing dust/fume/gas/mist/vapours/spray.",null,null,null,null,null,null,null,null,null,null,null,null,null,null,null,null,null,null,null,"Skin sensitization (chapter 3.4)",null,null,null,null,null,null,null,null,null,null,null,null,null,null,null,null,null,null,null,null,null,null,null,null,null,null,null,null,null,null,null,1,"1A","1B"]
["P261","Avoid breathing dust/fume/gas/mist/vapours/spray.",null,null,null,null,null,null,null,null,null,null,null,null,null,null,null,null,null,null,null,"Specific target organ toxicity, single exposure; respiratory tract irritation (chapter 3.8)",null,null,null,null,null,null,null,null,null,null,null,null,null,null,null,null,null,null,null,null,null,null,null,null,null,null,null,null,null,null,null,3]
["P261","Avoid breathing dust/fume/gas/mist/vapours/spray.",null,null,null,null,null,null,null,null,null,null,null,null,null,null,null,null,null,null,null,"Specific target organ toxicity, single exposure; narcotic effects (chapter 3.8)",null,null,null,null,null,null,null,null,null,null,null,null,null,null,null,null,null,null,null,null,null,null,null,null,null,null,null,null,null,null,null,3]
["P262","Do not get in eyes, on skin, or on clothing.",null,null,null,null,null,null,null,null,null,null,null,null,null,null,null,null,null,null,null,"Acute toxicity, dermal (chapter 3.1)",null,null,null,null,null,null,null,null,null,null,null,null,null,null,null,null,null,null,null,null,null,null,null,null,null,null,null,null,null,null,null,1,2]
["P263","Avoid contact during pregnancy and while nursing.",null,null,null,null,null,null,null,null,null,null,null,null,null,null,null,null,null,null,null,"Reproductive toxicity, effects on or via lactation (chapter 3.7)",null,null,null,null,null,null,null,null,null,null,null,null,null,null,null,null,null,null,null,null,null,null,null,null,null,null,null,null,null,null,null,"Additional category"]
["P264","Wash ... thoroughly after handling.",null,null,null,null,null,null,null,null,null,null,null,null,null,null,null,null,null,null,null,"Acute toxicity, oral (chapter 3.1)",null,null,null,null,null,null,null,null,null,null,null,null,null,null,null,null,null,null,null,null,null,null,null,null,null,null,null,null,null,null,null,1,2,3,4,null,null,null,null,null,null,null,null,"...Manufacturer/supplier or the competent authority to specify parts of the body to be washed after handling."]
["P264","Wash ... thoroughly after handling.",null,null,null,null,null,null,null,null,null,null,null,null,null,null,null,null,null,null,null,"Acute toxicity, dermal (chapter 3.1)",null,null,null,null,null,null,null,null,null,null,null,null,null,null,null,null,null,null,null,null,null,null,null,null,null,null,null,null,null,null,null,1,2]
["P264","Wash ... thoroughly after handling.",null,null,null,null,null,null,null,null,null,null,null,null,null,null,null,null,null,null,null,"Skin corrosion (chapter 3.2)",null,null,null,null,null,null,null,null,null,null,null,null,null,null,null,null,null,null,null,null,null,null,null,null,null,null,null,null,null,null,null,"1A","1B","1C"]
["P264","Wash ... thoroughly after handling.",null,null,null,null,null,null,null,null,null,null,null,null,null,null,null,null,null,null,null,"Skin irritation (chapter 3.2)",null,null,null,null,null,null,null,null,null,null,null,null,null,null,null,null,null,null,null,null,null,null,null,null,null,null,null,null,null,null,null,2]
["P264","Wash ... thoroughly after handling.",null,null,null,null,null,null,null,null,null,null,null,null,null,null,null,null,null,null,null,"Eye irritation (chapter 3.3)",null,null,null,null,null,null,null,null,null,null,null,null,null,null,null,null,null,null,null,null,null,null,null,null,null,null,null,null,null,null,null,"2A","2B"]
["P264","Wash ... thoroughly after handling.",null,null,null,null,null,null,null,null,null,null,null,null,null,null,null,null,null,null,null,"Reproductive toxicity, effects on or via lactation (chapter 3.7)",null,null,null,null,null,null,null,null,null,null,null,null,null,null,null,null,null,null,null,null,null,null,null,null,null,null,null,null,null,null,null,"Additional category"]
["P264","Wash ... thoroughly after handling.",null,null,null,null,null,null,null,null,null,null,null,null,null,null,null,null,null,null,null,"Specific target organ toxicity, single exposure (chapter 3.8)",null,null,null,null,null,null,null,null,null,null,null,null,null,null,null,null,null,null,null,null,null,null,null,null,null,null,null,null,null,null,null,1,2,null,null,null,null,null,null,null,null,null,null,"...Manufacturer/supplier or the competent authority to specify parts of the body to be washed after handling."]
["P264","Wash ... thoroughly after handling.",null,null,null,null,null,null,null,null,null,null,null,null,null,null,null,null,null,null,null,"Specific target organ toxicity, repeated exposure (chapter 3.9)",null,null,null,null,null,null,null,null,null,null,null,null,null,null,null,null,null,null,null,null,null,null,null,null,null,null,null,null,null,null,null,1]
["Code (1)","Prevention precautionary statements (2)",null,null,null,null,null,null,null,null,null,null,null,null,null,null,null,null,null,null,null,"Hazard class (3)",null,null,null,null,null,null,null,null,null,null,null,null,null,null,null,null,null,null,null,null,null,null,null,null,null,null,null,null,null,null,null,"Hazard category (4)",null,null,null,null,null,null,null,null,null,null,null,"Conditions for use (5)"]
["P270","Do not eat, drink or smoke when using this product.",null,null,null,null,null,null,null,null,null,null,null,null,null,null,null,null,null,null,null,"Acute toxicity, oral (chapter 3.1)",null,null,null,null,null,null,null,null,null,null,null,null,null,null,null,null,null,null,null,null,null,null,null,null,null,null,null,null,null,null,null,1,2,3,4]
["P270","Do not eat, drink or smoke when using this product.",null,null,null,null,null,null,null,null,null,null,null,null,null,null,null,null,null,null,null,"Acute toxicity, dermal (chapter 3.1)",null,null,null,null,null,null,null,null,null,null,null,null,null,null,null,null,null,null,null,null,null,null,null,null,null,null,null,null,null,null,null,1,2]
["P270","Do not eat, drink or smoke when using this product.",null,null,null,null,null,null,null,null,null,null,null,null,null,null,null,null,null,null,null,"Reproductive toxicity, effects on or via lactation (chapter 3.7)",null,null,null,null,null,null,null,null,null,null,null,null,null,null,null,null,null,null,null,null,null,null,null,null,null,null,null,null,null,null,null,"Additional category"]
["P270","Do not eat, drink or smoke when using this product.",null,null,null,null,null,null,null,null,null,null,null,null,null,null,null,null,null,null,null,"Specific target organ toxicity, single exposure (chapter 3.8)",null,null,null,null,null,null,null,null,null,null,null,null,null,null,null,null,null,null,null,null,null,null,null,null,null,null,null,null,null,null,null,1,2]
["P270","Do not eat, drink or smoke when using this product.",null,null,null,null,null,null,null,null,null,null,null,null,null,null,null,null,null,null,null,"Specific target organ toxicity, repeated exposure (chapter 3.9)",null,null,null,null,null,null,null,null,null,null,null,null,null,null,null,null,null,null,null,null,null,null,null,null,null,null,null,null,null,null,null,1]
["P271","Use only outdoors or in a well-ventilated area.",null,null,null,null,null,null,null,null,null,null,null,null,null,null,null,null,null,null,null,"Acute toxicity, inhalation (chapter 3.1)",null,null,null,null,null,null,null,null,null,null,null,null,null,null,null,null,null,null,null,null,null,null,null,null,null,null,null,null,null,null,null,1,2,3,4]
["P271","Use only outdoors or in a well-ventilated area.",null,null,null,null,null,null,null,null,null,null,null,null,null,null,null,null,null,null,null,"Specific target organ toxicity, single exposure; respiratory tract irritation (chapter 3.8)",null,null,null,null,null,null,null,null,null,null,null,null,null,null,null,null,null,null,null,null,null,null,null,null,null,null,null,null,null,null,null,3]
["P271","Use only outdoors or in a well-ventilated area.",null,null,null,null,null,null,null,null,null,null,null,null,null,null,null,null,null,null,null,"Specific target organ toxicity, single exposure; narcotic effects (chapter 3.8)",null,null,null,null,null,null,null,null,null,null,null,null,null,null,null,null,null,null,null,null,null,null,null,null,null,null,null,null,null,null,null,3]
["P272","Contaminated work clothing should not be allowed out of the workplace.",null,null,null,null,null,null,null,null,null,null,null,null,null,null,null,null,null,null,null,"Skin sensitization (chapter 3.4)",null,null,null,null,null,null,null,null,null,null,null,null,null,null,null,null,null,null,null,null,null,null,null,null,null,null,null,null,null,null,null,1,"1A","1B"]
["P273","Avoid release to the environment.",null,null,null,null,null,null,null,null,null,null,null,null,null,null,null,null,null,null,null,"Hazardous to the aquatic environment, acute hazard (chapter 4.1)",null,null,null,null,null,null,null,null,null,null,null,null,null,null,null,null,null,null,null,null,null,null,null,null,null,null,null,null,null,null,null,1,2,3,null,null,null,null,null,null,null,null,null,"– if this is not the intended use."]
["P273","Avoid release to the environment.",null,null,null,null,null,null,null,null,null,null,null,null,null,null,null,null,null,null,null,"Hazardous to the aquatic environment, long-term hazard (chapter 4.1)",null,null,null,null,null,null,null,null,null,null,null,null,null,null,null,null,null,null,null,null,null,null,null,null,null,null,null,null,null,null,null,1,2,3,4]
[]
["P280","Wear protective gloves/protective clothing/eye protection/face protection/hearing protection/...",null,null,null,null,null,null,null,null,null,null,null,null,null,null,null,null,null,null,null,"Explosives (chapter 2.1)",null,null,null,null,null,null,null,null,null,null,null,null,null,null,null,null,null,null,null,null,null,null,null,null,null,null,null,null,null,null,null,"Unstable explosive","1.1","1.2","1.3","1.4","1.5",null,null,null,null,null,null,"Manufacturer/supplier or the competent authority to specify the appropriate personal protective equipment."]
["P280","Wear protective gloves/protective clothing/eye protection/face protection/hearing protection/...",null,null,null,null,null,null,null,null,null,null,null,null,null,null,null,null,null,null,null,"Flammable gases (chapter 2.2)",null,null,null,null,null,null,null,null,null,null,null,null,null,null,null,null,null,null,null,null,null,null,null,null,null,null,null,null,null,null,null,"Pyrophoric gas"]
["P280","Wear protective gloves/protective clothing/eye protection/face protection/hearing protection/...",null,null,null,null,null,null,null,null,null,null,null,null,null,null,null,null,null,null,null,"Flammable liquids (chapter 2.6)",null,null,null,null,null,null,null,null,null,null,null,null,null,null,null,null,null,null,null,null,null,null,null,null,null,null,null,null,null,null,null,1,2,3,4]
["P280","Wear protective gloves/protective clothing/eye protection/face protection/hearing protection/...",null,null,null,null,null,null,null,null,null,null,null,null,null,null,null,null,null,null,null,"Flammable solids (chapter 2.7)",null,null,null,null,null,null,null,null,null,null,null,null,null,null,null,null,null,null,null,null,null,null,null,null,null,null,null,null,null,null,null,1,2]
["P280","Wear protective gloves/protective clothing/eye protection/face protection/hearing protection/...",null,null,null,null,null,null,null,null,null,null,null,null,null,null,null,null,null,null,null,"Self-reactive substances and mixtures (chapter 2.8)",null,null,null,null,null,null,null,null,null,null,null,null,null,null,null,null,null,null,null,null,null,null,null,null,null,null,null,null,null,null,null,"A","B","C","D","E","F"]
["P280","Wear protective gloves/protective clothing/eye protection/face protection/hearing protection/...",null,null,null,null,null,null,null,null,null,null,null,null,null,null,null,null,null,null,null,"Pyrophoric liquids (chapter 2.9)",null,null,null,null,null,null,null,null,null,null,null,null,null,null,null,null,null,null,null,null,null,null,null,null,null,null,null,null,null,null,null,1]
["P280","Wear protective gloves/protective clothing/eye protection/face protection/hearing protection/...",null,null,null,null,null,null,null,null,null,null,null,null,null,null,null,null,null,null,null,"Pyrophoric solids (chapter 2.10)",null,null,null,null,null,null,null,null,null,null,null,null,null,null,null,null,null,null,null,null,null,null,null,null,null,null,null,null,null,null,null,1]
["P280","Wear protective gloves/protective clothing/eye protection/face protection/hearing protection/...",null,null,null,null,null,null,null,null,null,null,null,null,null,null,null,null,null,null,null,"Self-heating substances and mixtures (chapter 2.11)",null,null,null,null,null,null,null,null,null,null,null,null,null,null,null,null,null,null,null,null,null,null,null,null,null,null,null,null,null,null,null,1,2]
["P280","Wear protective gloves/protective clothing/eye protection/face protection/hearing protection/...",null,null,null,null,null,null,null,null,null,null,null,null,null,null,null,null,null,null,null,"Substances and mixtures which, in contact with water, emit flammable gases (chapter 2.12)",null,null,null,null,null,null,null,null,null,null,null,null,null,null,null,null,null,null,null,null,null,null,null,null,null,null,null,null,null,null,null,1,2,3]
["P280","Wear protective gloves/protective clothing/eye protection/face protection/hearing protection/...",null,null,null,null,null,null,null,null,null,null,null,null,null,null,null,null,null,null,null,"Oxidizing liquids (chapter 2.13)",null,null,null,null,null,null,null,null,null,null,null,null,null,null,null,null,null,null,null,null,null,null,null,null,null,null,null,null,null,null,null,1,2,3]
["P280","Wear protective gloves/protective clothing/eye protection/face protection/hearing protection/...",null,null,null,null,null,null,null,null,null,null,null,null,null,null,null,null,null,null,null,"Oxidizing solids (chapter 2.14)",null,null,null,null,null,null,null,null,null,null,null,null,null,null,null,null,null,null,null,null,null,null,null,null,null,null,null,null,null,null,null,1,2,3]
["Code (1)","Prevention precautionary statements (2)",null,null,null,null,null,null,null,null,null,null,null,null,null,null,null,null,null,null,null,"Hazard class (3)",null,null,null,null,null,null,null,null,null,null,null,null,null,null,null,null,null,null,null,null,null,null,null,null,null,null,null,null,null,null,null,"Hazard category (4)",null,null,null,null,null,null,null,null,null,null,null,"Conditions for use (5)"]
["P280 (suite)","Wear protective gloves/protective clothing/eye protection/face protection/hearing protection/...",null,null,null,null,null,null,null,null,null,null,null,null,null,null,null,null,null,null,null,"Organic peroxides (chapter 2.15)",null,null,null,null,null,null,null,null,null,null,null,null,null,null,null,null,null,null,null,null,null,null,null,null,null,null,null,null,null,null,null,"A","B","C","D","E","F",null,null,null,null,null,null,"Manufacturer/supplier or the competent authority to specify the appropriate personal protective equipment"]
["P280 (suite)","Wear protective gloves/protective clothing/eye protection/face protection/hearing protection/...",null,null,null,null,null,null,null,null,null,null,null,null,null,null,null,null,null,null,null,"Desensitized explosives (chapter 2.17)",null,null,null,null,null,null,null,null,null,null,null,null,null,null,null,null,null,null,null,null,null,null,null,null,null,null,null,null,null,null,null,1,2,3,4]
["P280 (suite)","Wear protective gloves/protective clothing/eye protection/face protection/hearing protection/...",null,null,null,null,null,null,null,null,null,null,null,null,null,null,null,null,null,null,null,"Acute toxicity, dermal (chapter 3.1)",null,null,null,null,null,null,null,null,null,null,null,null,null,null,null,null,null,null,null,null,null,null,null,null,null,null,null,null,null,null,null,1,2,3,4,null,null,null,null,null,null,null,null,"– Specify protective gloves/clothing. Manufacturer/supplier or the competent authority may further specify type of equipment where appropriate."]
["P280 (suite)","Wear protective gloves/protective clothing/eye protection/face protection/hearing protection/...",null,null,null,null,null,null,null,null,null,null,null,null,null,null,null,null,null,null,null,"Skin corrosion (chapter 3.2)",null,null,null,null,null,null,null,null,null,null,null,null,null,null,null,null,null,null,null,null,null,null,null,null,null,null,null,null,null,null,null,"1A","1B","1C",null,null,null,null,null,null,null,null,null,"– Specify protective gloves/clothing and eye/face protection. Manufacturer/supplier or the competent authority may further specify type of equipment where appropriate."]
["P280 (suite)","Wear protective gloves/protective clothing/eye protection/face protection/hearing protection/...",null,null,null,null,null,null,null,null,null,null,null,null,null,null,null,null,null,null,null,"Skin irritation (chapter 3.2)",null,null,null,null,null,null,null,null,null,null,null,null,null,null,null,null,null,null,null,null,null,null,null,null,null,null,null,null,null,null,null,2,null,null,null,null,null,null,null,null,null,null,null,"– Specify protective gloves. Manufacturer/supplier or the competent authority may further specify type of equipment where appropriate."]
["P280 (suite)","Wear protective gloves/protective clothing/eye protection/face protection/hearing protection/...",null,null,null,null,null,null,null,null,null,null,null,null,null,null,null,null,null,null,null,"Skin sensitization (chapter 3.4)",null,null,null,null,null,null,null,null,null,null,null,null,null,null,null,null,null,null,null,null,null,null,null,null,null,null,null,null,null,null,null,1,"1A","1B"]
["P280 (suite)","Wear protective gloves/protective clothing/eye protection/face protection/hearing protection/...",null,null,null,null,null,null,null,null,null,null,null,null,null,null,null,null,null,null,null,"Serious eye damage (chapter 3.3)",null,null,null,null,null,null,null,null,null,null,null,null,null,null,null,null,null,null,null,null,null,null,null,null,null,null,null,null,null,null,null,1,null,null,null,null,null,null,null,null,null,null,null,"– Specify eye/face protection. Manufacturer/supplier or the competent authority may further specify type of equipment where appropriate."]
["P280 (suite)","Wear protective gloves/protective clothing/eye protection/face protection/hearing protection/...",null,null,null,null,null,null,null,null,null,null,null,null,null,null,null,null,null,null,null,"Eye irritation (chapter 3.3)",null,null,null,null,null,null,null,null,null,null,null,null,null,null,null,null,null,null,null,null,null,null,null,null,null,null,null,null,null,null,null,"2A"]
["P280 (suite)","Wear protective gloves/protective clothing/eye protection/face protection/hearing protection/...",null,null,null,null,null,null,null,null,null,null,null,null,null,null,null,null,null,null,null,"Germ cell mutagenicity (chapter 3.5)",null,null,null,null,null,null,null,null,null,null,null,null,null,null,null,null,null,null,null,null,null,null,null,null,null,null,null,null,null,null,null,"1A","1B",2,null,null,null,null,null,null,null,null,null,"Manufacturer/supplier or the competent authority to specify the appropriate personal protective equipment."]
["P280 (suite)","Wear protective gloves/protective clothing/eye protection/face protection/hearing protection/...",null,null,null,null,null,null,null,null,null,null,null,null,null,null,null,null,null,null,null,"Carcinogenicity (chapter 3.6)",null,null,null,null,null,null,null,null,null,null,null,null,null,null,null,null,null,null,null,null,null,null,null,null,null,null,null,null,null,null,null,"1A","1B",2]
["P280 (suite)","Wear protective gloves/protective clothing/eye protection/face protection/hearing protection/...",null,null,null,null,null,null,null,null,null,null,null,null,null,null,null,null,null,null,null,"Reproductive toxicity (chapter 3.7)",null,null,null,null,null,null,null,null,null,null,null,null,null,null,null,null,null,null,null,null,null,null,null,null,null,null,null,null,null,null,null,"1A","1B",2]
["P282","Wear cold insulating gloves and either face shield or eye protection.",null,null,null,null,null,null,null,null,null,null,null,null,null,null,null,null,null,null,null,"Gases under pressure (chapter 2.5)",null,null,null,null,null,null,null,null,null,null,null,null,null,null,null,null,null,null,null,null,null,null,null,null,null,null,null,null,null,null,null,"Refrigerated liquefied gas"]
["P283","Wear fire resistant or flame retardant clothing.",null,null,null,null,null,null,null,null,null,null,null,null,null,null,null,null,null,null,null,"Oxidizing liquids (chapter 2.13)",null,null,null,null,null,null,null,null,null,null,null,null,null,null,null,null,null,null,null,null,null,null,null,null,null,null,null,null,null,null,null,1]
["P283","Wear fire resistant or flame retardant clothing.",null,null,null,null,null,null,null,null,null,null,null,null,null,null,null,null,null,null,null,"Oxidizing solids (chapter 2.14)",null,null,null,null,null,null,null,null,null,null,null,null,null,null,null,null,null,null,null,null,null,null,null,null,null,null,null,null,null,null,null,1]
["P284","[In case of inadequate ventilation] wear respiratory protection.",null,null,null,null,null,null,null,null,null,null,null,null,null,null,null,null,null,null,null,"Acute toxicity, inhalation (chapter 3.1)",null,null,null,null,null,null,null,null,null,null,null,null,null,null,null,null,null,null,null,null,null,null,null,null,null,null,null,null,null,null,null,1,2,null,null,null,null,null,null,null,null,null,null,"– text in square brackets may be used if additional information is provided with the chemical at the point of use that explains what type of ventilation would be adequate for safe use. Manufacturer/supplier or the competent authority to specify equipment."]
["P284","[In case of inadequate ventilation] wear respiratory protection.",null,null,null,null,null,null,null,null,null,null,null,null,null,null,null,null,null,null,null,"Respiratory sensitization (chapter 3.4)",null,null,null,null,null,null,null,null,null,null,null,null,null,null,null,null,null,null,null,null,null,null,null,null,null,null,null,null,null,null,null,1,"1A","1B"]
[]
["P231 + P232","Handle and store contents under inert gas/.... Protect from moisture.",null,null,null,null,null,null,null,null,null,null,null,null,null,null,null,null,null,null,null,"Substances and mixtures which, in contact with water, emit flammable gases (chapter 2.12)",null,null,null,null,null,null,null,null,null,null,null,null,null,null,null,null,null,null,null,null,null,null,null,null,null,null,null,null,null,null,null,1,2,3,null,null,null,null,null,null,null,null,null,"– if the substance or mixture reacts readily with moisture in air. …Manufacturer/supplier or the competent authority to specify appropriate liquid or gas if “inert gas” is not appropriate."]
["Table A3.2.3:  Codification of response precautionary statements"]
["Code (1)","Response precautionary statements (2)",null,null,null,null,null,null,null,null,null,null,null,null,null,null,null,null,null,null,null,null,null,null,null,"Hazard class (3)",null,null,null,null,null,null,null,null,null,null,null,null,null,null,null,null,null,null,null,null,null,null,null,null,null,null,null,null,null,null,null,null,"Hazard category (4)",null,null,null,null,null,null,null,null,null,"Conditions for use (5)"]
["P301","IF SWALLOWED:",null,null,null,null,null,null,null,null,null,null,null,null,null,null,null,null,null,null,null,null,null,null,null,"Acute toxicity, oral (chapter 3.1)",null,null,null,null,null,null,null,null,null,null,null,null,null,null,null,null,null,null,null,null,null,null,null,null,null,null,null,null,null,null,null,null,1,2,3,4,5]
["P301","IF SWALLOWED:",null,null,null,null,null,null,null,null,null,null,null,null,null,null,null,null,null,null,null,null,null,null,null,"Skin corrosion (chapter 3.2)",null,null,null,null,null,null,null,null,null,null,null,null,null,null,null,null,null,null,null,null,null,null,null,null,null,null,null,null,null,null,null,null,"1A","1B","1C"]
["P301","IF SWALLOWED:",null,null,null,null,null,null,null,null,null,null,null,null,null,null,null,null,null,null,null,null,null,null,null,"Aspiration hazard (chapter 3.10)",null,null,null,null,null,null,null,null,null,null,null,null,null,null,null,null,null,null,null,null,null,null,null,null,null,null,null,null,null,null,null,null,1,2]
["P302","IF ON SKIN:",null,null,null,null,null,null,null,null,null,null,null,null,null,null,null,null,null,null,null,null,null,null,null,"Pyrophoric liquids (chapter 2.9)",null,null,null,null,null,null,null,null,null,null,null,null,null,null,null,null,null,null,null,null,null,null,null,null,null,null,null,null,null,null,null,null,1]
["P302","IF ON SKIN:",null,null,null,null,null,null,null,null,null,null,null,null,null,null,null,null,null,null,null,null,null,null,null,"Pyrophoric solids (chapter 2.10)",null,null,null,null,null,null,null,null,null,null,null,null,null,null,null,null,null,null,null,null,null,null,null,null,null,null,null,null,null,null,null,null,1,null,null,null,null,null,null,null,null,null,null,null,null,null,null,null,null,null,null,null,null,null,null,null,null,null,null,null,null,null,null,{"$f":"IF(CL375=Z375,\"Yes\",\"No\")","v":"Yes"}]
["P302","IF ON SKIN:",null,null,null,null,null,null,null,null,null,null,null,null,null,null,null,null,null,null,null,null,null,null,null,"Substances and mixtures which, in contact with water, emit flammable gases (chapter 2.12)",null,null,null,null,null,null,null,null,null,null,null,null,null,null,null,null,null,null,null,null,null,null,null,null,null,null,null,null,null,null,null,null,1,2,null,null,null,null,null,null,null,null,null,null,null,null,null,null,null,null,null,null,null,null,null,null,null,null,null,null,null,null,null,"Substances and mixtures which, in contact with water, emit flammable gases (chapter 2.12)"]
["P302","IF ON SKIN:",null,null,null,null,null,null,null,null,null,null,null,null,null,null,null,null,null,null,null,null,null,null,null,"Acute toxicity, dermal (chapter 3.1)",null,null,null,null,null,null,null,null,null,null,null,null,null,null,null,null,null,null,null,null,null,null,null,null,null,null,null,null,null,null,null,null,1,2,3,4,5]
["P302","IF ON SKIN:",null,null,null,null,null,null,null,null,null,null,null,null,null,null,null,null,null,null,null,null,null,null,null,"Skin irritation (chapter 3.2)",null,null,null,null,null,null,null,null,null,null,null,null,null,null,null,null,null,null,null,null,null,null,null,null,null,null,null,null,null,null,null,null,2]
["P302","IF ON SKIN:",null,null,null,null,null,null,null,null,null,null,null,null,null,null,null,null,null,null,null,null,null,null,null,"Skin sensitization (chapter 3.4)",null,null,null,null,null,null,null,null,null,null,null,null,null,null,null,null,null,null,null,null,null,null,null,null,null,null,null,null,null,null,null,null,1,"1A","1B"]
["P303","IF ON SKIN (or hair):",null,null,null,null,null,null,null,null,null,null,null,null,null,null,null,null,null,null,null,null,null,null,null,"Flammable liquids (chapter 2.6)",null,null,null,null,null,null,null,null,null,null,null,null,null,null,null,null,null,null,null,null,null,null,null,null,null,null,null,null,null,null,null,null,1,2,3]
["P303","IF ON SKIN (or hair):",null,null,null,null,null,null,null,null,null,null,null,null,null,null,null,null,null,null,null,null,null,null,null,"Skin corrosion (chapter 3.2)",null,null,null,null,null,null,null,null,null,null,null,null,null,null,null,null,null,null,null,null,null,null,null,null,null,null,null,null,null,null,null,null,"1A","1B","1C"]
["P304","IF INHALED:",null,null,null,null,null,null,null,null,null,null,null,null,null,null,null,null,null,null,null,null,null,null,null,"Acute toxicity, inhalation (chapter 3.1)",null,null,null,null,null,null,null,null,null,null,null,null,null,null,null,null,null,null,null,null,null,null,null,null,null,null,null,null,null,null,null,null,1,2,3,4,5]
["P304","IF INHALED:",null,null,null,null,null,null,null,null,null,null,null,null,null,null,null,null,null,null,null,null,null,null,null,"Skin corrosion (chapter 3.2)",null,null,null,null,null,null,null,null,null,null,null,null,null,null,null,null,null,null,null,null,null,null,null,null,null,null,null,null,null,null,null,null,"1A","1B","1C"]
["P304","IF INHALED:",null,null,null,null,null,null,null,null,null,null,null,null,null,null,null,null,null,null,null,null,null,null,null,"Respiratory sensitization (chapter 3.4)",null,null,null,null,null,null,null,null,null,null,null,null,null,null,null,null,null,null,null,null,null,null,null,null,null,null,null,null,null,null,null,null,1,"1A","1B"]
["P304","IF INHALED:",null,null,null,null,null,null,null,null,null,null,null,null,null,null,null,null,null,null,null,null,null,null,null,"Specific target organ toxicity, single exposure; respiratory tract irritation (chapter 3.8)",null,null,null,null,null,null,null,null,null,null,null,null,null,null,null,null,null,null,null,null,null,null,null,null,null,null,null,null,null,null,null,null,3]
["P304","IF INHALED:",null,null,null,null,null,null,null,null,null,null,null,null,null,null,null,null,null,null,null,null,null,null,null,"Specific target organ toxicity, single exposure; narcotic effects (chapter 3.8)",null,null,null,null,null,null,null,null,null,null,null,null,null,null,null,null,null,null,null,null,null,null,null,null,null,null,null,null,null,null,null,null,3]
["P305","IF IN EYES:",null,null,null,null,null,null,null,null,null,null,null,null,null,null,null,null,null,null,null,null,null,null,null,"Skin corrosion (chapter 3.2)",null,null,null,null,null,null,null,null,null,null,null,null,null,null,null,null,null,null,null,null,null,null,null,null,null,null,null,null,null,null,null,null,"1A","1B","1C"]
["P305","IF IN EYES:",null,null,null,null,null,null,null,null,null,null,null,null,null,null,null,null,null,null,null,null,null,null,null,"Serious eye damage (chapter 3.3)",null,null,null,null,null,null,null,null,null,null,null,null,null,null,null,null,null,null,null,null,null,null,null,null,null,null,null,null,null,null,null,null,1]
["P305","IF IN EYES:",null,null,null,null,null,null,null,null,null,null,null,null,null,null,null,null,null,null,null,null,null,null,null,"Eye irritation (chapter 3.3)",null,null,null,null,null,null,null,null,null,null,null,null,null,null,null,null,null,null,null,null,null,null,null,null,null,null,null,null,null,null,null,null,"2A","2B"]
["P306","IF ON CLOTHING:",null,null,null,null,null,null,null,null,null,null,null,null,null,null,null,null,null,null,null,null,null,null,null,"Oxidizing liquids (chapter 2.13)",null,null,null,null,null,null,null,null,null,null,null,null,null,null,null,null,null,null,null,null,null,null,null,null,null,null,null,null,null,null,null,null,1]
["P306","IF ON CLOTHING:",null,null,null,null,null,null,null,null,null,null,null,null,null,null,null,null,null,null,null,null,null,null,null,"Oxidizing solids (chapter 2.14)",null,null,null,null,null,null,null,null,null,null,null,null,null,null,null,null,null,null,null,null,null,null,null,null,null,null,null,null,null,null,null,null,1]
[]
["P308","IF exposed or concerned:",null,null,null,null,null,null,null,null,null,null,null,null,null,null,null,null,null,null,null,null,null,null,null,"Germ cell mutagenicity (chapter 3.5)",null,null,null,null,null,null,null,null,null,null,null,null,null,null,null,null,null,null,null,null,null,null,null,null,null,null,null,null,null,null,null,null,"1A","1B",2]
["P308","IF exposed or concerned:",null,null,null,null,null,null,null,null,null,null,null,null,null,null,null,null,null,null,null,null,null,null,null,"Carcinogenicity (chapter 3.6)",null,null,null,null,null,null,null,null,null,null,null,null,null,null,null,null,null,null,null,null,null,null,null,null,null,null,null,null,null,null,null,null,"1A","1B",2]
["P308","IF exposed or concerned:",null,null,null,null,null,null,null,null,null,null,null,null,null,null,null,null,null,null,null,null,null,null,null,"Reproductive toxicity (chapter 3.7)",null,null,null,null,null,null,null,null,null,null,null,null,null,null,null,null,null,null,null,null,null,null,null,null,null,null,null,null,null,null,null,null,"1A","1B",2]
["P308","IF exposed or concerned:",null,null,null,null,null,null,null,null,null,null,null,null,null,null,null,null,null,null,null,null,null,null,null,"Reproductive toxicity, effects on or via lactation (chapter 3.7)",null,null,null,null,null,null,null,null,null,null,null,null,null,null,null,null,null,null,null,null,null,null,null,null,null,null,null,null,null,null,null,null,"Additional category"]
["P308","IF exposed or concerned:",null,null,null,null,null,null,null,null,null,null,null,null,null,null,null,null,null,null,null,null,null,null,null,"Specific target organ toxicity, single exposure (chapter 3.8)",null,null,null,null,null,null,null,null,null,null,null,null,null,null,null,null,null,null,null,null,null,null,null,null,null,null,null,null,null,null,null,null,1,2]
["Code (1)","Response precautionary statements (2)",null,null,null,null,null,null,null,null,null,null,null,null,null,null,null,null,null,null,null,null,null,null,null,"Hazard class (3)",null,null,null,null,null,null,null,null,null,null,null,null,null,null,null,null,null,null,null,null,null,null,null,null,null,null,null,null,null,null,null,null,"Hazard category (4)",null,null,null,null,null,null,null,null,null,"Conditions for use (5)"]
["P310","Immediately call a POISON CENTER/doctor/…",null,null,null,null,null,null,null,null,null,null,null,null,null,null,null,null,null,null,null,null,null,null,null,"Acute toxicity, oral (chapter 3.1)",null,null,null,null,null,null,null,null,null,null,null,null,null,null,null,null,null,null,null,null,null,null,null,null,null,null,null,null,null,null,null,null,1,2,3,null,null,null,null,null,null,null,"…Manufacturer/supplier or the competent authority to specify the appropriate source of emergency medical advice."]
["P310","Immediately call a POISON CENTER/doctor/…",null,null,null,null,null,null,null,null,null,null,null,null,null,null,null,null,null,null,null,null,null,null,null,"Acute toxicity, dermal (chapter 3.1)",null,null,null,null,null,null,null,null,null,null,null,null,null,null,null,null,null,null,null,null,null,null,null,null,null,null,null,null,null,null,null,null,1,2]
["P310","Immediately call a POISON CENTER/doctor/…",null,null,null,null,null,null,null,null,null,null,null,null,null,null,null,null,null,null,null,null,null,null,null,"Acute toxicity, inhalation (chapter 3.1)",null,null,null,null,null,null,null,null,null,null,null,null,null,null,null,null,null,null,null,null,null,null,null,null,null,null,null,null,null,null,null,null,1,2]
["P310","Immediately call a POISON CENTER/doctor/…",null,null,null,null,null,null,null,null,null,null,null,null,null,null,null,null,null,null,null,null,null,null,null,"Skin corrosion (chapter 3.2)",null,null,null,null,null,null,null,null,null,null,null,null,null,null,null,null,null,null,null,null,null,null,null,null,null,null,null,null,null,null,null,null,"1A","1B","1C"]
["P310","Immediately call a POISON CENTER/doctor/…",null,null,null,null,null,null,null,null,null,null,null,null,null,null,null,null,null,null,null,null,null,null,null,"Serious eye damage (chapter 3.3)",null,null,null,null,null,null,null,null,null,null,null,null,null,null,null,null,null,null,null,null,null,null,null,null,null,null,null,null,null,null,null,null,1]
["P310","Immediately call a POISON CENTER/doctor/…",null,null,null,null,null,null,null,null,null,null,null,null,null,null,null,null,null,null,null,null,null,null,null,"Aspiration hazard (chapter 3.10)",null,null,null,null,null,null,null,null,null,null,null,null,null,null,null,null,null,null,null,null,null,null,null,null,null,null,null,null,null,null,null,null,1,2]
["P311","Call a POISON CENTER/doctor/…",null,null,null,null,null,null,null,null,null,null,null,null,null,null,null,null,null,null,null,null,null,null,null,"Acute toxicity, inhalation (chapter 3.1)",null,null,null,null,null,null,null,null,null,null,null,null,null,null,null,null,null,null,null,null,null,null,null,null,null,null,null,null,null,null,null,null,3,null,null,null,null,null,null,null,null,null,"…Manufacturer/supplier or the competent authority to specify the appropriate source of emergency medical advice."]
["P311","Call a POISON CENTER/doctor/…",null,null,null,null,null,null,null,null,null,null,null,null,null,null,null,null,null,null,null,null,null,null,null,"Respiratory sensitization (chapter 3.4)",null,null,null,null,null,null,null,null,null,null,null,null,null,null,null,null,null,null,null,null,null,null,null,null,null,null,null,null,null,null,null,null,1,"1A","1B"]
["P311","Call a POISON CENTER/doctor/…",null,null,null,null,null,null,null,null,null,null,null,null,null,null,null,null,null,null,null,null,null,null,null,"Specific target organ toxicity, single exposure (chapter 3.8)",null,null,null,null,null,null,null,null,null,null,null,null,null,null,null,null,null,null,null,null,null,null,null,null,null,null,null,null,null,null,null,null,1,2]
["P312","Call a POISON CENTER/doctor/…if you feel unwell.",null,null,null,null,null,null,null,null,null,null,null,null,null,null,null,null,null,null,null,null,null,null,null,"Acute toxicity, oral (chapter 3.1)",null,null,null,null,null,null,null,null,null,null,null,null,null,null,null,null,null,null,null,null,null,null,null,null,null,null,null,null,null,null,null,null,4,5,null,null,null,null,null,null,null,null,"…Manufacturer/supplier or the competent authority to specify the appropriate source of emergency medical advice."]
["P312","Call a POISON CENTER/doctor/…if you feel unwell.",null,null,null,null,null,null,null,null,null,null,null,null,null,null,null,null,null,null,null,null,null,null,null,"Acute toxicity, dermal (chapter 3.1)",null,null,null,null,null,null,null,null,null,null,null,null,null,null,null,null,null,null,null,null,null,null,null,null,null,null,null,null,null,null,null,null,3,4,5]
["P312","Call a POISON CENTER/doctor/…if you feel unwell.",null,null,null,null,null,null,null,null,null,null,null,null,null,null,null,null,null,null,null,null,null,null,null,"Acute toxicity, inhalation (chapter 3.1)",null,null,null,null,null,null,null,null,null,null,null,null,null,null,null,null,null,null,null,null,null,null,null,null,null,null,null,null,null,null,null,null,4,5]
["P312","Call a POISON CENTER/doctor/…if you feel unwell.",null,null,null,null,null,null,null,null,null,null,null,null,null,null,null,null,null,null,null,null,null,null,null,"Specific target organ toxicity, single exposure; respiratory tract irritation (chapter 3.8)",null,null,null,null,null,null,null,null,null,null,null,null,null,null,null,null,null,null,null,null,null,null,null,null,null,null,null,null,null,null,null,null,3]
["P312","Call a POISON CENTER/doctor/…if you feel unwell.",null,null,null,null,null,null,null,null,null,null,null,null,null,null,null,null,null,null,null,null,null,null,null,"Specific target organ toxicity, single exposure; narcotic effects (chapter 3.8)",null,null,null,null,null,null,null,null,null,null,null,null,null,null,null,null,null,null,null,null,null,null,null,null,null,null,null,null,null,null,null,null,3]
["P313","Get medical advice/attention.",null,null,null,null,null,null,null,null,null,null,null,null,null,null,null,null,null,null,null,null,null,null,null,"Skin irritation (chapter 3.2)",null,null,null,null,null,null,null,null,null,null,null,null,null,null,null,null,null,null,null,null,null,null,null,null,null,null,null,null,null,null,null,null,2,3,null,null,null,null,null,null,null,null,"Manufacturer/supplier or the competent authority to select medical advice or attention as appropriate."]
["P313","Get medical advice/attention.",null,null,null,null,null,null,null,null,null,null,null,null,null,null,null,null,null,null,null,null,null,null,null,"Eye irritation (chapter 3.3)",null,null,null,null,null,null,null,null,null,null,null,null,null,null,null,null,null,null,null,null,null,null,null,null,null,null,null,null,null,null,null,null,"2A","2B"]
["P313","Get medical advice/attention.",null,null,null,null,null,null,null,null,null,null,null,null,null,null,null,null,null,null,null,null,null,null,null,"Skin sensitization (chapter 3.4)",null,null,null,null,null,null,null,null,null,null,null,null,null,null,null,null,null,null,null,null,null,null,null,null,null,null,null,null,null,null,null,null,1,"1A","1B"]
["P313","Get medical advice/attention.",null,null,null,null,null,null,null,null,null,null,null,null,null,null,null,null,null,null,null,null,null,null,null,"Germ cell mutagenicity (chapter 3.5)",null,null,null,null,null,null,null,null,null,null,null,null,null,null,null,null,null,null,null,null,null,null,null,null,null,null,null,null,null,null,null,null,"1A","1B",2]
["P313","Get medical advice/attention.",null,null,null,null,null,null,null,null,null,null,null,null,null,null,null,null,null,null,null,null,null,null,null,"Carcinogenicity (chapter 3.6)",null,null,null,null,null,null,null,null,null,null,null,null,null,null,null,null,null,null,null,null,null,null,null,null,null,null,null,null,null,null,null,null,"1A","1B",2]
["P313","Get medical advice/attention.",null,null,null,null,null,null,null,null,null,null,null,null,null,null,null,null,null,null,null,null,null,null,null,"Reproductive toxicity (chapter 3.7)",null,null,null,null,null,null,null,null,null,null,null,null,null,null,null,null,null,null,null,null,null,null,null,null,null,null,null,null,null,null,null,null,"1A","1B",2]
["P313","Get medical advice/attention.",null,null,null,null,null,null,null,null,null,null,null,null,null,null,null,null,null,null,null,null,null,null,null,"Reproductive toxicity, effects on or via lactation (chapter 3.7)",null,null,null,null,null,null,null,null,null,null,null,null,null,null,null,null,null,null,null,null,null,null,null,null,null,null,null,null,null,null,null,null,"Additional category"]
["P314","Get medical advice/attention if you feel unwell.",null,null,null,null,null,null,null,null,null,null,null,null,null,null,null,null,null,null,null,null,null,null,null,"Specific target organ toxicity, repeated exposure (chapter 3.9)",null,null,null,null,null,null,null,null,null,null,null,null,null,null,null,null,null,null,null,null,null,null,null,null,null,null,null,null,null,null,null,null,1,2,null,null,null,null,null,null,null,null,"Manufacturer/supplier or the competent authority to select medical advice or attention as appropriate."]
["P315","Get immediate medical advice/attention.",null,null,null,null,null,null,null,null,null,null,null,null,null,null,null,null,null,null,null,null,null,null,null,"Gases under pressure (chapter 2.5)",null,null,null,null,null,null,null,null,null,null,null,null,null,null,null,null,null,null,null,null,null,null,null,null,null,null,null,null,null,null,null,null,"Refrigerated liquefied gas",null,null,null,null,null,null,null,null,null,"Manufacturer/supplier or the competent authority to select medical advice or attention as appropriate."]
["P320","Specific treatment is urgent (see ... on this label).",null,null,null,null,null,null,null,null,null,null,null,null,null,null,null,null,null,null,null,null,null,null,null,"Acute toxicity, inhalation (chapter 3.1)",null,null,null,null,null,null,null,null,null,null,null,null,null,null,null,null,null,null,null,null,null,null,null,null,null,null,null,null,null,null,null,null,1,2,null,null,null,null,null,null,null,null,"– if immediate administration of antidote is required. ...Reference to supplemental first aid instruction."]
["Code (1)","Response precautionary statements (2)",null,null,null,null,null,null,null,null,null,null,null,null,null,null,null,null,null,null,null,null,null,null,null,"Hazard class (3)",null,null,null,null,null,null,null,null,null,null,null,null,null,null,null,null,null,null,null,null,null,null,null,null,null,null,null,null,null,null,null,null,"Hazard category (4)",null,null,null,null,null,null,null,null,null,"Conditions for use (5)"]
["P321","Specific treatment (see ... on this label).",null,null,null,null,null,null,null,null,null,null,null,null,null,null,null,null,null,null,null,null,null,null,null,"Acute toxicity, oral (chapter 3.1)",null,null,null,null,null,null,null,null,null,null,null,null,null,null,null,null,null,null,null,null,null,null,null,null,null,null,null,null,null,null,null,null,1,2,3,null,null,null,null,null,null,null,"–  if immediate administration of antidote is required. ...Reference to supplemental first aid instruction."]
["P321","Specific treatment (see ... on this label).",null,null,null,null,null,null,null,null,null,null,null,null,null,null,null,null,null,null,null,null,null,null,null,"Acute toxicity, dermal (chapter 3.1)",null,null,null,null,null,null,null,null,null,null,null,null,null,null,null,null,null,null,null,null,null,null,null,null,null,null,null,null,null,null,null,null,1,2,3,4,null,null,null,null,null,null,"– if immediate measures such as specific cleansing agent is advised. ...Reference to supplemental first aid instruction."]
["P321","Specific treatment (see ... on this label).",null,null,null,null,null,null,null,null,null,null,null,null,null,null,null,null,null,null,null,null,null,null,null,"Acute toxicity, inhalation (chapter 3.1)",null,null,null,null,null,null,null,null,null,null,null,null,null,null,null,null,null,null,null,null,null,null,null,null,null,null,null,null,null,null,null,null,3,null,null,null,null,null,null,null,null,null,"– if immediate specific measures are required. ...Reference to supplemental first aid instruction."]
["P321","Specific treatment (see ... on this label).",null,null,null,null,null,null,null,null,null,null,null,null,null,null,null,null,null,null,null,null,null,null,null,"Skin corrosion (chapter 3.2)",null,null,null,null,null,null,null,null,null,null,null,null,null,null,null,null,null,null,null,null,null,null,null,null,null,null,null,null,null,null,null,null,"1A","1B","1C",null,null,null,null,null,null,null,"...Reference to supplemental first aid instruction. anufacturer/supplier or the competent authority may specify a cleansing agent if appropriate."]
["P321","Specific treatment (see ... on this label).",null,null,null,null,null,null,null,null,null,null,null,null,null,null,null,null,null,null,null,null,null,null,null,"Skin irritation (chapter 3.2)",null,null,null,null,null,null,null,null,null,null,null,null,null,null,null,null,null,null,null,null,null,null,null,null,null,null,null,null,null,null,null,null,2]
["P321","Specific treatment (see ... on this label).",null,null,null,null,null,null,null,null,null,null,null,null,null,null,null,null,null,null,null,null,null,null,null,"Skin sensitization (chapter 3.4)",null,null,null,null,null,null,null,null,null,null,null,null,null,null,null,null,null,null,null,null,null,null,null,null,null,null,null,null,null,null,null,null,1,"1A","1B"]
["P321","Specific treatment (see ... on this label).",null,null,null,null,null,null,null,null,null,null,null,null,null,null,null,null,null,null,null,null,null,null,null,"Specific target organ toxicity, single exposure (chapter 3.8)",null,null,null,null,null,null,null,null,null,null,null,null,null,null,null,null,null,null,null,null,null,null,null,null,null,null,null,null,null,null,null,null,1,null,null,null,null,null,null,null,null,null,"– if immediate measures are required. ...Reference to supplemental first aid instruction."]
[]
["P330","Rinse mouth.",null,null,null,null,null,null,null,null,null,null,null,null,null,null,null,null,null,null,null,null,null,null,null,"Acute toxicity, oral (chapter 3.1)",null,null,null,null,null,null,null,null,null,null,null,null,null,null,null,null,null,null,null,null,null,null,null,null,null,null,null,null,null,null,null,null,1,2,3,4]
["P330","Rinse mouth.",null,null,null,null,null,null,null,null,null,null,null,null,null,null,null,null,null,null,null,null,null,null,null,"Skin corrosion (chapter 3.2)",null,null,null,null,null,null,null,null,null,null,null,null,null,null,null,null,null,null,null,null,null,null,null,null,null,null,null,null,null,null,null,null,"1A","1B","1C"]
["P331","Do NOT induce vomiting.",null,null,null,null,null,null,null,null,null,null,null,null,null,null,null,null,null,null,null,null,null,null,null,"Skin corrosion (chapter 3.2)",null,null,null,null,null,null,null,null,null,null,null,null,null,null,null,null,null,null,null,null,null,null,null,null,null,null,null,null,null,null,null,null,"1A","1B","1C"]
["P331","Do NOT induce vomiting.",null,null,null,null,null,null,null,null,null,null,null,null,null,null,null,null,null,null,null,null,null,null,null,"Aspiration hazard (chapter 3.10)",null,null,null,null,null,null,null,null,null,null,null,null,null,null,null,null,null,null,null,null,null,null,null,null,null,null,null,null,null,null,null,null,1,2]
["P332","If skin irritation occurs:",null,null,null,null,null,null,null,null,null,null,null,null,null,null,null,null,null,null,null,null,null,null,null,"Skin irritation (chapter 3.2)",null,null,null,null,null,null,null,null,null,null,null,null,null,null,null,null,null,null,null,null,null,null,null,null,null,null,null,null,null,null,null,null,2,3,null,null,null,null,null,null,null,null,"- may be omitted if P333 is given on the label."]
["P333","If skin irritation or rash occurs:",null,null,null,null,null,null,null,null,null,null,null,null,null,null,null,null,null,null,null,null,null,null,null,"Skin sensitization (chapter 3.4)",null,null,null,null,null,null,null,null,null,null,null,null,null,null,null,null,null,null,null,null,null,null,null,null,null,null,null,null,null,null,null,null,1,"1A","1B"]
["P334","Immerse in cool water [or wrap in wet bandages].",null,null,null,null,null,null,null,null,null,null,null,null,null,null,null,null,null,null,null,null,null,null,null,"Pyrophoric liquids (chapter 2.9)",null,null,null,null,null,null,null,null,null,null,null,null,null,null,null,null,null,null,null,null,null,null,null,null,null,null,null,null,null,null,null,null,1,null,null,null,null,null,null,null,null,null,"– text in square brackets to be used for pyrophoric liquids and solids."]
["P334","Immerse in cool water [or wrap in wet bandages].",null,null,null,null,null,null,null,null,null,null,null,null,null,null,null,null,null,null,null,null,null,null,null,"Pyrophoric solids (chapter 2.10)",null,null,null,null,null,null,null,null,null,null,null,null,null,null,null,null,null,null,null,null,null,null,null,null,null,null,null,null,null,null,null,null,1]
["P334","Immerse in cool water [or wrap in wet bandages].",null,null,null,null,null,null,null,null,null,null,null,null,null,null,null,null,null,null,null,null,null,null,null,"Substances and mixtures which, in contact with water, emit flammable gases (chapter 2.12)",null,null,null,null,null,null,null,null,null,null,null,null,null,null,null,null,null,null,null,null,null,null,null,null,null,null,null,null,null,null,null,null,1,2,null,null,null,null,null,null,null,null,"– use only “Immerse in cool water.” Text in square brackets should not be used."]
["P335","Brush off loose particles from skin.",null,null,null,null,null,null,null,null,null,null,null,null,null,null,null,null,null,null,null,null,null,null,null,"Pyrophoric solids (chapter 2.10)",null,null,null,null,null,null,null,null,null,null,null,null,null,null,null,null,null,null,null,null,null,null,null,null,null,null,null,null,null,null,null,null,1]
["P335","Brush off loose particles from skin.",null,null,null,null,null,null,null,null,null,null,null,null,null,null,null,null,null,null,null,null,null,null,null,"Substances and mixtures which, in contact with water, emit flammable gases (chapter 2.12)",null,null,null,null,null,null,null,null,null,null,null,null,null,null,null,null,null,null,null,null,null,null,null,null,null,null,null,null,null,null,null,null,1,2]
["P336","Thaw frosted parts with lukewarm water.  Do not rub affected area.",null,null,null,null,null,null,null,null,null,null,null,null,null,null,null,null,null,null,null,null,null,null,null,"Gases under pressure (chapter 2.5)",null,null,null,null,null,null,null,null,null,null,null,null,null,null,null,null,null,null,null,null,null,null,null,null,null,null,null,null,null,null,null,null,"Refrigerated liquefied gas"]
["P337","If eye irritation persists:",null,null,null,null,null,null,null,null,null,null,null,null,null,null,null,null,null,null,null,null,null,null,null,"Eye irritation (chapter 3.3)",null,null,null,null,null,null,null,null,null,null,null,null,null,null,null,null,null,null,null,null,null,null,null,null,null,null,null,null,null,null,null,null,"2A","2B"]
["P338","Remove contact lenses, if present and easy to do. Continue rinsing.",null,null,null,null,null,null,null,null,null,null,null,null,null,null,null,null,null,null,null,null,null,null,null,"Skin corrosion (chapter 3.2)",null,null,null,null,null,null,null,null,null,null,null,null,null,null,null,null,null,null,null,null,null,null,null,null,null,null,null,null,null,null,null,null,"1A","1B","1C"]
["P338","Remove contact lenses, if present and easy to do. Continue rinsing.",null,null,null,null,null,null,null,null,null,null,null,null,null,null,null,null,null,null,null,null,null,null,null,"Serious eye damage (chapter 3.3)",null,null,null,null,null,null,null,null,null,null,null,null,null,null,null,null,null,null,null,null,null,null,null,null,null,null,null,null,null,null,null,null,1]
["P338","Remove contact lenses, if present and easy to do. Continue rinsing.",null,null,null,null,null,null,null,null,null,null,null,null,null,null,null,null,null,null,null,null,null,null,null,"Eye irritation (chapter 3.3)",null,null,null,null,null,null,null,null,null,null,null,null,null,null,null,null,null,null,null,null,null,null,null,null,null,null,null,null,null,null,null,null,"2A","2B"]
["Code (1)","Response precautionary statements (2)",null,null,null,null,null,null,null,null,null,null,null,null,null,null,null,null,null,null,null,null,null,null,null,"Hazard class (3)",null,null,null,null,null,null,null,null,null,null,null,null,null,null,null,null,null,null,null,null,null,null,null,null,null,null,null,null,null,null,null,null,"Hazard category (4)",null,null,null,null,null,null,null,null,null,"Conditions for use (5)"]
["P340","Remove person to fresh air and keep comfortable for breathing.",null,null,null,null,null,null,null,null,null,null,null,null,null,null,null,null,null,null,null,null,null,null,null,"Acute toxicity, inhalation (chapter 3.1)",null,null,null,null,null,null,null,null,null,null,null,null,null,null,null,null,null,null,null,null,null,null,null,null,null,null,null,null,null,null,null,null,1,2,3,4]
["P340","Remove person to fresh air and keep comfortable for breathing.",null,null,null,null,null,null,null,null,null,null,null,null,null,null,null,null,null,null,null,null,null,null,null,"Skin corrosion (chapter 3.2)",null,null,null,null,null,null,null,null,null,null,null,null,null,null,null,null,null,null,null,null,null,null,null,null,null,null,null,null,null,null,null,null,"1A","1B","1C"]
["P340","Remove person to fresh air and keep comfortable for breathing.",null,null,null,null,null,null,null,null,null,null,null,null,null,null,null,null,null,null,null,null,null,null,null,"Respiratory sensitization (chapter 3.4)",null,null,null,null,null,null,null,null,null,null,null,null,null,null,null,null,null,null,null,null,null,null,null,null,null,null,null,null,null,null,null,null,1,"1A","1B"]
["P340","Remove person to fresh air and keep comfortable for breathing.",null,null,null,null,null,null,null,null,null,null,null,null,null,null,null,null,null,null,null,null,null,null,null,"Specific target organ toxicity, single exposure; respiratory tract irritation (chapter 3.8)",null,null,null,null,null,null,null,null,null,null,null,null,null,null,null,null,null,null,null,null,null,null,null,null,null,null,null,null,null,null,null,null,3]
["P340","Remove person to fresh air and keep comfortable for breathing.",null,null,null,null,null,null,null,null,null,null,null,null,null,null,null,null,null,null,null,null,null,null,null,"Specific target organ toxicity, single exposure; narcotic effects (chapter 3.8)",null,null,null,null,null,null,null,null,null,null,null,null,null,null,null,null,null,null,null,null,null,null,null,null,null,null,null,null,null,null,null,null,3]
["P342","If experiencing respiratory symptoms:",null,null,null,null,null,null,null,null,null,null,null,null,null,null,null,null,null,null,null,null,null,null,null,"Respiratory sensitization (chapter 3.4)",null,null,null,null,null,null,null,null,null,null,null,null,null,null,null,null,null,null,null,null,null,null,null,null,null,null,null,null,null,null,null,null,1,"1A","1B"]
[]
["P351","Rinse cautiously with water for several minutes.",null,null,null,null,null,null,null,null,null,null,null,null,null,null,null,null,null,null,null,null,null,null,null,"Skin corrosion (chapter 3.2)",null,null,null,null,null,null,null,null,null,null,null,null,null,null,null,null,null,null,null,null,null,null,null,null,null,null,null,null,null,null,null,null,"1A","1B","1C"]
["P351","Rinse cautiously with water for several minutes.",null,null,null,null,null,null,null,null,null,null,null,null,null,null,null,null,null,null,null,null,null,null,null,"Serious eye damage (chapter 3.3)",null,null,null,null,null,null,null,null,null,null,null,null,null,null,null,null,null,null,null,null,null,null,null,null,null,null,null,null,null,null,null,null,1]
["P351","Rinse cautiously with water for several minutes.",null,null,null,null,null,null,null,null,null,null,null,null,null,null,null,null,null,null,null,null,null,null,null,"Eye irritation (chapter 3.3)",null,null,null,null,null,null,null,null,null,null,null,null,null,null,null,null,null,null,null,null,null,null,null,null,null,null,null,null,null,null,null,null,"2A","2B"]
["P352","Wash with plenty of water/...",null,null,null,null,null,null,null,null,null,null,null,null,null,null,null,null,null,null,null,null,null,null,null,"Acute toxicity, dermal (chapter 3.1)",null,null,null,null,null,null,null,null,null,null,null,null,null,null,null,null,null,null,null,null,null,null,null,null,null,null,null,null,null,null,null,null,1,2,3,4,null,null,null,null,null,null,"…Manufacturer/supplier or the competent authority may specify a cleansing agent if appropriate, or may recommend an alternative agent in exceptional cases if water is clearly inappropriate."]
["P352","Wash with plenty of water/...",null,null,null,null,null,null,null,null,null,null,null,null,null,null,null,null,null,null,null,null,null,null,null,"Skin irritation (chapter 3.2)",null,null,null,null,null,null,null,null,null,null,null,null,null,null,null,null,null,null,null,null,null,null,null,null,null,null,null,null,null,null,null,null,2]
["P352","Wash with plenty of water/...",null,null,null,null,null,null,null,null,null,null,null,null,null,null,null,null,null,null,null,null,null,null,null,"Skin sensitization (chapter 3.4)",null,null,null,null,null,null,null,null,null,null,null,null,null,null,null,null,null,null,null,null,null,null,null,null,null,null,null,null,null,null,null,null,1,"1A","1B"]
["P353","Rinse skin with water [or shower].",null,null,null,null,null,null,null,null,null,null,null,null,null,null,null,null,null,null,null,null,null,null,null,"Flammable liquids (chapter 2.6)",null,null,null,null,null,null,null,null,null,null,null,null,null,null,null,null,null,null,null,null,null,null,null,null,null,null,null,null,null,null,null,null,1,2,3,null,null,null,null,null,null,null,"– text in square brackets to be included where the manufacturer/supplier or the competent authority considers it appropriate for the specific chemical."]
["P353","Rinse skin with water [or shower].",null,null,null,null,null,null,null,null,null,null,null,null,null,null,null,null,null,null,null,null,null,null,null,"Skin corrosion (chapter 3.2)",null,null,null,null,null,null,null,null,null,null,null,null,null,null,null,null,null,null,null,null,null,null,null,null,null,null,null,null,null,null,null,null,"1A","1B","1C"]
[]
["P360","Rinse immediately contaminated clothing and skin with plenty of water before removing clothes.",null,null,null,null,null,null,null,null,null,null,null,null,null,null,null,null,null,null,null,null,null,null,null,"Oxidizing liquids (chapter 2.13)",null,null,null,null,null,null,null,null,null,null,null,null,null,null,null,null,null,null,null,null,null,null,null,null,null,null,null,null,null,null,null,null,1]
["P360","Rinse immediately contaminated clothing and skin with plenty of water before removing clothes.",null,null,null,null,null,null,null,null,null,null,null,null,null,null,null,null,null,null,null,null,null,null,null,"Oxidizing solids (chapter 2.14)",null,null,null,null,null,null,null,null,null,null,null,null,null,null,null,null,null,null,null,null,null,null,null,null,null,null,null,null,null,null,null,null,1]
["P361","Take off immediately all contaminated clothing.",null,null,null,null,null,null,null,null,null,null,null,null,null,null,null,null,null,null,null,null,null,null,null,"Flammable liquids (chapter 2.6)",null,null,null,null,null,null,null,null,null,null,null,null,null,null,null,null,null,null,null,null,null,null,null,null,null,null,null,null,null,null,null,null,1,2,3]
["P361","Take off immediately all contaminated clothing.",null,null,null,null,null,null,null,null,null,null,null,null,null,null,null,null,null,null,null,null,null,null,null,"Acute toxicity, dermal (chapter 3.1)",null,null,null,null,null,null,null,null,null,null,null,null,null,null,null,null,null,null,null,null,null,null,null,null,null,null,null,null,null,null,null,null,1,2,3]
["P361","Take off immediately all contaminated clothing.",null,null,null,null,null,null,null,null,null,null,null,null,null,null,null,null,null,null,null,null,null,null,null,"Skin corrosion (chapter 3.2)",null,null,null,null,null,null,null,null,null,null,null,null,null,null,null,null,null,null,null,null,null,null,null,null,null,null,null,null,null,null,null,null,"1A","1B","1C"]
["P362","Take off contaminated clothing.",null,null,null,null,null,null,null,null,null,null,null,null,null,null,null,null,null,null,null,null,null,null,null,"Acute toxicity, dermal (chapter 3.1)",null,null,null,null,null,null,null,null,null,null,null,null,null,null,null,null,null,null,null,null,null,null,null,null,null,null,null,null,null,null,null,null,4]
["P362","Take off contaminated clothing.",null,null,null,null,null,null,null,null,null,null,null,null,null,null,null,null,null,null,null,null,null,null,null,"Skin irritation (chapter 3.2)",null,null,null,null,null,null,null,null,null,null,null,null,null,null,null,null,null,null,null,null,null,null,null,null,null,null,null,null,null,null,null,null,2]
["P362","Take off contaminated clothing.",null,null,null,null,null,null,null,null,null,null,null,null,null,null,null,null,null,null,null,null,null,null,null,"Skin sensitization (chapter 3.4)",null,null,null,null,null,null,null,null,null,null,null,null,null,null,null,null,null,null,null,null,null,null,null,null,null,null,null,null,null,null,null,null,1,"1A","1B"]
["P363","Wash contaminated clothing before reuse.",null,null,null,null,null,null,null,null,null,null,null,null,null,null,null,null,null,null,null,null,null,null,null,"Skin corrosion (chapter 3.2)",null,null,null,null,null,null,null,null,null,null,null,null,null,null,null,null,null,null,null,null,null,null,null,null,null,null,null,null,null,null,null,null,"1A","1B","1C"]
["P364","And wash it before reuse.",null,null,null,null,null,null,null,null,null,null,null,null,null,null,null,null,null,null,null,null,null,null,null,"Acute toxicity, dermal (chapter 3.1)",null,null,null,null,null,null,null,null,null,null,null,null,null,null,null,null,null,null,null,null,null,null,null,null,null,null,null,null,null,null,null,null,1,2,3,4]
["P364","And wash it before reuse.",null,null,null,null,null,null,null,null,null,null,null,null,null,null,null,null,null,null,null,null,null,null,null,"Skin irritation (chapter 3.2)",null,null,null,null,null,null,null,null,null,null,null,null,null,null,null,null,null,null,null,null,null,null,null,null,null,null,null,null,null,null,null,null,2]
["P364","And wash it before reuse.",null,null,null,null,null,null,null,null,null,null,null,null,null,null,null,null,null,null,null,null,null,null,null,"Skin sensitization (chapter 3.4)",null,null,null,null,null,null,null,null,null,null,null,null,null,null,null,null,null,null,null,null,null,null,null,null,null,null,null,null,null,null,null,null,1,"1A","1B"]
[]
["Code (1)","Response precautionary statements (2)",null,null,null,null,null,null,null,null,null,null,null,null,null,null,null,null,null,null,null,null,null,null,null,"Hazard class (3)",null,null,null,null,null,null,null,null,null,null,null,null,null,null,null,null,null,null,null,null,null,null,null,null,null,null,null,null,null,null,null,null,"Hazard category (4)",null,null,null,null,null,null,null,null,null,"Conditions for use (5)"]
["P370","In case of fire:",null,null,null,null,null,null,null,null,null,null,null,null,null,null,null,null,null,null,null,null,null,null,null,"Explosives (chapter 2.1)",null,null,null,null,null,null,null,null,null,null,null,null,null,null,null,null,null,null,null,null,null,null,null,null,null,null,null,null,null,null,null,null,"Unstable explosive","1.1","1.2","1.3","1.4","1.5"]
["P370","In case of fire:",null,null,null,null,null,null,null,null,null,null,null,null,null,null,null,null,null,null,null,null,null,null,null,"Oxidizing gases (chapter 2.4)",null,null,null,null,null,null,null,null,null,null,null,null,null,null,null,null,null,null,null,null,null,null,null,null,null,null,null,null,null,null,null,null,1]
["P370","In case of fire:",null,null,null,null,null,null,null,null,null,null,null,null,null,null,null,null,null,null,null,null,null,null,null,"Flammable liquids (chapter 2.6)",null,null,null,null,null,null,null,null,null,null,null,null,null,null,null,null,null,null,null,null,null,null,null,null,null,null,null,null,null,null,null,null,1,2,3,4]
["P370","In case of fire:",null,null,null,null,null,null,null,null,null,null,null,null,null,null,null,null,null,null,null,null,null,null,null,"Flammable solids (chapter 2.7)",null,null,null,null,null,null,null,null,null,null,null,null,null,null,null,null,null,null,null,null,null,null,null,null,null,null,null,null,null,null,null,null,1,2]
["P370","In case of fire:",null,null,null,null,null,null,null,null,null,null,null,null,null,null,null,null,null,null,null,null,null,null,null,"Self-reactive substances and mixtures (chapter 2.8)",null,null,null,null,null,null,null,null,null,null,null,null,null,null,null,null,null,null,null,null,null,null,null,null,null,null,null,null,null,null,null,null,"A","B","C","D","E","F"]
["P370","In case of fire:",null,null,null,null,null,null,null,null,null,null,null,null,null,null,null,null,null,null,null,null,null,null,null,"Pyrophoric liquids (chapter 2.9)",null,null,null,null,null,null,null,null,null,null,null,null,null,null,null,null,null,null,null,null,null,null,null,null,null,null,null,null,null,null,null,null,1]
["P370","In case of fire:",null,null,null,null,null,null,null,null,null,null,null,null,null,null,null,null,null,null,null,null,null,null,null,"Pyrophoric solids (chapter 2.10)",null,null,null,null,null,null,null,null,null,null,null,null,null,null,null,null,null,null,null,null,null,null,null,null,null,null,null,null,null,null,null,null,1]
["P370","In case of fire:",null,null,null,null,null,null,null,null,null,null,null,null,null,null,null,null,null,null,null,null,null,null,null,"Substances and mixtures which, in contact with water, emit flammable gases (chapter 2.12)",null,null,null,null,null,null,null,null,null,null,null,null,null,null,null,null,null,null,null,null,null,null,null,null,null,null,null,null,null,null,null,null,1,2,3]
["P370","In case of fire:",null,null,null,null,null,null,null,null,null,null,null,null,null,null,null,null,null,null,null,null,null,null,null,"Oxidizing liquids (chapter 2.13)",null,null,null,null,null,null,null,null,null,null,null,null,null,null,null,null,null,null,null,null,null,null,null,null,null,null,null,null,null,null,null,null,1,2,3]
["P370","In case of fire:",null,null,null,null,null,null,null,null,null,null,null,null,null,null,null,null,null,null,null,null,null,null,null,"Oxidizing solids (chapter 2.14)",null,null,null,null,null,null,null,null,null,null,null,null,null,null,null,null,null,null,null,null,null,null,null,null,null,null,null,null,null,null,null,null,1,2,3]
["P370","In case of fire:",null,null,null,null,null,null,null,null,null,null,null,null,null,null,null,null,null,null,null,null,null,null,null,"Organic peroxides (chapter 2.15)",null,null,null,null,null,null,null,null,null,null,null,null,null,null,null,null,null,null,null,null,null,null,null,null,null,null,null,null,null,null,null,null,"A","B","C","D","E","F"]
["P370","In case of fire:",null,null,null,null,null,null,null,null,null,null,null,null,null,null,null,null,null,null,null,null,null,null,null,"Desensitized explosives (chapter 2.17)",null,null,null,null,null,null,null,null,null,null,null,null,null,null,null,null,null,null,null,null,null,null,null,null,null,null,null,null,null,null,null,null,1,2,3]
["P371","In case of major fire and large quantities:",null,null,null,null,null,null,null,null,null,null,null,null,null,null,null,null,null,null,null,null,null,null,null,"Oxidizing liquids (chapter 2.13)",null,null,null,null,null,null,null,null,null,null,null,null,null,null,null,null,null,null,null,null,null,null,null,null,null,null,null,null,null,null,null,null,1]
["P371","In case of major fire and large quantities:",null,null,null,null,null,null,null,null,null,null,null,null,null,null,null,null,null,null,null,null,null,null,null,"Oxidizing solids (chapter 2.14)",null,null,null,null,null,null,null,null,null,null,null,null,null,null,null,null,null,null,null,null,null,null,null,null,null,null,null,null,null,null,null,null,1]
["P371","In case of major fire and large quantities:",null,null,null,null,null,null,null,null,null,null,null,null,null,null,null,null,null,null,null,null,null,null,null,"Desensitized explosives (chapter 2.17)",null,null,null,null,null,null,null,null,null,null,null,null,null,null,null,null,null,null,null,null,null,null,null,null,null,null,null,null,null,null,null,null,4]
["P372","Explosion risk.",null,null,null,null,null,null,null,null,null,null,null,null,null,null,null,null,null,null,null,null,null,null,null,"Explosives (chapter 2.1)",null,null,null,null,null,null,null,null,null,null,null,null,null,null,null,null,null,null,null,null,null,null,null,null,null,null,null,null,null,null,null,null,"Unstable explosive","1.2","1.3","1.4","1.5","1.1","1.2","1.3","1.4","1.5","– except for explosives of division 1.4 (compatibility group S) in transport packaging."]
[]
["P372","Explosion risk.",null,null,null,null,null,null,null,null,null,null,null,null,null,null,null,null,null,null,null,null,null,null,null,"Self-reactive substances and mixtures (chapter 2.8)",null,null,null,null,null,null,null,null,null,null,null,null,null,null,null,null,null,null,null,null,null,null,null,null,null,null,null,null,null,null,null,null,"A"]
["P372","Explosion risk.",null,null,null,null,null,null,null,null,null,null,null,null,null,null,null,null,null,null,null,null,null,null,null,"Organic peroxides (chapter 2.15)",null,null,null,null,null,null,null,null,null,null,null,null,null,null,null,null,null,null,null,null,null,null,null,null,null,null,null,null,null,null,null,null,"A"]
["P373","DO NOT fight fire when fire reaches explosives.",null,null,null,null,null,null,null,null,null,null,null,null,null,null,null,null,null,null,null,null,null,null,null,"Explosives (chapter 2.1)",null,null,null,null,null,null,null,null,null,null,null,null,null,null,null,null,null,null,null,null,null,null,null,null,null,null,null,null,null,null,null,null,"Unstable explosive","1.1","1.2","1.3","1.4","1.5",null,null,null,null,"– except for explosives of division 1.4 (compatibility group S) in transport packaging."]
[]
["P373","DO NOT fight fire when fire reaches explosives.",null,null,null,null,null,null,null,null,null,null,null,null,null,null,null,null,null,null,null,null,null,null,null,"Self-reactive substances and mixtures (chapter 2.8)",null,null,null,null,null,null,null,null,null,null,null,null,null,null,null,null,null,null,null,null,null,null,null,null,null,null,null,null,null,null,null,null,"A"]
["P373","DO NOT fight fire when fire reaches explosives.",null,null,null,null,null,null,null,null,null,null,null,null,null,null,null,null,null,null,null,null,null,null,null,"Organic peroxides (chapter 2.15)",null,null,null,null,null,null,null,null,null,null,null,null,null,null,null,null,null,null,null,null,null,null,null,null,null,null,null,null,null,null,null,null,"A"]
["Code (1)","Response precautionary statements (2)",null,null,null,null,null,null,null,null,null,null,null,null,null,null,null,null,null,null,null,null,null,null,null,"Hazard class (3)",null,null,null,null,null,null,null,null,null,null,null,null,null,null,null,null,null,null,null,null,null,null,null,null,null,null,null,null,null,null,null,null,"Hazard category (4)",null,null,null,null,null,null,null,null,null,"Conditions for use (5)"]
["P375","Fight fire remotely due to the risk of explosion.",null,null,null,null,null,null,null,null,null,null,null,null,null,null,null,null,null,null,null,null,null,null,null,"Explosives (chapter 2.1)",null,null,null,null,null,null,null,null,null,null,null,null,null,null,null,null,null,null,null,null,null,null,null,null,null,null,null,null,null,null,null,null,"1.4",null,null,null,null,null,null,null,null,null,"– for explosives of division 1.4 (compatibility group S) in transport packaging."]
["P375","Fight fire remotely due to the risk of explosion.",null,null,null,null,null,null,null,null,null,null,null,null,null,null,null,null,null,null,null,null,null,null,null,"Self-reactive substances and mixtures (chapter 2.8)",null,null,null,null,null,null,null,null,null,null,null,null,null,null,null,null,null,null,null,null,null,null,null,null,null,null,null,null,null,null,null,null,"B"]
["P375","Fight fire remotely due to the risk of explosion.",null,null,null,null,null,null,null,null,null,null,null,null,null,null,null,null,null,null,null,null,null,null,null,"Oxidizing liquids (chapter 2.13)",null,null,null,null,null,null,null,null,null,null,null,null,null,null,null,null,null,null,null,null,null,null,null,null,null,null,null,null,null,null,null,null,1]
["P375","Fight fire remotely due to the risk of explosion.",null,null,null,null,null,null,null,null,null,null,null,null,null,null,null,null,null,null,null,null,null,null,null,"Oxidizing solids (chapter 2.14)",null,null,null,null,null,null,null,null,null,null,null,null,null,null,null,null,null,null,null,null,null,null,null,null,null,null,null,null,null,null,null,null,1]
["P375","Fight fire remotely due to the risk of explosion.",null,null,null,null,null,null,null,null,null,null,null,null,null,null,null,null,null,null,null,null,null,null,null,"Organic peroxides (chapter 2.15)",null,null,null,null,null,null,null,null,null,null,null,null,null,null,null,null,null,null,null,null,null,null,null,null,null,null,null,null,null,null,null,null,"B"]
["P375","Fight fire remotely due to the risk of explosion.",null,null,null,null,null,null,null,null,null,null,null,null,null,null,null,null,null,null,null,null,null,null,null,"Desensitized explosives (chapter 2.17)",null,null,null,null,null,null,null,null,null,null,null,null,null,null,null,null,null,null,null,null,null,null,null,null,null,null,null,null,null,null,null,null,1,2,3,4]
["P376","Stop leak if safe to do so.",null,null,null,null,null,null,null,null,null,null,null,null,null,null,null,null,null,null,null,null,null,null,null,"Oxidizing gases (chapter 2.4)",null,null,null,null,null,null,null,null,null,null,null,null,null,null,null,null,null,null,null,null,null,null,null,null,null,null,null,null,null,null,null,null,1]
["P377","Leaking gas fire: Do not extinguish, unless leak can be stopped safely.",null,null,null,null,null,null,null,null,null,null,null,null,null,null,null,null,null,null,null,null,null,null,null,"Flammable gases (chapter 2.2)",null,null,null,null,null,null,null,null,null,null,null,null,null,null,null,null,null,null,null,null,null,null,null,null,null,null,null,null,null,null,null,null,"1A","1B",2]
["P378","Use ... to extinguish.",null,null,null,null,null,null,null,null,null,null,null,null,null,null,null,null,null,null,null,null,null,null,null,"Flammable liquids (chapter 2.6)",null,null,null,null,null,null,null,null,null,null,null,null,null,null,null,null,null,null,null,null,null,null,null,null,null,null,null,null,null,null,null,null,1,2,3,4,null,null,null,null,null,null,"– if water increases risk. ... Manufacturer/supplier or the competent authority to specify appropriate media."]
["P378","Use ... to extinguish.",null,null,null,null,null,null,null,null,null,null,null,null,null,null,null,null,null,null,null,null,null,null,null,"Flammable solids (chapter 2.7)",null,null,null,null,null,null,null,null,null,null,null,null,null,null,null,null,null,null,null,null,null,null,null,null,null,null,null,null,null,null,null,null,1,2]
["P378","Use ... to extinguish.",null,null,null,null,null,null,null,null,null,null,null,null,null,null,null,null,null,null,null,null,null,null,null,"Self-reactive substances and mixtures (chapter 2.8)",null,null,null,null,null,null,null,null,null,null,null,null,null,null,null,null,null,null,null,null,null,null,null,null,null,null,null,null,null,null,null,null,"B","C","D","E","F"]
["P378","Use ... to extinguish.",null,null,null,null,null,null,null,null,null,null,null,null,null,null,null,null,null,null,null,null,null,null,null,"Pyrophoric liquids (chapter 2.9)",null,null,null,null,null,null,null,null,null,null,null,null,null,null,null,null,null,null,null,null,null,null,null,null,null,null,null,null,null,null,null,null,1]
["P378","Use ... to extinguish.",null,null,null,null,null,null,null,null,null,null,null,null,null,null,null,null,null,null,null,null,null,null,null,"Pyrophoric solids (chapter 2.10)",null,null,null,null,null,null,null,null,null,null,null,null,null,null,null,null,null,null,null,null,null,null,null,null,null,null,null,null,null,null,null,null,1]
["P378","Use ... to extinguish.",null,null,null,null,null,null,null,null,null,null,null,null,null,null,null,null,null,null,null,null,null,null,null,"Substances and mixtures which, in contact with water, emit flammable gases (chapter 2.12)",null,null,null,null,null,null,null,null,null,null,null,null,null,null,null,null,null,null,null,null,null,null,null,null,null,null,null,null,null,null,null,null,1,2,3]
["P378","Use ... to extinguish.",null,null,null,null,null,null,null,null,null,null,null,null,null,null,null,null,null,null,null,null,null,null,null,"Oxidizing liquids (chapter 2.13)",null,null,null,null,null,null,null,null,null,null,null,null,null,null,null,null,null,null,null,null,null,null,null,null,null,null,null,null,null,null,null,null,1,2,3]
["P378","Use ... to extinguish.",null,null,null,null,null,null,null,null,null,null,null,null,null,null,null,null,null,null,null,null,null,null,null,"Oxidizing solids (chapter 2.14)",null,null,null,null,null,null,null,null,null,null,null,null,null,null,null,null,null,null,null,null,null,null,null,null,null,null,null,null,null,null,null,null,1,2,3]
["P378","Use ... to extinguish.",null,null,null,null,null,null,null,null,null,null,null,null,null,null,null,null,null,null,null,null,null,null,null,"Organic peroxides (chapter 2.15)",null,null,null,null,null,null,null,null,null,null,null,null,null,null,null,null,null,null,null,null,null,null,null,null,null,null,null,null,null,null,null,null,"B","C","D","E","F"]
["P380","Evacuate area.",null,null,null,null,null,null,null,null,null,null,null,null,null,null,null,null,null,null,null,null,null,null,null,"Explosives (chapter 2.1)",null,null,null,null,null,null,null,null,null,null,null,null,null,null,null,null,null,null,null,null,null,null,null,null,null,null,null,null,null,null,null,null,"Unstable explosive","1.1","1.2","1.3","1.4","1.5"]
["P380","Evacuate area.",null,null,null,null,null,null,null,null,null,null,null,null,null,null,null,null,null,null,null,null,null,null,null,"Self-reactive substances and mixtures (chapter 2.8)",null,null,null,null,null,null,null,null,null,null,null,null,null,null,null,null,null,null,null,null,null,null,null,null,null,null,null,null,null,null,null,null,"A","B"]
["P380","Evacuate area.",null,null,null,null,null,null,null,null,null,null,null,null,null,null,null,null,null,null,null,null,null,null,null,"Oxidizing liquids (chapter 2.13)",null,null,null,null,null,null,null,null,null,null,null,null,null,null,null,null,null,null,null,null,null,null,null,null,null,null,null,null,null,null,null,null,1]
["P380","Evacuate area.",null,null,null,null,null,null,null,null,null,null,null,null,null,null,null,null,null,null,null,null,null,null,null,"Oxidizing solids (chapter 2.14)",null,null,null,null,null,null,null,null,null,null,null,null,null,null,null,null,null,null,null,null,null,null,null,null,null,null,null,null,null,null,null,null,1]
["P380","Evacuate area.",null,null,null,null,null,null,null,null,null,null,null,null,null,null,null,null,null,null,null,null,null,null,null,"Organic peroxides (chapter 2.15)",null,null,null,null,null,null,null,null,null,null,null,null,null,null,null,null,null,null,null,null,null,null,null,null,null,null,null,null,null,null,null,null,"A","B"]
["P380","Evacuate area.",null,null,null,null,null,null,null,null,null,null,null,null,null,null,null,null,null,null,null,null,null,null,null,"Desensitized explosives (chapter 2.17)",null,null,null,null,null,null,null,null,null,null,null,null,null,null,null,null,null,null,null,null,null,null,null,null,null,null,null,null,null,null,null,null,1,2,3,4]
["P381","In case of leakage, eliminate all ignition sources.",null,null,null,null,null,null,null,null,null,null,null,null,null,null,null,null,null,null,null,null,null,null,null,"Flammable gases (chapter 2.2)",null,null,null,null,null,null,null,null,null,null,null,null,null,null,null,null,null,null,null,null,null,null,null,null,null,null,null,null,null,null,null,null,"1A","1B",2]
[]
["P390","Absorb spillage to prevent material damage.",null,null,null,null,null,null,null,null,null,null,null,null,null,null,null,null,null,null,null,null,null,null,null,"Corrosive to metals (chapter 2.16)",null,null,null,null,null,null,null,null,null,null,null,null,null,null,null,null,null,null,null,null,null,null,null,null,null,null,null,null,null,null,null,null,1]
["P391","Collect spillage.",null,null,null,null,null,null,null,null,null,null,null,null,null,null,null,null,null,null,null,null,null,null,null,"Hazardous to the aquatic environment, acute hazard (chapter 4.1)",null,null,null,null,null,null,null,null,null,null,null,null,null,null,null,null,null,null,null,null,null,null,null,null,null,null,null,null,null,null,null,null,1]
["P391","Collect spillage.",null,null,null,null,null,null,null,null,null,null,null,null,null,null,null,null,null,null,null,null,null,null,null,"Hazardous to the aquatic environment, long-term hazard (chapter 4.1)",null,null,null,null,null,null,null,null,null,null,null,null,null,null,null,null,null,null,null,null,null,null,null,null,null,null,null,null,null,null,null,null,1,2]
["Code (1)","Response precautionary statements (2)",null,null,null,null,null,null,null,null,null,null,null,null,null,null,null,null,null,null,null,null,null,null,null,"Hazard class (3)",null,null,null,null,null,null,null,null,null,null,null,null,null,null,null,null,null,null,null,null,null,null,null,null,null,null,null,null,null,null,null,null,"Hazard category (4)",null,null,null,null,null,null,null,null,null,"Conditions for use (5)"]
["P301 + P310","IF SWALLOWED:  Immediately call a POISON CENTER/doctor/…",null,null,null,null,null,null,null,null,null,null,null,null,null,null,null,null,null,null,null,null,null,null,null,"Acute toxicity, oral (chapter 3.1)",null,null,null,null,null,null,null,null,null,null,null,null,null,null,null,null,null,null,null,null,null,null,null,null,null,null,null,null,null,null,null,null,1,2,3,null,null,null,null,null,null,null,"…Manufacturer/supplier or the competent authority to specify the appropriate source of emergency medical advice."]
["P301 + P310","IF SWALLOWED:  Immediately call a POISON CENTER/doctor/…",null,null,null,null,null,null,null,null,null,null,null,null,null,null,null,null,null,null,null,null,null,null,null,"Aspiration hazard (chapter 3.10)",null,null,null,null,null,null,null,null,null,null,null,null,null,null,null,null,null,null,null,null,null,null,null,null,null,null,null,null,null,null,null,null,1,2]
["P301 + P312","IF SWALLOWED:  Call a POISON CENTER/ doctor/…if you feel unwell.",null,null,null,null,null,null,null,null,null,null,null,null,null,null,null,null,null,null,null,null,null,null,null,"Acute toxicity, oral (chapter 3.1)",null,null,null,null,null,null,null,null,null,null,null,null,null,null,null,null,null,null,null,null,null,null,null,null,null,null,null,null,null,null,null,null,4,5,null,null,null,null,null,null,null,null,"…Manufacturer/supplier or the competent authority to specify the appropriate source of emergency medical advice."]
["P302 + P334","IF ON SKIN:  Immerse in cool water or wrap in wet bandages.",null,null,null,null,null,null,null,null,null,null,null,null,null,null,null,null,null,null,null,null,null,null,null,"Pyrophoric liquids (chapter 2.9)",null,null,null,null,null,null,null,null,null,null,null,null,null,null,null,null,null,null,null,null,null,null,null,null,null,null,null,null,null,null,null,null,1]
["P302 + P352","IF ON SKIN:  Wash with plenty of water/...",null,null,null,null,null,null,null,null,null,null,null,null,null,null,null,null,null,null,null,null,null,null,null,"Acute toxicity, dermal (chapter 3.1)",null,null,null,null,null,null,null,null,null,null,null,null,null,null,null,null,null,null,null,null,null,null,null,null,null,null,null,null,null,null,null,null,1,2,3,4,5,null,null,null,null,null,"…Manufacturer/supplier or the competent authority may specify a cleansing agent if appropriate, or may recommend an alternative agent in exceptional cases if water is clearly inappropriate."]
["P302 + P352","IF ON SKIN:  Wash with plenty of water/...",null,null,null,null,null,null,null,null,null,null,null,null,null,null,null,null,null,null,null,null,null,null,null,"Skin irritation (chapter 3.2)",null,null,null,null,null,null,null,null,null,null,null,null,null,null,null,null,null,null,null,null,null,null,null,null,null,null,null,null,null,null,null,null,2]
["P302 + P352","IF ON SKIN:  Wash with plenty of water/...",null,null,null,null,null,null,null,null,null,null,null,null,null,null,null,null,null,null,null,null,null,null,null,"Skin sensitization (chapter 3.4)",null,null,null,null,null,null,null,null,null,null,null,null,null,null,null,null,null,null,null,null,null,null,null,null,null,null,null,null,null,null,null,null,1,"1A","1B"]
["P304 + P312","IF INHALED:  Call a POISON CENTER/doctor/…if you feel unwell.",null,null,null,null,null,null,null,null,null,null,null,null,null,null,null,null,null,null,null,null,null,null,null,"Acute toxicity, inhalation (chapter 3.1)",null,null,null,null,null,null,null,null,null,null,null,null,null,null,null,null,null,null,null,null,null,null,null,null,null,null,null,null,null,null,null,null,5,null,null,null,null,null,null,null,null,null,"…Manufacturer/supplier or the competent authority to specify the appropriate source of emergency medical advice."]
["P304 + P340","IF INHALED:  Remove person to fresh air and keep comfortable for breathing.",null,null,null,null,null,null,null,null,null,null,null,null,null,null,null,null,null,null,null,null,null,null,null,"Acute toxicity, inhalation (chapter 3.1)",null,null,null,null,null,null,null,null,null,null,null,null,null,null,null,null,null,null,null,null,null,null,null,null,null,null,null,null,null,null,null,null,1,2,3,4]
["P304 + P340","IF INHALED:  Remove person to fresh air and keep comfortable for breathing.",null,null,null,null,null,null,null,null,null,null,null,null,null,null,null,null,null,null,null,null,null,null,null,"Skin corrosion (chapter 3.2)",null,null,null,null,null,null,null,null,null,null,null,null,null,null,null,null,null,null,null,null,null,null,null,null,null,null,null,null,null,null,null,null,"1A","1B","1C"]
["P304 + P340","IF INHALED:  Remove person to fresh air and keep comfortable for breathing.",null,null,null,null,null,null,null,null,null,null,null,null,null,null,null,null,null,null,null,null,null,null,null,"Respiratory sensitization (chapter 3.4)",null,null,null,null,null,null,null,null,null,null,null,null,null,null,null,null,null,null,null,null,null,null,null,null,null,null,null,null,null,null,null,null,1,"1A","1B"]
["P304 + P340","IF INHALED:  Remove person to fresh air and keep comfortable for breathing.",null,null,null,null,null,null,null,null,null,null,null,null,null,null,null,null,null,null,null,null,null,null,null,"Specific target organ toxicity, single exposure; respiratory tract irritation (chapter 3.8)",null,null,null,null,null,null,null,null,null,null,null,null,null,null,null,null,null,null,null,null,null,null,null,null,null,null,null,null,null,null,null,null,3]
["P304 + P340","IF INHALED:  Remove person to fresh air and keep comfortable for breathing.",null,null,null,null,null,null,null,null,null,null,null,null,null,null,null,null,null,null,null,null,null,null,null,"Specific target organ toxicity, single exposure; narcotic effects (chapter 3.8)",null,null,null,null,null,null,null,null,null,null,null,null,null,null,null,null,null,null,null,null,null,null,null,null,null,null,null,null,null,null,null,null,3]
["P306 + P360","IF ON CLOTHING:  Rinse immediately contaminated clothing and skin with plenty of water before removing clothes.",null,null,null,null,null,null,null,null,null,null,null,null,null,null,null,null,null,null,null,null,null,null,null,"Oxidizing liquids (chapter 2.13)",null,null,null,null,null,null,null,null,null,null,null,null,null,null,null,null,null,null,null,null,null,null,null,null,null,null,null,null,null,null,null,null,1]
["P306 + P360","IF ON CLOTHING:  Rinse immediately contaminated clothing and skin with plenty of water before removing clothes.",null,null,null,null,null,null,null,null,null,null,null,null,null,null,null,null,null,null,null,null,null,null,null,"Oxidizing solids (chapter 2.14)",null,null,null,null,null,null,null,null,null,null,null,null,null,null,null,null,null,null,null,null,null,null,null,null,null,null,null,null,null,null,null,null,1]
["P308 + P311","IF exposed or concerned:  Call a POISON CENTER/doctor/...",null,null,null,null,null,null,null,null,null,null,null,null,null,null,null,null,null,null,null,null,null,null,null,"Specific target organ toxicity, single exposure (chapter 3.8)",null,null,null,null,null,null,null,null,null,null,null,null,null,null,null,null,null,null,null,null,null,null,null,null,null,null,null,null,null,null,null,null,1,2,null,null,null,null,null,null,null,null,"…Manufacturer/supplier or the competent authority to specify the appropriate source of emergency medical advice."]
["P308 + P313","IF exposed or concerned:  Get medical advice/ attention.",null,null,null,null,null,null,null,null,null,null,null,null,null,null,null,null,null,null,null,null,null,null,null,"Germ cell mutagenicity (chapter 3.5)",null,null,null,null,null,null,null,null,null,null,null,null,null,null,null,null,null,null,null,null,null,null,null,null,null,null,null,null,null,null,null,null,"1A","1B",2,null,null,null,null,null,null,null,"Manufacturer/supplier or the competent authority to select medical advice or attention as appropriate."]
["P308 + P313","IF exposed or concerned:  Get medical advice/ attention.",null,null,null,null,null,null,null,null,null,null,null,null,null,null,null,null,null,null,null,null,null,null,null,"Carcinogenicity (chapter 3.6)",null,null,null,null,null,null,null,null,null,null,null,null,null,null,null,null,null,null,null,null,null,null,null,null,null,null,null,null,null,null,null,null,"1A","1B",2]
["P308 + P313","IF exposed or concerned:  Get medical advice/ attention.",null,null,null,null,null,null,null,null,null,null,null,null,null,null,null,null,null,null,null,null,null,null,null,"Reproductive toxicity (chapter 3.7)",null,null,null,null,null,null,null,null,null,null,null,null,null,null,null,null,null,null,null,null,null,null,null,null,null,null,null,null,null,null,null,null,"1A","1B",2]
["P308 + P313","IF exposed or concerned:  Get medical advice/ attention.",null,null,null,null,null,null,null,null,null,null,null,null,null,null,null,null,null,null,null,null,null,null,null,"Reproductive toxicity, effects on or via lactation (chapter 3.7)",null,null,null,null,null,null,null,null,null,null,null,null,null,null,null,null,null,null,null,null,null,null,null,null,null,null,null,null,null,null,null,null,"Additional category"]
["P332 + P313","If skin irritation occurs:  Get medical advice/attention.",null,null,null,null,null,null,null,null,null,null,null,null,null,null,null,null,null,null,null,null,null,null,null,"Skin irritation (chapter 3.2)",null,null,null,null,null,null,null,null,null,null,null,null,null,null,null,null,null,null,null,null,null,null,null,null,null,null,null,null,null,null,null,null,2,3,null,null,null,null,null,null,null,null,"– may be omitted when P333+P313 is given on the label. Manufacturer/supplier or the competent authority to select medical advice or attention as appropriate."]
["Code (1)","Response precautionary statements (2)",null,null,null,null,null,null,null,null,null,null,null,null,null,null,null,null,null,null,null,null,null,null,null,"Hazard class (3)",null,null,null,null,null,null,null,null,null,null,null,null,null,null,null,null,null,null,null,null,null,null,null,null,null,null,null,null,null,null,null,null,"Hazard category (4)",null,null,null,null,null,null,null,null,null,"Conditions for use (5)"]
["P333 + P313","If skin irritation or rash occurs:  Get medical advice/attention.",null,null,null,null,null,null,null,null,null,null,null,null,null,null,null,null,null,null,null,null,null,null,null,"Skin sensitization (chapter 3.4)",null,null,null,null,null,null,null,null,null,null,null,null,null,null,null,null,null,null,null,null,null,null,null,null,null,null,null,null,null,null,null,null,1,"1A","1B",null,null,null,null,null,null,null,"Manufacturer/supplier or the competent authority to select medical advice or attention as appropriate."]
["P336 + P315","Thaw frosted parts with lukewarm water.  Do not rub affected area.  Get immediate medical advice/attention",null,null,null,null,null,null,null,null,null,null,null,null,null,null,null,null,null,null,null,null,null,null,null,"Gases under pressure (chapter 2.5)",null,null,null,null,null,null,null,null,null,null,null,null,null,null,null,null,null,null,null,null,null,null,null,null,null,null,null,null,null,null,null,null,"Refrigerated liquefied gas",null,null,null,null,null,null,null,null,null,"Manufacturer/supplier or the competent authority to select medical advice or attention as appropriate."]
["P337 + P313","If eye irritation persists:  Get medical advice/attention.",null,null,null,null,null,null,null,null,null,null,null,null,null,null,null,null,null,null,null,null,null,null,null,"Eye irritation (chapter 3.3)",null,null,null,null,null,null,null,null,null,null,null,null,null,null,null,null,null,null,null,null,null,null,null,null,null,null,null,null,null,null,null,null,"2A","2B",null,null,null,null,null,null,null,null,"Manufacturer/supplier or the competent authority to select medical advice or attention as appropriate."]
["P342 + P311","If experiencing respiratory symptoms:  Call a POISON CENTER/doctor/...",null,null,null,null,null,null,null,null,null,null,null,null,null,null,null,null,null,null,null,null,null,null,null,"Respiratory sensitization (chapter 3.4)",null,null,null,null,null,null,null,null,null,null,null,null,null,null,null,null,null,null,null,null,null,null,null,null,null,null,null,null,null,null,null,null,1,"1A","1B",null,null,null,null,null,null,null,"…Manufacturer/supplier or the competent authority to specify the appropriate source of emergency medical advice."]
["P361 + P364","Take off immediately all contaminated clothing and wash it before reuse.",null,null,null,null,null,null,null,null,null,null,null,null,null,null,null,null,null,null,null,null,null,null,null,"Acute toxicity, dermal (chapter 3.1)",null,null,null,null,null,null,null,null,null,null,null,null,null,null,null,null,null,null,null,null,null,null,null,null,null,null,null,null,null,null,null,null,1,2,3]
["P362 + P364","Take off contaminated clothing and wash it before reuse.",null,null,null,null,null,null,null,null,null,null,null,null,null,null,null,null,null,null,null,null,null,null,null,"Acute toxicity, dermal (chapter 3.1)",null,null,null,null,null,null,null,null,null,null,null,null,null,null,null,null,null,null,null,null,null,null,null,null,null,null,null,null,null,null,null,null,4]
["P362 + P364","Take off contaminated clothing and wash it before reuse.",null,null,null,null,null,null,null,null,null,null,null,null,null,null,null,null,null,null,null,null,null,null,null,"Skin irritation (chapter 3.2)",null,null,null,null,null,null,null,null,null,null,null,null,null,null,null,null,null,null,null,null,null,null,null,null,null,null,null,null,null,null,null,null,2]
["P362 + P364","Take off contaminated clothing and wash it before reuse.",null,null,null,null,null,null,null,null,null,null,null,null,null,null,null,null,null,null,null,null,null,null,null,"Skin sensitization (chapter 3.4)",null,null,null,null,null,null,null,null,null,null,null,null,null,null,null,null,null,null,null,null,null,null,null,null,null,null,null,null,null,null,null,null,1,"1A","1B"]
["P370 + P376","In case of fire:  Stop leak if safe to do so.",null,null,null,null,null,null,null,null,null,null,null,null,null,null,null,null,null,null,null,null,null,null,null,"Oxidizing gases (chapter 2.4)",null,null,null,null,null,null,null,null,null,null,null,null,null,null,null,null,null,null,null,null,null,null,null,null,null,null,null,null,null,null,null,null,1]
["P370 + P378","In case of fire:  Use ... to extinguish.",null,null,null,null,null,null,null,null,null,null,null,null,null,null,null,null,null,null,null,null,null,null,null,"Flammable liquids (chapter 2.6)",null,null,null,null,null,null,null,null,null,null,null,null,null,null,null,null,null,null,null,null,null,null,null,null,null,null,null,null,null,null,null,null,1,2,3,4,null,null,null,null,null,null,"– if water increases risk. ... Manufacturer/supplier or the competent authority to specify appropriate media."]
["P370 + P378","In case of fire:  Use ... to extinguish.",null,null,null,null,null,null,null,null,null,null,null,null,null,null,null,null,null,null,null,null,null,null,null,"Flammable solids (chapter 2.7)",null,null,null,null,null,null,null,null,null,null,null,null,null,null,null,null,null,null,null,null,null,null,null,null,null,null,null,null,null,null,null,null,1,2]
["P370 + P378","In case of fire:  Use ... to extinguish.",null,null,null,null,null,null,null,null,null,null,null,null,null,null,null,null,null,null,null,null,null,null,null,"Self-reactive substances and mixtures (chapter 2.8)",null,null,null,null,null,null,null,null,null,null,null,null,null,null,null,null,null,null,null,null,null,null,null,null,null,null,null,null,null,null,null,null,"C","D","E","F"]
["P370 + P378","In case of fire:  Use ... to extinguish.",null,null,null,null,null,null,null,null,null,null,null,null,null,null,null,null,null,null,null,null,null,null,null,"Pyrophoric liquids (chapter 2.9)",null,null,null,null,null,null,null,null,null,null,null,null,null,null,null,null,null,null,null,null,null,null,null,null,null,null,null,null,null,null,null,null,1]
["P370 + P378","In case of fire:  Use ... to extinguish.",null,null,null,null,null,null,null,null,null,null,null,null,null,null,null,null,null,null,null,null,null,null,null,"Pyrophoric solids (chapter 2.10)",null,null,null,null,null,null,null,null,null,null,null,null,null,null,null,null,null,null,null,null,null,null,null,null,null,null,null,null,null,null,null,null,1]
["P370 + P378","In case of fire:  Use ... to extinguish.",null,null,null,null,null,null,null,null,null,null,null,null,null,null,null,null,null,null,null,null,null,null,null,"Substances and mixtures which, in contact with water, emit flammable gases (chapter 2.12)",null,null,null,null,null,null,null,null,null,null,null,null,null,null,null,null,null,null,null,null,null,null,null,null,null,null,null,null,null,null,null,null,1,2,3]
["P370 + P378","In case of fire:  Use ... to extinguish.",null,null,null,null,null,null,null,null,null,null,null,null,null,null,null,null,null,null,null,null,null,null,null,"Oxidizing liquids (chapter 2.13)",null,null,null,null,null,null,null,null,null,null,null,null,null,null,null,null,null,null,null,null,null,null,null,null,null,null,null,null,null,null,null,null,1,2,3]
["P370 + P378","In case of fire:  Use ... to extinguish.",null,null,null,null,null,null,null,null,null,null,null,null,null,null,null,null,null,null,null,null,null,null,null,"Oxidizing solids (chapter 2.14)",null,null,null,null,null,null,null,null,null,null,null,null,null,null,null,null,null,null,null,null,null,null,null,null,null,null,null,null,null,null,null,null,1,2,3]
["P370 + P378","In case of fire:  Use ... to extinguish.",null,null,null,null,null,null,null,null,null,null,null,null,null,null,null,null,null,null,null,null,null,null,null,"Organic peroxides (chapter 2.15)",null,null,null,null,null,null,null,null,null,null,null,null,null,null,null,null,null,null,null,null,null,null,null,null,null,null,null,null,null,null,null,null,"C","D","E","F"]
[]
["P301 + P330 + P331","IF SWALLOWED:  Rinse mouth.  Do NOT induce vomiting.",null,null,null,null,null,null,null,null,null,null,null,null,null,null,null,null,null,null,null,null,null,null,null,"Skin corrosion (chapter 3.2)",null,null,null,null,null,null,null,null,null,null,null,null,null,null,null,null,null,null,null,null,null,null,null,null,null,null,null,null,null,null,null,null,"1A","1B","1C"]
["P302 + P335 + P334","IF ON SKIN: Brush off loose particles from skin. Immerse in cool water [or wrap in wet bandages].",null,null,null,null,null,null,null,null,null,null,null,null,null,null,null,null,null,null,null,null,null,null,null,"Pyrophoric solids (chapter 2.10)",null,null,null,null,null,null,null,null,null,null,null,null,null,null,null,null,null,null,null,null,null,null,null,null,null,null,null,null,null,null,null,null,1,null,null,null,null,null,null,null,null,null,"– text in square brackets to be used for pyrophoric solids"]
["P302 + P335 + P334","IF ON SKIN: Brush off loose particles from skin. Immerse in cool water [or wrap in wet bandages].",null,null,null,null,null,null,null,null,null,null,null,null,null,null,null,null,null,null,null,null,null,null,null,"Substances and mixtures which, in contact with water, emit flammable gases (chapter 2.12)",null,null,null,null,null,null,null,null,null,null,null,null,null,null,null,null,null,null,null,null,null,null,null,null,null,null,null,null,null,null,null,null,1,2,null,null,null,null,null,null,null,null,"– use only “Immerse in cool water.” Text in square brackets should not be used."]
[]
["P303 + P361 + P353","IF ON SKIN (or hair):  Take off immediately all contaminated clothing.  Rinse skin with water [or shower].",null,null,null,null,null,null,null,null,null,null,null,null,null,null,null,null,null,null,null,null,null,null,null,"Flammable liquids (chapter 2.6)",null,null,null,null,null,null,null,null,null,null,null,null,null,null,null,null,null,null,null,null,null,null,null,null,null,null,null,null,null,null,null,null,1,2,3,null,null,null,null,null,null,null,"– text in square brackets to be included where"]
["P303 + P361 + P353","IF ON SKIN (or hair):  Take off immediately all contaminated clothing.  Rinse skin with water [or shower].",null,null,null,null,null,null,null,null,null,null,null,null,null,null,null,null,null,null,null,null,null,null,null,"Skin corrosion (chapter 3.2)",null,null,null,null,null,null,null,null,null,null,null,null,null,null,null,null,null,null,null,null,null,null,null,null,null,null,null,null,null,null,null,null,"1A","1B","1C",null,null,null,null,null,null,null,"the manufacturer/supplier or the competent"]
[]
[null,null,null,null,null,null,null,null,null,null,null,null,null,null,null,null,null,null,null,null,null,null,null,null,null,null,null,null,null,null,null,null,null,null,null,null,null,null,null,null,null,null,null,null,null,null,null,null,null,null,null,null,null,null,null,null,null,null,null,null,null,null,null,null,null,null,null,null,"authority considers it appropriate for the"]
[null,null,null,null,null,null,null,null,null,null,null,null,null,null,null,null,null,null,null,null,null,null,null,null,null,null,null,null,null,null,null,null,null,null,null,null,null,null,null,null,null,null,null,null,null,null,null,null,null,null,null,null,null,null,null,null,null,null,null,null,null,null,null,null,null,null,null,null,"specific chemical."]
[]
["P305 +P351 + P338","IF IN EYES:  Rinse cautiously with water for several minutes.  Remove contact lenses, if present and easy to do.  Continue rinsing.",null,null,null,null,null,null,null,null,null,null,null,null,null,null,null,null,null,null,null,null,null,null,null,"Skin corrosion (chapter 3.2)",null,null,null,null,null,null,null,null,null,null,null,null,null,null,null,null,null,null,null,null,null,null,null,null,null,null,null,null,null,null,null,null,"1A","1B","1C"]
["P305 +P351","IF IN EYES:  Rinse cautiously with water for several minutes.  Remove contact lenses, if present and easy to do.  Continue rinsing.",null,null,null,null,null,null,null,null,null,null,null,null,null,null,null,null,null,null,null,null,null,null,null,"Serious eye damage (chapter 3.3)",null,null,null,null,null,null,null,null,null,null,null,null,null,null,null,null,null,null,null,null,null,null,null,null,null,null,null,null,null,null,null,null,1]
[]
[]
["P305 +P351 + P338","IF IN EYES:  Rinse cautiously with water for several minutes.  Remove contact lenses, if present and easy to do.  Continue rinsing.",null,null,null,null,null,null,null,null,null,null,null,null,null,null,null,null,null,null,null,null,null,null,null,"Eye irritation (chapter 3.3)",null,null,null,null,null,null,null,null,null,null,null,null,null,null,null,null,null,null,null,null,null,null,null,null,null,null,null,null,null,null,null,null,"2A","2B"]
[]
[]
["P370 +P380 + P375","In case of fire:  Evacuate area.  Fight fire remotely due to the risk of explosion.",null,null,null,null,null,null,null,null,null,null,null,null,null,null,null,null,null,null,null,null,null,null,null,"Explosives (chapter 2.1)",null,null,null,null,null,null,null,null,null,null,null,null,null,null,null,null,null,null,null,null,null,null,null,null,null,null,null,null,null,null,null,null,"1.4",null,null,null,null,null,null,null,null,null,"– for explosives of division 1.4 (compatibility"]
[null,null,null,null,null,null,null,null,null,null,null,null,null,null,null,null,null,null,null,null,null,null,null,null,null,null,null,null,null,null,null,null,null,null,null,null,null,null,null,null,null,null,null,null,null,null,null,null,null,null,null,null,null,null,null,null,null,null,null,null,null,null,null,null,null,null,null,null,"group S) in transport packaging"]
["P370 +P380 + P375","In case of fire:  Evacuate area.  Fight fire remotely due to the risk of explosion.",null,null,null,null,null,null,null,null,null,null,null,null,null,null,null,null,null,null,null,null,null,null,null,"Desensitized explosives (chapter 2.17)",null,null,null,null,null,null,null,null,null,null,null,null,null,null,null,null,null,null,null,null,null,null,null,null,null,null,null,null,null,null,null,null,1,2,3]
[]
[]
[]
["P371 +P380 + P375","In case of major fire and large quantities:  Evacuate area.  Fight fire remotely due to the risk of explosion.",null,null,null,null,null,null,null,null,null,null,null,null,null,null,null,null,null,null,null,null,null,null,null,"Oxidizing liquids (chapter 2.13)",null,null,null,null,null,null,null,null,null,null,null,null,null,null,null,null,null,null,null,null,null,null,null,null,null,null,null,null,null,null,null,null,1]
["P371 +P380 + P375","In case of major fire and large quantities:  Evacuate area.  Fight fire remotely due to the risk of explosion.",null,null,null,null,null,null,null,null,null,null,null,null,null,null,null,null,null,null,null,null,null,null,null,"Oxidizing solids (chapter 2.14)",null,null,null,null,null,null,null,null,null,null,null,null,null,null,null,null,null,null,null,null,null,null,null,null,null,null,null,null,null,null,null,null,1]
[]
[]
["P371 +P380 + P375","In case of major fire and large quantities:  Evacuate area.  Fight fire remotely due to the risk of explosion.",null,null,null,null,null,null,null,null,null,null,null,null,null,null,null,null,null,null,null,null,null,null,null,"Desensitized explosives (chapter 2.17)",null,null,null,null,null,null,null,null,null,null,null,null,null,null,null,null,null,null,null,null,null,null,null,null,null,null,null,null,null,null,null,null,4]
[]
[]
[]
["P370 + P372 + P380 + P373","In case of fire:  Explosion risk. Evacuate area. DO NOT fight fire when fire reaches explosives.",null,null,null,null,null,null,null,null,null,null,null,null,null,null,null,null,null,null,null,null,null,null,null,"Explosives (chapter 2.1)",null,null,null,null,null,null,null,null,null,null,null,null,null,null,null,null,null,null,null,null,null,null,null,null,null,null,null,null,null,null,null,null,"Unstable explosive","1.1","1.2","1.3","1.4","1.5",null,null,null,null,"– except for explosives of division 1.4 (compatibility group S) in transport packaging."]
[]
[]
[]
[]
[]
[]
["P370 + P372 + P380 + P373","In case of fire:  Explosion risk. Evacuate area. DO NOT fight fire when fire reaches explosives.",null,null,null,null,null,null,null,null,null,null,null,null,null,null,null,null,null,null,null,null,null,null,null,"Self-reactive substances and mixtures (chapter 2.8)",null,null,null,null,null,null,null,null,null,null,null,null,null,null,null,null,null,null,null,null,null,null,null,null,null,null,null,null,null,null,null,null,"A"]
[]
["P370 + P372 + P380 + P373","In case of fire:  Explosion risk. Evacuate area. DO NOT fight fire when fire reaches explosives.",null,null,null,null,null,null,null,null,null,null,null,null,null,null,null,null,null,null,null,null,null,null,null,"Organic peroxides (chapter 2.15)",null,null,null,null,null,null,null,null,null,null,null,null,null,null,null,null,null,null,null,null,null,null,null,null,null,null,null,null,null,null,null,null,"A"]
["P370 + P380 + P375 + [P378]","In case of fire:  Evacuate area.  Fight fire remotely",null,null,null,null,null,null,null,null,null,null,null,null,null,null,null,null,null,null,null,null,null,null,null,"Self-reactive substances and mixtures (chapter 2.8)",null,null,null,null,null,null,null,null,null,null,null,null,null,null,null,null,null,null,null,null,null,null,null,null,null,null,null,null,null,null,null,null,"B",null,null,null,null,null,null,null,null,null,"– text in square brackets to be used if water"]
["P370 + P380 + P375 + [P378]","due to the risk of explosion. [Use…to extinguish].",null,null,null,null,null,null,null,null,null,null,null,null,null,null,null,null,null,null,null,null,null,null,null,"Organic peroxides (chapter 2.15)",null,null,null,null,null,null,null,null,null,null,null,null,null,null,null,null,null,null,null,null,null,null,null,null,null,null,null,null,null,null,null,null,"B",null,null,null,null,null,null,null,null,null,"increases risk."]
[]
["P370 + P380 + P375 + [P378]","due to the risk of explosion. [Use…to extinguish].",null,null,null,null,null,null,null,null,null,null,null,null,null,null,null,null,null,null,null,null,null,null,null,"Organic peroxides (chapter 2.15)",null,null,null,null,null,null,null,null,null,null,null,null,null,null,null,null,null,null,null,null,null,null,null,null,null,null,null,null,null,null,null,null,null,null,null,null,null,null,null,null,null,null,"… Manufacturer/supplier or the competent authority to specify appropriate media."]
[]
[]
["Table A3.2.4:  Codification of storage precautionary statements"]
["Code (1)","Storage precautionary statements (2)",null,null,null,null,null,null,null,null,null,null,null,null,null,null,null,null,null,null,null,null,null,null,null,"Hazard class (3)",null,null,null,null,null,null,null,null,null,null,null,null,null,null,null,null,null,null,null,null,null,null,null,null,null,null,null,null,null,null,null,null,"Hazard category (4)",null,null,null,null,null,null,null,null,null,null,null,null,"Conditions for use (5)"]
["P401","Store in accordance with…",null,null,null,null,null,null,null,null,null,null,null,null,null,null,null,null,null,null,null,null,null,null,null,"Explosives (chapter 2.1)",null,null,null,null,null,null,null,null,null,null,null,null,null,null,null,null,null,null,null,null,null,null,null,null,null,null,null,null,null,null,null,null,"Unstable explosive","1.1","1.2","1.3","1.4","1.5",null,null,null,null,null,null,null,"... Manufacturer/supplier or the competent authority to specify local/regional/ national/international regulations as applicable."]
["P401","Store in accordance with…",null,null,null,null,null,null,null,null,null,null,null,null,null,null,null,null,null,null,null,null,null,null,null,"Desensitized explosives (chapter 2.17)",null,null,null,null,null,null,null,null,null,null,null,null,null,null,null,null,null,null,null,null,null,null,null,null,null,null,null,null,null,null,null,null,1,2,3,4]
["P402","Store in a dry place.",null,null,null,null,null,null,null,null,null,null,null,null,null,null,null,null,null,null,null,null,null,null,null,"Substances and mixtures which, in contact with water, emit flammable gases (chapter 2.12)",null,null,null,null,null,null,null,null,null,null,null,null,null,null,null,null,null,null,null,null,null,null,null,null,null,null,null,null,null,null,null,null,1,2,3]
["P403","Store in a well-ventilated place.",null,null,null,null,null,null,null,null,null,null,null,null,null,null,null,null,null,null,null,null,null,null,null,"Flammable gases (chapter 2.2)",null,null,null,null,null,null,null,null,null,null,null,null,null,null,null,null,null,null,null,null,null,null,null,null,null,null,null,null,null,null,null,null,"1A","1B",2]
["P403","Store in a well-ventilated place.",null,null,null,null,null,null,null,null,null,null,null,null,null,null,null,null,null,null,null,null,null,null,null,"Oxidizing gases (chapter 2.4)",null,null,null,null,null,null,null,null,null,null,null,null,null,null,null,null,null,null,null,null,null,null,null,null,null,null,null,null,null,null,null,null,1]
["P403","Store in a well-ventilated place.",null,null,null,null,null,null,null,null,null,null,null,null,null,null,null,null,null,null,null,null,null,null,null,"Gases under pressure (chapter 2.5)",null,null,null,null,null,null,null,null,null,null,null,null,null,null,null,null,null,null,null,null,null,null,null,null,null,null,null,null,null,null,null,null,"Compressed gas"]
["P403","Store in a well-ventilated place.",null,null,null,null,null,null,null,null,null,null,null,null,null,null,null,null,null,null,null,null,null,null,null,"Gases under pressure (chapter 2.5)",null,null,null,null,null,null,null,null,null,null,null,null,null,null,null,null,null,null,null,null,null,null,null,null,null,null,null,null,null,null,null,null,"Liquefied gas"]
["P403","Store in a well-ventilated place.",null,null,null,null,null,null,null,null,null,null,null,null,null,null,null,null,null,null,null,null,null,null,null,"Gases under pressure (chapter 2.5)",null,null,null,null,null,null,null,null,null,null,null,null,null,null,null,null,null,null,null,null,null,null,null,null,null,null,null,null,null,null,null,null,"Refrigerated liquefied gas"]
["P403","Store in a well-ventilated place.",null,null,null,null,null,null,null,null,null,null,null,null,null,null,null,null,null,null,null,null,null,null,null,"Gases under pressure (chapter 2.5)",null,null,null,null,null,null,null,null,null,null,null,null,null,null,null,null,null,null,null,null,null,null,null,null,null,null,null,null,null,null,null,null,"Dissolved gas"]
["P403","Store in a well-ventilated place.",null,null,null,null,null,null,null,null,null,null,null,null,null,null,null,null,null,null,null,null,null,null,null,"Flammable liquids (chapter 2.6)",null,null,null,null,null,null,null,null,null,null,null,null,null,null,null,null,null,null,null,null,null,null,null,null,null,null,null,null,null,null,null,null,1,2,3,4,null,null,null,null,null,null,null,null,null,"– for flammable liquids Category 1 and other flammable liquids that are volatile and may generate an explosive atmosphere."]
["P403","Store in a well-ventilated place.",null,null,null,null,null,null,null,null,null,null,null,null,null,null,null,null,null,null,null,null,null,null,null,"Self-reactive substances and mixtures (chapter 2.8)",null,null,null,null,null,null,null,null,null,null,null,null,null,null,null,null,null,null,null,null,null,null,null,null,null,null,null,null,null,null,null,null,"A","B","C","D","E","F",null,null,null,null,null,null,null,"– except for temperature controlled self- reactive substances and mixtures or organic peroxides because condensation and consequent freezing may take place."]
["P403","Store in a well-ventilated place.",null,null,null,null,null,null,null,null,null,null,null,null,null,null,null,null,null,null,null,null,null,null,null,"Organic peroxides (chapter 2.15)",null,null,null,null,null,null,null,null,null,null,null,null,null,null,null,null,null,null,null,null,null,null,null,null,null,null,null,null,null,null,null,null,"A","B","C","D","E","F"]
["P403","Store in a well-ventilated place.",null,null,null,null,null,null,null,null,null,null,null,null,null,null,null,null,null,null,null,null,null,null,null,"Acute toxicity, inhalation (chapter 3.1)",null,null,null,null,null,null,null,null,null,null,null,null,null,null,null,null,null,null,null,null,null,null,null,null,null,null,null,null,null,null,null,null,1,2,3,null,null,null,null,null,null,null,null,null,null,"– if the chemical is volatile and may generate a hazardous atmosphere."]
["P403","Store in a well-ventilated place.",null,null,null,null,null,null,null,null,null,null,null,null,null,null,null,null,null,null,null,null,null,null,null,"Specific target organ toxicity, single exposure; respiratory tract irritation (chapter 3.8)",null,null,null,null,null,null,null,null,null,null,null,null,null,null,null,null,null,null,null,null,null,null,null,null,null,null,null,null,null,null,null,null,3]
["P403","Store in a well-ventilated place.",null,null,null,null,null,null,null,null,null,null,null,null,null,null,null,null,null,null,null,null,null,null,null,"Specific target organ toxicity, single exposure; narcotic effects (chapter 3.8)",null,null,null,null,null,null,null,null,null,null,null,null,null,null,null,null,null,null,null,null,null,null,null,null,null,null,null,null,null,null,null,null,3]
["P404","Store in a closed container.",null,null,null,null,null,null,null,null,null,null,null,null,null,null,null,null,null,null,null,null,null,null,null,"Substances and mixtures which, in contact with water, emit flammable gases (chapter 2.12)",null,null,null,null,null,null,null,null,null,null,null,null,null,null,null,null,null,null,null,null,null,null,null,null,null,null,null,null,null,null,null,null,1,2,3]
["Code (1)","Storage precautionary statements (2)",null,null,null,null,null,null,null,null,null,null,null,null,null,null,null,null,null,null,null,null,null,null,null,"Hazard class (3)",null,null,null,null,null,null,null,null,null,null,null,null,null,null,null,null,null,null,null,null,null,null,null,null,null,null,null,null,null,null,null,null,"Hazard category (4)",null,null,null,null,null,null,null,null,null,null,null,null,"Conditions for use (5)"]
["P405","Store locked up.",null,null,null,null,null,null,null,null,null,null,null,null,null,null,null,null,null,null,null,null,null,null,null,"Acute toxicity, oral (chapter 3.1)",null,null,null,null,null,null,null,null,null,null,null,null,null,null,null,null,null,null,null,null,null,null,null,null,null,null,null,null,null,null,null,null,1,2,3]
["P405","Store locked up.",null,null,null,null,null,null,null,null,null,null,null,null,null,null,null,null,null,null,null,null,null,null,null,"Acute toxicity, dermal (chapter 3.1)",null,null,null,null,null,null,null,null,null,null,null,null,null,null,null,null,null,null,null,null,null,null,null,null,null,null,null,null,null,null,null,null,1,2,3]
["P405","Store locked up.",null,null,null,null,null,null,null,null,null,null,null,null,null,null,null,null,null,null,null,null,null,null,null,"Acute toxicity, inhalation (chapter 3.1)",null,null,null,null,null,null,null,null,null,null,null,null,null,null,null,null,null,null,null,null,null,null,null,null,null,null,null,null,null,null,null,null,1,2,3]
["P405","Store locked up.",null,null,null,null,null,null,null,null,null,null,null,null,null,null,null,null,null,null,null,null,null,null,null,"Skin corrosion (chapter 3.2)",null,null,null,null,null,null,null,null,null,null,null,null,null,null,null,null,null,null,null,null,null,null,null,null,null,null,null,null,null,null,null,null,"1A","1B","1C"]
["P405","Store locked up.",null,null,null,null,null,null,null,null,null,null,null,null,null,null,null,null,null,null,null,null,null,null,null,"Germ cell mutagenicity (chapter 3.5)",null,null,null,null,null,null,null,null,null,null,null,null,null,null,null,null,null,null,null,null,null,null,null,null,null,null,null,null,null,null,null,null,"1A","1B",2]
["P405","Store locked up.",null,null,null,null,null,null,null,null,null,null,null,null,null,null,null,null,null,null,null,null,null,null,null,"Carcinogenicity (chapter 3.6)",null,null,null,null,null,null,null,null,null,null,null,null,null,null,null,null,null,null,null,null,null,null,null,null,null,null,null,null,null,null,null,null,"1A","1B",2]
["P405","Store locked up.",null,null,null,null,null,null,null,null,null,null,null,null,null,null,null,null,null,null,null,null,null,null,null,"Reproductive toxicity (chapter 3.7)",null,null,null,null,null,null,null,null,null,null,null,null,null,null,null,null,null,null,null,null,null,null,null,null,null,null,null,null,null,null,null,null,"1A","1B",2]
["P405","Store locked up.",null,null,null,null,null,null,null,null,null,null,null,null,null,null,null,null,null,null,null,null,null,null,null,"Specific target organ toxicity, single exposure (chapter 3.8)",null,null,null,null,null,null,null,null,null,null,null,null,null,null,null,null,null,null,null,null,null,null,null,null,null,null,null,null,null,null,null,null,1,2]
["P405","Store locked up.",null,null,null,null,null,null,null,null,null,null,null,null,null,null,null,null,null,null,null,null,null,null,null,"Specific target organ toxicity, single exposure; respiratory tract irritation (chapter 3.8)",null,null,null,null,null,null,null,null,null,null,null,null,null,null,null,null,null,null,null,null,null,null,null,null,null,null,null,null,null,null,null,null,3]
["P405","Store locked up.",null,null,null,null,null,null,null,null,null,null,null,null,null,null,null,null,null,null,null,null,null,null,null,"Specific target organ toxicity, single exposure; narcotic effects (chapter 3.8)",null,null,null,null,null,null,null,null,null,null,null,null,null,null,null,null,null,null,null,null,null,null,null,null,null,null,null,null,null,null,null,null,3]
["P405","Store locked up.",null,null,null,null,null,null,null,null,null,null,null,null,null,null,null,null,null,null,null,null,null,null,null,"Aspiration hazard (chapter 3.10)",null,null,null,null,null,null,null,null,null,null,null,null,null,null,null,null,null,null,null,null,null,null,null,null,null,null,null,null,null,null,null,null,1,2]
["P406","Store in a corrosion resistant/...container with a resistant inner liner.",null,null,null,null,null,null,null,null,null,null,null,null,null,null,null,null,null,null,null,null,null,null,null,"Corrosive to metals (chapter 2.16)",null,null,null,null,null,null,null,null,null,null,null,null,null,null,null,null,null,null,null,null,null,null,null,null,null,null,null,null,null,null,null,null,1,null,null,null,null,null,null,null,null,null,null,null,null,"– may be omitted if P234 is given on the label ...  Manufacturer/supplier or the competent authority to specify other compatible materials."]
["P407","Maintain air gap between stacks or pallets.",null,null,null,null,null,null,null,null,null,null,null,null,null,null,null,null,null,null,null,null,null,null,null,"Self-heating substances and mixtures (chapter 2.11)",null,null,null,null,null,null,null,null,null,null,null,null,null,null,null,null,null,null,null,null,null,null,null,null,null,null,null,null,null,null,null,null,1,2]
[]
["P410","Protect from sunlight.",null,null,null,null,null,null,null,null,null,null,null,null,null,null,null,null,null,null,null,null,null,null,null,"Aerosols (chapter 2.3)",null,null,null,null,null,null,null,null,null,null,null,null,null,null,null,null,null,null,null,null,null,null,null,null,null,null,null,null,null,null,null,null,1,2,3]
["P410","Protect from sunlight.",null,null,null,null,null,null,null,null,null,null,null,null,null,null,null,null,null,null,null,null,null,null,null,"Gases under pressure (chapter 2.5)",null,null,null,null,null,null,null,null,null,null,null,null,null,null,null,null,null,null,null,null,null,null,null,null,null,null,null,null,null,null,null,null,"Compressed gas Liquefied gasDissolved gas",null,null,null,null,null,null,null,null,null,null,null,null,"– may be omitted for gases filled in transportable gas cylinders in accordance with packing instruction P200 of the UN Recommendations on the Transport of Dangerous Goods, Model Regulations, unless those gases are subject to (slow) decomposition or polymerisation, or the competent authority provides otherwise."]
["P410","Protect from sunlight.",null,null,null,null,null,null,null,null,null,null,null,null,null,null,null,null,null,null,null,null,null,null,null,"Self-heating substances and mixtures (chapter 2.11)",null,null,null,null,null,null,null,null,null,null,null,null,null,null,null,null,null,null,null,null,null,null,null,null,null,null,null,null,null,null,null,null,1,2]
["P410","Protect from sunlight.",null,null,null,null,null,null,null,null,null,null,null,null,null,null,null,null,null,null,null,null,null,null,null,"Organic peroxides (chapter 2.15)",null,null,null,null,null,null,null,null,null,null,null,null,null,null,null,null,null,null,null,null,null,null,null,null,null,null,null,null,null,null,null,null,"A","B","C","D","E","F"]
["Code (1)","Storage precautionary statements (2)",null,null,null,null,null,null,null,null,null,null,null,null,null,null,null,null,null,null,null,null,null,null,null,"Hazard class (3)",null,null,null,null,null,null,null,null,null,null,null,null,null,null,null,null,null,null,null,null,null,null,null,null,null,null,null,null,null,null,null,null,"Hazard category (4)",null,null,null,null,null,null,null,null,null,null,null,null,"Conditions for use (5)"]
["P411","Store at temperatures not exceeding …°C/…°F.",null,null,null,null,null,null,null,null,null,null,null,null,null,null,null,null,null,null,null,null,null,null,null,"Self-reactive substances and mixtures (chapter 2.8)",null,null,null,null,null,null,null,null,null,null,null,null,null,null,null,null,null,null,null,null,null,null,null,null,null,null,null,null,null,null,null,null,"A","B","C","D","E","F",null,null,null,null,null,null,null,"– if temperature control is required (according to section 2.8.2.3 or 2.15.2.3 of the GHS) or if otherwise deemed necessary. ...Manufacturer/supplier or the competent authority to specify temperature using applicable temperature scale."]
["P411","Store at temperatures not exceeding …°C/…°F.",null,null,null,null,null,null,null,null,null,null,null,null,null,null,null,null,null,null,null,null,null,null,null,"Organic peroxides (chapter 2.15)",null,null,null,null,null,null,null,null,null,null,null,null,null,null,null,null,null,null,null,null,null,null,null,null,null,null,null,null,null,null,null,null,"A","B","C","D","E","F"]
["P412","Do not expose to temperatures exceeding 50 °C/ 122 °F.",null,null,null,null,null,null,null,null,null,null,null,null,null,null,null,null,null,null,null,null,null,null,null,"Aerosols (chapter 2.3)",null,null,null,null,null,null,null,null,null,null,null,null,null,null,null,null,null,null,null,null,null,null,null,null,null,null,null,null,null,null,null,null,1,2,3,null,null,null,null,null,null,null,null,null,null,"Manufacturer/supplier or the competent authority to use applicable temperature scale."]
["P413","Store bulk masses greater than … kg/…lbs at temperatures not exceeding …°C/…°F.",null,null,null,null,null,null,null,null,null,null,null,null,null,null,null,null,null,null,null,null,null,null,null,"Self-heating substances and mixtures (chapter 2.11)",null,null,null,null,null,null,null,null,null,null,null,null,null,null,null,null,null,null,null,null,null,null,null,null,null,null,null,null,null,null,null,null,1,2,null,null,null,null,null,null,null,null,null,null,null,"...Manufacturer/supplier or the competent authority to specify mass and temperature using applicable scale."]
[]
["P420","Store separately.",null,null,null,null,null,null,null,null,null,null,null,null,null,null,null,null,null,null,null,null,null,null,null,"Self-reactive substances and mixtures (chapter 2.8)",null,null,null,null,null,null,null,null,null,null,null,null,null,null,null,null,null,null,null,null,null,null,null,null,null,null,null,null,null,null,null,null,"A","B","C","D","E","F"]
["P420","Store separately.",null,null,null,null,null,null,null,null,null,null,null,null,null,null,null,null,null,null,null,null,null,null,null,"Self-heating substances and mixtures (chapter 2.11)",null,null,null,null,null,null,null,null,null,null,null,null,null,null,null,null,null,null,null,null,null,null,null,null,null,null,null,null,null,null,null,null,1,2]
["P420","Store separately.",null,null,null,null,null,null,null,null,null,null,null,null,null,null,null,null,null,null,null,null,null,null,null,"Oxidizing liquids (chapter 2.13)",null,null,null,null,null,null,null,null,null,null,null,null,null,null,null,null,null,null,null,null,null,null,null,null,null,null,null,null,null,null,null,null,1]
["P420","Store separately.",null,null,null,null,null,null,null,null,null,null,null,null,null,null,null,null,null,null,null,null,null,null,null,"Oxidizing solids (chapter 2.14)",null,null,null,null,null,null,null,null,null,null,null,null,null,null,null,null,null,null,null,null,null,null,null,null,null,null,null,null,null,null,null,null,1]
["P420","Store separately.",null,null,null,null,null,null,null,null,null,null,null,null,null,null,null,null,null,null,null,null,null,null,null,"Organic peroxides (chapter 2.15)",null,null,null,null,null,null,null,null,null,null,null,null,null,null,null,null,null,null,null,null,null,null,null,null,null,null,null,null,null,null,null,null,"A","B","C","D","E","F"]
[]
["P402 + P404","Store in a dry place.  Store in a closed container.",null,null,null,null,null,null,null,null,null,null,null,null,null,null,null,null,null,null,null,null,null,null,null,"Substances and mixtures which, in contact with water, emit flammable gases (chapter 2.12)",null,null,null,null,null,null,null,null,null,null,null,null,null,null,null,null,null,null,null,null,null,null,null,null,null,null,null,null,null,null,null,null,1,2,3]
["P403 + P233","Store in a well-ventilated place.  Keep container tightly closed.",null,null,null,null,null,null,null,null,null,null,null,null,null,null,null,null,null,null,null,null,null,null,null,"Acute toxicity, inhalation (chapter 3.1)",null,null,null,null,null,null,null,null,null,null,null,null,null,null,null,null,null,null,null,null,null,null,null,null,null,null,null,null,null,null,null,null,1,2,3,null,null,null,null,null,null,null,null,null,null,"– if the chemical is volatile and may generate a hazardous atmosphere."]
["P403 + P233","Store in a well-ventilated place.  Keep container tightly closed.",null,null,null,null,null,null,null,null,null,null,null,null,null,null,null,null,null,null,null,null,null,null,null,"Specific target organ toxicity, single exposure; respiratory tract irritation (chapter 3.8)",null,null,null,null,null,null,null,null,null,null,null,null,null,null,null,null,null,null,null,null,null,null,null,null,null,null,null,null,null,null,null,null,3]
["P403 + P233","Store in a well-ventilated place.  Keep container tightly closed.",null,null,null,null,null,null,null,null,null,null,null,null,null,null,null,null,null,null,null,null,null,null,null,"Specific target organ toxicity, single exposure; narcotic effects (chapter 3.8)",null,null,null,null,null,null,null,null,null,null,null,null,null,null,null,null,null,null,null,null,null,null,null,null,null,null,null,null,null,null,null,null,3]
["P403 + P235","Store in a well-ventilated place.  Keep cool.",null,null,null,null,null,null,null,null,null,null,null,null,null,null,null,null,null,null,null,null,null,null,null,"Flammable liquids (chapter 2.6)",null,null,null,null,null,null,null,null,null,null,null,null,null,null,null,null,null,null,null,null,null,null,null,null,null,null,null,null,null,null,null,null,1,2,3,null,null,null,null,null,null,null,null,null,null,"– for flammable liquids Category 1 and other flammable liquids that are volatile and may generate an explosive atmosphere."]
["Code (1)","Storage precautionary statements (2)",null,null,null,null,null,null,null,null,null,null,null,null,null,null,null,null,null,null,null,null,null,null,null,"Hazard class (3)",null,null,null,null,null,null,null,null,null,null,null,null,null,null,null,null,null,null,null,null,null,null,null,null,null,null,null,null,null,null,null,null,"Hazard category (4)",null,null,null,null,null,null,null,null,null,null,null,null,"Conditions for use (5)"]
["P410 + P403","Protect from sunlight.  Store in a well-ventilated place.",null,null,null,null,null,null,null,null,null,null,null,null,null,null,null,null,null,null,null,null,null,null,null,"Gases under pressure (chapter 2.5)",null,null,null,null,null,null,null,null,null,null,null,null,null,null,null,null,null,null,null,null,null,null,null,null,null,null,null,null,null,null,null,null,"Compressed gas Liquefied gasDissolved gas",null,null,null,null,null,null,null,null,null,null,null,null,"– P410 may be omitted for gases filled in transportable gas cylinders in accordance with packing instruction P200 of the UN Recommendations on the Transport of Dangerous Goods, Model Regulations, unless those gases are subject to (slow) decomposition or polymerisation, or the competent authority provides otherwise."]
["P410 + P412","Protect from sunlight.  Do not expose to temperatures exceeding 50 °C/122 °F.",null,null,null,null,null,null,null,null,null,null,null,null,null,null,null,null,null,null,null,null,null,null,null,"Aerosols (chapter 2.3)",null,null,null,null,null,null,null,null,null,null,null,null,null,null,null,null,null,null,null,null,null,null,null,null,null,null,null,null,null,null,null,null,1,2,3,null,null,null,null,null,null,null,null,null,null,"Manufacturer/supplier or the competent authority to use applicable temperature scale."]
["Table A3.2.5:  Codification of disposal precautionary statements"]
["Code (1)","Disposal precautionary statements (2)",null,null,null,null,null,null,null,null,null,null,null,null,null,null,null,null,null,null,null,null,"Hazard class (3)",null,null,null,null,null,null,null,null,null,null,null,null,null,null,null,null,null,null,null,null,null,null,null,null,null,null,null,null,null,null,null,null,null,null,null,null,null,"Hazard category (4)",null,null,null,null,null,null,null,null,null,null,"Conditions for use (5)"]
["P501","Dispose of contents/container to ...",null,null,null,null,null,null,null,null,null,null,null,null,null,null,null,null,null,null,null,null,"Flammable liquids (chapter 2.6)",null,null,null,null,null,null,null,null,null,null,null,null,null,null,null,null,null,null,null,null,null,null,null,null,null,null,null,null,null,null,null,null,null,null,null,null,null,1,2,3,4,null,null,null,null,null,null,null,"... in accordance with local/regional/ national/international regulation (to be specified). Manufacturer/supplier or the competent authority to specify whether disposal requirements apply to contents, container or both."]
["P501","Dispose of contents/container to ...",null,null,null,null,null,null,null,null,null,null,null,null,null,null,null,null,null,null,null,null,"Self-reactive substances and mixtures (chapter 2.8)",null,null,null,null,null,null,null,null,null,null,null,null,null,null,null,null,null,null,null,null,null,null,null,null,null,null,null,null,null,null,null,null,null,null,null,null,null,"A","B","C","D","E","F"]
["P501","Dispose of contents/container to ...",null,null,null,null,null,null,null,null,null,null,null,null,null,null,null,null,null,null,null,null,"Substances and mixtures which, in contact with water, emit flammable gases (chapter 2.12)",null,null,null,null,null,null,null,null,null,null,null,null,null,null,null,null,null,null,null,null,null,null,null,null,null,null,null,null,null,null,null,null,null,null,null,null,null,1,2,3]
["P501","Dispose of contents/container to ...",null,null,null,null,null,null,null,null,null,null,null,null,null,null,null,null,null,null,null,null,"Oxidizing liquids (chapter 2.13)",null,null,null,null,null,null,null,null,null,null,null,null,null,null,null,null,null,null,null,null,null,null,null,null,null,null,null,null,null,null,null,null,null,null,null,null,null,1,2,3]
["P501","Dispose of contents/container to ...",null,null,null,null,null,null,null,null,null,null,null,null,null,null,null,null,null,null,null,null,"Oxidizing solids (chapter 2.14)",null,null,null,null,null,null,null,null,null,null,null,null,null,null,null,null,null,null,null,null,null,null,null,null,null,null,null,null,null,null,null,null,null,null,null,null,null,1,2,3]
["P501","Dispose of contents/container to ...",null,null,null,null,null,null,null,null,null,null,null,null,null,null,null,null,null,null,null,null,"Organic peroxides (chapter 2.15)",null,null,null,null,null,null,null,null,null,null,null,null,null,null,null,null,null,null,null,null,null,null,null,null,null,null,null,null,null,null,null,null,null,null,null,null,null,"A","B","C","D","E","F"]
["P501","Dispose of contents/container to ...",null,null,null,null,null,null,null,null,null,null,null,null,null,null,null,null,null,null,null,null,"Desensitized explosives (chapter 2.17)",null,null,null,null,null,null,null,null,null,null,null,null,null,null,null,null,null,null,null,null,null,null,null,null,null,null,null,null,null,null,null,null,null,null,null,null,null,1,2,3,4]
["P501","Dispose of contents/container to ...",null,null,null,null,null,null,null,null,null,null,null,null,null,null,null,null,null,null,null,null,"Acute toxicity, oral (chapter 3.1)",null,null,null,null,null,null,null,null,null,null,null,null,null,null,null,null,null,null,null,null,null,null,null,null,null,null,null,null,null,null,null,null,null,null,null,null,null,1,2,3,4]
["P501","Dispose of contents/container to ...",null,null,null,null,null,null,null,null,null,null,null,null,null,null,null,null,null,null,null,null,"Acute toxicity, dermal (chapter 3.1)",null,null,null,null,null,null,null,null,null,null,null,null,null,null,null,null,null,null,null,null,null,null,null,null,null,null,null,null,null,null,null,null,null,null,null,null,null,1,2,3,4]
["P501","Dispose of contents/container to ...",null,null,null,null,null,null,null,null,null,null,null,null,null,null,null,null,null,null,null,null,"Acute toxicity, inhalation (chapter 3.1)",null,null,null,null,null,null,null,null,null,null,null,null,null,null,null,null,null,null,null,null,null,null,null,null,null,null,null,null,null,null,null,null,null,null,null,null,null,1,2,3]
["Code (1)","Disposal precautionary statements (2)",null,null,null,null,null,null,null,null,null,null,null,null,null,null,null,null,null,null,null,null,"Hazard class (3)",null,null,null,null,null,null,null,null,null,null,null,null,null,null,null,null,null,null,null,null,null,null,null,null,null,null,null,null,null,null,null,null,null,null,null,null,null,"Hazard category (4)",null,null,null,null,null,null,null,null,null,null,"Conditions for use (5)"]
["P501","Dispose of contents/container to ...",null,null,null,null,null,null,null,null,null,null,null,null,null,null,null,null,null,null,null,null,"Skin corrosion (chapter 3.2)",null,null,null,null,null,null,null,null,null,null,null,null,null,null,null,null,null,null,null,null,null,null,null,null,null,null,null,null,null,null,null,null,null,null,null,null,null,"1A","1B","1C",null,null,null,null,null,null,null,null,"... in accordance with local/regional/ national/international regulation (to be specified). Manufacturer/supplier or the competent authority to specify whether disposal requirements apply to contents, container or both."]
["P501","Dispose of contents/container to ...",null,null,null,null,null,null,null,null,null,null,null,null,null,null,null,null,null,null,null,null,"Respiratory sensitization (chapter 3.4)",null,null,null,null,null,null,null,null,null,null,null,null,null,null,null,null,null,null,null,null,null,null,null,null,null,null,null,null,null,null,null,null,null,null,null,null,null,1,"1A","1B"]
["P501","Dispose of contents/container to ...",null,null,null,null,null,null,null,null,null,null,null,null,null,null,null,null,null,null,null,null,"Skin sensitization (chapter 3.4)",null,null,null,null,null,null,null,null,null,null,null,null,null,null,null,null,null,null,null,null,null,null,null,null,null,null,null,null,null,null,null,null,null,null,null,null,null,1,"1A","1B"]
["P501","Dispose of contents/container to ...",null,null,null,null,null,null,null,null,null,null,null,null,null,null,null,null,null,null,null,null,"Germ cell mutagenicity (chapter 3.5)",null,null,null,null,null,null,null,null,null,null,null,null,null,null,null,null,null,null,null,null,null,null,null,null,null,null,null,null,null,null,null,null,null,null,null,null,null,"1A","1B",2]
["P501","Dispose of contents/container to ...",null,null,null,null,null,null,null,null,null,null,null,null,null,null,null,null,null,null,null,null,"Carcinogenicity (chapter 3.6)",null,null,null,null,null,null,null,null,null,null,null,null,null,null,null,null,null,null,null,null,null,null,null,null,null,null,null,null,null,null,null,null,null,null,null,null,null,"1A","1B",2]
["P501","Dispose of contents/container to ...",null,null,null,null,null,null,null,null,null,null,null,null,null,null,null,null,null,null,null,null,"Reproductive toxicity (chapter 3.7)",null,null,null,null,null,null,null,null,null,null,null,null,null,null,null,null,null,null,null,null,null,null,null,null,null,null,null,null,null,null,null,null,null,null,null,null,null,"1A","1B",2]
["P501","Dispose of contents/container to ...",null,null,null,null,null,null,null,null,null,null,null,null,null,null,null,null,null,null,null,null,"Specific target organ toxicity, single exposure (chapter 3.8)",null,null,null,null,null,null,null,null,null,null,null,null,null,null,null,null,null,null,null,null,null,null,null,null,null,null,null,null,null,null,null,null,null,null,null,null,null,1,2]
["P501","Dispose of contents/container to ...",null,null,null,null,null,null,null,null,null,null,null,null,null,null,null,null,null,null,null,null,"Specific target organ toxicity, single exposure; respiratory tract irritation (chapter 3.8)",null,null,null,null,null,null,null,null,null,null,null,null,null,null,null,null,null,null,null,null,null,null,null,null,null,null,null,null,null,null,null,null,null,null,null,null,null,3]
["P501","Dispose of contents/container to ...",null,null,null,null,null,null,null,null,null,null,null,null,null,null,null,null,null,null,null,null,"Specific target organ toxicity, single exposure; narcotic effects (chapter 3.8)",null,null,null,null,null,null,null,null,null,null,null,null,null,null,null,null,null,null,null,null,null,null,null,null,null,null,null,null,null,null,null,null,null,null,null,null,null,3]
["P501","Dispose of contents/container to ...",null,null,null,null,null,null,null,null,null,null,null,null,null,null,null,null,null,null,null,null,"Specific target organ toxicity, repeated exposure (chapter 3.9)",null,null,null,null,null,null,null,null,null,null,null,null,null,null,null,null,null,null,null,null,null,null,null,null,null,null,null,null,null,null,null,null,null,null,null,null,null,1,2]
["P501","Dispose of contents/container to ...",null,null,null,null,null,null,null,null,null,null,null,null,null,null,null,null,null,null,null,null,"Aspiration hazard (chapter 3.10)",null,null,null,null,null,null,null,null,null,null,null,null,null,null,null,null,null,null,null,null,null,null,null,null,null,null,null,null,null,null,null,null,null,null,null,null,null,1,2]
["P501","Dispose of contents/container to ...",null,null,null,null,null,null,null,null,null,null,null,null,null,null,null,null,null,null,null,null,"Hazardous to the aquatic environment, acute hazard (chapter 4.1)",null,null,null,null,null,null,null,null,null,null,null,null,null,null,null,null,null,null,null,null,null,null,null,null,null,null,null,null,null,null,null,null,null,null,null,null,null,1,2,3]
["P501","Dispose of contents/container to ...",null,null,null,null,null,null,null,null,null,null,null,null,null,null,null,null,null,null,null,null,"Hazardous to the aquatic environment, long-term hazard (chapter 4.1)",null,null,null,null,null,null,null,null,null,null,null,null,null,null,null,null,null,null,null,null,null,null,null,null,null,null,null,null,null,null,null,null,null,null,null,null,null,1,2,3,4]
["P502","Refer to manufacturer or supplier for information on recovery or recycling.",null,null,null,null,null,null,null,null,null,null,null,null,null,null,null,null,null,null,null,null,"Hazardous to the ozone layer (chapter 4.2)",null,null,null,null,null,null,null,null,null,null,null,null,null,null,null,null,null,null,null,null,null,null,null,null,null,null,null,null,null,null,null,null,null,null,null,null,null,1]
["P503","Refer to manufacturer/supplier… for information on disposal/recovery/recycling.",null,null,null,null,null,null,null,null,null,null,null,null,null,null,null,null,null,null,null,null,"Explosives (chapter 2.1)",null,null,null,null,null,null,null,null,null,null,null,null,null,null,null,null,null,null,null,null,null,null,null,null,null,null,null,null,null,null,null,null,null,null,null,null,null,"Unstable explosive","1.1","1.2","1.3","1.4","1.5",null,null,null,null,null,"… Manufacturer/supplier or the competent authority to specify appropriate source of information in accordance with local/regional/national/international regulations as applicable"]

{"sheet":"Main","index":1,"n_rows":464,"n_cols":30,"rows_kept":464,"cut":false,"hidden":true,"merged":[]}
[{"$f":"+'Table 1'!A259","v":0},{"$f":"+'Table 1'!B259","v":0},{"$f":"+'Table 1'!V259","v":0},{"$f":"+'Table 1'!BB259","v":0},{"$f":"+'Table 1'!BC259","v":0},{"$f":"+'Table 1'!BD259","v":0},{"$f":"+'Table 1'!BE259","v":0},{"$f":"+'Table 1'!BF259","v":0},{"$f":"+'Table 1'!BG259","v":0}]
[{"$f":"+'Table 1'!A267","v":0},{"$f":"+'Table 1'!B267","v":0},{"$f":"+'Table 1'!V267","v":0},{"$f":"+'Table 1'!BB267","v":0},{"$f":"+'Table 1'!BC267","v":0},{"$f":"+'Table 1'!BD267","v":0},{"$f":"+'Table 1'!BE267","v":0},{"$f":"+'Table 1'!BF267","v":0},{"$f":"+'Table 1'!BG267","v":0}]
[{"$f":"+'Table 1'!A304","v":0},{"$f":"+'Table 1'!B304","v":0},{"$f":"+'Table 1'!V304","v":0},{"$f":"+'Table 1'!BB304","v":0},{"$f":"+'Table 1'!BC304","v":0},{"$f":"+'Table 1'!BD304","v":0},{"$f":"+'Table 1'!BE304","v":0},{"$f":"+'Table 1'!BF304","v":0},{"$f":"+'Table 1'!BG304","v":0}]
[{"$f":"+'Table 1'!A337","v":0},{"$f":"+'Table 1'!B337","v":0},{"$f":"+'Table 1'!V337","v":0},{"$f":"+'Table 1'!BB337","v":0},{"$f":"+'Table 1'!BC337","v":0},{"$f":"+'Table 1'!BD337","v":0},{"$f":"+'Table 1'!BE337","v":0},{"$f":"+'Table 1'!BF337","v":0},{"$f":"+'Table 1'!BG337","v":0}]
[{"$f":"+'Table 1'!A391","v":0},{"$f":"+'Table 1'!B391","v":0},{"$f":"+'Table 1'!Z391","v":0},{"$f":"+'Table 1'!BG391","v":0},{"$f":"+'Table 1'!BH391","v":0},{"$f":"+'Table 1'!BI391","v":0},{"$f":"+'Table 1'!BJ391","v":0},{"$f":"+'Table 1'!BK391","v":0},{"$f":"+'Table 1'!BL391","v":0}]
[{"$f":"+'Table 1'!A430","v":0},{"$f":"+'Table 1'!B430","v":0},{"$f":"+'Table 1'!Z430","v":0},{"$f":"+'Table 1'!BG430","v":0},{"$f":"+'Table 1'!BH430","v":0},{"$f":"+'Table 1'!BI430","v":0},{"$f":"+'Table 1'!BJ430","v":0},{"$f":"+'Table 1'!BK430","v":0},{"$f":"+'Table 1'!BL430","v":0}]
[{"$f":"+'Table 1'!A454","v":0},{"$f":"+'Table 1'!B454","v":0},{"$f":"+'Table 1'!Z454","v":0},{"$f":"+'Table 1'!BG454","v":0},{"$f":"+'Table 1'!BH454","v":0},{"$f":"+'Table 1'!BI454","v":0},{"$f":"+'Table 1'!BJ454","v":0},{"$f":"+'Table 1'!BK454","v":0},{"$f":"+'Table 1'!BL454","v":0}]
[{"$f":"+'Table 1'!A463","v":0},{"$f":"+'Table 1'!B463","v":0},{"$f":"+'Table 1'!Z463","v":0},{"$f":"+'Table 1'!BG463","v":0},{"$f":"+'Table 1'!BH463","v":0},{"$f":"+'Table 1'!BI463","v":0},{"$f":"+'Table 1'!BJ463","v":0},{"$f":"+'Table 1'!BK463","v":0},{"$f":"+'Table 1'!BL463","v":0}]
[{"$f":"+'Table 1'!A476","v":0},{"$f":"+'Table 1'!B476","v":0},{"$f":"+'Table 1'!Z476","v":0},{"$f":"+'Table 1'!BG476","v":0},{"$f":"+'Table 1'!BH476","v":0},{"$f":"+'Table 1'!BI476","v":0},{"$f":"+'Table 1'!BJ476","v":0},{"$f":"+'Table 1'!BK476","v":0},{"$f":"+'Table 1'!BL476","v":0}]
[{"$f":"+'Table 1'!A494","v":0},{"$f":"+'Table 1'!B494","v":0},{"$f":"+'Table 1'!Z494","v":0},{"$f":"+'Table 1'!BG494","v":0},{"$f":"+'Table 1'!BH494","v":0},{"$f":"+'Table 1'!BI494","v":0},{"$f":"+'Table 1'!BJ494","v":0},{"$f":"+'Table 1'!BK494","v":0},{"$f":"+'Table 1'!BL494","v":0}]
[{"$f":"+'Table 1'!A498","v":0},{"$f":"+'Table 1'!B498","v":0},{"$f":"+'Table 1'!Z498","v":0},{"$f":"+'Table 1'!BG498","v":0},{"$f":"+'Table 1'!BH498","v":0},{"$f":"+'Table 1'!BI498","v":0},{"$f":"+'Table 1'!BJ498","v":0},{"$f":"+'Table 1'!BK498","v":0},{"$f":"+'Table 1'!BL498","v":0}]
[{"$f":"+'Table 1'!A526","v":0},{"$f":"+'Table 1'!B526","v":0},{"$f":"+'Table 1'!Z526","v":0},{"$f":"+'Table 1'!BG526","v":0},{"$f":"+'Table 1'!BH526","v":0},{"$f":"+'Table 1'!BI526","v":0},{"$f":"+'Table 1'!BJ526","v":0},{"$f":"+'Table 1'!BK526","v":0},{"$f":"+'Table 1'!BL526","v":0}]
[{"$f":"+'Table 1'!A571","v":0},{"$f":"+'Table 1'!B571","v":0},{"$f":"+'Table 1'!Z571","v":0},{"$f":"+'Table 1'!BG571","v":0},{"$f":"+'Table 1'!BH571","v":0},{"$f":"+'Table 1'!BI571","v":0},{"$f":"+'Table 1'!BJ571","v":0},{"$f":"+'Table 1'!BK571","v":0},{"$f":"+'Table 1'!BL571","v":0}]
[{"$f":"+'Table 1'!A575","v":0},{"$f":"+'Table 1'!B575","v":0},{"$f":"+'Table 1'!Z575","v":0},{"$f":"+'Table 1'!BG575","v":0},{"$f":"+'Table 1'!BH575","v":0},{"$f":"+'Table 1'!BI575","v":0},{"$f":"+'Table 1'!BJ575","v":0},{"$f":"+'Table 1'!BK575","v":0},{"$f":"+'Table 1'!BL575","v":0}]
[{"$f":"+'Table 1'!A578","v":0},{"$f":"+'Table 1'!B578","v":0},{"$f":"+'Table 1'!Z578","v":0},{"$f":"+'Table 1'!BG578","v":0},{"$f":"+'Table 1'!BH578","v":0},{"$f":"+'Table 1'!BI578","v":0},{"$f":"+'Table 1'!BJ578","v":0},{"$f":"+'Table 1'!BK578","v":0},{"$f":"+'Table 1'!BL578","v":0}]
[{"$f":"+'Table 1'!A579","v":0},{"$f":"+'Table 1'!B579","v":0},{"$f":"+'Table 1'!Z579","v":0},{"$f":"+'Table 1'!BG579","v":0},{"$f":"+'Table 1'!BH579","v":0},{"$f":"+'Table 1'!BI579","v":0},{"$f":"+'Table 1'!BJ579","v":0},{"$f":"+'Table 1'!BK579","v":0},{"$f":"+'Table 1'!BL579","v":0}]
[{"$f":"+'Table 1'!A580","v":0},{"$f":"+'Table 1'!B580","v":0},{"$f":"+'Table 1'!Z580","v":0},{"$f":"+'Table 1'!BG580","v":0},{"$f":"+'Table 1'!BH580","v":0},{"$f":"+'Table 1'!BI580","v":0},{"$f":"+'Table 1'!BJ580","v":0},{"$f":"+'Table 1'!BK580","v":0},{"$f":"+'Table 1'!BL580","v":0}]
[{"$f":"+'Table 1'!A581","v":0},{"$f":"+'Table 1'!B581","v":0},{"$f":"+'Table 1'!Z581","v":0},{"$f":"+'Table 1'!BG581","v":0},{"$f":"+'Table 1'!BH581","v":0},{"$f":"+'Table 1'!BI581","v":0},{"$f":"+'Table 1'!BJ581","v":0},{"$f":"+'Table 1'!BK581","v":0},{"$f":"+'Table 1'!BL581","v":0}]
[{"$f":"+'Table 1'!A584","v":0},{"$f":"+'Table 1'!B584","v":0},{"$f":"+'Table 1'!Z584","v":0},{"$f":"+'Table 1'!BG584","v":0},{"$f":"+'Table 1'!BH584","v":0},{"$f":"+'Table 1'!BI584","v":0},{"$f":"+'Table 1'!BJ584","v":0},{"$f":"+'Table 1'!BK584","v":0},{"$f":"+'Table 1'!BL584","v":0}]
[{"$f":"+'Table 1'!A585","v":0},{"$f":"+'Table 1'!B585","v":0},{"$f":"+'Table 1'!Z585","v":0},{"$f":"+'Table 1'!BG585","v":0},{"$f":"+'Table 1'!BH585","v":0},{"$f":"+'Table 1'!BI585","v":0},{"$f":"+'Table 1'!BJ585","v":0},{"$f":"+'Table 1'!BK585","v":0},{"$f":"+'Table 1'!BL585","v":0}]
[{"$f":"+'Table 1'!A587","v":0},{"$f":"+'Table 1'!B587","v":0},{"$f":"+'Table 1'!Z587","v":0},{"$f":"+'Table 1'!BG587","v":0},{"$f":"+'Table 1'!BH587","v":0},{"$f":"+'Table 1'!BI587","v":0},{"$f":"+'Table 1'!BJ587","v":0},{"$f":"+'Table 1'!BK587","v":0},{"$f":"+'Table 1'!BL587","v":0}]
[{"$f":"+'Table 1'!A588","v":0},{"$f":"+'Table 1'!B588","v":0},{"$f":"+'Table 1'!Z588","v":0},{"$f":"+'Table 1'!BG588","v":0},{"$f":"+'Table 1'!BH588","v":0},{"$f":"+'Table 1'!BI588","v":0},{"$f":"+'Table 1'!BJ588","v":0},{"$f":"+'Table 1'!BK588","v":0},{"$f":"+'Table 1'!BL588","v":0}]
[{"$f":"+'Table 1'!A590","v":0},{"$f":"+'Table 1'!B590","v":0},{"$f":"+'Table 1'!Z590","v":0},{"$f":"+'Table 1'!BG590","v":0},{"$f":"+'Table 1'!BH590","v":0},{"$f":"+'Table 1'!BI590","v":0},{"$f":"+'Table 1'!BJ590","v":0},{"$f":"+'Table 1'!BK590","v":0},{"$f":"+'Table 1'!BL590","v":0}]
[{"$f":"+'Table 1'!A592","v":0},{"$f":"+'Table 1'!B592","v":0},{"$f":"+'Table 1'!Z592","v":0},{"$f":"+'Table 1'!BG592","v":0},{"$f":"+'Table 1'!BH592","v":0},{"$f":"+'Table 1'!BI592","v":0},{"$f":"+'Table 1'!BJ592","v":0},{"$f":"+'Table 1'!BK592","v":0},{"$f":"+'Table 1'!BL592","v":0}]
[{"$f":"+'Table 1'!A593","v":0},{"$f":"+'Table 1'!B593","v":0},{"$f":"+'Table 1'!Z593","v":0},{"$f":"+'Table 1'!BG593","v":0},{"$f":"+'Table 1'!BH593","v":0},{"$f":"+'Table 1'!BI593","v":0},{"$f":"+'Table 1'!BJ593","v":0},{"$f":"+'Table 1'!BK593","v":0},{"$f":"+'Table 1'!BL593","v":0}]
[{"$f":"+'Table 1'!A594","v":0},{"$f":"+'Table 1'!B594","v":0},{"$f":"+'Table 1'!Z594","v":0},{"$f":"+'Table 1'!BG594","v":0},{"$f":"+'Table 1'!BH594","v":0},{"$f":"+'Table 1'!BI594","v":0},{"$f":"+'Table 1'!BJ594","v":0},{"$f":"+'Table 1'!BK594","v":0},{"$f":"+'Table 1'!BL594","v":0}]
[{"$f":"+'Table 1'!A597","v":0},{"$f":"+'Table 1'!B597","v":0},{"$f":"+'Table 1'!Z597","v":0},{"$f":"+'Table 1'!BG597","v":0},{"$f":"+'Table 1'!BH597","v":0},{"$f":"+'Table 1'!BI597","v":0},{"$f":"+'Table 1'!BJ597","v":0},{"$f":"+'Table 1'!BK597","v":0},{"$f":"+'Table 1'!BL597","v":0}]
[{"$f":"+'Table 1'!A598","v":0},{"$f":"+'Table 1'!B598","v":0},{"$f":"+'Table 1'!Z598","v":0},{"$f":"+'Table 1'!BG598","v":0},{"$f":"+'Table 1'!BH598","v":0},{"$f":"+'Table 1'!BI598","v":0},{"$f":"+'Table 1'!BJ598","v":0},{"$f":"+'Table 1'!BK598","v":0},{"$f":"+'Table 1'!BL598","v":0}]
[{"$f":"+'Table 1'!A600","v":0},{"$f":"+'Table 1'!B600","v":0},{"$f":"+'Table 1'!Z600","v":0},{"$f":"+'Table 1'!BG600","v":0},{"$f":"+'Table 1'!BH600","v":0},{"$f":"+'Table 1'!BI600","v":0},{"$f":"+'Table 1'!BJ600","v":0},{"$f":"+'Table 1'!BK600","v":0},{"$f":"+'Table 1'!BL600","v":0}]
[{"$f":"+'Table 1'!A601","v":0},{"$f":"+'Table 1'!B601","v":0},{"$f":"+'Table 1'!Z601","v":0},{"$f":"+'Table 1'!BG601","v":0},{"$f":"+'Table 1'!BH601","v":0},{"$f":"+'Table 1'!BI601","v":0},{"$f":"+'Table 1'!BJ601","v":0},{"$f":"+'Table 1'!BK601","v":0},{"$f":"+'Table 1'!BL601","v":0}]
[{"$f":"+'Table 1'!A602","v":0},{"$f":"+'Table 1'!B602","v":0},{"$f":"+'Table 1'!Z602","v":0},{"$f":"+'Table 1'!BG602","v":0},{"$f":"+'Table 1'!BH602","v":0},{"$f":"+'Table 1'!BI602","v":0},{"$f":"+'Table 1'!BJ602","v":0},{"$f":"+'Table 1'!BK602","v":0},{"$f":"+'Table 1'!BL602","v":0},null,null,null,null,null,null,null,null,null,null,null,null,null,null,null,null,null,null,null,null,{"$f":"IFERROR(INDEX(Engine!#REF!,MATCH(SMALL(Engine!$BC$2:$BC$12,ROWS(Engine!#REF!)),Engine!$BC$2:$BC$12,)),\"\")","v":""}]
[{"$f":"+'Table 1'!A604","v":0},{"$f":"+'Table 1'!B604","v":0},{"$f":"+'Table 1'!Z604","v":0},{"$f":"+'Table 1'!BG604","v":0},{"$f":"+'Table 1'!BH604","v":0},{"$f":"+'Table 1'!BI604","v":0},{"$f":"+'Table 1'!BJ604","v":0},{"$f":"+'Table 1'!BK604","v":0},{"$f":"+'Table 1'!BL604","v":0},null,null,null,null,null,null,null,null,null,null,null,null,null,null,null,null,null,null,null,null,{"$f":"IFERROR(INDEX(Engine!#REF!,MATCH(SMALL(Engine!$BC$2:$BC$12,ROWS(Engine!#REF!)),Engine!$BC$2:$BC$12,)),\"\")","v":""}]
[{"$f":"+'Table 1'!A605","v":0},{"$f":"+'Table 1'!B605","v":0},{"$f":"+'Table 1'!Z605","v":0},{"$f":"+'Table 1'!BG605","v":0},{"$f":"+'Table 1'!BH605","v":0},{"$f":"+'Table 1'!BI605","v":0},{"$f":"+'Table 1'!BJ605","v":0},{"$f":"+'Table 1'!BK605","v":0},{"$f":"+'Table 1'!BL605","v":0},null,null,null,null,null,null,null,null,null,null,null,null,null,null,null,null,null,null,null,null,{"$f":"IFERROR(INDEX(Engine!#REF!,MATCH(SMALL(Engine!$BC$2:$BC$12,ROWS(Engine!#REF!)),Engine!$BC$2:$BC$12,)),\"\")","v":""}]
[{"$f":"+'Table 1'!A606","v":0},{"$f":"+'Table 1'!B606","v":0},{"$f":"+'Table 1'!Z606","v":0},{"$f":"+'Table 1'!BG606","v":0},{"$f":"+'Table 1'!BH606","v":0},{"$f":"+'Table 1'!BI606","v":0},{"$f":"+'Table 1'!BJ606","v":0},{"$f":"+'Table 1'!BK606","v":0},{"$f":"+'Table 1'!BL606","v":0}]
[{"$f":"+'Table 1'!A607","v":0},{"$f":"+'Table 1'!B607","v":0},{"$f":"+'Table 1'!Z607","v":0},{"$f":"+'Table 1'!BG607","v":0},{"$f":"+'Table 1'!BH607","v":0},{"$f":"+'Table 1'!BI607","v":0},{"$f":"+'Table 1'!BJ607","v":0},{"$f":"+'Table 1'!BK607","v":0},{"$f":"+'Table 1'!BL607","v":0}]
[{"$f":"+'Table 1'!A608","v":0},{"$f":"+'Table 1'!B608","v":0},{"$f":"+'Table 1'!Z608","v":0},{"$f":"+'Table 1'!BG608","v":0},{"$f":"+'Table 1'!BH608","v":0},{"$f":"+'Table 1'!BI608","v":0},{"$f":"+'Table 1'!BJ608","v":0},{"$f":"+'Table 1'!BK608","v":0},{"$f":"+'Table 1'!BL608","v":0}]
[{"$f":"+'Table 1'!A609","v":0},{"$f":"+'Table 1'!B609","v":0},{"$f":"+'Table 1'!Z609","v":0},{"$f":"+'Table 1'!BG609","v":0},{"$f":"+'Table 1'!BH609","v":0},{"$f":"+'Table 1'!BI609","v":0},{"$f":"+'Table 1'!BJ609","v":0},{"$f":"+'Table 1'!BK609","v":0},{"$f":"+'Table 1'!BL609","v":0}]
[{"$f":"+'Table 1'!A611","v":0},{"$f":"+'Table 1'!B611","v":0},{"$f":"+'Table 1'!Z611","v":0},{"$f":"+'Table 1'!BG611","v":0},{"$f":"+'Table 1'!BH611","v":0},{"$f":"+'Table 1'!BI611","v":0},{"$f":"+'Table 1'!BJ611","v":0},{"$f":"+'Table 1'!BK611","v":0},{"$f":"+'Table 1'!BL611","v":0}]
[{"$f":"+'Table 1'!A615","v":0},{"$f":"+'Table 1'!B615","v":0},{"$f":"+'Table 1'!Z615","v":0},{"$f":"+'Table 1'!BG615","v":0},{"$f":"+'Table 1'!BH615","v":0},{"$f":"+'Table 1'!BI615","v":0},{"$f":"+'Table 1'!BJ615","v":0},{"$f":"+'Table 1'!BK615","v":0},{"$f":"+'Table 1'!BL615","v":0}]
[{"$f":"+'Table 1'!A617","v":0},{"$f":"+'Table 1'!B617","v":0},{"$f":"+'Table 1'!Z617","v":0},{"$f":"+'Table 1'!BG617","v":0},{"$f":"+'Table 1'!BH617","v":0},{"$f":"+'Table 1'!BI617","v":0},{"$f":"+'Table 1'!BJ617","v":0},{"$f":"+'Table 1'!BK617","v":0},{"$f":"+'Table 1'!BL617","v":0}]
[{"$f":"+'Table 1'!A618","v":0},{"$f":"+'Table 1'!B618","v":0},{"$f":"+'Table 1'!Z618","v":0},{"$f":"+'Table 1'!BG618","v":0},{"$f":"+'Table 1'!BH618","v":0},{"$f":"+'Table 1'!BI618","v":0},{"$f":"+'Table 1'!BJ618","v":0},{"$f":"+'Table 1'!BK618","v":0},{"$f":"+'Table 1'!BL618","v":0}]
[{"$f":"+'Table 1'!A619","v":"Table A3.2.4:  Codification of storage precautionary statements"},{"$f":"+'Table 1'!B619","v":0},{"$f":"+'Table 1'!Z619","v":0},{"$f":"+'Table 1'!BG619","v":0},{"$f":"+'Table 1'!BH619","v":0},{"$f":"+'Table 1'!BI619","v":0},{"$f":"+'Table 1'!BJ619","v":0},{"$f":"+'Table 1'!BK619","v":0},{"$f":"+'Table 1'!BL619","v":0}]
[{"$f":"+'Table 1'!A651","v":0},{"$f":"+'Table 1'!B651","v":0},{"$f":"+'Table 1'!Z651","v":0},{"$f":"+'Table 1'!BG651","v":0},{"$f":"+'Table 1'!BH651","v":0},{"$f":"+'Table 1'!BI651","v":0},{"$f":"+'Table 1'!BJ651","v":0},{"$f":"+'Table 1'!BK651","v":0},{"$f":"+'Table 1'!BL651","v":0}]
[{"$f":"+'Table 1'!A661","v":0},{"$f":"+'Table 1'!B661","v":0},{"$f":"+'Table 1'!Z661","v":0},{"$f":"+'Table 1'!BG661","v":0},{"$f":"+'Table 1'!BH661","v":0},{"$f":"+'Table 1'!BI661","v":0},{"$f":"+'Table 1'!BJ661","v":0},{"$f":"+'Table 1'!BK661","v":0},{"$f":"+'Table 1'!BL661","v":0}]
[{"$f":"+'Table 1'!A667","v":0},{"$f":"+'Table 1'!B667","v":0},{"$f":"+'Table 1'!Z667","v":0},{"$f":"+'Table 1'!BG667","v":0},{"$f":"+'Table 1'!BH667","v":0},{"$f":"+'Table 1'!BI667","v":0},{"$f":"+'Table 1'!BJ667","v":0},{"$f":"+'Table 1'!BK667","v":0},{"$f":"+'Table 1'!BL667","v":0}]
[{"$f":"+'Table 1'!A315","v":"P262"},{"$f":"+'Table 1'!B315","v":"Do not get in eyes, on skin, or on clothing."},{"$f":"+'Table 1'!V315","v":"Acute toxicity, dermal (chapter 3.1)"},{"$f":"+'Table 1'!BB315","v":1},{"$f":"+'Table 1'!BC315","v":2},{"$f":"+'Table 1'!BD315","v":0},{"$f":"+'Table 1'!BE315","v":0},{"$f":"+'Table 1'!BF315","v":0},{"$f":"+'Table 1'!BG315","v":0}]
[{"$f":"+'Table 1'!A318","v":"P264"},{"$f":"+'Table 1'!B318","v":"Wash ... thoroughly after handling."},{"$f":"+'Table 1'!V318","v":"Acute toxicity, dermal (chapter 3.1)"},{"$f":"+'Table 1'!BB318","v":1},{"$f":"+'Table 1'!BC318","v":2},{"$f":"+'Table 1'!BD318","v":0},{"$f":"+'Table 1'!BE318","v":0},{"$f":"+'Table 1'!BF318","v":0},{"$f":"+'Table 1'!BG318","v":0}]
[{"$f":"+'Table 1'!A327","v":"P270"},{"$f":"+'Table 1'!B327","v":"Do not eat, drink or smoke when using this product."},{"$f":"+'Table 1'!V327","v":"Acute toxicity, dermal (chapter 3.1)"},{"$f":"+'Table 1'!BB327","v":1},{"$f":"+'Table 1'!BC327","v":2},{"$f":"+'Table 1'!BD327","v":0},{"$f":"+'Table 1'!BE327","v":0},{"$f":"+'Table 1'!BF327","v":0},{"$f":"+'Table 1'!BG327","v":0}]
[{"$f":"+'Table 1'!A352","v":"P280 (suite)"},{"$f":"+'Table 1'!B352","v":"Wear protective gloves/protective clothing/eye protection/face protection/hearing protection/..."},{"$f":"+'Table 1'!V352","v":"Acute toxicity, dermal (chapter 3.1)"},{"$f":"+'Table 1'!BB352","v":1},{"$f":"+'Table 1'!BC352","v":2},{"$f":"+'Table 1'!BD352","v":3},{"$f":"+'Table 1'!BE352","v":4},{"$f":"+'Table 1'!BF352","v":0},{"$f":"+'Table 1'!BG352","v":0}]
[{"$f":"+'Table 1'!A376","v":"P302"},{"$f":"+'Table 1'!B376","v":"IF ON SKIN:"},{"$f":"+'Table 1'!Z376","v":"Acute toxicity, dermal (chapter 3.1)"},{"$f":"+'Table 1'!BG376","v":1},{"$f":"+'Table 1'!BH376","v":2},{"$f":"+'Table 1'!BI376","v":3},{"$f":"+'Table 1'!BJ376","v":4},{"$f":"+'Table 1'!BK376","v":5},{"$f":"+'Table 1'!BL376","v":0}]
[{"$f":"+'Table 1'!A399","v":"P310"},{"$f":"+'Table 1'!B399","v":"Immediately call a POISON CENTER/doctor/…"},{"$f":"+'Table 1'!Z399","v":"Acute toxicity, dermal (chapter 3.1)"},{"$f":"+'Table 1'!BG399","v":1},{"$f":"+'Table 1'!BH399","v":2},{"$f":"+'Table 1'!BI399","v":0},{"$f":"+'Table 1'!BJ399","v":0},{"$f":"+'Table 1'!BK399","v":0},{"$f":"+'Table 1'!BL399","v":0}]
[{"$f":"+'Table 1'!A408","v":"P312"},{"$f":"+'Table 1'!B408","v":"Call a POISON CENTER/doctor/…if you feel unwell."},{"$f":"+'Table 1'!Z408","v":"Acute toxicity, dermal (chapter 3.1)"},{"$f":"+'Table 1'!BG408","v":3},{"$f":"+'Table 1'!BH408","v":4},{"$f":"+'Table 1'!BI408","v":5},{"$f":"+'Table 1'!BJ408","v":0},{"$f":"+'Table 1'!BK408","v":0},{"$f":"+'Table 1'!BL408","v":0}]
[{"$f":"+'Table 1'!A424","v":"P321"},{"$f":"+'Table 1'!B424","v":"Specific treatment (see ... on this label)."},{"$f":"+'Table 1'!Z424","v":"Acute toxicity, dermal (chapter 3.1)"},{"$f":"+'Table 1'!BG424","v":1},{"$f":"+'Table 1'!BH424","v":2},{"$f":"+'Table 1'!BI424","v":3},{"$f":"+'Table 1'!BJ424","v":4},{"$f":"+'Table 1'!BK424","v":0},{"$f":"+'Table 1'!BL424","v":0}]
[{"$f":"+'Table 1'!A458","v":"P352"},{"$f":"+'Table 1'!B458","v":"Wash with plenty of water/..."},{"$f":"+'Table 1'!Z458","v":"Acute toxicity, dermal (chapter 3.1)"},{"$f":"+'Table 1'!BG458","v":1},{"$f":"+'Table 1'!BH458","v":2},{"$f":"+'Table 1'!BI458","v":3},{"$f":"+'Table 1'!BJ458","v":4},{"$f":"+'Table 1'!BK458","v":0},{"$f":"+'Table 1'!BL458","v":0}]
[{"$f":"+'Table 1'!A467","v":"P361"},{"$f":"+'Table 1'!B467","v":"Take off immediately all contaminated clothing."},{"$f":"+'Table 1'!Z467","v":"Acute toxicity, dermal (chapter 3.1)"},{"$f":"+'Table 1'!BG467","v":1},{"$f":"+'Table 1'!BH467","v":2},{"$f":"+'Table 1'!BI467","v":3},{"$f":"+'Table 1'!BJ467","v":0},{"$f":"+'Table 1'!BK467","v":0},{"$f":"+'Table 1'!BL467","v":0}]
[{"$f":"+'Table 1'!A469","v":"P362"},{"$f":"+'Table 1'!B469","v":"Take off contaminated clothing."},{"$f":"+'Table 1'!Z469","v":"Acute toxicity, dermal (chapter 3.1)"},{"$f":"+'Table 1'!BG469","v":4},{"$f":"+'Table 1'!BH469","v":0},{"$f":"+'Table 1'!BI469","v":0},{"$f":"+'Table 1'!BJ469","v":0},{"$f":"+'Table 1'!BK469","v":0},{"$f":"+'Table 1'!BL469","v":0}]
[{"$f":"+'Table 1'!A473","v":"P364"},{"$f":"+'Table 1'!B473","v":"And wash it before reuse."},{"$f":"+'Table 1'!Z473","v":"Acute toxicity, dermal (chapter 3.1)"},{"$f":"+'Table 1'!BG473","v":1},{"$f":"+'Table 1'!BH473","v":2},{"$f":"+'Table 1'!BI473","v":3},{"$f":"+'Table 1'!BJ473","v":4},{"$f":"+'Table 1'!BK473","v":0},{"$f":"+'Table 1'!BL473","v":0}]
[{"$f":"+'Table 1'!A535","v":"P302 + P352"},{"$f":"+'Table 1'!B535","v":"IF ON SKIN:  Wash with plenty of water/..."},{"$f":"+'Table 1'!Z535","v":"Acute toxicity, dermal (chapter 3.1)"},{"$f":"+'Table 1'!BG535","v":1},{"$f":"+'Table 1'!BH535","v":2},{"$f":"+'Table 1'!BI535","v":3},{"$f":"+'Table 1'!BJ535","v":4},{"$f":"+'Table 1'!BK535","v":5},{"$f":"+'Table 1'!BL535","v":0}]
[{"$f":"+'Table 1'!A557","v":"P361 + P364"},{"$f":"+'Table 1'!B557","v":"Take off immediately all contaminated clothing and wash it before reuse."},{"$f":"+'Table 1'!Z557","v":"Acute toxicity, dermal (chapter 3.1)"},{"$f":"+'Table 1'!BG557","v":1},{"$f":"+'Table 1'!BH557","v":2},{"$f":"+'Table 1'!BI557","v":3},{"$f":"+'Table 1'!BJ557","v":0},{"$f":"+'Table 1'!BK557","v":0},{"$f":"+'Table 1'!BL557","v":0}]
[{"$f":"+'Table 1'!A558","v":"P362 + P364"},{"$f":"+'Table 1'!B558","v":"Take off contaminated clothing and wash it before reuse."},{"$f":"+'Table 1'!Z558","v":"Acute toxicity, dermal (chapter 3.1)"},{"$f":"+'Table 1'!BG558","v":4},{"$f":"+'Table 1'!BH558","v":0},{"$f":"+'Table 1'!BI558","v":0},{"$f":"+'Table 1'!BJ558","v":0},{"$f":"+'Table 1'!BK558","v":0},{"$f":"+'Table 1'!BL558","v":0}]
[{"$f":"+'Table 1'!A639","v":"P405"},{"$f":"+'Table 1'!B639","v":"Store locked up."},{"$f":"+'Table 1'!Z639","v":"Acute toxicity, dermal (chapter 3.1)"},{"$f":"+'Table 1'!BG639","v":1},{"$f":"+'Table 1'!BH639","v":2},{"$f":"+'Table 1'!BI639","v":3},{"$f":"+'Table 1'!BJ639","v":0},{"$f":"+'Table 1'!BK639","v":0},{"$f":"+'Table 1'!BL639","v":0}]
[{"$f":"+'Table 1'!A686","v":"P501"},{"$f":"+'Table 1'!B686","v":"Dispose of contents/container to ..."},{"$f":"+'Table 1'!W686","v":"Acute toxicity, dermal (chapter 3.1)"},{"$f":"+'Table 1'!BI686","v":1},{"$f":"+'Table 1'!BJ686","v":2},{"$f":"+'Table 1'!BK686","v":3},{"$f":"+'Table 1'!BL686","v":4},{"$f":"+'Table 1'!BM686","v":0},{"$f":"+'Table 1'!BN686","v":0}]
[{"$f":"+'Table 1'!A305","v":"P260"},{"$f":"+'Table 1'!B305","v":"Do not breathe dust/fume/gas/mist/vapours/spray."},{"$f":"+'Table 1'!V305","v":"Acute toxicity, inhalation (chapter 3.1)"},{"$f":"+'Table 1'!BB305","v":1},{"$f":"+'Table 1'!BC305","v":2},{"$f":"+'Table 1'!BD305","v":0},{"$f":"+'Table 1'!BE305","v":0},{"$f":"+'Table 1'!BF305","v":0},{"$f":"+'Table 1'!BG305","v":0}]
[{"$f":"+'Table 1'!A310","v":"P261"},{"$f":"+'Table 1'!B310","v":"Avoid breathing dust/fume/gas/mist/vapours/spray."},{"$f":"+'Table 1'!V310","v":"Acute toxicity, inhalation (chapter 3.1)"},{"$f":"+'Table 1'!BB310","v":3},{"$f":"+'Table 1'!BC310","v":4},{"$f":"+'Table 1'!BD310","v":0},{"$f":"+'Table 1'!BE310","v":0},{"$f":"+'Table 1'!BF310","v":0},{"$f":"+'Table 1'!BG310","v":0}]
[{"$f":"+'Table 1'!A331","v":"P271"},{"$f":"+'Table 1'!B331","v":"Use only outdoors or in a well-ventilated area."},{"$f":"+'Table 1'!V331","v":"Acute toxicity, inhalation (chapter 3.1)"},{"$f":"+'Table 1'!BB331","v":1},{"$f":"+'Table 1'!BC331","v":2},{"$f":"+'Table 1'!BD331","v":3},{"$f":"+'Table 1'!BE331","v":4},{"$f":"+'Table 1'!BF331","v":0},{"$f":"+'Table 1'!BG331","v":0}]
[{"$f":"+'Table 1'!A279","v":"P233"},{"$f":"+'Table 1'!B279","v":"Keep container tightly closed."},{"$f":"+'Table 1'!V279","v":"Acute toxicity, inhalation (chapter 3.1)"},{"$f":"+'Table 1'!BB279","v":1},{"$f":"+'Table 1'!BC279","v":2},{"$f":"+'Table 1'!BD279","v":3},{"$f":"+'Table 1'!BE279","v":0},{"$f":"+'Table 1'!BF279","v":0},{"$f":"+'Table 1'!BG279","v":0}]
[{"$f":"+'Table 1'!A364","v":"P284"},{"$f":"+'Table 1'!B364","v":"[In case of inadequate ventilation] wear respiratory protection."},{"$f":"+'Table 1'!V364","v":"Acute toxicity, inhalation (chapter 3.1)"},{"$f":"+'Table 1'!BB364","v":1},{"$f":"+'Table 1'!BC364","v":2},{"$f":"+'Table 1'!BD364","v":0},{"$f":"+'Table 1'!BE364","v":0},{"$f":"+'Table 1'!BF364","v":0},{"$f":"+'Table 1'!BG364","v":0}]
[{"$f":"+'Table 1'!A381","v":"P304"},{"$f":"+'Table 1'!B381","v":"IF INHALED:"},{"$f":"+'Table 1'!Z381","v":"Acute toxicity, inhalation (chapter 3.1)"},{"$f":"+'Table 1'!BG381","v":1},{"$f":"+'Table 1'!BH381","v":2},{"$f":"+'Table 1'!BI381","v":3},{"$f":"+'Table 1'!BJ381","v":4},{"$f":"+'Table 1'!BK381","v":5},{"$f":"+'Table 1'!BL381","v":0}]
[{"$f":"+'Table 1'!A400","v":"P310"},{"$f":"+'Table 1'!B400","v":"Immediately call a POISON CENTER/doctor/…"},{"$f":"+'Table 1'!Z400","v":"Acute toxicity, inhalation (chapter 3.1)"},{"$f":"+'Table 1'!BG400","v":1},{"$f":"+'Table 1'!BH400","v":2},{"$f":"+'Table 1'!BI400","v":0},{"$f":"+'Table 1'!BJ400","v":0},{"$f":"+'Table 1'!BK400","v":0},{"$f":"+'Table 1'!BL400","v":0}]
[{"$f":"+'Table 1'!A404","v":"P311"},{"$f":"+'Table 1'!B404","v":"Call a POISON CENTER/doctor/…"},{"$f":"+'Table 1'!Z404","v":"Acute toxicity, inhalation (chapter 3.1)"},{"$f":"+'Table 1'!BG404","v":3},{"$f":"+'Table 1'!BH404","v":0},{"$f":"+'Table 1'!BI404","v":0},{"$f":"+'Table 1'!BJ404","v":0},{"$f":"+'Table 1'!BK404","v":0},{"$f":"+'Table 1'!BL404","v":0}]
[{"$f":"+'Table 1'!A409","v":"P312"},{"$f":"+'Table 1'!B409","v":"Call a POISON CENTER/doctor/…if you feel unwell."},{"$f":"+'Table 1'!Z409","v":"Acute toxicity, inhalation (chapter 3.1)"},{"$f":"+'Table 1'!BG409","v":4},{"$f":"+'Table 1'!BH409","v":5},{"$f":"+'Table 1'!BI409","v":0},{"$f":"+'Table 1'!BJ409","v":0},{"$f":"+'Table 1'!BK409","v":0},{"$f":"+'Table 1'!BL409","v":0}]
[{"$f":"+'Table 1'!A421","v":"P320"},{"$f":"+'Table 1'!B421","v":"Specific treatment is urgent (see ... on this label)."},{"$f":"+'Table 1'!Z421","v":"Acute toxicity, inhalation (chapter 3.1)"},{"$f":"+'Table 1'!BG421","v":1},{"$f":"+'Table 1'!BH421","v":2},{"$f":"+'Table 1'!BI421","v":0},{"$f":"+'Table 1'!BJ421","v":0},{"$f":"+'Table 1'!BK421","v":0},{"$f":"+'Table 1'!BL421","v":0}]
[{"$f":"+'Table 1'!A425","v":"P321"},{"$f":"+'Table 1'!B425","v":"Specific treatment (see ... on this label)."},{"$f":"+'Table 1'!Z425","v":"Acute toxicity, inhalation (chapter 3.1)"},{"$f":"+'Table 1'!BG425","v":3},{"$f":"+'Table 1'!BH425","v":0},{"$f":"+'Table 1'!BI425","v":0},{"$f":"+'Table 1'!BJ425","v":0},{"$f":"+'Table 1'!BK425","v":0},{"$f":"+'Table 1'!BL425","v":0}]
[{"$f":"+'Table 1'!A448","v":"P340"},{"$f":"+'Table 1'!B448","v":"Remove person to fresh air and keep comfortable for breathing."},{"$f":"+'Table 1'!Z448","v":"Acute toxicity, inhalation (chapter 3.1)"},{"$f":"+'Table 1'!BG448","v":1},{"$f":"+'Table 1'!BH448","v":2},{"$f":"+'Table 1'!BI448","v":3},{"$f":"+'Table 1'!BJ448","v":4},{"$f":"+'Table 1'!BK448","v":0},{"$f":"+'Table 1'!BL448","v":0}]
[{"$f":"+'Table 1'!A538","v":"P304 + P312"},{"$f":"+'Table 1'!B538","v":"IF INHALED:  Call a POISON CENTER/doctor/…if you feel unwell."},{"$f":"+'Table 1'!Z538","v":"Acute toxicity, inhalation (chapter 3.1)"},{"$f":"+'Table 1'!BG538","v":5},{"$f":"+'Table 1'!BH538","v":0},{"$f":"+'Table 1'!BI538","v":0},{"$f":"+'Table 1'!BJ538","v":0},{"$f":"+'Table 1'!BK538","v":0},{"$f":"+'Table 1'!BL538","v":0}]
[{"$f":"+'Table 1'!A539","v":"P304 + P340"},{"$f":"+'Table 1'!B539","v":"IF INHALED:  Remove person to fresh air and keep comfortable for breathing."},{"$f":"+'Table 1'!Z539","v":"Acute toxicity, inhalation (chapter 3.1)"},{"$f":"+'Table 1'!BG539","v":1},{"$f":"+'Table 1'!BH539","v":2},{"$f":"+'Table 1'!BI539","v":3},{"$f":"+'Table 1'!BJ539","v":4},{"$f":"+'Table 1'!BK539","v":0},{"$f":"+'Table 1'!BL539","v":0}]
[{"$f":"+'Table 1'!A633","v":"P403"},{"$f":"+'Table 1'!B633","v":"Store in a well-ventilated place."},{"$f":"+'Table 1'!Z633","v":"Acute toxicity, inhalation (chapter 3.1)"},{"$f":"+'Table 1'!BG633","v":1},{"$f":"+'Table 1'!BH633","v":2},{"$f":"+'Table 1'!BI633","v":3},{"$f":"+'Table 1'!BJ633","v":0},{"$f":"+'Table 1'!BK633","v":0},{"$f":"+'Table 1'!BL633","v":0}]
[{"$f":"+'Table 1'!A640","v":"P405"},{"$f":"+'Table 1'!B640","v":"Store locked up."},{"$f":"+'Table 1'!Z640","v":"Acute toxicity, inhalation (chapter 3.1)"},{"$f":"+'Table 1'!BG640","v":1},{"$f":"+'Table 1'!BH640","v":2},{"$f":"+'Table 1'!BI640","v":3},{"$f":"+'Table 1'!BJ640","v":0},{"$f":"+'Table 1'!BK640","v":0},{"$f":"+'Table 1'!BL640","v":0}]
[{"$f":"+'Table 1'!A669","v":"P403 + P233"},{"$f":"+'Table 1'!B669","v":"Store in a well-ventilated place.  Keep container tightly closed."},{"$f":"+'Table 1'!Z669","v":"Acute toxicity, inhalation (chapter 3.1)"},{"$f":"+'Table 1'!BG669","v":1},{"$f":"+'Table 1'!BH669","v":2},{"$f":"+'Table 1'!BI669","v":3},{"$f":"+'Table 1'!BJ669","v":0},{"$f":"+'Table 1'!BK669","v":0},{"$f":"+'Table 1'!BL669","v":0}]
[{"$f":"+'Table 1'!A687","v":"P501"},{"$f":"+'Table 1'!B687","v":"Dispose of contents/container to ..."},{"$f":"+'Table 1'!W687","v":"Acute toxicity, inhalation (chapter 3.1)"},{"$f":"+'Table 1'!BI687","v":1},{"$f":"+'Table 1'!BJ687","v":2},{"$f":"+'Table 1'!BK687","v":3},{"$f":"+'Table 1'!BL687","v":0},{"$f":"+'Table 1'!BM687","v":0},{"$f":"+'Table 1'!BN687","v":0}]
[{"$f":"+'Table 1'!A317","v":"P264"},{"$f":"+'Table 1'!B317","v":"Wash ... thoroughly after handling."},{"$f":"+'Table 1'!V317","v":"Acute toxicity, oral (chapter 3.1)"},{"$f":"+'Table 1'!BB317","v":1},{"$f":"+'Table 1'!BC317","v":2},{"$f":"+'Table 1'!BD317","v":3},{"$f":"+'Table 1'!BE317","v":4},{"$f":"+'Table 1'!BF317","v":0},{"$f":"+'Table 1'!BG317","v":0}]
[{"$f":"+'Table 1'!A326","v":"P270"},{"$f":"+'Table 1'!B326","v":"Do not eat, drink or smoke when using this product."},{"$f":"+'Table 1'!V326","v":"Acute toxicity, oral (chapter 3.1)"},{"$f":"+'Table 1'!BB326","v":1},{"$f":"+'Table 1'!BC326","v":2},{"$f":"+'Table 1'!BD326","v":3},{"$f":"+'Table 1'!BE326","v":4},{"$f":"+'Table 1'!BF326","v":0},{"$f":"+'Table 1'!BG326","v":0}]
[{"$f":"+'Table 1'!A370","v":"P301"},{"$f":"+'Table 1'!B370","v":"IF SWALLOWED:"},{"$f":"+'Table 1'!Z370","v":"Acute toxicity, oral (chapter 3.1)"},{"$f":"+'Table 1'!BG370","v":1},{"$f":"+'Table 1'!BH370","v":2},{"$f":"+'Table 1'!BI370","v":3},{"$f":"+'Table 1'!BJ370","v":4},{"$f":"+'Table 1'!BK370","v":5},{"$f":"+'Table 1'!BL370","v":0}]
[{"$f":"+'Table 1'!A398","v":"P310"},{"$f":"+'Table 1'!B398","v":"Immediately call a POISON CENTER/doctor/…"},{"$f":"+'Table 1'!Z398","v":"Acute toxicity, oral (chapter 3.1)"},{"$f":"+'Table 1'!BG398","v":1},{"$f":"+'Table 1'!BH398","v":2},{"$f":"+'Table 1'!BI398","v":3},{"$f":"+'Table 1'!BJ398","v":0},{"$f":"+'Table 1'!BK398","v":0},{"$f":"+'Table 1'!BL398","v":0}]
[{"$f":"+'Table 1'!A407","v":"P312"},{"$f":"+'Table 1'!B407","v":"Call a POISON CENTER/doctor/…if you feel unwell."},{"$f":"+'Table 1'!Z407","v":"Acute toxicity, oral (chapter 3.1)"},{"$f":"+'Table 1'!BG407","v":4},{"$f":"+'Table 1'!BH407","v":5},{"$f":"+'Table 1'!BI407","v":0},{"$f":"+'Table 1'!BJ407","v":0},{"$f":"+'Table 1'!BK407","v":0},{"$f":"+'Table 1'!BL407","v":0}]
[{"$f":"+'Table 1'!A423","v":"P321"},{"$f":"+'Table 1'!B423","v":"Specific treatment (see ... on this label)."},{"$f":"+'Table 1'!Z423","v":"Acute toxicity, oral (chapter 3.1)"},{"$f":"+'Table 1'!BG423","v":1},{"$f":"+'Table 1'!BH423","v":2},{"$f":"+'Table 1'!BI423","v":3},{"$f":"+'Table 1'!BJ423","v":0},{"$f":"+'Table 1'!BK423","v":0},{"$f":"+'Table 1'!BL423","v":0}]
[{"$f":"+'Table 1'!A431","v":"P330"},{"$f":"+'Table 1'!B431","v":"Rinse mouth."},{"$f":"+'Table 1'!Z431","v":"Acute toxicity, oral (chapter 3.1)"},{"$f":"+'Table 1'!BG431","v":1},{"$f":"+'Table 1'!BH431","v":2},{"$f":"+'Table 1'!BI431","v":3},{"$f":"+'Table 1'!BJ431","v":4},{"$f":"+'Table 1'!BK431","v":0},{"$f":"+'Table 1'!BL431","v":0}]
[{"$f":"+'Table 1'!A531","v":"P301 + P310"},{"$f":"+'Table 1'!B531","v":"IF SWALLOWED:  Immediately call a POISON CENTER/doctor/…"},{"$f":"+'Table 1'!Z531","v":"Acute toxicity, oral (chapter 3.1)"},{"$f":"+'Table 1'!BG531","v":1},{"$f":"+'Table 1'!BH531","v":2},{"$f":"+'Table 1'!BI531","v":3},{"$f":"+'Table 1'!BJ531","v":0},{"$f":"+'Table 1'!BK531","v":0},{"$f":"+'Table 1'!BL531","v":0}]
[{"$f":"+'Table 1'!A533","v":"P301 + P312"},{"$f":"+'Table 1'!B533","v":"IF SWALLOWED:  Call a POISON CENTER/ doctor/…if you feel unwell."},{"$f":"+'Table 1'!Z533","v":"Acute toxicity, oral (chapter 3.1)"},{"$f":"+'Table 1'!BG533","v":4},{"$f":"+'Table 1'!BH533","v":5},{"$f":"+'Table 1'!BI533","v":0},{"$f":"+'Table 1'!BJ533","v":0},{"$f":"+'Table 1'!BK533","v":0},{"$f":"+'Table 1'!BL533","v":0}]
[{"$f":"+'Table 1'!A638","v":"P405"},{"$f":"+'Table 1'!B638","v":"Store locked up."},{"$f":"+'Table 1'!Z638","v":"Acute toxicity, oral (chapter 3.1)"},{"$f":"+'Table 1'!BG638","v":1},{"$f":"+'Table 1'!BH638","v":2},{"$f":"+'Table 1'!BI638","v":3},{"$f":"+'Table 1'!BJ638","v":0},{"$f":"+'Table 1'!BK638","v":0},{"$f":"+'Table 1'!BL638","v":0}]
[{"$f":"+'Table 1'!A685","v":"P501"},{"$f":"+'Table 1'!B685","v":"Dispose of contents/container to ..."},{"$f":"+'Table 1'!W685","v":"Acute toxicity, oral (chapter 3.1)"},{"$f":"+'Table 1'!BI685","v":1},{"$f":"+'Table 1'!BJ685","v":2},{"$f":"+'Table 1'!BK685","v":3},{"$f":"+'Table 1'!BL685","v":4},{"$f":"+'Table 1'!BM685","v":0},{"$f":"+'Table 1'!BN685","v":0}]
[{"$f":"+'Table 1'!A247","v":"P210"},{"$f":"+'Table 1'!B247","v":"Keep away from heat, hot surfaces, sparks, open flames and other ignition sources. No smoking."},{"$f":"+'Table 1'!V247","v":"Aerosols (chapter 2.3)"},{"$f":"+'Table 1'!BB247","v":1},{"$f":"+'Table 1'!BC247","v":2},{"$f":"+'Table 1'!BD247","v":3},{"$f":"+'Table 1'!BE247","v":0},{"$f":"+'Table 1'!BF247","v":0},{"$f":"+'Table 1'!BG247","v":0}]
[{"$f":"+'Table 1'!A257","v":"P211"},{"$f":"+'Table 1'!B257","v":"Do not spray on an open flame or other ignition source."},{"$f":"+'Table 1'!V257","v":"Aerosols (chapter 2.3)"},{"$f":"+'Table 1'!BB257","v":1},{"$f":"+'Table 1'!BC257","v":2},{"$f":"+'Table 1'!BD257","v":0},{"$f":"+'Table 1'!BE257","v":0},{"$f":"+'Table 1'!BF257","v":0},{"$f":"+'Table 1'!BG257","v":0}]
[{"$f":"+'Table 1'!A303","v":"P251"},{"$f":"+'Table 1'!B303","v":"Do not pierce or burn, even after use."},{"$f":"+'Table 1'!V303","v":"Aerosols (chapter 2.3)"},{"$f":"+'Table 1'!BB303","v":1},{"$f":"+'Table 1'!BC303","v":2},{"$f":"+'Table 1'!BD303","v":3},{"$f":"+'Table 1'!BE303","v":0},{"$f":"+'Table 1'!BF303","v":0},{"$f":"+'Table 1'!BG303","v":0}]
[{"$f":"+'Table 1'!A652","v":"P410"},{"$f":"+'Table 1'!B652","v":"Protect from sunlight."},{"$f":"+'Table 1'!Z652","v":"Aerosols (chapter 2.3)"},{"$f":"+'Table 1'!BG652","v":1},{"$f":"+'Table 1'!BH652","v":2},{"$f":"+'Table 1'!BI652","v":3},{"$f":"+'Table 1'!BJ652","v":0},{"$f":"+'Table 1'!BK652","v":0},{"$f":"+'Table 1'!BL652","v":0}]
[{"$f":"+'Table 1'!A659","v":"P412"},{"$f":"+'Table 1'!B659","v":"Do not expose to temperatures exceeding 50 °C/ 122 °F."},{"$f":"+'Table 1'!Z659","v":"Aerosols (chapter 2.3)"},{"$f":"+'Table 1'!BG659","v":1},{"$f":"+'Table 1'!BH659","v":2},{"$f":"+'Table 1'!BI659","v":3},{"$f":"+'Table 1'!BJ659","v":0},{"$f":"+'Table 1'!BK659","v":0},{"$f":"+'Table 1'!BL659","v":0}]
[{"$f":"+'Table 1'!A675","v":"P410 + P412"},{"$f":"+'Table 1'!B675","v":"Protect from sunlight.  Do not expose to temperatures exceeding 50 °C/122 °F."},{"$f":"+'Table 1'!Z675","v":"Aerosols (chapter 2.3)"},{"$f":"+'Table 1'!BG675","v":1},{"$f":"+'Table 1'!BH675","v":2},{"$f":"+'Table 1'!BI675","v":3},{"$f":"+'Table 1'!BJ675","v":0},{"$f":"+'Table 1'!BK675","v":0},{"$f":"+'Table 1'!BL675","v":0}]
[{"$f":"+'Table 1'!A372","v":"P301"},{"$f":"+'Table 1'!B372","v":"IF SWALLOWED:"},{"$f":"+'Table 1'!Z372","v":"Aspiration hazard (chapter 3.10)"},{"$f":"+'Table 1'!BG372","v":1},{"$f":"+'Table 1'!BH372","v":2},{"$f":"+'Table 1'!BI372","v":0},{"$f":"+'Table 1'!BJ372","v":0},{"$f":"+'Table 1'!BK372","v":0},{"$f":"+'Table 1'!BL372","v":0}]
[{"$f":"+'Table 1'!A403","v":"P310"},{"$f":"+'Table 1'!B403","v":"Immediately call a POISON CENTER/doctor/…"},{"$f":"+'Table 1'!Z403","v":"Aspiration hazard (chapter 3.10)"},{"$f":"+'Table 1'!BG403","v":1},{"$f":"+'Table 1'!BH403","v":2},{"$f":"+'Table 1'!BI403","v":0},{"$f":"+'Table 1'!BJ403","v":0},{"$f":"+'Table 1'!BK403","v":0},{"$f":"+'Table 1'!BL403","v":0}]
[{"$f":"+'Table 1'!A434","v":"P331"},{"$f":"+'Table 1'!B434","v":"Do NOT induce vomiting."},{"$f":"+'Table 1'!Z434","v":"Aspiration hazard (chapter 3.10)"},{"$f":"+'Table 1'!BG434","v":1},{"$f":"+'Table 1'!BH434","v":2},{"$f":"+'Table 1'!BI434","v":0},{"$f":"+'Table 1'!BJ434","v":0},{"$f":"+'Table 1'!BK434","v":0},{"$f":"+'Table 1'!BL434","v":0}]
[{"$f":"+'Table 1'!A532","v":"P301 + P310"},{"$f":"+'Table 1'!B532","v":"IF SWALLOWED:  Immediately call a POISON CENTER/doctor/…"},{"$f":"+'Table 1'!Z532","v":"Aspiration hazard (chapter 3.10)"},{"$f":"+'Table 1'!BG532","v":1},{"$f":"+'Table 1'!BH532","v":2},{"$f":"+'Table 1'!BI532","v":0},{"$f":"+'Table 1'!BJ532","v":0},{"$f":"+'Table 1'!BK532","v":0},{"$f":"+'Table 1'!BL532","v":0}]
[{"$f":"+'Table 1'!A648","v":"P405"},{"$f":"+'Table 1'!B648","v":"Store locked up."},{"$f":"+'Table 1'!Z648","v":"Aspiration hazard (chapter 3.10)"},{"$f":"+'Table 1'!BG648","v":1},{"$f":"+'Table 1'!BH648","v":2},{"$f":"+'Table 1'!BI648","v":0},{"$f":"+'Table 1'!BJ648","v":0},{"$f":"+'Table 1'!BK648","v":0},{"$f":"+'Table 1'!BL648","v":0}]
[{"$f":"+'Table 1'!A699","v":"P501"},{"$f":"+'Table 1'!B699","v":"Dispose of contents/container to ..."},{"$f":"+'Table 1'!W699","v":"Aspiration hazard (chapter 3.10)"},{"$f":"+'Table 1'!BI699","v":1},{"$f":"+'Table 1'!BJ699","v":2},{"$f":"+'Table 1'!BK699","v":0},{"$f":"+'Table 1'!BL699","v":0},{"$f":"+'Table 1'!BM699","v":0},{"$f":"+'Table 1'!BN699","v":0}]
[{"$f":"+'Table 1'!A236","v":"P201"},{"$f":"+'Table 1'!B236","v":"Obtain special instructions before use."},{"$f":"+'Table 1'!V236","v":"Carcinogenicity (chapter 3.6)"},{"$f":"+'Table 1'!BB236","v":"1A"},{"$f":"+'Table 1'!BC236","v":"1B"},{"$f":"+'Table 1'!BD236","v":2},{"$f":"+'Table 1'!BE236","v":0},{"$f":"+'Table 1'!BF236","v":0},{"$f":"+'Table 1'!BG236","v":0}]
[{"$f":"+'Table 1'!A241","v":"P202"},{"$f":"+'Table 1'!B241","v":"Do not handle until all safety precautions have been read and understood."},{"$f":"+'Table 1'!V241","v":"Carcinogenicity (chapter 3.6)"},{"$f":"+'Table 1'!BB241","v":"1A"},{"$f":"+'Table 1'!BC241","v":"1B"},{"$f":"+'Table 1'!BD241","v":2},{"$f":"+'Table 1'!BE241","v":0},{"$f":"+'Table 1'!BF241","v":0},{"$f":"+'Table 1'!BG241","v":0}]
[{"$f":"+'Table 1'!A359","v":"P280 (suite)"},{"$f":"+'Table 1'!B359","v":"Wear protective gloves/protective clothing/eye protection/face protection/hearing protection/..."},{"$f":"+'Table 1'!V359","v":"Carcinogenicity (chapter 3.6)"},{"$f":"+'Table 1'!BB359","v":"1A"},{"$f":"+'Table 1'!BC359","v":"1B"},{"$f":"+'Table 1'!BD359","v":2},{"$f":"+'Table 1'!BE359","v":0},{"$f":"+'Table 1'!BF359","v":0},{"$f":"+'Table 1'!BG359","v":0}]
[{"$f":"+'Table 1'!A393","v":"P308"},{"$f":"+'Table 1'!B393","v":"IF exposed or concerned:"},{"$f":"+'Table 1'!Z393","v":"Carcinogenicity (chapter 3.6)"},{"$f":"+'Table 1'!BG393","v":"1A"},{"$f":"+'Table 1'!BH393","v":"1B"},{"$f":"+'Table 1'!BI393","v":2},{"$f":"+'Table 1'!BJ393","v":0},{"$f":"+'Table 1'!BK393","v":0},{"$f":"+'Table 1'!BL393","v":0}]
[{"$f":"+'Table 1'!A416","v":"P313"},{"$f":"+'Table 1'!B416","v":"Get medical advice/attention."},{"$f":"+'Table 1'!Z416","v":"Carcinogenicity (chapter 3.6)"},{"$f":"+'Table 1'!BG416","v":"1A"},{"$f":"+'Table 1'!BH416","v":"1B"},{"$f":"+'Table 1'!BI416","v":2},{"$f":"+'Table 1'!BJ416","v":0},{"$f":"+'Table 1'!BK416","v":0},{"$f":"+'Table 1'!BL416","v":0}]
[{"$f":"+'Table 1'!A548","v":"P308 + P313"},{"$f":"+'Table 1'!B548","v":"IF exposed or concerned:  Get medical advice/ attention."},{"$f":"+'Table 1'!Z548","v":"Carcinogenicity (chapter 3.6)"},{"$f":"+'Table 1'!BG548","v":"1A"},{"$f":"+'Table 1'!BH548","v":"1B"},{"$f":"+'Table 1'!BI548","v":2},{"$f":"+'Table 1'!BJ548","v":0},{"$f":"+'Table 1'!BK548","v":0},{"$f":"+'Table 1'!BL548","v":0}]
[{"$f":"+'Table 1'!A643","v":"P405"},{"$f":"+'Table 1'!B643","v":"Store locked up."},{"$f":"+'Table 1'!Z643","v":"Carcinogenicity (chapter 3.6)"},{"$f":"+'Table 1'!BG643","v":"1A"},{"$f":"+'Table 1'!BH643","v":"1B"},{"$f":"+'Table 1'!BI643","v":2},{"$f":"+'Table 1'!BJ643","v":0},{"$f":"+'Table 1'!BK643","v":0},{"$f":"+'Table 1'!BL643","v":0}]
[{"$f":"+'Table 1'!A693","v":"P501"},{"$f":"+'Table 1'!B693","v":"Dispose of contents/container to ..."},{"$f":"+'Table 1'!W693","v":"Carcinogenicity (chapter 3.6)"},{"$f":"+'Table 1'!BI693","v":"1A"},{"$f":"+'Table 1'!BJ693","v":"1B"},{"$f":"+'Table 1'!BK693","v":2},{"$f":"+'Table 1'!BL693","v":0},{"$f":"+'Table 1'!BM693","v":0},{"$f":"+'Table 1'!BN693","v":0}]
[{"$f":"+'Table 1'!A285","v":"P234"},{"$f":"+'Table 1'!B285","v":"Keep only in original packaging."},{"$f":"+'Table 1'!V285","v":"Corrosive to metals (chapter 2.16)"},{"$f":"+'Table 1'!BB285","v":1},{"$f":"+'Table 1'!BC285","v":0},{"$f":"+'Table 1'!BD285","v":0},{"$f":"+'Table 1'!BE285","v":0},{"$f":"+'Table 1'!BF285","v":0},{"$f":"+'Table 1'!BG285","v":0}]
[{"$f":"+'Table 1'!A527","v":"P390"},{"$f":"+'Table 1'!B527","v":"Absorb spillage to prevent material damage."},{"$f":"+'Table 1'!Z527","v":"Corrosive to metals (chapter 2.16)"},{"$f":"+'Table 1'!BG527","v":1},{"$f":"+'Table 1'!BH527","v":0},{"$f":"+'Table 1'!BI527","v":0},{"$f":"+'Table 1'!BJ527","v":0},{"$f":"+'Table 1'!BK527","v":0},{"$f":"+'Table 1'!BL527","v":0}]
[{"$f":"+'Table 1'!A649","v":"P406"},{"$f":"+'Table 1'!B649","v":"Store in a corrosion resistant/...container with a resistant inner liner."},{"$f":"+'Table 1'!Z649","v":"Corrosive to metals (chapter 2.16)"},{"$f":"+'Table 1'!BG649","v":1},{"$f":"+'Table 1'!BH649","v":0},{"$f":"+'Table 1'!BI649","v":0},{"$f":"+'Table 1'!BJ649","v":0},{"$f":"+'Table 1'!BK649","v":0},{"$f":"+'Table 1'!BL649","v":0}]
[{"$f":"+'Table 1'!A256","v":"P210"},{"$f":"+'Table 1'!B256","v":"Keep away from heat, hot surfaces, sparks, open flames and other ignition sources. No smoking."},{"$f":"+'Table 1'!V256","v":"Desensitized explosives (chapter 2.17)"},{"$f":"+'Table 1'!BB256","v":1},{"$f":"+'Table 1'!BC256","v":2},{"$f":"+'Table 1'!BD256","v":3},{"$f":"+'Table 1'!BE256","v":4},{"$f":"+'Table 1'!BF256","v":0},{"$f":"+'Table 1'!BG256","v":0}]
[{"$f":"+'Table 1'!A258","v":"P212"},{"$f":"+'Table 1'!B258","v":"Avoid heating under confinement or reduction of the desensitized agent"},{"$f":"+'Table 1'!V258","v":"Desensitized explosives (chapter 2.17)"},{"$f":"+'Table 1'!BB258","v":1},{"$f":"+'Table 1'!BC258","v":2},{"$f":"+'Table 1'!BD258","v":3},{"$f":"+'Table 1'!BE258","v":4},{"$f":"+'Table 1'!BF258","v":0},{"$f":"+'Table 1'!BG258","v":0}]
[{"$f":"+'Table 1'!A269","v":"P230"},{"$f":"+'Table 1'!B269","v":"Keep wetted with ..."},{"$f":"+'Table 1'!V269","v":"Desensitized explosives (chapter 2.17)"},{"$f":"+'Table 1'!BB269","v":1},{"$f":"+'Table 1'!BC269","v":2},{"$f":"+'Table 1'!BD269","v":3},{"$f":"+'Table 1'!BE269","v":4},{"$f":"+'Table 1'!BF269","v":0},{"$f":"+'Table 1'!BG269","v":0}]
[{"$f":"+'Table 1'!A278","v":"P233"},{"$f":"+'Table 1'!B278","v":"Keep container tightly closed."},{"$f":"+'Table 1'!V278","v":"Desensitized explosives (chapter 2.17)"},{"$f":"+'Table 1'!BB278","v":1},{"$f":"+'Table 1'!BC278","v":2},{"$f":"+'Table 1'!BD278","v":3},{"$f":"+'Table 1'!BE278","v":4},{"$f":"+'Table 1'!BF278","v":0},{"$f":"+'Table 1'!BG278","v":0}]
[{"$f":"+'Table 1'!A351","v":"P280 (suite)"},{"$f":"+'Table 1'!B351","v":"Wear protective gloves/protective clothing/eye protection/face protection/hearing protection/..."},{"$f":"+'Table 1'!V351","v":"Desensitized explosives (chapter 2.17)"},{"$f":"+'Table 1'!BB351","v":1},{"$f":"+'Table 1'!BC351","v":2},{"$f":"+'Table 1'!BD351","v":3},{"$f":"+'Table 1'!BE351","v":4},{"$f":"+'Table 1'!BF351","v":0},{"$f":"+'Table 1'!BG351","v":0}]
[{"$f":"+'Table 1'!A489","v":"P370"},{"$f":"+'Table 1'!B489","v":"In case of fire:"},{"$f":"+'Table 1'!Z489","v":"Desensitized explosives (chapter 2.17)"},{"$f":"+'Table 1'!BG489","v":1},{"$f":"+'Table 1'!BH489","v":2},{"$f":"+'Table 1'!BI489","v":3},{"$f":"+'Table 1'!BJ489","v":0},{"$f":"+'Table 1'!BK489","v":0},{"$f":"+'Table 1'!BL489","v":0}]
[{"$f":"+'Table 1'!A492","v":"P371"},{"$f":"+'Table 1'!B492","v":"In case of major fire and large quantities:"},{"$f":"+'Table 1'!Z492","v":"Desensitized explosives (chapter 2.17)"},{"$f":"+'Table 1'!BG492","v":4},{"$f":"+'Table 1'!BH492","v":0},{"$f":"+'Table 1'!BI492","v":0},{"$f":"+'Table 1'!BJ492","v":0},{"$f":"+'Table 1'!BK492","v":0},{"$f":"+'Table 1'!BL492","v":0}]
[{"$f":"+'Table 1'!A507","v":"P375"},{"$f":"+'Table 1'!B507","v":"Fight fire remotely due to the risk of explosion."},{"$f":"+'Table 1'!Z507","v":"Desensitized explosives (chapter 2.17)"},{"$f":"+'Table 1'!BG507","v":1},{"$f":"+'Table 1'!BH507","v":2},{"$f":"+'Table 1'!BI507","v":3},{"$f":"+'Table 1'!BJ507","v":4},{"$f":"+'Table 1'!BK507","v":0},{"$f":"+'Table 1'!BL507","v":0}]
[{"$f":"+'Table 1'!A524","v":"P380"},{"$f":"+'Table 1'!B524","v":"Evacuate area."},{"$f":"+'Table 1'!Z524","v":"Desensitized explosives (chapter 2.17)"},{"$f":"+'Table 1'!BG524","v":1},{"$f":"+'Table 1'!BH524","v":2},{"$f":"+'Table 1'!BI524","v":3},{"$f":"+'Table 1'!BJ524","v":4},{"$f":"+'Table 1'!BK524","v":0},{"$f":"+'Table 1'!BL524","v":0}]
[{"$f":"+'Table 1'!A591","v":"P370 +P380 + P375"},{"$f":"+'Table 1'!B591","v":"In case of fire:  Evacuate area.  Fight fire remotely due to the risk of explosion."},{"$f":"+'Table 1'!Z591","v":"Desensitized explosives (chapter 2.17)"},{"$f":"+'Table 1'!BG591","v":1},{"$f":"+'Table 1'!BH591","v":2},{"$f":"+'Table 1'!BI591","v":3},{"$f":"+'Table 1'!BJ591","v":0},{"$f":"+'Table 1'!BK591","v":0},{"$f":"+'Table 1'!BL591","v":0}]
[{"$f":"+'Table 1'!A599","v":"P371 +P380 + P375"},{"$f":"+'Table 1'!B599","v":"In case of major fire and large quantities:  Evacuate area.  Fight fire remotely due to the risk of explosion."},{"$f":"+'Table 1'!Z599","v":"Desensitized explosives (chapter 2.17)"},{"$f":"+'Table 1'!BG599","v":4},{"$f":"+'Table 1'!BH599","v":0},{"$f":"+'Table 1'!BI599","v":0},{"$f":"+'Table 1'!BJ599","v":0},{"$f":"+'Table 1'!BK599","v":0},{"$f":"+'Table 1'!BL599","v":0}]
[{"$f":"+'Table 1'!A622","v":"P401"},{"$f":"+'Table 1'!B622","v":"Store in accordance with…"},{"$f":"+'Table 1'!Z622","v":"Desensitized explosives (chapter 2.17)"},{"$f":"+'Table 1'!BG622","v":1},{"$f":"+'Table 1'!BH622","v":2},{"$f":"+'Table 1'!BI622","v":3},{"$f":"+'Table 1'!BJ622","v":4},{"$f":"+'Table 1'!BK622","v":0},{"$f":"+'Table 1'!BL622","v":0}]
[{"$f":"+'Table 1'!A684","v":"P501"},{"$f":"+'Table 1'!B684","v":"Dispose of contents/container to ..."},{"$f":"+'Table 1'!W684","v":"Desensitized explosives (chapter 2.17)"},{"$f":"+'Table 1'!BI684","v":1},{"$f":"+'Table 1'!BJ684","v":2},{"$f":"+'Table 1'!BK684","v":3},{"$f":"+'Table 1'!BL684","v":4},{"$f":"+'Table 1'!BM684","v":0},{"$f":"+'Table 1'!BN684","v":0}]
[{"$f":"+'Table 1'!A234","v":"P201"},{"$f":"+'Table 1'!B234","v":"Obtain special instructions before use."},{"$f":"+'Table 1'!V234","v":"Explosives (chapter 2.1)"},{"$f":"+'Table 1'!BB234","v":"Unstable explosive"},{"$f":"+'Table 1'!BC234","v":0},{"$f":"+'Table 1'!BD234","v":0},{"$f":"+'Table 1'!BE234","v":0},{"$f":"+'Table 1'!BF234","v":0},{"$f":"+'Table 1'!BG234","v":0}]
[{"$f":"+'Table 1'!A245","v":"P210"},{"$f":"+'Table 1'!B245","v":"Keep away from heat, hot surfaces, sparks, open flames and other ignition sources. No smoking."},{"$f":"+'Table 1'!V245","v":"Explosives (chapter 2.1)"},{"$f":"+'Table 1'!BB245","v":"1.1"},{"$f":"+'Table 1'!BC245","v":"1.2"},{"$f":"+'Table 1'!BD245","v":"1.3"},{"$f":"+'Table 1'!BE245","v":"1.4"},{"$f":"+'Table 1'!BF245","v":"1.5"},{"$f":"+'Table 1'!BG245","v":0},"Conditions for use (5)"]
[{"$f":"+'Table 1'!A268","v":"P230"},{"$f":"+'Table 1'!B268","v":"Keep wetted with ..."},{"$f":"+'Table 1'!V268","v":"Explosives (chapter 2.1)"},{"$f":"+'Table 1'!BB268","v":"1.1"},{"$f":"+'Table 1'!BC268","v":"1.2"},{"$f":"+'Table 1'!BD268","v":"1.3"},{"$f":"+'Table 1'!BE268","v":"1.5"},{"$f":"+'Table 1'!BF268","v":0},{"$f":"+'Table 1'!BG268","v":0}]
[{"$f":"+'Table 1'!A282","v":"P234"},{"$f":"+'Table 1'!B282","v":"Keep only in original packaging."},{"$f":"+'Table 1'!V282","v":"Explosives (chapter 2.1)"},{"$f":"+'Table 1'!BB282","v":"1.1"},{"$f":"+'Table 1'!BC282","v":"1.2"},{"$f":"+'Table 1'!BD282","v":"1.3"},{"$f":"+'Table 1'!BE282","v":"1.4"},{"$f":"+'Table 1'!BF282","v":"1.5"},{"$f":"+'Table 1'!BG282","v":0}]
[{"$f":"+'Table 1'!A291","v":"P240"},{"$f":"+'Table 1'!B291","v":"Ground and bond container and receiving equipment."},{"$f":"+'Table 1'!V291","v":"Explosives (chapter 2.1)"},{"$f":"+'Table 1'!BB291","v":"1.1"},{"$f":"+'Table 1'!BC291","v":"1.2"},{"$f":"+'Table 1'!BD291","v":"1.3"},{"$f":"+'Table 1'!BE291","v":"1.4"},{"$f":"+'Table 1'!BF291","v":"1.5"},{"$f":"+'Table 1'!BG291","v":0}]
[{"$f":"+'Table 1'!A302","v":"P250"},{"$f":"+'Table 1'!B302","v":"Do not subject to grinding/shock/friction/…."},{"$f":"+'Table 1'!V302","v":"Explosives (chapter 2.1)"},{"$f":"+'Table 1'!BB302","v":"Unstable explosive"},{"$f":"+'Table 1'!BC302","v":"1.1"},{"$f":"+'Table 1'!BD302","v":"1.2"},{"$f":"+'Table 1'!BE302","v":"1.3"},{"$f":"+'Table 1'!BF302","v":"1.4"},{"$f":"+'Table 1'!BG302","v":"1.5"}]
[{"$f":"+'Table 1'!A338","v":"P280"},{"$f":"+'Table 1'!B338","v":"Wear protective gloves/protective clothing/eye protection/face protection/hearing protection/..."},{"$f":"+'Table 1'!V338","v":"Explosives (chapter 2.1)"},{"$f":"+'Table 1'!BB338","v":"Unstable explosive"},{"$f":"+'Table 1'!BC338","v":"1.1"},{"$f":"+'Table 1'!BD338","v":"1.2"},{"$f":"+'Table 1'!BE338","v":"1.3"},{"$f":"+'Table 1'!BF338","v":"1.4"},{"$f":"+'Table 1'!BG338","v":"1.5"}]
[{"$f":"+'Table 1'!A478","v":"P370"},{"$f":"+'Table 1'!B478","v":"In case of fire:"},{"$f":"+'Table 1'!Z478","v":"Explosives (chapter 2.1)"},{"$f":"+'Table 1'!BG478","v":"Unstable explosive"},{"$f":"+'Table 1'!BH478","v":"1.1"},{"$f":"+'Table 1'!BI478","v":"1.2"},{"$f":"+'Table 1'!BJ478","v":"1.3"},{"$f":"+'Table 1'!BK478","v":"1.4"},{"$f":"+'Table 1'!BL478","v":"1.5"}]
[{"$f":"+'Table 1'!A493","v":"P372"},{"$f":"+'Table 1'!B493","v":"Explosion risk."},{"$f":"+'Table 1'!Z493","v":"Explosives (chapter 2.1)"},{"$f":"+'Table 1'!BG493","v":"Unstable explosive"},{"$f":"+'Table 1'!BH493","v":"1.2"},{"$f":"+'Table 1'!BI493","v":"1.3"},{"$f":"+'Table 1'!BJ493","v":"1.4"},{"$f":"+'Table 1'!BK493","v":"1.5"},{"$f":"+'Table 1'!BL493","v":"1.1"}]
[{"$f":"+'Table 1'!A497","v":"P373"},{"$f":"+'Table 1'!B497","v":"DO NOT fight fire when fire reaches explosives."},{"$f":"+'Table 1'!Z497","v":"Explosives (chapter 2.1)"},{"$f":"+'Table 1'!BG497","v":"Unstable explosive"},{"$f":"+'Table 1'!BH497","v":"1.1"},{"$f":"+'Table 1'!BI497","v":"1.2"},{"$f":"+'Table 1'!BJ497","v":"1.3"},{"$f":"+'Table 1'!BK497","v":"1.4"},{"$f":"+'Table 1'!BL497","v":"1.5"}]
[{"$f":"+'Table 1'!A502","v":"P375"},{"$f":"+'Table 1'!B502","v":"Fight fire remotely due to the risk of explosion."},{"$f":"+'Table 1'!Z502","v":"Explosives (chapter 2.1)"},{"$f":"+'Table 1'!BG502","v":"1.4"},{"$f":"+'Table 1'!BH502","v":0},{"$f":"+'Table 1'!BI502","v":0},{"$f":"+'Table 1'!BJ502","v":0},{"$f":"+'Table 1'!BK502","v":0},{"$f":"+'Table 1'!BL502","v":0}]
[{"$f":"+'Table 1'!A519","v":"P380"},{"$f":"+'Table 1'!B519","v":"Evacuate area."},{"$f":"+'Table 1'!Z519","v":"Explosives (chapter 2.1)"},{"$f":"+'Table 1'!BG519","v":"Unstable explosive"},{"$f":"+'Table 1'!BH519","v":"1.1"},{"$f":"+'Table 1'!BI519","v":"1.2"},{"$f":"+'Table 1'!BJ519","v":"1.3"},{"$f":"+'Table 1'!BK519","v":"1.4"},{"$f":"+'Table 1'!BL519","v":"1.5"}]
[{"$f":"+'Table 1'!A589","v":"P370 +P380 + P375"},{"$f":"+'Table 1'!B589","v":"In case of fire:  Evacuate area.  Fight fire remotely due to the risk of explosion."},{"$f":"+'Table 1'!Z589","v":"Explosives (chapter 2.1)"},{"$f":"+'Table 1'!BG589","v":"1.4"},{"$f":"+'Table 1'!BH589","v":0},{"$f":"+'Table 1'!BI589","v":0},{"$f":"+'Table 1'!BJ589","v":0},{"$f":"+'Table 1'!BK589","v":0},{"$f":"+'Table 1'!BL589","v":0}]
[{"$f":"+'Table 1'!A603","v":"P370 + P372 + P380 + P373"},{"$f":"+'Table 1'!B603","v":"In case of fire:  Explosion risk. Evacuate area. DO NOT fight fire when fire reaches explosives."},{"$f":"+'Table 1'!Z603","v":"Explosives (chapter 2.1)"},{"$f":"+'Table 1'!BG603","v":"Unstable explosive"},{"$f":"+'Table 1'!BH603","v":"1.1"},{"$f":"+'Table 1'!BI603","v":"1.2"},{"$f":"+'Table 1'!BJ603","v":"1.3"},{"$f":"+'Table 1'!BK603","v":"1.4"},{"$f":"+'Table 1'!BL603","v":"1.5"}]
[{"$f":"+'Table 1'!A621","v":"P401"},{"$f":"+'Table 1'!B621","v":"Store in accordance with…"},{"$f":"+'Table 1'!Z621","v":"Explosives (chapter 2.1)"},{"$f":"+'Table 1'!BG621","v":"Unstable explosive"},{"$f":"+'Table 1'!BH621","v":"1.1"},{"$f":"+'Table 1'!BI621","v":"1.2"},{"$f":"+'Table 1'!BJ621","v":"1.3"},{"$f":"+'Table 1'!BK621","v":"1.4"},{"$f":"+'Table 1'!BL621","v":"1.5"}]
[{"$f":"+'Table 1'!A703","v":"P503"},{"$f":"+'Table 1'!B703","v":"Refer to manufacturer/supplier… for information on disposal/recovery/recycling."},{"$f":"+'Table 1'!W703","v":"Explosives (chapter 2.1)"},{"$f":"+'Table 1'!BI703","v":"Unstable explosive"},{"$f":"+'Table 1'!BJ703","v":"1.1"},{"$f":"+'Table 1'!BK703","v":"1.2"},{"$f":"+'Table 1'!BL703","v":"1.3"},{"$f":"+'Table 1'!BM703","v":"1.4"},{"$f":"+'Table 1'!BN703","v":"1.5"}]
[{"$f":"+'Table 1'!A321","v":"P264"},{"$f":"+'Table 1'!B321","v":"Wash ... thoroughly after handling."},{"$f":"+'Table 1'!V321","v":"Eye irritation (chapter 3.3)"},{"$f":"+'Table 1'!BB321","v":"2A"},{"$f":"+'Table 1'!BC321","v":"2B"},{"$f":"+'Table 1'!BD321","v":0},{"$f":"+'Table 1'!BE321","v":0},{"$f":"+'Table 1'!BF321","v":0},{"$f":"+'Table 1'!BG321","v":0}]
[{"$f":"+'Table 1'!A357","v":"P280 (suite)"},{"$f":"+'Table 1'!B357","v":"Wear protective gloves/protective clothing/eye protection/face protection/hearing protection/..."},{"$f":"+'Table 1'!V357","v":"Eye irritation (chapter 3.3)"},{"$f":"+'Table 1'!BB357","v":"2A"},{"$f":"+'Table 1'!BC357","v":0},{"$f":"+'Table 1'!BD357","v":0},{"$f":"+'Table 1'!BE357","v":0},{"$f":"+'Table 1'!BF357","v":0},{"$f":"+'Table 1'!BG357","v":0}]
[{"$f":"+'Table 1'!A388","v":"P305"},{"$f":"+'Table 1'!B388","v":"IF IN EYES:"},{"$f":"+'Table 1'!Z388","v":"Eye irritation (chapter 3.3)"},{"$f":"+'Table 1'!BG388","v":"2A"},{"$f":"+'Table 1'!BH388","v":"2B"},{"$f":"+'Table 1'!BI388","v":0},{"$f":"+'Table 1'!BJ388","v":0},{"$f":"+'Table 1'!BK388","v":0},{"$f":"+'Table 1'!BL388","v":0}]
[{"$f":"+'Table 1'!A413","v":"P313"},{"$f":"+'Table 1'!B413","v":"Get medical advice/attention."},{"$f":"+'Table 1'!Z413","v":"Eye irritation (chapter 3.3)"},{"$f":"+'Table 1'!BG413","v":"2A"},{"$f":"+'Table 1'!BH413","v":"2B"},{"$f":"+'Table 1'!BI413","v":0},{"$f":"+'Table 1'!BJ413","v":0},{"$f":"+'Table 1'!BK413","v":0},{"$f":"+'Table 1'!BL413","v":0}]
[{"$f":"+'Table 1'!A443","v":"P337"},{"$f":"+'Table 1'!B443","v":"If eye irritation persists:"},{"$f":"+'Table 1'!Z443","v":"Eye irritation (chapter 3.3)"},{"$f":"+'Table 1'!BG443","v":"2A"},{"$f":"+'Table 1'!BH443","v":"2B"},{"$f":"+'Table 1'!BI443","v":0},{"$f":"+'Table 1'!BJ443","v":0},{"$f":"+'Table 1'!BK443","v":0},{"$f":"+'Table 1'!BL443","v":0}]
[{"$f":"+'Table 1'!A446","v":"P338"},{"$f":"+'Table 1'!B446","v":"Remove contact lenses, if present and easy to do. Continue rinsing."},{"$f":"+'Table 1'!Z446","v":"Eye irritation (chapter 3.3)"},{"$f":"+'Table 1'!BG446","v":"2A"},{"$f":"+'Table 1'!BH446","v":"2B"},{"$f":"+'Table 1'!BI446","v":0},{"$f":"+'Table 1'!BJ446","v":0},{"$f":"+'Table 1'!BK446","v":0},{"$f":"+'Table 1'!BL446","v":0}]
[{"$f":"+'Table 1'!A457","v":"P351"},{"$f":"+'Table 1'!B457","v":"Rinse cautiously with water for several minutes."},{"$f":"+'Table 1'!Z457","v":"Eye irritation (chapter 3.3)"},{"$f":"+'Table 1'!BG457","v":"2A"},{"$f":"+'Table 1'!BH457","v":"2B"},{"$f":"+'Table 1'!BI457","v":0},{"$f":"+'Table 1'!BJ457","v":0},{"$f":"+'Table 1'!BK457","v":0},{"$f":"+'Table 1'!BL457","v":0}]
[{"$f":"+'Table 1'!A555","v":"P337 + P313"},{"$f":"+'Table 1'!B555","v":"If eye irritation persists:  Get medical advice/attention."},{"$f":"+'Table 1'!Z555","v":"Eye irritation (chapter 3.3)"},{"$f":"+'Table 1'!BG555","v":"2A"},{"$f":"+'Table 1'!BH555","v":"2B"},{"$f":"+'Table 1'!BI555","v":0},{"$f":"+'Table 1'!BJ555","v":0},{"$f":"+'Table 1'!BK555","v":0},{"$f":"+'Table 1'!BL555","v":0}]
[{"$f":"+'Table 1'!A586","v":"P305 +P351 + P338"},{"$f":"+'Table 1'!B586","v":"IF IN EYES:  Rinse cautiously with water for several minutes.  Remove contact lenses, if present and easy to do.  Continue rinsing."},{"$f":"+'Table 1'!Z586","v":"Eye irritation (chapter 3.3)"},{"$f":"+'Table 1'!BG586","v":"2A"},{"$f":"+'Table 1'!BH586","v":"2B"},{"$f":"+'Table 1'!BI586","v":0},{"$f":"+'Table 1'!BJ586","v":0},{"$f":"+'Table 1'!BK586","v":0},{"$f":"+'Table 1'!BL586","v":0}]
[{"$f":"+'Table 1'!A239","v":"P202"},{"$f":"+'Table 1'!B239","v":"Do not handle until all safety precautions have been read and understood."},{"$f":"+'Table 1'!V239","v":"Flammable gases (chapter 2.2)"},{"$f":"+'Table 1'!BB239","v":"A"},{"$f":"+'Table 1'!BC239","v":"B (chemically unstable gases)"},{"$f":"+'Table 1'!BD239","v":0},{"$f":"+'Table 1'!BE239","v":0},{"$f":"+'Table 1'!BF239","v":0},{"$f":"+'Table 1'!BG239","v":0}]
[{"$f":"+'Table 1'!A246","v":"P210"},{"$f":"+'Table 1'!B246","v":"Keep away from heat, hot surfaces, sparks, open flames and other ignition sources. No smoking."},{"$f":"+'Table 1'!V246","v":"Flammable gases (chapter 2.2)"},{"$f":"+'Table 1'!BB246","v":"1A"},{"$f":"+'Table 1'!BC246","v":"1B"},{"$f":"+'Table 1'!BD246","v":2},{"$f":"+'Table 1'!BE246","v":0},{"$f":"+'Table 1'!BF246","v":0},{"$f":"+'Table 1'!BG246","v":0}]
[{"$f":"+'Table 1'!A263","v":"P222"},{"$f":"+'Table 1'!B263","v":"Do not allow contact with air."},{"$f":"+'Table 1'!V263","v":"Flammable gases (chapter 2.2)"},{"$f":"+'Table 1'!BB263","v":"Pyrophoric gas"},{"$f":"+'Table 1'!BC263","v":0},{"$f":"+'Table 1'!BD263","v":0},{"$f":"+'Table 1'!BE263","v":0},{"$f":"+'Table 1'!BF263","v":0},{"$f":"+'Table 1'!BG263","v":0}]
[{"$f":"+'Table 1'!A339","v":"P280"},{"$f":"+'Table 1'!B339","v":"Wear protective gloves/protective clothing/eye protection/face protection/hearing protection/..."},{"$f":"+'Table 1'!V339","v":"Flammable gases (chapter 2.2)"},{"$f":"+'Table 1'!BB339","v":"Pyrophoric gas"},{"$f":"+'Table 1'!BC339","v":0},{"$f":"+'Table 1'!BD339","v":0},{"$f":"+'Table 1'!BE339","v":0},{"$f":"+'Table 1'!BF339","v":0},{"$f":"+'Table 1'!BG339","v":0}]
[{"$f":"+'Table 1'!A509","v":"P377"},{"$f":"+'Table 1'!B509","v":"Leaking gas fire: Do not extinguish, unless leak can be stopped safely."},{"$f":"+'Table 1'!Z509","v":"Flammable gases (chapter 2.2)"},{"$f":"+'Table 1'!BG509","v":"1A"},{"$f":"+'Table 1'!BH509","v":"1B"},{"$f":"+'Table 1'!BI509","v":2},{"$f":"+'Table 1'!BJ509","v":0},{"$f":"+'Table 1'!BK509","v":0},{"$f":"+'Table 1'!BL509","v":0}]
[{"$f":"+'Table 1'!A525","v":"P381"},{"$f":"+'Table 1'!B525","v":"In case of leakage, eliminate all ignition sources."},{"$f":"+'Table 1'!Z525","v":"Flammable gases (chapter 2.2)"},{"$f":"+'Table 1'!BG525","v":"1A"},{"$f":"+'Table 1'!BH525","v":"1B"},{"$f":"+'Table 1'!BI525","v":2},{"$f":"+'Table 1'!BJ525","v":0},{"$f":"+'Table 1'!BK525","v":0},{"$f":"+'Table 1'!BL525","v":0}]
[{"$f":"+'Table 1'!A624","v":"P403"},{"$f":"+'Table 1'!B624","v":"Store in a well-ventilated place."},{"$f":"+'Table 1'!Z624","v":"Flammable gases (chapter 2.2)"},{"$f":"+'Table 1'!BG624","v":"1A"},{"$f":"+'Table 1'!BH624","v":"1B"},{"$f":"+'Table 1'!BI624","v":2},{"$f":"+'Table 1'!BJ624","v":0},{"$f":"+'Table 1'!BK624","v":0},{"$f":"+'Table 1'!BL624","v":0}]
[{"$f":"+'Table 1'!A248","v":"P210"},{"$f":"+'Table 1'!B248","v":"Keep away from heat, hot surfaces, sparks, open flames and other ignition sources. No smoking."},{"$f":"+'Table 1'!V248","v":"Flammable liquids (chapter 2.6)"},{"$f":"+'Table 1'!BB248","v":1},{"$f":"+'Table 1'!BC248","v":2},{"$f":"+'Table 1'!BD248","v":3},{"$f":"+'Table 1'!BE248","v":4},{"$f":"+'Table 1'!BF248","v":0},{"$f":"+'Table 1'!BG248","v":0}]
[{"$f":"+'Table 1'!A275","v":"P233"},{"$f":"+'Table 1'!B275","v":"Keep container tightly closed."},{"$f":"+'Table 1'!V275","v":"Flammable liquids (chapter 2.6)"},{"$f":"+'Table 1'!BB275","v":1},{"$f":"+'Table 1'!BC275","v":2},{"$f":"+'Table 1'!BD275","v":3},{"$f":"+'Table 1'!BE275","v":0},{"$f":"+'Table 1'!BF275","v":0},{"$f":"+'Table 1'!BG275","v":0}]
[{"$f":"+'Table 1'!A286","v":"P235"},{"$f":"+'Table 1'!B286","v":"Keep cool."},{"$f":"+'Table 1'!V286","v":"Flammable liquids (chapter 2.6)"},{"$f":"+'Table 1'!BB286","v":1},{"$f":"+'Table 1'!BC286","v":2},{"$f":"+'Table 1'!BD286","v":3},{"$f":"+'Table 1'!BE286","v":0},{"$f":"+'Table 1'!BF286","v":0},{"$f":"+'Table 1'!BG286","v":0}]
[{"$f":"+'Table 1'!A292","v":"P240"},{"$f":"+'Table 1'!B292","v":"Ground and bond container and receiving equipment."},{"$f":"+'Table 1'!V292","v":"Flammable liquids (chapter 2.6)"},{"$f":"+'Table 1'!BB292","v":1},{"$f":"+'Table 1'!BC292","v":2},{"$f":"+'Table 1'!BD292","v":3},{"$f":"+'Table 1'!BE292","v":0},{"$f":"+'Table 1'!BF292","v":0},{"$f":"+'Table 1'!BG292","v":0}]
[{"$f":"+'Table 1'!A296","v":"P241"},{"$f":"+'Table 1'!B296","v":"Use explosion-proof [electrical/ventilating/lighting/...] equipment."},{"$f":"+'Table 1'!V296","v":"Flammable liquids (chapter 2.6)"},{"$f":"+'Table 1'!BB296","v":1},{"$f":"+'Table 1'!BC296","v":2},{"$f":"+'Table 1'!BD296","v":3},{"$f":"+'Table 1'!BE296","v":0},{"$f":"+'Table 1'!BF296","v":0},{"$f":"+'Table 1'!BG296","v":0}]
[{"$f":"+'Table 1'!A298","v":"P242"},{"$f":"+'Table 1'!B298","v":"Use non-sparking tools."},{"$f":"+'Table 1'!V298","v":"Flammable liquids (chapter 2.6)"},{"$f":"+'Table 1'!BB298","v":1},{"$f":"+'Table 1'!BC298","v":2},{"$f":"+'Table 1'!BD298","v":3},{"$f":"+'Table 1'!BE298","v":0},{"$f":"+'Table 1'!BF298","v":0},{"$f":"+'Table 1'!BG298","v":0}]
[{"$f":"+'Table 1'!A299","v":"P243"},{"$f":"+'Table 1'!B299","v":"Take action to prevent static discharges."},{"$f":"+'Table 1'!V299","v":"Flammable liquids (chapter 2.6)"},{"$f":"+'Table 1'!BB299","v":1},{"$f":"+'Table 1'!BC299","v":2},{"$f":"+'Table 1'!BD299","v":3},{"$f":"+'Table 1'!BE299","v":0},{"$f":"+'Table 1'!BF299","v":0},{"$f":"+'Table 1'!BG299","v":0}]
[{"$f":"+'Table 1'!A340","v":"P280"},{"$f":"+'Table 1'!B340","v":"Wear protective gloves/protective clothing/eye protection/face protection/hearing protection/..."},{"$f":"+'Table 1'!V340","v":"Flammable liquids (chapter 2.6)"},{"$f":"+'Table 1'!BB340","v":1},{"$f":"+'Table 1'!BC340","v":2},{"$f":"+'Table 1'!BD340","v":3},{"$f":"+'Table 1'!BE340","v":4},{"$f":"+'Table 1'!BF340","v":0},{"$f":"+'Table 1'!BG340","v":0}]
[{"$f":"+'Table 1'!A379","v":"P303"},{"$f":"+'Table 1'!B379","v":"IF ON SKIN (or hair):"},{"$f":"+'Table 1'!Z379","v":"Flammable liquids (chapter 2.6)"},{"$f":"+'Table 1'!BG379","v":1},{"$f":"+'Table 1'!BH379","v":2},{"$f":"+'Table 1'!BI379","v":3},{"$f":"+'Table 1'!BJ379","v":0},{"$f":"+'Table 1'!BK379","v":0},{"$f":"+'Table 1'!BL379","v":0}]
[{"$f":"+'Table 1'!A461","v":"P353"},{"$f":"+'Table 1'!B461","v":"Rinse skin with water [or shower]."},{"$f":"+'Table 1'!Z461","v":"Flammable liquids (chapter 2.6)"},{"$f":"+'Table 1'!BG461","v":1},{"$f":"+'Table 1'!BH461","v":2},{"$f":"+'Table 1'!BI461","v":3},{"$f":"+'Table 1'!BJ461","v":0},{"$f":"+'Table 1'!BK461","v":0},{"$f":"+'Table 1'!BL461","v":0}]
[{"$f":"+'Table 1'!A466","v":"P361"},{"$f":"+'Table 1'!B466","v":"Take off immediately all contaminated clothing."},{"$f":"+'Table 1'!Z466","v":"Flammable liquids (chapter 2.6)"},{"$f":"+'Table 1'!BG466","v":1},{"$f":"+'Table 1'!BH466","v":2},{"$f":"+'Table 1'!BI466","v":3},{"$f":"+'Table 1'!BJ466","v":0},{"$f":"+'Table 1'!BK466","v":0},{"$f":"+'Table 1'!BL466","v":0}]
[{"$f":"+'Table 1'!A480","v":"P370"},{"$f":"+'Table 1'!B480","v":"In case of fire:"},{"$f":"+'Table 1'!Z480","v":"Flammable liquids (chapter 2.6)"},{"$f":"+'Table 1'!BG480","v":1},{"$f":"+'Table 1'!BH480","v":2},{"$f":"+'Table 1'!BI480","v":3},{"$f":"+'Table 1'!BJ480","v":4},{"$f":"+'Table 1'!BK480","v":0},{"$f":"+'Table 1'!BL480","v":0}]
[{"$f":"+'Table 1'!A510","v":"P378"},{"$f":"+'Table 1'!B510","v":"Use ... to extinguish."},{"$f":"+'Table 1'!Z510","v":"Flammable liquids (chapter 2.6)"},{"$f":"+'Table 1'!BG510","v":1},{"$f":"+'Table 1'!BH510","v":2},{"$f":"+'Table 1'!BI510","v":3},{"$f":"+'Table 1'!BJ510","v":4},{"$f":"+'Table 1'!BK510","v":0},{"$f":"+'Table 1'!BL510","v":0}]
[{"$f":"+'Table 1'!A562","v":"P370 + P378"},{"$f":"+'Table 1'!B562","v":"In case of fire:  Use ... to extinguish."},{"$f":"+'Table 1'!Z562","v":"Flammable liquids (chapter 2.6)"},{"$f":"+'Table 1'!BG562","v":1},{"$f":"+'Table 1'!BH562","v":2},{"$f":"+'Table 1'!BI562","v":3},{"$f":"+'Table 1'!BJ562","v":4},{"$f":"+'Table 1'!BK562","v":0},{"$f":"+'Table 1'!BL562","v":0}]
[{"$f":"+'Table 1'!A576","v":"P303 + P361 + P353"},{"$f":"+'Table 1'!B576","v":"IF ON SKIN (or hair):  Take off immediately all contaminated clothing.  Rinse skin with water [or shower]."},{"$f":"+'Table 1'!Z576","v":"Flammable liquids (chapter 2.6)"},{"$f":"+'Table 1'!BG576","v":1},{"$f":"+'Table 1'!BH576","v":2},{"$f":"+'Table 1'!BI576","v":3},{"$f":"+'Table 1'!BJ576","v":0},{"$f":"+'Table 1'!BK576","v":0},{"$f":"+'Table 1'!BL576","v":0}]
[{"$f":"+'Table 1'!A630","v":"P403"},{"$f":"+'Table 1'!B630","v":"Store in a well-ventilated place."},{"$f":"+'Table 1'!Z630","v":"Flammable liquids (chapter 2.6)"},{"$f":"+'Table 1'!BG630","v":1},{"$f":"+'Table 1'!BH630","v":2},{"$f":"+'Table 1'!BI630","v":3},{"$f":"+'Table 1'!BJ630","v":4},{"$f":"+'Table 1'!BK630","v":0},{"$f":"+'Table 1'!BL630","v":0}]
[{"$f":"+'Table 1'!A672","v":"P403 + P235"},{"$f":"+'Table 1'!B672","v":"Store in a well-ventilated place.  Keep cool."},{"$f":"+'Table 1'!Z672","v":"Flammable liquids (chapter 2.6)"},{"$f":"+'Table 1'!BG672","v":1},{"$f":"+'Table 1'!BH672","v":2},{"$f":"+'Table 1'!BI672","v":3},{"$f":"+'Table 1'!BJ672","v":0},{"$f":"+'Table 1'!BK672","v":0},{"$f":"+'Table 1'!BL672","v":0}]
[{"$f":"+'Table 1'!A678","v":"P501"},{"$f":"+'Table 1'!B678","v":"Dispose of contents/container to ..."},{"$f":"+'Table 1'!W678","v":"Flammable liquids (chapter 2.6)"},{"$f":"+'Table 1'!BI678","v":1},{"$f":"+'Table 1'!BJ678","v":2},{"$f":"+'Table 1'!BK678","v":3},{"$f":"+'Table 1'!BL678","v":4},{"$f":"+'Table 1'!BM678","v":0},{"$f":"+'Table 1'!BN678","v":0}]
[{"$f":"+'Table 1'!A249","v":"P210"},{"$f":"+'Table 1'!B249","v":"Keep away from heat, hot surfaces, sparks, open flames and other ignition sources. No smoking."},{"$f":"+'Table 1'!V249","v":"Flammable solids (chapter 2.7)"},{"$f":"+'Table 1'!BB249","v":1},{"$f":"+'Table 1'!BC249","v":2},{"$f":"+'Table 1'!BD249","v":0},{"$f":"+'Table 1'!BE249","v":0},{"$f":"+'Table 1'!BF249","v":0},{"$f":"+'Table 1'!BG249","v":0}]
[{"$f":"+'Table 1'!A293","v":"P240"},{"$f":"+'Table 1'!B293","v":"Ground and bond container and receiving equipment."},{"$f":"+'Table 1'!V293","v":"Flammable solids (chapter 2.7)"},{"$f":"+'Table 1'!BB293","v":1},{"$f":"+'Table 1'!BC293","v":2},{"$f":"+'Table 1'!BD293","v":0},{"$f":"+'Table 1'!BE293","v":0},{"$f":"+'Table 1'!BF293","v":0},{"$f":"+'Table 1'!BG293","v":0}]
[{"$f":"+'Table 1'!A297","v":"P241"},{"$f":"+'Table 1'!B297","v":"Use explosion-proof [electrical/ventilating/lighting/...] equipment."},{"$f":"+'Table 1'!V297","v":"Flammable solids (chapter 2.7)"},{"$f":"+'Table 1'!BB297","v":1},{"$f":"+'Table 1'!BC297","v":2},{"$f":"+'Table 1'!BD297","v":0},{"$f":"+'Table 1'!BE297","v":0},{"$f":"+'Table 1'!BF297","v":0},{"$f":"+'Table 1'!BG297","v":0}]
[{"$f":"+'Table 1'!A341","v":"P280"},{"$f":"+'Table 1'!B341","v":"Wear protective gloves/protective clothing/eye protection/face protection/hearing protection/..."},{"$f":"+'Table 1'!V341","v":"Flammable solids (chapter 2.7)"},{"$f":"+'Table 1'!BB341","v":1},{"$f":"+'Table 1'!BC341","v":2},{"$f":"+'Table 1'!BD341","v":0},{"$f":"+'Table 1'!BE341","v":0},{"$f":"+'Table 1'!BF341","v":0},{"$f":"+'Table 1'!BG341","v":0}]
[{"$f":"+'Table 1'!A481","v":"P370"},{"$f":"+'Table 1'!B481","v":"In case of fire:"},{"$f":"+'Table 1'!Z481","v":"Flammable solids (chapter 2.7)"},{"$f":"+'Table 1'!BG481","v":1},{"$f":"+'Table 1'!BH481","v":2},{"$f":"+'Table 1'!BI481","v":0},{"$f":"+'Table 1'!BJ481","v":0},{"$f":"+'Table 1'!BK481","v":0},{"$f":"+'Table 1'!BL481","v":0}]
[{"$f":"+'Table 1'!A511","v":"P378"},{"$f":"+'Table 1'!B511","v":"Use ... to extinguish."},{"$f":"+'Table 1'!Z511","v":"Flammable solids (chapter 2.7)"},{"$f":"+'Table 1'!BG511","v":1},{"$f":"+'Table 1'!BH511","v":2},{"$f":"+'Table 1'!BI511","v":0},{"$f":"+'Table 1'!BJ511","v":0},{"$f":"+'Table 1'!BK511","v":0},{"$f":"+'Table 1'!BL511","v":0}]
[{"$f":"+'Table 1'!A563","v":"P370 + P378"},{"$f":"+'Table 1'!B563","v":"In case of fire:  Use ... to extinguish."},{"$f":"+'Table 1'!Z563","v":"Flammable solids (chapter 2.7)"},{"$f":"+'Table 1'!BG563","v":1},{"$f":"+'Table 1'!BH563","v":2},{"$f":"+'Table 1'!BI563","v":0},{"$f":"+'Table 1'!BJ563","v":0},{"$f":"+'Table 1'!BK563","v":0},{"$f":"+'Table 1'!BL563","v":0}]
[{"$f":"+'Table 1'!A627","v":"P403"},{"$f":"+'Table 1'!B627","v":"Store in a well-ventilated place."},{"$f":"+'Table 1'!Z627","v":"Gases under pressure (chapter 2.5)"},{"$f":"+'Table 1'!BG627","v":"Liquefied gas"},{"$f":"+'Table 1'!BH627","v":0},{"$f":"+'Table 1'!BI627","v":0},{"$f":"+'Table 1'!BJ627","v":0},{"$f":"+'Table 1'!BK627","v":0},{"$f":"+'Table 1'!BL627","v":0}]
[{"$f":"+'Table 1'!A628","v":"P403"},{"$f":"+'Table 1'!B628","v":"Store in a well-ventilated place."},{"$f":"+'Table 1'!Z628","v":"Gases under pressure (chapter 2.5)"},{"$f":"+'Table 1'!BG628","v":"Refrigerated liquefied gas"},{"$f":"+'Table 1'!BH628","v":0},{"$f":"+'Table 1'!BI628","v":0},{"$f":"+'Table 1'!BJ628","v":0},{"$f":"+'Table 1'!BK628","v":0},{"$f":"+'Table 1'!BL628","v":0}]
[{"$f":"+'Table 1'!A629","v":"P403"},{"$f":"+'Table 1'!B629","v":"Store in a well-ventilated place."},{"$f":"+'Table 1'!Z629","v":"Gases under pressure (chapter 2.5)"},{"$f":"+'Table 1'!BG629","v":"Dissolved gas"},{"$f":"+'Table 1'!BH629","v":0},{"$f":"+'Table 1'!BI629","v":0},{"$f":"+'Table 1'!BJ629","v":0},{"$f":"+'Table 1'!BK629","v":0},{"$f":"+'Table 1'!BL629","v":0}]
[{"$f":"+'Table 1'!A361","v":"P282"},{"$f":"+'Table 1'!B361","v":"Wear cold insulating gloves and either face shield or eye protection."},{"$f":"+'Table 1'!V361","v":"Gases under pressure (chapter 2.5)"},{"$f":"+'Table 1'!BB361","v":"Refrigerated liquefied gas"},{"$f":"+'Table 1'!BC361","v":0},{"$f":"+'Table 1'!BD361","v":0},{"$f":"+'Table 1'!BE361","v":0},{"$f":"+'Table 1'!BF361","v":0},{"$f":"+'Table 1'!BG361","v":0}]
[{"$f":"+'Table 1'!A420","v":"P315"},{"$f":"+'Table 1'!B420","v":"Get immediate medical advice/attention."},{"$f":"+'Table 1'!Z420","v":"Gases under pressure (chapter 2.5)"},{"$f":"+'Table 1'!BG420","v":"Refrigerated liquefied gas"},{"$f":"+'Table 1'!BH420","v":0},{"$f":"+'Table 1'!BI420","v":0},{"$f":"+'Table 1'!BJ420","v":0},{"$f":"+'Table 1'!BK420","v":0},{"$f":"+'Table 1'!BL420","v":0}]
[{"$f":"+'Table 1'!A442","v":"P336"},{"$f":"+'Table 1'!B442","v":"Thaw frosted parts with lukewarm water.  Do not rub affected area."},{"$f":"+'Table 1'!Z442","v":"Gases under pressure (chapter 2.5)"},{"$f":"+'Table 1'!BG442","v":"Refrigerated liquefied gas"},{"$f":"+'Table 1'!BH442","v":0},{"$f":"+'Table 1'!BI442","v":0},{"$f":"+'Table 1'!BJ442","v":0},{"$f":"+'Table 1'!BK442","v":0},{"$f":"+'Table 1'!BL442","v":0}]
[{"$f":"+'Table 1'!A554","v":"P336 + P315"},{"$f":"+'Table 1'!B554","v":"Thaw frosted parts with lukewarm water.  Do not rub affected area.  Get immediate medical advice/attention"},{"$f":"+'Table 1'!Z554","v":"Gases under pressure (chapter 2.5)"},{"$f":"+'Table 1'!BG554","v":"Refrigerated liquefied gas"},{"$f":"+'Table 1'!BH554","v":0},{"$f":"+'Table 1'!BI554","v":0},{"$f":"+'Table 1'!BJ554","v":0},{"$f":"+'Table 1'!BK554","v":0},{"$f":"+'Table 1'!BL554","v":0}]
[{"$f":"+'Table 1'!A626","v":"P403"},{"$f":"+'Table 1'!B626","v":"Store in a well-ventilated place."},{"$f":"+'Table 1'!Z626","v":"Gases under pressure (chapter 2.5)"},{"$f":"+'Table 1'!BG626","v":"Compressed gas"},{"$f":"+'Table 1'!BH626","v":0},{"$f":"+'Table 1'!BI626","v":0},{"$f":"+'Table 1'!BJ626","v":0},{"$f":"+'Table 1'!BK626","v":0},{"$f":"+'Table 1'!BL626","v":0}]
[{"$f":"+'Table 1'!A653","v":"P410"},{"$f":"+'Table 1'!B653","v":"Protect from sunlight."},{"$f":"+'Table 1'!Z653","v":"Gases under pressure (chapter 2.5)"},{"$f":"+'Table 1'!BG653","v":"Compressed gas Liquefied gasDissolved gas"},{"$f":"+'Table 1'!BH653","v":0},{"$f":"+'Table 1'!BI653","v":0},{"$f":"+'Table 1'!BJ653","v":0},{"$f":"+'Table 1'!BK653","v":0},{"$f":"+'Table 1'!BL653","v":0}]
[{"$f":"+'Table 1'!A674","v":"P410 + P403"},{"$f":"+'Table 1'!B674","v":"Protect from sunlight.  Store in a well-ventilated place."},{"$f":"+'Table 1'!Z674","v":"Gases under pressure (chapter 2.5)"},{"$f":"+'Table 1'!BG674","v":"Compressed gas Liquefied gasDissolved gas"},{"$f":"+'Table 1'!BH674","v":0},{"$f":"+'Table 1'!BI674","v":0},{"$f":"+'Table 1'!BJ674","v":0},{"$f":"+'Table 1'!BK674","v":0},{"$f":"+'Table 1'!BL674","v":0}]
[{"$f":"+'Table 1'!A235","v":"P201"},{"$f":"+'Table 1'!B235","v":"Obtain special instructions before use."},{"$f":"+'Table 1'!V235","v":"Germ cell mutagenicity (chapter 3.5)"},{"$f":"+'Table 1'!BB235","v":"1A"},{"$f":"+'Table 1'!BC235","v":"1B"},{"$f":"+'Table 1'!BD235","v":2},{"$f":"+'Table 1'!BE235","v":0},{"$f":"+'Table 1'!BF235","v":0},{"$f":"+'Table 1'!BG235","v":0}]
[{"$f":"+'Table 1'!A240","v":"P202"},{"$f":"+'Table 1'!B240","v":"Do not handle until all safety precautions have been read and understood."},{"$f":"+'Table 1'!V240","v":"Germ cell mutagenicity (chapter 3.5)"},{"$f":"+'Table 1'!BB240","v":"1A"},{"$f":"+'Table 1'!BC240","v":"1B"},{"$f":"+'Table 1'!BD240","v":2},{"$f":"+'Table 1'!BE240","v":0},{"$f":"+'Table 1'!BF240","v":0},{"$f":"+'Table 1'!BG240","v":0}]
[{"$f":"+'Table 1'!A358","v":"P280 (suite)"},{"$f":"+'Table 1'!B358","v":"Wear protective gloves/protective clothing/eye protection/face protection/hearing protection/..."},{"$f":"+'Table 1'!V358","v":"Germ cell mutagenicity (chapter 3.5)"},{"$f":"+'Table 1'!BB358","v":"1A"},{"$f":"+'Table 1'!BC358","v":"1B"},{"$f":"+'Table 1'!BD358","v":2},{"$f":"+'Table 1'!BE358","v":0},{"$f":"+'Table 1'!BF358","v":0},{"$f":"+'Table 1'!BG358","v":0}]
[{"$f":"+'Table 1'!A392","v":"P308"},{"$f":"+'Table 1'!B392","v":"IF exposed or concerned:"},{"$f":"+'Table 1'!Z392","v":"Germ cell mutagenicity (chapter 3.5)"},{"$f":"+'Table 1'!BG392","v":"1A"},{"$f":"+'Table 1'!BH392","v":"1B"},{"$f":"+'Table 1'!BI392","v":2},{"$f":"+'Table 1'!BJ392","v":0},{"$f":"+'Table 1'!BK392","v":0},{"$f":"+'Table 1'!BL392","v":0}]
[{"$f":"+'Table 1'!A415","v":"P313"},{"$f":"+'Table 1'!B415","v":"Get medical advice/attention."},{"$f":"+'Table 1'!Z415","v":"Germ cell mutagenicity (chapter 3.5)"},{"$f":"+'Table 1'!BG415","v":"1A"},{"$f":"+'Table 1'!BH415","v":"1B"},{"$f":"+'Table 1'!BI415","v":2},{"$f":"+'Table 1'!BJ415","v":0},{"$f":"+'Table 1'!BK415","v":0},{"$f":"+'Table 1'!BL415","v":0}]
[{"$f":"+'Table 1'!A547","v":"P308 + P313"},{"$f":"+'Table 1'!B547","v":"IF exposed or concerned:  Get medical advice/ attention."},{"$f":"+'Table 1'!Z547","v":"Germ cell mutagenicity (chapter 3.5)"},{"$f":"+'Table 1'!BG547","v":"1A"},{"$f":"+'Table 1'!BH547","v":"1B"},{"$f":"+'Table 1'!BI547","v":2},{"$f":"+'Table 1'!BJ547","v":0},{"$f":"+'Table 1'!BK547","v":0},{"$f":"+'Table 1'!BL547","v":0}]
[{"$f":"+'Table 1'!A642","v":"P405"},{"$f":"+'Table 1'!B642","v":"Store locked up."},{"$f":"+'Table 1'!Z642","v":"Germ cell mutagenicity (chapter 3.5)"},{"$f":"+'Table 1'!BG642","v":"1A"},{"$f":"+'Table 1'!BH642","v":"1B"},{"$f":"+'Table 1'!BI642","v":2},{"$f":"+'Table 1'!BJ642","v":0},{"$f":"+'Table 1'!BK642","v":0},{"$f":"+'Table 1'!BL642","v":0}]
[{"$f":"+'Table 1'!A692","v":"P501"},{"$f":"+'Table 1'!B692","v":"Dispose of contents/container to ..."},{"$f":"+'Table 1'!W692","v":"Germ cell mutagenicity (chapter 3.5)"},{"$f":"+'Table 1'!BI692","v":"1A"},{"$f":"+'Table 1'!BJ692","v":"1B"},{"$f":"+'Table 1'!BK692","v":2},{"$f":"+'Table 1'!BL692","v":0},{"$f":"+'Table 1'!BM692","v":0},{"$f":"+'Table 1'!BN692","v":0}]
[{"$f":"+'Table 1'!A244","v":"Code (1)"},{"$f":"+'Table 1'!B244","v":"Prevention precautionary statements (2)"},{"$f":"+'Table 1'!V244","v":"Hazard class (3)"},{"$f":"+'Table 1'!BB244","v":"Hazard category (4)"},{"$f":"+'Table 1'!BC244","v":0},{"$f":"+'Table 1'!BD244","v":0},{"$f":"+'Table 1'!BE244","v":0},{"$f":"+'Table 1'!BF244","v":0},{"$f":"+'Table 1'!BG244","v":0}]
[{"$f":"+'Table 1'!A270","v":"Code (1)"},{"$f":"+'Table 1'!B270","v":"Prevention precautionary statements (2)"},{"$f":"+'Table 1'!V270","v":"Hazard class (3)"},{"$f":"+'Table 1'!BB270","v":"Hazard category (4)"},{"$f":"+'Table 1'!BC270","v":0},{"$f":"+'Table 1'!BD270","v":0},{"$f":"+'Table 1'!BE270","v":0},{"$f":"+'Table 1'!BF270","v":0},{"$f":"+'Table 1'!BG270","v":0}]
[{"$f":"+'Table 1'!A290","v":"Code (1)"},{"$f":"+'Table 1'!B290","v":"Prevention precautionary statements (2)"},{"$f":"+'Table 1'!V290","v":"Hazard class (3)"},{"$f":"+'Table 1'!BB290","v":"Hazard category (4)"},{"$f":"+'Table 1'!BC290","v":0},{"$f":"+'Table 1'!BD290","v":0},{"$f":"+'Table 1'!BE290","v":0},{"$f":"+'Table 1'!BF290","v":0},{"$f":"+'Table 1'!BG290","v":0}]
[{"$f":"+'Table 1'!A301","v":"Code (1)"},{"$f":"+'Table 1'!B301","v":"Prevention precautionary statements (2)"},{"$f":"+'Table 1'!V301","v":"Hazard class (3)"},{"$f":"+'Table 1'!BB301","v":"Hazard category (4)"},{"$f":"+'Table 1'!BC301","v":0},{"$f":"+'Table 1'!BD301","v":0},{"$f":"+'Table 1'!BE301","v":0},{"$f":"+'Table 1'!BF301","v":0},{"$f":"+'Table 1'!BG301","v":0}]
[{"$f":"+'Table 1'!A325","v":"Code (1)"},{"$f":"+'Table 1'!B325","v":"Prevention precautionary statements (2)"},{"$f":"+'Table 1'!V325","v":"Hazard class (3)"},{"$f":"+'Table 1'!BB325","v":"Hazard category (4)"},{"$f":"+'Table 1'!BC325","v":0},{"$f":"+'Table 1'!BD325","v":0},{"$f":"+'Table 1'!BE325","v":0},{"$f":"+'Table 1'!BF325","v":0},{"$f":"+'Table 1'!BG325","v":0}]
[{"$f":"+'Table 1'!A349","v":"Code (1)"},{"$f":"+'Table 1'!B349","v":"Prevention precautionary statements (2)"},{"$f":"+'Table 1'!V349","v":"Hazard class (3)"},{"$f":"+'Table 1'!BB349","v":"Hazard category (4)"},{"$f":"+'Table 1'!BC349","v":0},{"$f":"+'Table 1'!BD349","v":0},{"$f":"+'Table 1'!BE349","v":0},{"$f":"+'Table 1'!BF349","v":0},{"$f":"+'Table 1'!BG349","v":0}]
[{"$f":"+'Table 1'!A397","v":"Code (1)"},{"$f":"+'Table 1'!B397","v":"Response precautionary statements (2)"},{"$f":"+'Table 1'!Z397","v":"Hazard class (3)"},{"$f":"+'Table 1'!BG397","v":"Hazard category (4)"},{"$f":"+'Table 1'!BH397","v":0},{"$f":"+'Table 1'!BI397","v":0},{"$f":"+'Table 1'!BJ397","v":0},{"$f":"+'Table 1'!BK397","v":0},{"$f":"+'Table 1'!BL397","v":0}]
[{"$f":"+'Table 1'!A422","v":"Code (1)"},{"$f":"+'Table 1'!B422","v":"Response precautionary statements (2)"},{"$f":"+'Table 1'!Z422","v":"Hazard class (3)"},{"$f":"+'Table 1'!BG422","v":"Hazard category (4)"},{"$f":"+'Table 1'!BH422","v":0},{"$f":"+'Table 1'!BI422","v":0},{"$f":"+'Table 1'!BJ422","v":0},{"$f":"+'Table 1'!BK422","v":0},{"$f":"+'Table 1'!BL422","v":0}]
[{"$f":"+'Table 1'!A447","v":"Code (1)"},{"$f":"+'Table 1'!B447","v":"Response precautionary statements (2)"},{"$f":"+'Table 1'!Z447","v":"Hazard class (3)"},{"$f":"+'Table 1'!BG447","v":"Hazard category (4)"},{"$f":"+'Table 1'!BH447","v":0},{"$f":"+'Table 1'!BI447","v":0},{"$f":"+'Table 1'!BJ447","v":0},{"$f":"+'Table 1'!BK447","v":0},{"$f":"+'Table 1'!BL447","v":0}]
[{"$f":"+'Table 1'!A477","v":"Code (1)"},{"$f":"+'Table 1'!B477","v":"Response precautionary statements (2)"},{"$f":"+'Table 1'!Z477","v":"Hazard class (3)"},{"$f":"+'Table 1'!BG477","v":"Hazard category (4)"},{"$f":"+'Table 1'!BH477","v":0},{"$f":"+'Table 1'!BI477","v":0},{"$f":"+'Table 1'!BJ477","v":0},{"$f":"+'Table 1'!BK477","v":0},{"$f":"+'Table 1'!BL477","v":0}]
[{"$f":"+'Table 1'!A501","v":"Code (1)"},{"$f":"+'Table 1'!B501","v":"Response precautionary statements (2)"},{"$f":"+'Table 1'!Z501","v":"Hazard class (3)"},{"$f":"+'Table 1'!BG501","v":"Hazard category (4)"},{"$f":"+'Table 1'!BH501","v":0},{"$f":"+'Table 1'!BI501","v":0},{"$f":"+'Table 1'!BJ501","v":0},{"$f":"+'Table 1'!BK501","v":0},{"$f":"+'Table 1'!BL501","v":0}]
[{"$f":"+'Table 1'!A530","v":"Code (1)"},{"$f":"+'Table 1'!B530","v":"Response precautionary statements (2)"},{"$f":"+'Table 1'!Z530","v":"Hazard class (3)"},{"$f":"+'Table 1'!BG530","v":"Hazard category (4)"},{"$f":"+'Table 1'!BH530","v":0},{"$f":"+'Table 1'!BI530","v":0},{"$f":"+'Table 1'!BJ530","v":0},{"$f":"+'Table 1'!BK530","v":0},{"$f":"+'Table 1'!BL530","v":0}]
[{"$f":"+'Table 1'!A552","v":"Code (1)"},{"$f":"+'Table 1'!B552","v":"Response precautionary statements (2)"},{"$f":"+'Table 1'!Z552","v":"Hazard class (3)"},{"$f":"+'Table 1'!BG552","v":"Hazard category (4)"},{"$f":"+'Table 1'!BH552","v":0},{"$f":"+'Table 1'!BI552","v":0},{"$f":"+'Table 1'!BJ552","v":0},{"$f":"+'Table 1'!BK552","v":0},{"$f":"+'Table 1'!BL552","v":0}]
[{"$f":"+'Table 1'!A620","v":"Code (1)"},{"$f":"+'Table 1'!B620","v":"Storage precautionary statements (2)"},{"$f":"+'Table 1'!Z620","v":"Hazard class (3)"},{"$f":"+'Table 1'!BG620","v":"Hazard category (4)"},{"$f":"+'Table 1'!BH620","v":0},{"$f":"+'Table 1'!BI620","v":0},{"$f":"+'Table 1'!BJ620","v":0},{"$f":"+'Table 1'!BK620","v":0},{"$f":"+'Table 1'!BL620","v":0}]
[{"$f":"+'Table 1'!A637","v":"Code (1)"},{"$f":"+'Table 1'!B637","v":"Storage precautionary statements (2)"},{"$f":"+'Table 1'!Z637","v":"Hazard class (3)"},{"$f":"+'Table 1'!BG637","v":"Hazard category (4)"},{"$f":"+'Table 1'!BH637","v":0},{"$f":"+'Table 1'!BI637","v":0},{"$f":"+'Table 1'!BJ637","v":0},{"$f":"+'Table 1'!BK637","v":0},{"$f":"+'Table 1'!BL637","v":0}]
[{"$f":"+'Table 1'!A656","v":"Code (1)"},{"$f":"+'Table 1'!B656","v":"Storage precautionary statements (2)"},{"$f":"+'Table 1'!Z656","v":"Hazard class (3)"},{"$f":"+'Table 1'!BG656","v":"Hazard category (4)"},{"$f":"+'Table 1'!BH656","v":0},{"$f":"+'Table 1'!BI656","v":0},{"$f":"+'Table 1'!BJ656","v":0},{"$f":"+'Table 1'!BK656","v":0},{"$f":"+'Table 1'!BL656","v":0}]
[{"$f":"+'Table 1'!A673","v":"Code (1)"},{"$f":"+'Table 1'!B673","v":"Storage precautionary statements (2)"},{"$f":"+'Table 1'!Z673","v":"Hazard class (3)"},{"$f":"+'Table 1'!BG673","v":"Hazard category (4)"},{"$f":"+'Table 1'!BH673","v":0},{"$f":"+'Table 1'!BI673","v":0},{"$f":"+'Table 1'!BJ673","v":0},{"$f":"+'Table 1'!BK673","v":0},{"$f":"+'Table 1'!BL673","v":0}]
[{"$f":"+'Table 1'!A335","v":"P273"},{"$f":"+'Table 1'!B335","v":"Avoid release to the environment."},{"$f":"+'Table 1'!V335","v":"Hazardous to the aquatic environment, acute hazard (chapter 4.1)"},{"$f":"+'Table 1'!BB335","v":1},{"$f":"+'Table 1'!BC335","v":2},{"$f":"+'Table 1'!BD335","v":3},{"$f":"+'Table 1'!BE335","v":0},{"$f":"+'Table 1'!BF335","v":0},{"$f":"+'Table 1'!BG335","v":0}]
[{"$f":"+'Table 1'!A528","v":"P391"},{"$f":"+'Table 1'!B528","v":"Collect spillage."},{"$f":"+'Table 1'!Z528","v":"Hazardous to the aquatic environment, acute hazard (chapter 4.1)"},{"$f":"+'Table 1'!BG528","v":1},{"$f":"+'Table 1'!BH528","v":0},{"$f":"+'Table 1'!BI528","v":0},{"$f":"+'Table 1'!BJ528","v":0},{"$f":"+'Table 1'!BK528","v":0},{"$f":"+'Table 1'!BL528","v":0}]
[{"$f":"+'Table 1'!A700","v":"P501"},{"$f":"+'Table 1'!B700","v":"Dispose of contents/container to ..."},{"$f":"+'Table 1'!W700","v":"Hazardous to the aquatic environment, acute hazard (chapter 4.1)"},{"$f":"+'Table 1'!BI700","v":1},{"$f":"+'Table 1'!BJ700","v":2},{"$f":"+'Table 1'!BK700","v":3},{"$f":"+'Table 1'!BL700","v":0},{"$f":"+'Table 1'!BM700","v":0},{"$f":"+'Table 1'!BN700","v":0}]
[{"$f":"+'Table 1'!A529","v":"P391"},{"$f":"+'Table 1'!B529","v":"Collect spillage."},{"$f":"+'Table 1'!Z529","v":"Hazardous to the aquatic environment, long-term hazard (chapter 4.1)"},{"$f":"+'Table 1'!BG529","v":1},{"$f":"+'Table 1'!BH529","v":2},{"$f":"+'Table 1'!BI529","v":0},{"$f":"+'Table 1'!BJ529","v":0},{"$f":"+'Table 1'!BK529","v":0},{"$f":"+'Table 1'!BL529","v":0}]
[{"$f":"+'Table 1'!A336","v":"P273"},{"$f":"+'Table 1'!B336","v":"Avoid release to the environment."},{"$f":"+'Table 1'!V336","v":"Hazardous to the aquatic environment, long-term hazard (chapter 4.1)"},{"$f":"+'Table 1'!BB336","v":1},{"$f":"+'Table 1'!BC336","v":2},{"$f":"+'Table 1'!BD336","v":3},{"$f":"+'Table 1'!BE336","v":4},{"$f":"+'Table 1'!BF336","v":0},{"$f":"+'Table 1'!BG336","v":0}]
[{"$f":"+'Table 1'!A701","v":"P501"},{"$f":"+'Table 1'!B701","v":"Dispose of contents/container to ..."},{"$f":"+'Table 1'!W701","v":"Hazardous to the aquatic environment, long-term hazard (chapter 4.1)"},{"$f":"+'Table 1'!BI701","v":1},{"$f":"+'Table 1'!BJ701","v":2},{"$f":"+'Table 1'!BK701","v":3},{"$f":"+'Table 1'!BL701","v":4},{"$f":"+'Table 1'!BM701","v":0},{"$f":"+'Table 1'!BN701","v":0}]
[{"$f":"+'Table 1'!A702","v":"P502"},{"$f":"+'Table 1'!B702","v":"Refer to manufacturer or supplier for information on recovery or recycling."},{"$f":"+'Table 1'!W702","v":"Hazardous to the ozone layer (chapter 4.2)"},{"$f":"+'Table 1'!BI702","v":1},{"$f":"+'Table 1'!BJ702","v":0},{"$f":"+'Table 1'!BK702","v":0},{"$f":"+'Table 1'!BL702","v":0},{"$f":"+'Table 1'!BM702","v":0},{"$f":"+'Table 1'!BN702","v":0}]
[{"$f":"+'Table 1'!A255","v":"P210"},{"$f":"+'Table 1'!B255","v":"Keep away from heat, hot surfaces, sparks, open flames and other ignition sources. No smoking."},{"$f":"+'Table 1'!V255","v":"Organic peroxides (chapter 2.15)"},{"$f":"+'Table 1'!BB255","v":"A"},{"$f":"+'Table 1'!BC255","v":"B"},{"$f":"+'Table 1'!BD255","v":"C"},{"$f":"+'Table 1'!BE255","v":"D"},{"$f":"+'Table 1'!BF255","v":"E"},{"$f":"+'Table 1'!BG255","v":"F"}]
[{"$f":"+'Table 1'!A284","v":"P234"},{"$f":"+'Table 1'!B284","v":"Keep only in original packaging."},{"$f":"+'Table 1'!V284","v":"Organic peroxides (chapter 2.15)"},{"$f":"+'Table 1'!BB284","v":"A"},{"$f":"+'Table 1'!BC284","v":"B"},{"$f":"+'Table 1'!BD284","v":"C"},{"$f":"+'Table 1'!BE284","v":"D"},{"$f":"+'Table 1'!BF284","v":"E"},{"$f":"+'Table 1'!BG284","v":"F"}]
[{"$f":"+'Table 1'!A289","v":"P235"},{"$f":"+'Table 1'!B289","v":"Keep cool."},{"$f":"+'Table 1'!V289","v":"Organic peroxides (chapter 2.15)"},{"$f":"+'Table 1'!BB289","v":"A"},{"$f":"+'Table 1'!BC289","v":"B"},{"$f":"+'Table 1'!BD289","v":"C"},{"$f":"+'Table 1'!BE289","v":"D"},{"$f":"+'Table 1'!BF289","v":"E"},{"$f":"+'Table 1'!BG289","v":"F"}]
[{"$f":"+'Table 1'!A295","v":"P240"},{"$f":"+'Table 1'!B295","v":"Ground and bond container and receiving equipment."},{"$f":"+'Table 1'!V295","v":"Organic peroxides (chapter 2.15)"},{"$f":"+'Table 1'!BB295","v":"A"},{"$f":"+'Table 1'!BC295","v":"B"},{"$f":"+'Table 1'!BD295","v":"C"},{"$f":"+'Table 1'!BE295","v":"D"},{"$f":"+'Table 1'!BF295","v":"E"},{"$f":"+'Table 1'!BG295","v":"F"}]
[{"$f":"+'Table 1'!A350","v":"P280 (suite)"},{"$f":"+'Table 1'!B350","v":"Wear protective gloves/protective clothing/eye protection/face protection/hearing protection/..."},{"$f":"+'Table 1'!V350","v":"Organic peroxides (chapter 2.15)"},{"$f":"+'Table 1'!BB350","v":"A"},{"$f":"+'Table 1'!BC350","v":"B"},{"$f":"+'Table 1'!BD350","v":"C"},{"$f":"+'Table 1'!BE350","v":"D"},{"$f":"+'Table 1'!BF350","v":"E"},{"$f":"+'Table 1'!BG350","v":"F"}]
[{"$f":"+'Table 1'!A488","v":"P370"},{"$f":"+'Table 1'!B488","v":"In case of fire:"},{"$f":"+'Table 1'!Z488","v":"Organic peroxides (chapter 2.15)"},{"$f":"+'Table 1'!BG488","v":"A"},{"$f":"+'Table 1'!BH488","v":"B"},{"$f":"+'Table 1'!BI488","v":"C"},{"$f":"+'Table 1'!BJ488","v":"D"},{"$f":"+'Table 1'!BK488","v":"E"},{"$f":"+'Table 1'!BL488","v":"F"}]
[{"$f":"+'Table 1'!A496","v":"P372"},{"$f":"+'Table 1'!B496","v":"Explosion risk."},{"$f":"+'Table 1'!Z496","v":"Organic peroxides (chapter 2.15)"},{"$f":"+'Table 1'!BG496","v":"A"},{"$f":"+'Table 1'!BH496","v":0},{"$f":"+'Table 1'!BI496","v":0},{"$f":"+'Table 1'!BJ496","v":0},{"$f":"+'Table 1'!BK496","v":0},{"$f":"+'Table 1'!BL496","v":0}]
[{"$f":"+'Table 1'!A500","v":"P373"},{"$f":"+'Table 1'!B500","v":"DO NOT fight fire when fire reaches explosives."},{"$f":"+'Table 1'!Z500","v":"Organic peroxides (chapter 2.15)"},{"$f":"+'Table 1'!BG500","v":"A"},{"$f":"+'Table 1'!BH500","v":0},{"$f":"+'Table 1'!BI500","v":0},{"$f":"+'Table 1'!BJ500","v":0},{"$f":"+'Table 1'!BK500","v":0},{"$f":"+'Table 1'!BL500","v":0}]
[{"$f":"+'Table 1'!A506","v":"P375"},{"$f":"+'Table 1'!B506","v":"Fight fire remotely due to the risk of explosion."},{"$f":"+'Table 1'!Z506","v":"Organic peroxides (chapter 2.15)"},{"$f":"+'Table 1'!BG506","v":"B"},{"$f":"+'Table 1'!BH506","v":0},{"$f":"+'Table 1'!BI506","v":0},{"$f":"+'Table 1'!BJ506","v":0},{"$f":"+'Table 1'!BK506","v":0},{"$f":"+'Table 1'!BL506","v":0}]
[{"$f":"+'Table 1'!A518","v":"P378"},{"$f":"+'Table 1'!B518","v":"Use ... to extinguish."},{"$f":"+'Table 1'!Z518","v":"Organic peroxides (chapter 2.15)"},{"$f":"+'Table 1'!BG518","v":"B"},{"$f":"+'Table 1'!BH518","v":"C"},{"$f":"+'Table 1'!BI518","v":"D"},{"$f":"+'Table 1'!BJ518","v":"E"},{"$f":"+'Table 1'!BK518","v":"F"},{"$f":"+'Table 1'!BL518","v":0}]
[{"$f":"+'Table 1'!A523","v":"P380"},{"$f":"+'Table 1'!B523","v":"Evacuate area."},{"$f":"+'Table 1'!Z523","v":"Organic peroxides (chapter 2.15)"},{"$f":"+'Table 1'!BG523","v":"A"},{"$f":"+'Table 1'!BH523","v":"B"},{"$f":"+'Table 1'!BI523","v":0},{"$f":"+'Table 1'!BJ523","v":0},{"$f":"+'Table 1'!BK523","v":0},{"$f":"+'Table 1'!BL523","v":0}]
[{"$f":"+'Table 1'!A570","v":"P370 + P378"},{"$f":"+'Table 1'!B570","v":"In case of fire:  Use ... to extinguish."},{"$f":"+'Table 1'!Z570","v":"Organic peroxides (chapter 2.15)"},{"$f":"+'Table 1'!BG570","v":"C"},{"$f":"+'Table 1'!BH570","v":"D"},{"$f":"+'Table 1'!BI570","v":"E"},{"$f":"+'Table 1'!BJ570","v":"F"},{"$f":"+'Table 1'!BK570","v":0},{"$f":"+'Table 1'!BL570","v":0}]
[{"$f":"+'Table 1'!A612","v":"P370 + P372 + P380 + P373"},{"$f":"+'Table 1'!B612","v":"In case of fire:  Explosion risk. Evacuate area. DO NOT fight fire when fire reaches explosives."},{"$f":"+'Table 1'!Z612","v":"Organic peroxides (chapter 2.15)"},{"$f":"+'Table 1'!BG612","v":"A"},{"$f":"+'Table 1'!BH612","v":0},{"$f":"+'Table 1'!BI612","v":0},{"$f":"+'Table 1'!BJ612","v":0},{"$f":"+'Table 1'!BK612","v":0},{"$f":"+'Table 1'!BL612","v":0}]
[{"$f":"+'Table 1'!A614","v":"P370 + P380 + P375 + [P378]"},{"$f":"+'Table 1'!B614","v":"due to the risk of explosion. [Use…to extinguish]."},{"$f":"+'Table 1'!Z614","v":"Organic peroxides (chapter 2.15)"},{"$f":"+'Table 1'!BG614","v":"B"},{"$f":"+'Table 1'!BH614","v":0},{"$f":"+'Table 1'!BI614","v":0},{"$f":"+'Table 1'!BJ614","v":0},{"$f":"+'Table 1'!BK614","v":0},{"$f":"+'Table 1'!BL614","v":0}]
[{"$f":"+'Table 1'!A616","v":"P370 + P380 + P375 + [P378]"},{"$f":"+'Table 1'!B616","v":"due to the risk of explosion. [Use…to extinguish]."},{"$f":"+'Table 1'!Z616","v":"Organic peroxides (chapter 2.15)"},{"$f":"+'Table 1'!BG616","v":0},{"$f":"+'Table 1'!BH616","v":0},{"$f":"+'Table 1'!BI616","v":0},{"$f":"+'Table 1'!BJ616","v":0},{"$f":"+'Table 1'!BK616","v":0},{"$f":"+'Table 1'!BL616","v":0}]
[{"$f":"+'Table 1'!A632","v":"P403"},{"$f":"+'Table 1'!B632","v":"Store in a well-ventilated place."},{"$f":"+'Table 1'!Z632","v":"Organic peroxides (chapter 2.15)"},{"$f":"+'Table 1'!BG632","v":"A"},{"$f":"+'Table 1'!BH632","v":"B"},{"$f":"+'Table 1'!BI632","v":"C"},{"$f":"+'Table 1'!BJ632","v":"D"},{"$f":"+'Table 1'!BK632","v":"E"},{"$f":"+'Table 1'!BL632","v":"F"}]
[{"$f":"+'Table 1'!A655","v":"P410"},{"$f":"+'Table 1'!B655","v":"Protect from sunlight."},{"$f":"+'Table 1'!Z655","v":"Organic peroxides (chapter 2.15)"},{"$f":"+'Table 1'!BG655","v":"A"},{"$f":"+'Table 1'!BH655","v":"B"},{"$f":"+'Table 1'!BI655","v":"C"},{"$f":"+'Table 1'!BJ655","v":"D"},{"$f":"+'Table 1'!BK655","v":"E"},{"$f":"+'Table 1'!BL655","v":"F"}]
[{"$f":"+'Table 1'!A658","v":"P411"},{"$f":"+'Table 1'!B658","v":"Store at temperatures not exceeding …°C/…°F."},{"$f":"+'Table 1'!Z658","v":"Organic peroxides (chapter 2.15)"},{"$f":"+'Table 1'!BG658","v":"A"},{"$f":"+'Table 1'!BH658","v":"B"},{"$f":"+'Table 1'!BI658","v":"C"},{"$f":"+'Table 1'!BJ658","v":"D"},{"$f":"+'Table 1'!BK658","v":"E"},{"$f":"+'Table 1'!BL658","v":"F"}]
[{"$f":"+'Table 1'!A666","v":"P420"},{"$f":"+'Table 1'!B666","v":"Store separately."},{"$f":"+'Table 1'!Z666","v":"Organic peroxides (chapter 2.15)"},{"$f":"+'Table 1'!BG666","v":"A"},{"$f":"+'Table 1'!BH666","v":"B"},{"$f":"+'Table 1'!BI666","v":"C"},{"$f":"+'Table 1'!BJ666","v":"D"},{"$f":"+'Table 1'!BK666","v":"E"},{"$f":"+'Table 1'!BL666","v":"F"}]
[{"$f":"+'Table 1'!A683","v":"P501"},{"$f":"+'Table 1'!B683","v":"Dispose of contents/container to ..."},{"$f":"+'Table 1'!W683","v":"Organic peroxides (chapter 2.15)"},{"$f":"+'Table 1'!BI683","v":"A"},{"$f":"+'Table 1'!BJ683","v":"B"},{"$f":"+'Table 1'!BK683","v":"C"},{"$f":"+'Table 1'!BL683","v":"D"},{"$f":"+'Table 1'!BM683","v":"E"},{"$f":"+'Table 1'!BN683","v":"F"}]
[{"$f":"+'Table 1'!A260","v":"P220"},{"$f":"+'Table 1'!B260","v":"Keep away from clothing and other combustible materials."},{"$f":"+'Table 1'!V260","v":"Oxidizing gases (chapter 2.4)"},{"$f":"+'Table 1'!BB260","v":1},{"$f":"+'Table 1'!BC260","v":0},{"$f":"+'Table 1'!BD260","v":0},{"$f":"+'Table 1'!BE260","v":0},{"$f":"+'Table 1'!BF260","v":0},{"$f":"+'Table 1'!BG260","v":0}]
[{"$f":"+'Table 1'!A300","v":"P244"},{"$f":"+'Table 1'!B300","v":"Keep valves and fittings free from oil and grease."},{"$f":"+'Table 1'!V300","v":"Oxidizing gases (chapter 2.4)"},{"$f":"+'Table 1'!BB300","v":1},{"$f":"+'Table 1'!BC300","v":0},{"$f":"+'Table 1'!BD300","v":0},{"$f":"+'Table 1'!BE300","v":0},{"$f":"+'Table 1'!BF300","v":0},{"$f":"+'Table 1'!BG300","v":0}]
[{"$f":"+'Table 1'!A479","v":"P370"},{"$f":"+'Table 1'!B479","v":"In case of fire:"},{"$f":"+'Table 1'!Z479","v":"Oxidizing gases (chapter 2.4)"},{"$f":"+'Table 1'!BG479","v":1},{"$f":"+'Table 1'!BH479","v":0},{"$f":"+'Table 1'!BI479","v":0},{"$f":"+'Table 1'!BJ479","v":0},{"$f":"+'Table 1'!BK479","v":0},{"$f":"+'Table 1'!BL479","v":0}]
[{"$f":"+'Table 1'!A508","v":"P376"},{"$f":"+'Table 1'!B508","v":"Stop leak if safe to do so."},{"$f":"+'Table 1'!Z508","v":"Oxidizing gases (chapter 2.4)"},{"$f":"+'Table 1'!BG508","v":1},{"$f":"+'Table 1'!BH508","v":0},{"$f":"+'Table 1'!BI508","v":0},{"$f":"+'Table 1'!BJ508","v":0},{"$f":"+'Table 1'!BK508","v":0},{"$f":"+'Table 1'!BL508","v":0}]
[{"$f":"+'Table 1'!A561","v":"P370 + P376"},{"$f":"+'Table 1'!B561","v":"In case of fire:  Stop leak if safe to do so."},{"$f":"+'Table 1'!Z561","v":"Oxidizing gases (chapter 2.4)"},{"$f":"+'Table 1'!BG561","v":1},{"$f":"+'Table 1'!BH561","v":0},{"$f":"+'Table 1'!BI561","v":0},{"$f":"+'Table 1'!BJ561","v":0},{"$f":"+'Table 1'!BK561","v":0},{"$f":"+'Table 1'!BL561","v":0}]
[{"$f":"+'Table 1'!A625","v":"P403"},{"$f":"+'Table 1'!B625","v":"Store in a well-ventilated place."},{"$f":"+'Table 1'!Z625","v":"Oxidizing gases (chapter 2.4)"},{"$f":"+'Table 1'!BG625","v":1},{"$f":"+'Table 1'!BH625","v":0},{"$f":"+'Table 1'!BI625","v":0},{"$f":"+'Table 1'!BJ625","v":0},{"$f":"+'Table 1'!BK625","v":0},{"$f":"+'Table 1'!BL625","v":0}]
[{"$f":"+'Table 1'!A253","v":"P210"},{"$f":"+'Table 1'!B253","v":"Keep away from heat, hot surfaces, sparks, open flames and other ignition sources. No smoking."},{"$f":"+'Table 1'!V253","v":"Oxidizing liquids (chapter 2.13)"},{"$f":"+'Table 1'!BB253","v":1},{"$f":"+'Table 1'!BC253","v":2},{"$f":"+'Table 1'!BD253","v":3},{"$f":"+'Table 1'!BE253","v":0},{"$f":"+'Table 1'!BF253","v":0},{"$f":"+'Table 1'!BG253","v":0}]
[{"$f":"+'Table 1'!A261","v":"P220"},{"$f":"+'Table 1'!B261","v":"Keep away from clothing and other combustible materials."},{"$f":"+'Table 1'!V261","v":"Oxidizing liquids (chapter 2.13)"},{"$f":"+'Table 1'!BB261","v":1},{"$f":"+'Table 1'!BC261","v":2},{"$f":"+'Table 1'!BD261","v":3},{"$f":"+'Table 1'!BE261","v":0},{"$f":"+'Table 1'!BF261","v":0},{"$f":"+'Table 1'!BG261","v":0}]
[{"$f":"+'Table 1'!A347","v":"P280"},{"$f":"+'Table 1'!B347","v":"Wear protective gloves/protective clothing/eye protection/face protection/hearing protection/..."},{"$f":"+'Table 1'!V347","v":"Oxidizing liquids (chapter 2.13)"},{"$f":"+'Table 1'!BB347","v":1},{"$f":"+'Table 1'!BC347","v":2},{"$f":"+'Table 1'!BD347","v":3},{"$f":"+'Table 1'!BE347","v":0},{"$f":"+'Table 1'!BF347","v":0},{"$f":"+'Table 1'!BG347","v":0}]
[{"$f":"+'Table 1'!A362","v":"P283"},{"$f":"+'Table 1'!B362","v":"Wear fire resistant or flame retardant clothing."},{"$f":"+'Table 1'!V362","v":"Oxidizing liquids (chapter 2.13)"},{"$f":"+'Table 1'!BB362","v":1},{"$f":"+'Table 1'!BC362","v":0},{"$f":"+'Table 1'!BD362","v":0},{"$f":"+'Table 1'!BE362","v":0},{"$f":"+'Table 1'!BF362","v":0},{"$f":"+'Table 1'!BG362","v":0}]
[{"$f":"+'Table 1'!A389","v":"P306"},{"$f":"+'Table 1'!B389","v":"IF ON CLOTHING:"},{"$f":"+'Table 1'!Z389","v":"Oxidizing liquids (chapter 2.13)"},{"$f":"+'Table 1'!BG389","v":1},{"$f":"+'Table 1'!BH389","v":0},{"$f":"+'Table 1'!BI389","v":0},{"$f":"+'Table 1'!BJ389","v":0},{"$f":"+'Table 1'!BK389","v":0},{"$f":"+'Table 1'!BL389","v":0}]
[{"$f":"+'Table 1'!A464","v":"P360"},{"$f":"+'Table 1'!B464","v":"Rinse immediately contaminated clothing and skin with plenty of water before removing clothes."},{"$f":"+'Table 1'!Z464","v":"Oxidizing liquids (chapter 2.13)"},{"$f":"+'Table 1'!BG464","v":1},{"$f":"+'Table 1'!BH464","v":0},{"$f":"+'Table 1'!BI464","v":0},{"$f":"+'Table 1'!BJ464","v":0},{"$f":"+'Table 1'!BK464","v":0},{"$f":"+'Table 1'!BL464","v":0}]
[{"$f":"+'Table 1'!A486","v":"P370"},{"$f":"+'Table 1'!B486","v":"In case of fire:"},{"$f":"+'Table 1'!Z486","v":"Oxidizing liquids (chapter 2.13)"},{"$f":"+'Table 1'!BG486","v":1},{"$f":"+'Table 1'!BH486","v":2},{"$f":"+'Table 1'!BI486","v":3},{"$f":"+'Table 1'!BJ486","v":0},{"$f":"+'Table 1'!BK486","v":0},{"$f":"+'Table 1'!BL486","v":0}]
[{"$f":"+'Table 1'!A490","v":"P371"},{"$f":"+'Table 1'!B490","v":"In case of major fire and large quantities:"},{"$f":"+'Table 1'!Z490","v":"Oxidizing liquids (chapter 2.13)"},{"$f":"+'Table 1'!BG490","v":1},{"$f":"+'Table 1'!BH490","v":0},{"$f":"+'Table 1'!BI490","v":0},{"$f":"+'Table 1'!BJ490","v":0},{"$f":"+'Table 1'!BK490","v":0},{"$f":"+'Table 1'!BL490","v":0}]
[{"$f":"+'Table 1'!A504","v":"P375"},{"$f":"+'Table 1'!B504","v":"Fight fire remotely due to the risk of explosion."},{"$f":"+'Table 1'!Z504","v":"Oxidizing liquids (chapter 2.13)"},{"$f":"+'Table 1'!BG504","v":1},{"$f":"+'Table 1'!BH504","v":0},{"$f":"+'Table 1'!BI504","v":0},{"$f":"+'Table 1'!BJ504","v":0},{"$f":"+'Table 1'!BK504","v":0},{"$f":"+'Table 1'!BL504","v":0}]
[{"$f":"+'Table 1'!A516","v":"P378"},{"$f":"+'Table 1'!B516","v":"Use ... to extinguish."},{"$f":"+'Table 1'!Z516","v":"Oxidizing liquids (chapter 2.13)"},{"$f":"+'Table 1'!BG516","v":1},{"$f":"+'Table 1'!BH516","v":2},{"$f":"+'Table 1'!BI516","v":3},{"$f":"+'Table 1'!BJ516","v":0},{"$f":"+'Table 1'!BK516","v":0},{"$f":"+'Table 1'!BL516","v":0}]
[{"$f":"+'Table 1'!A521","v":"P380"},{"$f":"+'Table 1'!B521","v":"Evacuate area."},{"$f":"+'Table 1'!Z521","v":"Oxidizing liquids (chapter 2.13)"},{"$f":"+'Table 1'!BG521","v":1},{"$f":"+'Table 1'!BH521","v":0},{"$f":"+'Table 1'!BI521","v":0},{"$f":"+'Table 1'!BJ521","v":0},{"$f":"+'Table 1'!BK521","v":0},{"$f":"+'Table 1'!BL521","v":0}]
[{"$f":"+'Table 1'!A544","v":"P306 + P360"},{"$f":"+'Table 1'!B544","v":"IF ON CLOTHING:  Rinse immediately contaminated clothing and skin with plenty of water before removing clothes."},{"$f":"+'Table 1'!Z544","v":"Oxidizing liquids (chapter 2.13)"},{"$f":"+'Table 1'!BG544","v":1},{"$f":"+'Table 1'!BH544","v":0},{"$f":"+'Table 1'!BI544","v":0},{"$f":"+'Table 1'!BJ544","v":0},{"$f":"+'Table 1'!BK544","v":0},{"$f":"+'Table 1'!BL544","v":0}]
[{"$f":"+'Table 1'!A568","v":"P370 + P378"},{"$f":"+'Table 1'!B568","v":"In case of fire:  Use ... to extinguish."},{"$f":"+'Table 1'!Z568","v":"Oxidizing liquids (chapter 2.13)"},{"$f":"+'Table 1'!BG568","v":1},{"$f":"+'Table 1'!BH568","v":2},{"$f":"+'Table 1'!BI568","v":3},{"$f":"+'Table 1'!BJ568","v":0},{"$f":"+'Table 1'!BK568","v":0},{"$f":"+'Table 1'!BL568","v":0}]
[{"$f":"+'Table 1'!A595","v":"P371 +P380 + P375"},{"$f":"+'Table 1'!B595","v":"In case of major fire and large quantities:  Evacuate area.  Fight fire remotely due to the risk of explosion."},{"$f":"+'Table 1'!Z595","v":"Oxidizing liquids (chapter 2.13)"},{"$f":"+'Table 1'!BG595","v":1},{"$f":"+'Table 1'!BH595","v":0},{"$f":"+'Table 1'!BI595","v":0},{"$f":"+'Table 1'!BJ595","v":0},{"$f":"+'Table 1'!BK595","v":0},{"$f":"+'Table 1'!BL595","v":0}]
[{"$f":"+'Table 1'!A664","v":"P420"},{"$f":"+'Table 1'!B664","v":"Store separately."},{"$f":"+'Table 1'!Z664","v":"Oxidizing liquids (chapter 2.13)"},{"$f":"+'Table 1'!BG664","v":1},{"$f":"+'Table 1'!BH664","v":0},{"$f":"+'Table 1'!BI664","v":0},{"$f":"+'Table 1'!BJ664","v":0},{"$f":"+'Table 1'!BK664","v":0},{"$f":"+'Table 1'!BL664","v":0}]
[{"$f":"+'Table 1'!A681","v":"P501"},{"$f":"+'Table 1'!B681","v":"Dispose of contents/container to ..."},{"$f":"+'Table 1'!W681","v":"Oxidizing liquids (chapter 2.13)"},{"$f":"+'Table 1'!BI681","v":1},{"$f":"+'Table 1'!BJ681","v":2},{"$f":"+'Table 1'!BK681","v":3},{"$f":"+'Table 1'!BL681","v":0},{"$f":"+'Table 1'!BM681","v":0},{"$f":"+'Table 1'!BN681","v":0}]
[{"$f":"+'Table 1'!A254","v":"P210"},{"$f":"+'Table 1'!B254","v":"Keep away from heat, hot surfaces, sparks, open flames and other ignition sources. No smoking."},{"$f":"+'Table 1'!V254","v":"Oxidizing solids (chapter 2.14)"},{"$f":"+'Table 1'!BB254","v":1},{"$f":"+'Table 1'!BC254","v":2},{"$f":"+'Table 1'!BD254","v":3},{"$f":"+'Table 1'!BE254","v":0},{"$f":"+'Table 1'!BF254","v":0},{"$f":"+'Table 1'!BG254","v":0}]
[{"$f":"+'Table 1'!A262","v":"P220"},{"$f":"+'Table 1'!B262","v":"Keep away from clothing and other combustible materials."},{"$f":"+'Table 1'!V262","v":"Oxidizing solids (chapter 2.14)"},{"$f":"+'Table 1'!BB262","v":1},{"$f":"+'Table 1'!BC262","v":2},{"$f":"+'Table 1'!BD262","v":3},{"$f":"+'Table 1'!BE262","v":0},{"$f":"+'Table 1'!BF262","v":0},{"$f":"+'Table 1'!BG262","v":0}]
[{"$f":"+'Table 1'!A348","v":"P280"},{"$f":"+'Table 1'!B348","v":"Wear protective gloves/protective clothing/eye protection/face protection/hearing protection/..."},{"$f":"+'Table 1'!V348","v":"Oxidizing solids (chapter 2.14)"},{"$f":"+'Table 1'!BB348","v":1},{"$f":"+'Table 1'!BC348","v":2},{"$f":"+'Table 1'!BD348","v":3},{"$f":"+'Table 1'!BE348","v":0},{"$f":"+'Table 1'!BF348","v":0},{"$f":"+'Table 1'!BG348","v":0}]
[{"$f":"+'Table 1'!A363","v":"P283"},{"$f":"+'Table 1'!B363","v":"Wear fire resistant or flame retardant clothing."},{"$f":"+'Table 1'!V363","v":"Oxidizing solids (chapter 2.14)"},{"$f":"+'Table 1'!BB363","v":1},{"$f":"+'Table 1'!BC363","v":0},{"$f":"+'Table 1'!BD363","v":0},{"$f":"+'Table 1'!BE363","v":0},{"$f":"+'Table 1'!BF363","v":0},{"$f":"+'Table 1'!BG363","v":0}]
[{"$f":"+'Table 1'!A390","v":"P306"},{"$f":"+'Table 1'!B390","v":"IF ON CLOTHING:"},{"$f":"+'Table 1'!Z390","v":"Oxidizing solids (chapter 2.14)"},{"$f":"+'Table 1'!BG390","v":1},{"$f":"+'Table 1'!BH390","v":0},{"$f":"+'Table 1'!BI390","v":0},{"$f":"+'Table 1'!BJ390","v":0},{"$f":"+'Table 1'!BK390","v":0},{"$f":"+'Table 1'!BL390","v":0}]
[{"$f":"+'Table 1'!A465","v":"P360"},{"$f":"+'Table 1'!B465","v":"Rinse immediately contaminated clothing and skin with plenty of water before removing clothes."},{"$f":"+'Table 1'!Z465","v":"Oxidizing solids (chapter 2.14)"},{"$f":"+'Table 1'!BG465","v":1},{"$f":"+'Table 1'!BH465","v":0},{"$f":"+'Table 1'!BI465","v":0},{"$f":"+'Table 1'!BJ465","v":0},{"$f":"+'Table 1'!BK465","v":0},{"$f":"+'Table 1'!BL465","v":0}]
[{"$f":"+'Table 1'!A487","v":"P370"},{"$f":"+'Table 1'!B487","v":"In case of fire:"},{"$f":"+'Table 1'!Z487","v":"Oxidizing solids (chapter 2.14)"},{"$f":"+'Table 1'!BG487","v":1},{"$f":"+'Table 1'!BH487","v":2},{"$f":"+'Table 1'!BI487","v":3},{"$f":"+'Table 1'!BJ487","v":0},{"$f":"+'Table 1'!BK487","v":0},{"$f":"+'Table 1'!BL487","v":0}]
[{"$f":"+'Table 1'!A491","v":"P371"},{"$f":"+'Table 1'!B491","v":"In case of major fire and large quantities:"},{"$f":"+'Table 1'!Z491","v":"Oxidizing solids (chapter 2.14)"},{"$f":"+'Table 1'!BG491","v":1},{"$f":"+'Table 1'!BH491","v":0},{"$f":"+'Table 1'!BI491","v":0},{"$f":"+'Table 1'!BJ491","v":0},{"$f":"+'Table 1'!BK491","v":0},{"$f":"+'Table 1'!BL491","v":0}]
[{"$f":"+'Table 1'!A505","v":"P375"},{"$f":"+'Table 1'!B505","v":"Fight fire remotely due to the risk of explosion."},{"$f":"+'Table 1'!Z505","v":"Oxidizing solids (chapter 2.14)"},{"$f":"+'Table 1'!BG505","v":1},{"$f":"+'Table 1'!BH505","v":0},{"$f":"+'Table 1'!BI505","v":0},{"$f":"+'Table 1'!BJ505","v":0},{"$f":"+'Table 1'!BK505","v":0},{"$f":"+'Table 1'!BL505","v":0}]
[{"$f":"+'Table 1'!A517","v":"P378"},{"$f":"+'Table 1'!B517","v":"Use ... to extinguish."},{"$f":"+'Table 1'!Z517","v":"Oxidizing solids (chapter 2.14)"},{"$f":"+'Table 1'!BG517","v":1},{"$f":"+'Table 1'!BH517","v":2},{"$f":"+'Table 1'!BI517","v":3},{"$f":"+'Table 1'!BJ517","v":0},{"$f":"+'Table 1'!BK517","v":0},{"$f":"+'Table 1'!BL517","v":0}]
[{"$f":"+'Table 1'!A522","v":"P380"},{"$f":"+'Table 1'!B522","v":"Evacuate area."},{"$f":"+'Table 1'!Z522","v":"Oxidizing solids (chapter 2.14)"},{"$f":"+'Table 1'!BG522","v":1},{"$f":"+'Table 1'!BH522","v":0},{"$f":"+'Table 1'!BI522","v":0},{"$f":"+'Table 1'!BJ522","v":0},{"$f":"+'Table 1'!BK522","v":0},{"$f":"+'Table 1'!BL522","v":0}]
[{"$f":"+'Table 1'!A545","v":"P306 + P360"},{"$f":"+'Table 1'!B545","v":"IF ON CLOTHING:  Rinse immediately contaminated clothing and skin with plenty of water before removing clothes."},{"$f":"+'Table 1'!Z545","v":"Oxidizing solids (chapter 2.14)"},{"$f":"+'Table 1'!BG545","v":1},{"$f":"+'Table 1'!BH545","v":0},{"$f":"+'Table 1'!BI545","v":0},{"$f":"+'Table 1'!BJ545","v":0},{"$f":"+'Table 1'!BK545","v":0},{"$f":"+'Table 1'!BL545","v":0}]
[{"$f":"+'Table 1'!A569","v":"P370 + P378"},{"$f":"+'Table 1'!B569","v":"In case of fire:  Use ... to extinguish."},{"$f":"+'Table 1'!Z569","v":"Oxidizing solids (chapter 2.14)"},{"$f":"+'Table 1'!BG569","v":1},{"$f":"+'Table 1'!BH569","v":2},{"$f":"+'Table 1'!BI569","v":3},{"$f":"+'Table 1'!BJ569","v":0},{"$f":"+'Table 1'!BK569","v":0},{"$f":"+'Table 1'!BL569","v":0}]
[{"$f":"+'Table 1'!A596","v":"P371 +P380 + P375"},{"$f":"+'Table 1'!B596","v":"In case of major fire and large quantities:  Evacuate area.  Fight fire remotely due to the risk of explosion."},{"$f":"+'Table 1'!Z596","v":"Oxidizing solids (chapter 2.14)"},{"$f":"+'Table 1'!BG596","v":1},{"$f":"+'Table 1'!BH596","v":0},{"$f":"+'Table 1'!BI596","v":0},{"$f":"+'Table 1'!BJ596","v":0},{"$f":"+'Table 1'!BK596","v":0},{"$f":"+'Table 1'!BL596","v":0}]
[{"$f":"+'Table 1'!A665","v":"P420"},{"$f":"+'Table 1'!B665","v":"Store separately."},{"$f":"+'Table 1'!Z665","v":"Oxidizing solids (chapter 2.14)"},{"$f":"+'Table 1'!BG665","v":1},{"$f":"+'Table 1'!BH665","v":0},{"$f":"+'Table 1'!BI665","v":0},{"$f":"+'Table 1'!BJ665","v":0},{"$f":"+'Table 1'!BK665","v":0},{"$f":"+'Table 1'!BL665","v":0}]
[{"$f":"+'Table 1'!A682","v":"P501"},{"$f":"+'Table 1'!B682","v":"Dispose of contents/container to ..."},{"$f":"+'Table 1'!W682","v":"Oxidizing solids (chapter 2.14)"},{"$f":"+'Table 1'!BI682","v":1},{"$f":"+'Table 1'!BJ682","v":2},{"$f":"+'Table 1'!BK682","v":3},{"$f":"+'Table 1'!BL682","v":0},{"$f":"+'Table 1'!BM682","v":0},{"$f":"+'Table 1'!BN682","v":0}]
[{"$f":"+'Table 1'!A251","v":"P210"},{"$f":"+'Table 1'!B251","v":"Keep away from heat, hot surfaces, sparks, open flames and other ignition sources. No smoking."},{"$f":"+'Table 1'!V251","v":"Pyrophoric liquids (chapter 2.9)"},{"$f":"+'Table 1'!BB251","v":1},{"$f":"+'Table 1'!BC251","v":0},{"$f":"+'Table 1'!BD251","v":0},{"$f":"+'Table 1'!BE251","v":0},{"$f":"+'Table 1'!BF251","v":0},{"$f":"+'Table 1'!BG251","v":0}]
[{"$f":"+'Table 1'!A264","v":"P222"},{"$f":"+'Table 1'!B264","v":"Do not allow contact with air."},{"$f":"+'Table 1'!V264","v":"Pyrophoric liquids (chapter 2.9)"},{"$f":"+'Table 1'!BB264","v":1},{"$f":"+'Table 1'!BC264","v":0},{"$f":"+'Table 1'!BD264","v":0},{"$f":"+'Table 1'!BE264","v":0},{"$f":"+'Table 1'!BF264","v":0},{"$f":"+'Table 1'!BG264","v":0}]
[{"$f":"+'Table 1'!A271","v":"P231"},{"$f":"+'Table 1'!B271","v":"Handle and store contents under inert gas/..."},{"$f":"+'Table 1'!V271","v":"Pyrophoric liquids (chapter 2.9)"},{"$f":"+'Table 1'!BB271","v":1},{"$f":"+'Table 1'!BC271","v":0},{"$f":"+'Table 1'!BD271","v":0},{"$f":"+'Table 1'!BE271","v":0},{"$f":"+'Table 1'!BF271","v":0},{"$f":"+'Table 1'!BG271","v":0}]
[{"$f":"+'Table 1'!A276","v":"P233"},{"$f":"+'Table 1'!B276","v":"Keep container tightly closed."},{"$f":"+'Table 1'!V276","v":"Pyrophoric liquids (chapter 2.9)"},{"$f":"+'Table 1'!BB276","v":1},{"$f":"+'Table 1'!BC276","v":0},{"$f":"+'Table 1'!BD276","v":0},{"$f":"+'Table 1'!BE276","v":0},{"$f":"+'Table 1'!BF276","v":0},{"$f":"+'Table 1'!BG276","v":0}]
[{"$f":"+'Table 1'!A343","v":"P280"},{"$f":"+'Table 1'!B343","v":"Wear protective gloves/protective clothing/eye protection/face protection/hearing protection/..."},{"$f":"+'Table 1'!V343","v":"Pyrophoric liquids (chapter 2.9)"},{"$f":"+'Table 1'!BB343","v":1},{"$f":"+'Table 1'!BC343","v":0},{"$f":"+'Table 1'!BD343","v":0},{"$f":"+'Table 1'!BE343","v":0},{"$f":"+'Table 1'!BF343","v":0},{"$f":"+'Table 1'!BG343","v":0}]
[{"$f":"+'Table 1'!A373","v":"P302"},{"$f":"+'Table 1'!B373","v":"IF ON SKIN:"},{"$f":"+'Table 1'!Z373","v":"Pyrophoric liquids (chapter 2.9)"},{"$f":"+'Table 1'!BG373","v":1},{"$f":"+'Table 1'!BH373","v":0},{"$f":"+'Table 1'!BI373","v":0},{"$f":"+'Table 1'!BJ373","v":0},{"$f":"+'Table 1'!BK373","v":0},{"$f":"+'Table 1'!BL373","v":0}]
[{"$f":"+'Table 1'!A437","v":"P334"},{"$f":"+'Table 1'!B437","v":"Immerse in cool water [or wrap in wet bandages]."},{"$f":"+'Table 1'!Z437","v":"Pyrophoric liquids (chapter 2.9)"},{"$f":"+'Table 1'!BG437","v":1},{"$f":"+'Table 1'!BH437","v":0},{"$f":"+'Table 1'!BI437","v":0},{"$f":"+'Table 1'!BJ437","v":0},{"$f":"+'Table 1'!BK437","v":0},{"$f":"+'Table 1'!BL437","v":0}]
[{"$f":"+'Table 1'!A483","v":"P370"},{"$f":"+'Table 1'!B483","v":"In case of fire:"},{"$f":"+'Table 1'!Z483","v":"Pyrophoric liquids (chapter 2.9)"},{"$f":"+'Table 1'!BG483","v":1},{"$f":"+'Table 1'!BH483","v":0},{"$f":"+'Table 1'!BI483","v":0},{"$f":"+'Table 1'!BJ483","v":0},{"$f":"+'Table 1'!BK483","v":0},{"$f":"+'Table 1'!BL483","v":0}]
[{"$f":"+'Table 1'!A513","v":"P378"},{"$f":"+'Table 1'!B513","v":"Use ... to extinguish."},{"$f":"+'Table 1'!Z513","v":"Pyrophoric liquids (chapter 2.9)"},{"$f":"+'Table 1'!BG513","v":1},{"$f":"+'Table 1'!BH513","v":0},{"$f":"+'Table 1'!BI513","v":0},{"$f":"+'Table 1'!BJ513","v":0},{"$f":"+'Table 1'!BK513","v":0},{"$f":"+'Table 1'!BL513","v":0}]
[{"$f":"+'Table 1'!A534","v":"P302 + P334"},{"$f":"+'Table 1'!B534","v":"IF ON SKIN:  Immerse in cool water or wrap in wet bandages."},{"$f":"+'Table 1'!Z534","v":"Pyrophoric liquids (chapter 2.9)"},{"$f":"+'Table 1'!BG534","v":1},{"$f":"+'Table 1'!BH534","v":0},{"$f":"+'Table 1'!BI534","v":0},{"$f":"+'Table 1'!BJ534","v":0},{"$f":"+'Table 1'!BK534","v":0},{"$f":"+'Table 1'!BL534","v":0}]
[{"$f":"+'Table 1'!A565","v":"P370 + P378"},{"$f":"+'Table 1'!B565","v":"In case of fire:  Use ... to extinguish."},{"$f":"+'Table 1'!Z565","v":"Pyrophoric liquids (chapter 2.9)"},{"$f":"+'Table 1'!BG565","v":1},{"$f":"+'Table 1'!BH565","v":0},{"$f":"+'Table 1'!BI565","v":0},{"$f":"+'Table 1'!BJ565","v":0},{"$f":"+'Table 1'!BK565","v":0},{"$f":"+'Table 1'!BL565","v":0}]
[{"$f":"+'Table 1'!A252","v":"P210"},{"$f":"+'Table 1'!B252","v":"Keep away from heat, hot surfaces, sparks, open flames and other ignition sources. No smoking."},{"$f":"+'Table 1'!V252","v":"Pyrophoric solids (chapter 2.10)"},{"$f":"+'Table 1'!BB252","v":1},{"$f":"+'Table 1'!BC252","v":0},{"$f":"+'Table 1'!BD252","v":0},{"$f":"+'Table 1'!BE252","v":0},{"$f":"+'Table 1'!BF252","v":0},{"$f":"+'Table 1'!BG252","v":0}]
[{"$f":"+'Table 1'!A265","v":"P222"},{"$f":"+'Table 1'!B265","v":"Do not allow contact with air."},{"$f":"+'Table 1'!V265","v":"Pyrophoric solids (chapter 2.10)"},{"$f":"+'Table 1'!BB265","v":1},{"$f":"+'Table 1'!BC265","v":0},{"$f":"+'Table 1'!BD265","v":0},{"$f":"+'Table 1'!BE265","v":0},{"$f":"+'Table 1'!BF265","v":0},{"$f":"+'Table 1'!BG265","v":0}]
[{"$f":"+'Table 1'!A272","v":"P231"},{"$f":"+'Table 1'!B272","v":"Handle and store contents under inert gas/..."},{"$f":"+'Table 1'!V272","v":"Pyrophoric solids (chapter 2.10)"},{"$f":"+'Table 1'!BB272","v":1},{"$f":"+'Table 1'!BC272","v":0},{"$f":"+'Table 1'!BD272","v":0},{"$f":"+'Table 1'!BE272","v":0},{"$f":"+'Table 1'!BF272","v":0},{"$f":"+'Table 1'!BG272","v":0}]
[{"$f":"+'Table 1'!A277","v":"P233"},{"$f":"+'Table 1'!B277","v":"Keep container tightly closed."},{"$f":"+'Table 1'!V277","v":"Pyrophoric solids (chapter 2.10)"},{"$f":"+'Table 1'!BB277","v":1},{"$f":"+'Table 1'!BC277","v":0},{"$f":"+'Table 1'!BD277","v":0},{"$f":"+'Table 1'!BE277","v":0},{"$f":"+'Table 1'!BF277","v":0},{"$f":"+'Table 1'!BG277","v":0}]
[{"$f":"+'Table 1'!A344","v":"P280"},{"$f":"+'Table 1'!B344","v":"Wear protective gloves/protective clothing/eye protection/face protection/hearing protection/..."},{"$f":"+'Table 1'!V344","v":"Pyrophoric solids (chapter 2.10)"},{"$f":"+'Table 1'!BB344","v":1},{"$f":"+'Table 1'!BC344","v":0},{"$f":"+'Table 1'!BD344","v":0},{"$f":"+'Table 1'!BE344","v":0},{"$f":"+'Table 1'!BF344","v":0},{"$f":"+'Table 1'!BG344","v":0}]
[{"$f":"+'Table 1'!A374","v":"P302"},{"$f":"+'Table 1'!B374","v":"IF ON SKIN:"},{"$f":"+'Table 1'!Z374","v":"Pyrophoric solids (chapter 2.10)"},{"$f":"+'Table 1'!BG374","v":1},{"$f":"+'Table 1'!BH374","v":0},{"$f":"+'Table 1'!BI374","v":0},{"$f":"+'Table 1'!BJ374","v":0},{"$f":"+'Table 1'!BK374","v":0},{"$f":"+'Table 1'!BL374","v":0}]
[{"$f":"+'Table 1'!A438","v":"P334"},{"$f":"+'Table 1'!B438","v":"Immerse in cool water [or wrap in wet bandages]."},{"$f":"+'Table 1'!Z438","v":"Pyrophoric solids (chapter 2.10)"},{"$f":"+'Table 1'!BG438","v":1},{"$f":"+'Table 1'!BH438","v":0},{"$f":"+'Table 1'!BI438","v":0},{"$f":"+'Table 1'!BJ438","v":0},{"$f":"+'Table 1'!BK438","v":0},{"$f":"+'Table 1'!BL438","v":0}]
[{"$f":"+'Table 1'!A440","v":"P335"},{"$f":"+'Table 1'!B440","v":"Brush off loose particles from skin."},{"$f":"+'Table 1'!Z440","v":"Pyrophoric solids (chapter 2.10)"},{"$f":"+'Table 1'!BG440","v":1},{"$f":"+'Table 1'!BH440","v":0},{"$f":"+'Table 1'!BI440","v":0},{"$f":"+'Table 1'!BJ440","v":0},{"$f":"+'Table 1'!BK440","v":0},{"$f":"+'Table 1'!BL440","v":0}]
[{"$f":"+'Table 1'!A484","v":"P370"},{"$f":"+'Table 1'!B484","v":"In case of fire:"},{"$f":"+'Table 1'!Z484","v":"Pyrophoric solids (chapter 2.10)"},{"$f":"+'Table 1'!BG484","v":1},{"$f":"+'Table 1'!BH484","v":0},{"$f":"+'Table 1'!BI484","v":0},{"$f":"+'Table 1'!BJ484","v":0},{"$f":"+'Table 1'!BK484","v":0},{"$f":"+'Table 1'!BL484","v":0}]
[{"$f":"+'Table 1'!A514","v":"P378"},{"$f":"+'Table 1'!B514","v":"Use ... to extinguish."},{"$f":"+'Table 1'!Z514","v":"Pyrophoric solids (chapter 2.10)"},{"$f":"+'Table 1'!BG514","v":1},{"$f":"+'Table 1'!BH514","v":0},{"$f":"+'Table 1'!BI514","v":0},{"$f":"+'Table 1'!BJ514","v":0},{"$f":"+'Table 1'!BK514","v":0},{"$f":"+'Table 1'!BL514","v":0}]
[{"$f":"+'Table 1'!A566","v":"P370 + P378"},{"$f":"+'Table 1'!B566","v":"In case of fire:  Use ... to extinguish."},{"$f":"+'Table 1'!Z566","v":"Pyrophoric solids (chapter 2.10)"},{"$f":"+'Table 1'!BG566","v":1},{"$f":"+'Table 1'!BH566","v":0},{"$f":"+'Table 1'!BI566","v":0},{"$f":"+'Table 1'!BJ566","v":0},{"$f":"+'Table 1'!BK566","v":0},{"$f":"+'Table 1'!BL566","v":0}]
[{"$f":"+'Table 1'!A573","v":"P302 + P335 + P334"},{"$f":"+'Table 1'!B573","v":"IF ON SKIN: Brush off loose particles from skin. Immerse in cool water [or wrap in wet bandages]."},{"$f":"+'Table 1'!Z573","v":"Pyrophoric solids (chapter 2.10)"},{"$f":"+'Table 1'!BG573","v":1},{"$f":"+'Table 1'!BH573","v":0},{"$f":"+'Table 1'!BI573","v":0},{"$f":"+'Table 1'!BJ573","v":0},{"$f":"+'Table 1'!BK573","v":0},{"$f":"+'Table 1'!BL573","v":0}]
[{"$f":"+'Table 1'!A237","v":"P201"},{"$f":"+'Table 1'!B237","v":"Obtain special instructions before use."},{"$f":"+'Table 1'!V237","v":"Reproductive toxicity (chapter 3.7)"},{"$f":"+'Table 1'!BB237","v":"1A"},{"$f":"+'Table 1'!BC237","v":"1B"},{"$f":"+'Table 1'!BD237","v":2},{"$f":"+'Table 1'!BE237","v":0},{"$f":"+'Table 1'!BF237","v":0},{"$f":"+'Table 1'!BG237","v":0}]
[{"$f":"+'Table 1'!A242","v":"P202"},{"$f":"+'Table 1'!B242","v":"Do not handle until all safety precautions have been read and understood."},{"$f":"+'Table 1'!V242","v":"Reproductive toxicity (chapter 3.7)"},{"$f":"+'Table 1'!BB242","v":"1A"},{"$f":"+'Table 1'!BC242","v":"1B"},{"$f":"+'Table 1'!BD242","v":2},{"$f":"+'Table 1'!BE242","v":0},{"$f":"+'Table 1'!BF242","v":0},{"$f":"+'Table 1'!BG242","v":0}]
[{"$f":"+'Table 1'!A360","v":"P280 (suite)"},{"$f":"+'Table 1'!B360","v":"Wear protective gloves/protective clothing/eye protection/face protection/hearing protection/..."},{"$f":"+'Table 1'!V360","v":"Reproductive toxicity (chapter 3.7)"},{"$f":"+'Table 1'!BB360","v":"1A"},{"$f":"+'Table 1'!BC360","v":"1B"},{"$f":"+'Table 1'!BD360","v":2},{"$f":"+'Table 1'!BE360","v":0},{"$f":"+'Table 1'!BF360","v":0},{"$f":"+'Table 1'!BG360","v":0}]
[{"$f":"+'Table 1'!A394","v":"P308"},{"$f":"+'Table 1'!B394","v":"IF exposed or concerned:"},{"$f":"+'Table 1'!Z394","v":"Reproductive toxicity (chapter 3.7)"},{"$f":"+'Table 1'!BG394","v":"1A"},{"$f":"+'Table 1'!BH394","v":"1B"},{"$f":"+'Table 1'!BI394","v":2},{"$f":"+'Table 1'!BJ394","v":0},{"$f":"+'Table 1'!BK394","v":0},{"$f":"+'Table 1'!BL394","v":0}]
[{"$f":"+'Table 1'!A417","v":"P313"},{"$f":"+'Table 1'!B417","v":"Get medical advice/attention."},{"$f":"+'Table 1'!Z417","v":"Reproductive toxicity (chapter 3.7)"},{"$f":"+'Table 1'!BG417","v":"1A"},{"$f":"+'Table 1'!BH417","v":"1B"},{"$f":"+'Table 1'!BI417","v":2},{"$f":"+'Table 1'!BJ417","v":0},{"$f":"+'Table 1'!BK417","v":0},{"$f":"+'Table 1'!BL417","v":0}]
[{"$f":"+'Table 1'!A549","v":"P308 + P313"},{"$f":"+'Table 1'!B549","v":"IF exposed or concerned:  Get medical advice/ attention."},{"$f":"+'Table 1'!Z549","v":"Reproductive toxicity (chapter 3.7)"},{"$f":"+'Table 1'!BG549","v":"1A"},{"$f":"+'Table 1'!BH549","v":"1B"},{"$f":"+'Table 1'!BI549","v":2},{"$f":"+'Table 1'!BJ549","v":0},{"$f":"+'Table 1'!BK549","v":0},{"$f":"+'Table 1'!BL549","v":0}]
[{"$f":"+'Table 1'!A644","v":"P405"},{"$f":"+'Table 1'!B644","v":"Store locked up."},{"$f":"+'Table 1'!Z644","v":"Reproductive toxicity (chapter 3.7)"},{"$f":"+'Table 1'!BG644","v":"1A"},{"$f":"+'Table 1'!BH644","v":"1B"},{"$f":"+'Table 1'!BI644","v":2},{"$f":"+'Table 1'!BJ644","v":0},{"$f":"+'Table 1'!BK644","v":0},{"$f":"+'Table 1'!BL644","v":0}]
[{"$f":"+'Table 1'!A694","v":"P501"},{"$f":"+'Table 1'!B694","v":"Dispose of contents/container to ..."},{"$f":"+'Table 1'!W694","v":"Reproductive toxicity (chapter 3.7)"},{"$f":"+'Table 1'!BI694","v":"1A"},{"$f":"+'Table 1'!BJ694","v":"1B"},{"$f":"+'Table 1'!BK694","v":2},{"$f":"+'Table 1'!BL694","v":0},{"$f":"+'Table 1'!BM694","v":0},{"$f":"+'Table 1'!BN694","v":0}]
[{"$f":"+'Table 1'!A309","v":"P260"},{"$f":"+'Table 1'!B309","v":"Do not breathe dust/fume/gas/mist/vapours/spray."},{"$f":"+'Table 1'!V309","v":"Reproductive toxicity, effects on or via lactation (chapter 3.7)"},{"$f":"+'Table 1'!BB309","v":"Additional category"},{"$f":"+'Table 1'!BC309","v":0},{"$f":"+'Table 1'!BD309","v":0},{"$f":"+'Table 1'!BE309","v":0},{"$f":"+'Table 1'!BF309","v":0},{"$f":"+'Table 1'!BG309","v":0}]
[{"$f":"+'Table 1'!A316","v":"P263"},{"$f":"+'Table 1'!B316","v":"Avoid contact during pregnancy and while nursing."},{"$f":"+'Table 1'!V316","v":"Reproductive toxicity, effects on or via lactation (chapter 3.7)"},{"$f":"+'Table 1'!BB316","v":"Additional category"},{"$f":"+'Table 1'!BC316","v":0},{"$f":"+'Table 1'!BD316","v":0},{"$f":"+'Table 1'!BE316","v":0},{"$f":"+'Table 1'!BF316","v":0},{"$f":"+'Table 1'!BG316","v":0}]
[{"$f":"+'Table 1'!A322","v":"P264"},{"$f":"+'Table 1'!B322","v":"Wash ... thoroughly after handling."},{"$f":"+'Table 1'!V322","v":"Reproductive toxicity, effects on or via lactation (chapter 3.7)"},{"$f":"+'Table 1'!BB322","v":"Additional category"},{"$f":"+'Table 1'!BC322","v":0},{"$f":"+'Table 1'!BD322","v":0},{"$f":"+'Table 1'!BE322","v":0},{"$f":"+'Table 1'!BF322","v":0},{"$f":"+'Table 1'!BG322","v":0}]
[{"$f":"+'Table 1'!A328","v":"P270"},{"$f":"+'Table 1'!B328","v":"Do not eat, drink or smoke when using this product."},{"$f":"+'Table 1'!V328","v":"Reproductive toxicity, effects on or via lactation (chapter 3.7)"},{"$f":"+'Table 1'!BB328","v":"Additional category"},{"$f":"+'Table 1'!BC328","v":0},{"$f":"+'Table 1'!BD328","v":0},{"$f":"+'Table 1'!BE328","v":0},{"$f":"+'Table 1'!BF328","v":0},{"$f":"+'Table 1'!BG328","v":0}]
[{"$f":"+'Table 1'!A238","v":"P201"},{"$f":"+'Table 1'!B238","v":"Obtain special instructions before use."},{"$f":"+'Table 1'!V238","v":"Reproductive toxicity, effects on or via lactation (chapter 3.7)"},{"$f":"+'Table 1'!BB238","v":"Additional category"},{"$f":"+'Table 1'!BC238","v":0},{"$f":"+'Table 1'!BD238","v":0},{"$f":"+'Table 1'!BE238","v":0},{"$f":"+'Table 1'!BF238","v":0},{"$f":"+'Table 1'!BG238","v":0}]
[{"$f":"+'Table 1'!A243","v":"P202"},{"$f":"+'Table 1'!B243","v":"Do not handle until all safety precautions have been read and understood."},{"$f":"+'Table 1'!V243","v":"Reproductive toxicity, effects on or via lactation (chapter 3.7)"},{"$f":"+'Table 1'!BB243","v":"Additional category"},{"$f":"+'Table 1'!BC243","v":0},{"$f":"+'Table 1'!BD243","v":0},{"$f":"+'Table 1'!BE243","v":0},{"$f":"+'Table 1'!BF243","v":0},{"$f":"+'Table 1'!BG243","v":0}]
[{"$f":"+'Table 1'!A395","v":"P308"},{"$f":"+'Table 1'!B395","v":"IF exposed or concerned:"},{"$f":"+'Table 1'!Z395","v":"Reproductive toxicity, effects on or via lactation (chapter 3.7)"},{"$f":"+'Table 1'!BG395","v":"Additional category"},{"$f":"+'Table 1'!BH395","v":0},{"$f":"+'Table 1'!BI395","v":0},{"$f":"+'Table 1'!BJ395","v":0},{"$f":"+'Table 1'!BK395","v":0},{"$f":"+'Table 1'!BL395","v":0}]
[{"$f":"+'Table 1'!A418","v":"P313"},{"$f":"+'Table 1'!B418","v":"Get medical advice/attention."},{"$f":"+'Table 1'!Z418","v":"Reproductive toxicity, effects on or via lactation (chapter 3.7)"},{"$f":"+'Table 1'!BG418","v":"Additional category"},{"$f":"+'Table 1'!BH418","v":0},{"$f":"+'Table 1'!BI418","v":0},{"$f":"+'Table 1'!BJ418","v":0},{"$f":"+'Table 1'!BK418","v":0},{"$f":"+'Table 1'!BL418","v":0}]
[{"$f":"+'Table 1'!A550","v":"P308 + P313"},{"$f":"+'Table 1'!B550","v":"IF exposed or concerned:  Get medical advice/ attention."},{"$f":"+'Table 1'!Z550","v":"Reproductive toxicity, effects on or via lactation (chapter 3.7)"},{"$f":"+'Table 1'!BG550","v":"Additional category"},{"$f":"+'Table 1'!BH550","v":0},{"$f":"+'Table 1'!BI550","v":0},{"$f":"+'Table 1'!BJ550","v":0},{"$f":"+'Table 1'!BK550","v":0},{"$f":"+'Table 1'!BL550","v":0}]
[{"$f":"+'Table 1'!A311","v":"P261"},{"$f":"+'Table 1'!B311","v":"Avoid breathing dust/fume/gas/mist/vapours/spray."},{"$f":"+'Table 1'!V311","v":"Respiratory sensitization (chapter 3.4)"},{"$f":"+'Table 1'!BB311","v":1},{"$f":"+'Table 1'!BC311","v":"1A"},{"$f":"+'Table 1'!BD311","v":"1B"},{"$f":"+'Table 1'!BE311","v":0},{"$f":"+'Table 1'!BF311","v":0},{"$f":"+'Table 1'!BG311","v":0}]
[{"$f":"+'Table 1'!A365","v":"P284"},{"$f":"+'Table 1'!B365","v":"[In case of inadequate ventilation] wear respiratory protection."},{"$f":"+'Table 1'!V365","v":"Respiratory sensitization (chapter 3.4)"},{"$f":"+'Table 1'!BB365","v":1},{"$f":"+'Table 1'!BC365","v":"1A"},{"$f":"+'Table 1'!BD365","v":"1B"},{"$f":"+'Table 1'!BE365","v":0},{"$f":"+'Table 1'!BF365","v":0},{"$f":"+'Table 1'!BG365","v":0}]
[{"$f":"+'Table 1'!A383","v":"P304"},{"$f":"+'Table 1'!B383","v":"IF INHALED:"},{"$f":"+'Table 1'!Z383","v":"Respiratory sensitization (chapter 3.4)"},{"$f":"+'Table 1'!BG383","v":1},{"$f":"+'Table 1'!BH383","v":"1A"},{"$f":"+'Table 1'!BI383","v":"1B"},{"$f":"+'Table 1'!BJ383","v":0},{"$f":"+'Table 1'!BK383","v":0},{"$f":"+'Table 1'!BL383","v":0}]
[{"$f":"+'Table 1'!A405","v":"P311"},{"$f":"+'Table 1'!B405","v":"Call a POISON CENTER/doctor/…"},{"$f":"+'Table 1'!Z405","v":"Respiratory sensitization (chapter 3.4)"},{"$f":"+'Table 1'!BG405","v":1},{"$f":"+'Table 1'!BH405","v":"1A"},{"$f":"+'Table 1'!BI405","v":"1B"},{"$f":"+'Table 1'!BJ405","v":0},{"$f":"+'Table 1'!BK405","v":0},{"$f":"+'Table 1'!BL405","v":0}]
[{"$f":"+'Table 1'!A450","v":"P340"},{"$f":"+'Table 1'!B450","v":"Remove person to fresh air and keep comfortable for breathing."},{"$f":"+'Table 1'!Z450","v":"Respiratory sensitization (chapter 3.4)"},{"$f":"+'Table 1'!BG450","v":1},{"$f":"+'Table 1'!BH450","v":"1A"},{"$f":"+'Table 1'!BI450","v":"1B"},{"$f":"+'Table 1'!BJ450","v":0},{"$f":"+'Table 1'!BK450","v":0},{"$f":"+'Table 1'!BL450","v":0}]
[{"$f":"+'Table 1'!A453","v":"P342"},{"$f":"+'Table 1'!B453","v":"If experiencing respiratory symptoms:"},{"$f":"+'Table 1'!Z453","v":"Respiratory sensitization (chapter 3.4)"},{"$f":"+'Table 1'!BG453","v":1},{"$f":"+'Table 1'!BH453","v":"1A"},{"$f":"+'Table 1'!BI453","v":"1B"},{"$f":"+'Table 1'!BJ453","v":0},{"$f":"+'Table 1'!BK453","v":0},{"$f":"+'Table 1'!BL453","v":0}]
[{"$f":"+'Table 1'!A541","v":"P304 + P340"},{"$f":"+'Table 1'!B541","v":"IF INHALED:  Remove person to fresh air and keep comfortable for breathing."},{"$f":"+'Table 1'!Z541","v":"Respiratory sensitization (chapter 3.4)"},{"$f":"+'Table 1'!BG541","v":1},{"$f":"+'Table 1'!BH541","v":"1A"},{"$f":"+'Table 1'!BI541","v":"1B"},{"$f":"+'Table 1'!BJ541","v":0},{"$f":"+'Table 1'!BK541","v":0},{"$f":"+'Table 1'!BL541","v":0}]
[{"$f":"+'Table 1'!A556","v":"P342 + P311"},{"$f":"+'Table 1'!B556","v":"If experiencing respiratory symptoms:  Call a POISON CENTER/doctor/..."},{"$f":"+'Table 1'!Z556","v":"Respiratory sensitization (chapter 3.4)"},{"$f":"+'Table 1'!BG556","v":1},{"$f":"+'Table 1'!BH556","v":"1A"},{"$f":"+'Table 1'!BI556","v":"1B"},{"$f":"+'Table 1'!BJ556","v":0},{"$f":"+'Table 1'!BK556","v":0},{"$f":"+'Table 1'!BL556","v":0}]
[{"$f":"+'Table 1'!A690","v":"P501"},{"$f":"+'Table 1'!B690","v":"Dispose of contents/container to ..."},{"$f":"+'Table 1'!W690","v":"Respiratory sensitization (chapter 3.4)"},{"$f":"+'Table 1'!BI690","v":1},{"$f":"+'Table 1'!BJ690","v":"1A"},{"$f":"+'Table 1'!BK690","v":"1B"},{"$f":"+'Table 1'!BL690","v":0},{"$f":"+'Table 1'!BM690","v":0},{"$f":"+'Table 1'!BN690","v":0}]
[{"$f":"+'Table 1'!A288","v":"P235"},{"$f":"+'Table 1'!B288","v":"Keep cool."},{"$f":"+'Table 1'!V288","v":"Self-heating substances and mixtures (chapter 2.11)"},{"$f":"+'Table 1'!BB288","v":1},{"$f":"+'Table 1'!BC288","v":2},{"$f":"+'Table 1'!BD288","v":0},{"$f":"+'Table 1'!BE288","v":0},{"$f":"+'Table 1'!BF288","v":0},{"$f":"+'Table 1'!BG288","v":0}]
[{"$f":"+'Table 1'!A345","v":"P280"},{"$f":"+'Table 1'!B345","v":"Wear protective gloves/protective clothing/eye protection/face protection/hearing protection/..."},{"$f":"+'Table 1'!V345","v":"Self-heating substances and mixtures (chapter 2.11)"},{"$f":"+'Table 1'!BB345","v":1},{"$f":"+'Table 1'!BC345","v":2},{"$f":"+'Table 1'!BD345","v":0},{"$f":"+'Table 1'!BE345","v":0},{"$f":"+'Table 1'!BF345","v":0},{"$f":"+'Table 1'!BG345","v":0}]
[{"$f":"+'Table 1'!A650","v":"P407"},{"$f":"+'Table 1'!B650","v":"Maintain air gap between stacks or pallets."},{"$f":"+'Table 1'!Z650","v":"Self-heating substances and mixtures (chapter 2.11)"},{"$f":"+'Table 1'!BG650","v":1},{"$f":"+'Table 1'!BH650","v":2},{"$f":"+'Table 1'!BI650","v":0},{"$f":"+'Table 1'!BJ650","v":0},{"$f":"+'Table 1'!BK650","v":0},{"$f":"+'Table 1'!BL650","v":0}]
[{"$f":"+'Table 1'!A654","v":"P410"},{"$f":"+'Table 1'!B654","v":"Protect from sunlight."},{"$f":"+'Table 1'!Z654","v":"Self-heating substances and mixtures (chapter 2.11)"},{"$f":"+'Table 1'!BG654","v":1},{"$f":"+'Table 1'!BH654","v":2},{"$f":"+'Table 1'!BI654","v":0},{"$f":"+'Table 1'!BJ654","v":0},{"$f":"+'Table 1'!BK654","v":0},{"$f":"+'Table 1'!BL654","v":0}]
[{"$f":"+'Table 1'!A660","v":"P413"},{"$f":"+'Table 1'!B660","v":"Store bulk masses greater than … kg/…lbs at temperatures not exceeding …°C/…°F."},{"$f":"+'Table 1'!Z660","v":"Self-heating substances and mixtures (chapter 2.11)"},{"$f":"+'Table 1'!BG660","v":1},{"$f":"+'Table 1'!BH660","v":2},{"$f":"+'Table 1'!BI660","v":0},{"$f":"+'Table 1'!BJ660","v":0},{"$f":"+'Table 1'!BK660","v":0},{"$f":"+'Table 1'!BL660","v":0}]
[{"$f":"+'Table 1'!A663","v":"P420"},{"$f":"+'Table 1'!B663","v":"Store separately."},{"$f":"+'Table 1'!Z663","v":"Self-heating substances and mixtures (chapter 2.11)"},{"$f":"+'Table 1'!BG663","v":1},{"$f":"+'Table 1'!BH663","v":2},{"$f":"+'Table 1'!BI663","v":0},{"$f":"+'Table 1'!BJ663","v":0},{"$f":"+'Table 1'!BK663","v":0},{"$f":"+'Table 1'!BL663","v":0}]
[{"$f":"+'Table 1'!A250","v":"P210"},{"$f":"+'Table 1'!B250","v":"Keep away from heat, hot surfaces, sparks, open flames and other ignition sources. No smoking."},{"$f":"+'Table 1'!V250","v":"Self-reactive substances and mixtures (chapter 2.8)"},{"$f":"+'Table 1'!BB250","v":"A"},{"$f":"+'Table 1'!BC250","v":"B"},{"$f":"+'Table 1'!BD250","v":"C"},{"$f":"+'Table 1'!BE250","v":"D"},{"$f":"+'Table 1'!BF250","v":"E"},{"$f":"+'Table 1'!BG250","v":"F"}]
[{"$f":"+'Table 1'!A283","v":"P234"},{"$f":"+'Table 1'!B283","v":"Keep only in original packaging."},{"$f":"+'Table 1'!V283","v":"Self-reactive substances and mixtures (chapter 2.8)"},{"$f":"+'Table 1'!BB283","v":"A"},{"$f":"+'Table 1'!BC283","v":"B"},{"$f":"+'Table 1'!BD283","v":"C"},{"$f":"+'Table 1'!BE283","v":"D"},{"$f":"+'Table 1'!BF283","v":"E"},{"$f":"+'Table 1'!BG283","v":"F"}]
[{"$f":"+'Table 1'!A287","v":"P235"},{"$f":"+'Table 1'!B287","v":"Keep cool."},{"$f":"+'Table 1'!V287","v":"Self-reactive substances and mixtures (chapter 2.8)"},{"$f":"+'Table 1'!BB287","v":"A"},{"$f":"+'Table 1'!BC287","v":"B"},{"$f":"+'Table 1'!BD287","v":"C"},{"$f":"+'Table 1'!BE287","v":"D"},{"$f":"+'Table 1'!BF287","v":"E"},{"$f":"+'Table 1'!BG287","v":"F"}]
[{"$f":"+'Table 1'!A294","v":"P240"},{"$f":"+'Table 1'!B294","v":"Ground and bond container and receiving equipment."},{"$f":"+'Table 1'!V294","v":"Self-reactive substances and mixtures (chapter 2.8)"},{"$f":"+'Table 1'!BB294","v":"A"},{"$f":"+'Table 1'!BC294","v":"B"},{"$f":"+'Table 1'!BD294","v":"C"},{"$f":"+'Table 1'!BE294","v":"D"},{"$f":"+'Table 1'!BF294","v":"E"},{"$f":"+'Table 1'!BG294","v":"F"}]
[{"$f":"+'Table 1'!A342","v":"P280"},{"$f":"+'Table 1'!B342","v":"Wear protective gloves/protective clothing/eye protection/face protection/hearing protection/..."},{"$f":"+'Table 1'!V342","v":"Self-reactive substances and mixtures (chapter 2.8)"},{"$f":"+'Table 1'!BB342","v":"A"},{"$f":"+'Table 1'!BC342","v":"B"},{"$f":"+'Table 1'!BD342","v":"C"},{"$f":"+'Table 1'!BE342","v":"D"},{"$f":"+'Table 1'!BF342","v":"E"},{"$f":"+'Table 1'!BG342","v":"F"}]
[{"$f":"+'Table 1'!A482","v":"P370"},{"$f":"+'Table 1'!B482","v":"In case of fire:"},{"$f":"+'Table 1'!Z482","v":"Self-reactive substances and mixtures (chapter 2.8)"},{"$f":"+'Table 1'!BG482","v":"A"},{"$f":"+'Table 1'!BH482","v":"B"},{"$f":"+'Table 1'!BI482","v":"C"},{"$f":"+'Table 1'!BJ482","v":"D"},{"$f":"+'Table 1'!BK482","v":"E"},{"$f":"+'Table 1'!BL482","v":"F"}]
[{"$f":"+'Table 1'!A495","v":"P372"},{"$f":"+'Table 1'!B495","v":"Explosion risk."},{"$f":"+'Table 1'!Z495","v":"Self-reactive substances and mixtures (chapter 2.8)"},{"$f":"+'Table 1'!BG495","v":"A"},{"$f":"+'Table 1'!BH495","v":0},{"$f":"+'Table 1'!BI495","v":0},{"$f":"+'Table 1'!BJ495","v":0},{"$f":"+'Table 1'!BK495","v":0},{"$f":"+'Table 1'!BL495","v":0}]
[{"$f":"+'Table 1'!A499","v":"P373"},{"$f":"+'Table 1'!B499","v":"DO NOT fight fire when fire reaches explosives."},{"$f":"+'Table 1'!Z499","v":"Self-reactive substances and mixtures (chapter 2.8)"},{"$f":"+'Table 1'!BG499","v":"A"},{"$f":"+'Table 1'!BH499","v":0},{"$f":"+'Table 1'!BI499","v":0},{"$f":"+'Table 1'!BJ499","v":0},{"$f":"+'Table 1'!BK499","v":0},{"$f":"+'Table 1'!BL499","v":0}]
[{"$f":"+'Table 1'!A503","v":"P375"},{"$f":"+'Table 1'!B503","v":"Fight fire remotely due to the risk of explosion."},{"$f":"+'Table 1'!Z503","v":"Self-reactive substances and mixtures (chapter 2.8)"},{"$f":"+'Table 1'!BG503","v":"B"},{"$f":"+'Table 1'!BH503","v":0},{"$f":"+'Table 1'!BI503","v":0},{"$f":"+'Table 1'!BJ503","v":0},{"$f":"+'Table 1'!BK503","v":0},{"$f":"+'Table 1'!BL503","v":0}]
[{"$f":"+'Table 1'!A512","v":"P378"},{"$f":"+'Table 1'!B512","v":"Use ... to extinguish."},{"$f":"+'Table 1'!Z512","v":"Self-reactive substances and mixtures (chapter 2.8)"},{"$f":"+'Table 1'!BG512","v":"B"},{"$f":"+'Table 1'!BH512","v":"C"},{"$f":"+'Table 1'!BI512","v":"D"},{"$f":"+'Table 1'!BJ512","v":"E"},{"$f":"+'Table 1'!BK512","v":"F"},{"$f":"+'Table 1'!BL512","v":0}]
[{"$f":"+'Table 1'!A520","v":"P380"},{"$f":"+'Table 1'!B520","v":"Evacuate area."},{"$f":"+'Table 1'!Z520","v":"Self-reactive substances and mixtures (chapter 2.8)"},{"$f":"+'Table 1'!BG520","v":"A"},{"$f":"+'Table 1'!BH520","v":"B"},{"$f":"+'Table 1'!BI520","v":0},{"$f":"+'Table 1'!BJ520","v":0},{"$f":"+'Table 1'!BK520","v":0},{"$f":"+'Table 1'!BL520","v":0}]
[{"$f":"+'Table 1'!A564","v":"P370 + P378"},{"$f":"+'Table 1'!B564","v":"In case of fire:  Use ... to extinguish."},{"$f":"+'Table 1'!Z564","v":"Self-reactive substances and mixtures (chapter 2.8)"},{"$f":"+'Table 1'!BG564","v":"C"},{"$f":"+'Table 1'!BH564","v":"D"},{"$f":"+'Table 1'!BI564","v":"E"},{"$f":"+'Table 1'!BJ564","v":"F"},{"$f":"+'Table 1'!BK564","v":0},{"$f":"+'Table 1'!BL564","v":0}]
[{"$f":"+'Table 1'!A610","v":"P370 + P372 + P380 + P373"},{"$f":"+'Table 1'!B610","v":"In case of fire:  Explosion risk. Evacuate area. DO NOT fight fire when fire reaches explosives."},{"$f":"+'Table 1'!Z610","v":"Self-reactive substances and mixtures (chapter 2.8)"},{"$f":"+'Table 1'!BG610","v":"A"},{"$f":"+'Table 1'!BH610","v":0},{"$f":"+'Table 1'!BI610","v":0},{"$f":"+'Table 1'!BJ610","v":0},{"$f":"+'Table 1'!BK610","v":0},{"$f":"+'Table 1'!BL610","v":0}]
[{"$f":"+'Table 1'!A613","v":"P370 + P380 + P375 + [P378]"},{"$f":"+'Table 1'!B613","v":"In case of fire:  Evacuate area.  Fight fire remotely"},{"$f":"+'Table 1'!Z613","v":"Self-reactive substances and mixtures (chapter 2.8)"},{"$f":"+'Table 1'!BG613","v":"B"},{"$f":"+'Table 1'!BH613","v":0},{"$f":"+'Table 1'!BI613","v":0},{"$f":"+'Table 1'!BJ613","v":0},{"$f":"+'Table 1'!BK613","v":0},{"$f":"+'Table 1'!BL613","v":0}]
[{"$f":"+'Table 1'!A631","v":"P403"},{"$f":"+'Table 1'!B631","v":"Store in a well-ventilated place."},{"$f":"+'Table 1'!Z631","v":"Self-reactive substances and mixtures (chapter 2.8)"},{"$f":"+'Table 1'!BG631","v":"A"},{"$f":"+'Table 1'!BH631","v":"B"},{"$f":"+'Table 1'!BI631","v":"C"},{"$f":"+'Table 1'!BJ631","v":"D"},{"$f":"+'Table 1'!BK631","v":"E"},{"$f":"+'Table 1'!BL631","v":"F"}]
[{"$f":"+'Table 1'!A657","v":"P411"},{"$f":"+'Table 1'!B657","v":"Store at temperatures not exceeding …°C/…°F."},{"$f":"+'Table 1'!Z657","v":"Self-reactive substances and mixtures (chapter 2.8)"},{"$f":"+'Table 1'!BG657","v":"A"},{"$f":"+'Table 1'!BH657","v":"B"},{"$f":"+'Table 1'!BI657","v":"C"},{"$f":"+'Table 1'!BJ657","v":"D"},{"$f":"+'Table 1'!BK657","v":"E"},{"$f":"+'Table 1'!BL657","v":"F"}]
[{"$f":"+'Table 1'!A662","v":"P420"},{"$f":"+'Table 1'!B662","v":"Store separately."},{"$f":"+'Table 1'!Z662","v":"Self-reactive substances and mixtures (chapter 2.8)"},{"$f":"+'Table 1'!BG662","v":"A"},{"$f":"+'Table 1'!BH662","v":"B"},{"$f":"+'Table 1'!BI662","v":"C"},{"$f":"+'Table 1'!BJ662","v":"D"},{"$f":"+'Table 1'!BK662","v":"E"},{"$f":"+'Table 1'!BL662","v":"F"}]
[{"$f":"+'Table 1'!A679","v":"P501"},{"$f":"+'Table 1'!B679","v":"Dispose of contents/container to ..."},{"$f":"+'Table 1'!W679","v":"Self-reactive substances and mixtures (chapter 2.8)"},{"$f":"+'Table 1'!BI679","v":"A"},{"$f":"+'Table 1'!BJ679","v":"B"},{"$f":"+'Table 1'!BK679","v":"C"},{"$f":"+'Table 1'!BL679","v":"D"},{"$f":"+'Table 1'!BM679","v":"E"},{"$f":"+'Table 1'!BN679","v":"F"}]
[{"$f":"+'Table 1'!A356","v":"P280 (suite)"},{"$f":"+'Table 1'!B356","v":"Wear protective gloves/protective clothing/eye protection/face protection/hearing protection/..."},{"$f":"+'Table 1'!V356","v":"Serious eye damage (chapter 3.3)"},{"$f":"+'Table 1'!BB356","v":1},{"$f":"+'Table 1'!BC356","v":0},{"$f":"+'Table 1'!BD356","v":0},{"$f":"+'Table 1'!BE356","v":0},{"$f":"+'Table 1'!BF356","v":0},{"$f":"+'Table 1'!BG356","v":0}]
[{"$f":"+'Table 1'!A387","v":"P305"},{"$f":"+'Table 1'!B387","v":"IF IN EYES:"},{"$f":"+'Table 1'!Z387","v":"Serious eye damage (chapter 3.3)"},{"$f":"+'Table 1'!BG387","v":1},{"$f":"+'Table 1'!BH387","v":0},{"$f":"+'Table 1'!BI387","v":0},{"$f":"+'Table 1'!BJ387","v":0},{"$f":"+'Table 1'!BK387","v":0},{"$f":"+'Table 1'!BL387","v":0}]
[{"$f":"+'Table 1'!A402","v":"P310"},{"$f":"+'Table 1'!B402","v":"Immediately call a POISON CENTER/doctor/…"},{"$f":"+'Table 1'!Z402","v":"Serious eye damage (chapter 3.3)"},{"$f":"+'Table 1'!BG402","v":1},{"$f":"+'Table 1'!BH402","v":0},{"$f":"+'Table 1'!BI402","v":0},{"$f":"+'Table 1'!BJ402","v":0},{"$f":"+'Table 1'!BK402","v":0},{"$f":"+'Table 1'!BL402","v":0}]
[{"$f":"+'Table 1'!A445","v":"P338"},{"$f":"+'Table 1'!B445","v":"Remove contact lenses, if present and easy to do. Continue rinsing."},{"$f":"+'Table 1'!Z445","v":"Serious eye damage (chapter 3.3)"},{"$f":"+'Table 1'!BG445","v":1},{"$f":"+'Table 1'!BH445","v":0},{"$f":"+'Table 1'!BI445","v":0},{"$f":"+'Table 1'!BJ445","v":0},{"$f":"+'Table 1'!BK445","v":0},{"$f":"+'Table 1'!BL445","v":0}]
[{"$f":"+'Table 1'!A456","v":"P351"},{"$f":"+'Table 1'!B456","v":"Rinse cautiously with water for several minutes."},{"$f":"+'Table 1'!Z456","v":"Serious eye damage (chapter 3.3)"},{"$f":"+'Table 1'!BG456","v":1},{"$f":"+'Table 1'!BH456","v":0},{"$f":"+'Table 1'!BI456","v":0},{"$f":"+'Table 1'!BJ456","v":0},{"$f":"+'Table 1'!BK456","v":0},{"$f":"+'Table 1'!BL456","v":0}]
[{"$f":"+'Table 1'!A583","v":"P305 +P351"},{"$f":"+'Table 1'!B583","v":"IF IN EYES:  Rinse cautiously with water for several minutes.  Remove contact lenses, if present and easy to do.  Continue rinsing."},{"$f":"+'Table 1'!Z583","v":"Serious eye damage (chapter 3.3)"},{"$f":"+'Table 1'!BG583","v":1},{"$f":"+'Table 1'!BH583","v":0},{"$f":"+'Table 1'!BI583","v":0},{"$f":"+'Table 1'!BJ583","v":0},{"$f":"+'Table 1'!BK583","v":0},{"$f":"+'Table 1'!BL583","v":0}]
[{"$f":"+'Table 1'!A308","v":"P260"},{"$f":"+'Table 1'!B308","v":"Do not breathe dust/fume/gas/mist/vapours/spray."},{"$f":"+'Table 1'!V308","v":"Skin corrosion (chapter 3.2)"},{"$f":"+'Table 1'!BB308","v":"1A"},{"$f":"+'Table 1'!BC308","v":"1B"},{"$f":"+'Table 1'!BD308","v":"1C"},{"$f":"+'Table 1'!BE308","v":0},{"$f":"+'Table 1'!BF308","v":0},{"$f":"+'Table 1'!BG308","v":0}]
[{"$f":"+'Table 1'!A319","v":"P264"},{"$f":"+'Table 1'!B319","v":"Wash ... thoroughly after handling."},{"$f":"+'Table 1'!V319","v":"Skin corrosion (chapter 3.2)"},{"$f":"+'Table 1'!BB319","v":"1A"},{"$f":"+'Table 1'!BC319","v":"1B"},{"$f":"+'Table 1'!BD319","v":"1C"},{"$f":"+'Table 1'!BE319","v":0},{"$f":"+'Table 1'!BF319","v":0},{"$f":"+'Table 1'!BG319","v":0}]
[{"$f":"+'Table 1'!A353","v":"P280 (suite)"},{"$f":"+'Table 1'!B353","v":"Wear protective gloves/protective clothing/eye protection/face protection/hearing protection/..."},{"$f":"+'Table 1'!V353","v":"Skin corrosion (chapter 3.2)"},{"$f":"+'Table 1'!BB353","v":"1A"},{"$f":"+'Table 1'!BC353","v":"1B"},{"$f":"+'Table 1'!BD353","v":"1C"},{"$f":"+'Table 1'!BE353","v":0},{"$f":"+'Table 1'!BF353","v":0},{"$f":"+'Table 1'!BG353","v":0}]
[{"$f":"+'Table 1'!A371","v":"P301"},{"$f":"+'Table 1'!B371","v":"IF SWALLOWED:"},{"$f":"+'Table 1'!Z371","v":"Skin corrosion (chapter 3.2)"},{"$f":"+'Table 1'!BG371","v":"1A"},{"$f":"+'Table 1'!BH371","v":"1B"},{"$f":"+'Table 1'!BI371","v":"1C"},{"$f":"+'Table 1'!BJ371","v":0},{"$f":"+'Table 1'!BK371","v":0},{"$f":"+'Table 1'!BL371","v":0}]
[{"$f":"+'Table 1'!A380","v":"P303"},{"$f":"+'Table 1'!B380","v":"IF ON SKIN (or hair):"},{"$f":"+'Table 1'!Z380","v":"Skin corrosion (chapter 3.2)"},{"$f":"+'Table 1'!BG380","v":"1A"},{"$f":"+'Table 1'!BH380","v":"1B"},{"$f":"+'Table 1'!BI380","v":"1C"},{"$f":"+'Table 1'!BJ380","v":0},{"$f":"+'Table 1'!BK380","v":0},{"$f":"+'Table 1'!BL380","v":0}]
[{"$f":"+'Table 1'!A382","v":"P304"},{"$f":"+'Table 1'!B382","v":"IF INHALED:"},{"$f":"+'Table 1'!Z382","v":"Skin corrosion (chapter 3.2)"},{"$f":"+'Table 1'!BG382","v":"1A"},{"$f":"+'Table 1'!BH382","v":"1B"},{"$f":"+'Table 1'!BI382","v":"1C"},{"$f":"+'Table 1'!BJ382","v":0},{"$f":"+'Table 1'!BK382","v":0},{"$f":"+'Table 1'!BL382","v":0}]
[{"$f":"+'Table 1'!A386","v":"P305"},{"$f":"+'Table 1'!B386","v":"IF IN EYES:"},{"$f":"+'Table 1'!Z386","v":"Skin corrosion (chapter 3.2)"},{"$f":"+'Table 1'!BG386","v":"1A"},{"$f":"+'Table 1'!BH386","v":"1B"},{"$f":"+'Table 1'!BI386","v":"1C"},{"$f":"+'Table 1'!BJ386","v":0},{"$f":"+'Table 1'!BK386","v":0},{"$f":"+'Table 1'!BL386","v":0}]
[{"$f":"+'Table 1'!A401","v":"P310"},{"$f":"+'Table 1'!B401","v":"Immediately call a POISON CENTER/doctor/…"},{"$f":"+'Table 1'!Z401","v":"Skin corrosion (chapter 3.2)"},{"$f":"+'Table 1'!BG401","v":"1A"},{"$f":"+'Table 1'!BH401","v":"1B"},{"$f":"+'Table 1'!BI401","v":"1C"},{"$f":"+'Table 1'!BJ401","v":0},{"$f":"+'Table 1'!BK401","v":0},{"$f":"+'Table 1'!BL401","v":0}]
[{"$f":"+'Table 1'!A426","v":"P321"},{"$f":"+'Table 1'!B426","v":"Specific treatment (see ... on this label)."},{"$f":"+'Table 1'!Z426","v":"Skin corrosion (chapter 3.2)"},{"$f":"+'Table 1'!BG426","v":"1A"},{"$f":"+'Table 1'!BH426","v":"1B"},{"$f":"+'Table 1'!BI426","v":"1C"},{"$f":"+'Table 1'!BJ426","v":0},{"$f":"+'Table 1'!BK426","v":0},{"$f":"+'Table 1'!BL426","v":0}]
[{"$f":"+'Table 1'!A432","v":"P330"},{"$f":"+'Table 1'!B432","v":"Rinse mouth."},{"$f":"+'Table 1'!Z432","v":"Skin corrosion (chapter 3.2)"},{"$f":"+'Table 1'!BG432","v":"1A"},{"$f":"+'Table 1'!BH432","v":"1B"},{"$f":"+'Table 1'!BI432","v":"1C"},{"$f":"+'Table 1'!BJ432","v":0},{"$f":"+'Table 1'!BK432","v":0},{"$f":"+'Table 1'!BL432","v":0}]
[{"$f":"+'Table 1'!A433","v":"P331"},{"$f":"+'Table 1'!B433","v":"Do NOT induce vomiting."},{"$f":"+'Table 1'!Z433","v":"Skin corrosion (chapter 3.2)"},{"$f":"+'Table 1'!BG433","v":"1A"},{"$f":"+'Table 1'!BH433","v":"1B"},{"$f":"+'Table 1'!BI433","v":"1C"},{"$f":"+'Table 1'!BJ433","v":0},{"$f":"+'Table 1'!BK433","v":0},{"$f":"+'Table 1'!BL433","v":0}]
[{"$f":"+'Table 1'!A444","v":"P338"},{"$f":"+'Table 1'!B444","v":"Remove contact lenses, if present and easy to do. Continue rinsing."},{"$f":"+'Table 1'!Z444","v":"Skin corrosion (chapter 3.2)"},{"$f":"+'Table 1'!BG444","v":"1A"},{"$f":"+'Table 1'!BH444","v":"1B"},{"$f":"+'Table 1'!BI444","v":"1C"},{"$f":"+'Table 1'!BJ444","v":0},{"$f":"+'Table 1'!BK444","v":0},{"$f":"+'Table 1'!BL444","v":0}]
[{"$f":"+'Table 1'!A449","v":"P340"},{"$f":"+'Table 1'!B449","v":"Remove person to fresh air and keep comfortable for breathing."},{"$f":"+'Table 1'!Z449","v":"Skin corrosion (chapter 3.2)"},{"$f":"+'Table 1'!BG449","v":"1A"},{"$f":"+'Table 1'!BH449","v":"1B"},{"$f":"+'Table 1'!BI449","v":"1C"},{"$f":"+'Table 1'!BJ449","v":0},{"$f":"+'Table 1'!BK449","v":0},{"$f":"+'Table 1'!BL449","v":0}]
[{"$f":"+'Table 1'!A455","v":"P351"},{"$f":"+'Table 1'!B455","v":"Rinse cautiously with water for several minutes."},{"$f":"+'Table 1'!Z455","v":"Skin corrosion (chapter 3.2)"},{"$f":"+'Table 1'!BG455","v":"1A"},{"$f":"+'Table 1'!BH455","v":"1B"},{"$f":"+'Table 1'!BI455","v":"1C"},{"$f":"+'Table 1'!BJ455","v":0},{"$f":"+'Table 1'!BK455","v":0},{"$f":"+'Table 1'!BL455","v":0}]
[{"$f":"+'Table 1'!A462","v":"P353"},{"$f":"+'Table 1'!B462","v":"Rinse skin with water [or shower]."},{"$f":"+'Table 1'!Z462","v":"Skin corrosion (chapter 3.2)"},{"$f":"+'Table 1'!BG462","v":"1A"},{"$f":"+'Table 1'!BH462","v":"1B"},{"$f":"+'Table 1'!BI462","v":"1C"},{"$f":"+'Table 1'!BJ462","v":0},{"$f":"+'Table 1'!BK462","v":0},{"$f":"+'Table 1'!BL462","v":0}]
[{"$f":"+'Table 1'!A468","v":"P361"},{"$f":"+'Table 1'!B468","v":"Take off immediately all contaminated clothing."},{"$f":"+'Table 1'!Z468","v":"Skin corrosion (chapter 3.2)"},{"$f":"+'Table 1'!BG468","v":"1A"},{"$f":"+'Table 1'!BH468","v":"1B"},{"$f":"+'Table 1'!BI468","v":"1C"},{"$f":"+'Table 1'!BJ468","v":0},{"$f":"+'Table 1'!BK468","v":0},{"$f":"+'Table 1'!BL468","v":0}]
[{"$f":"+'Table 1'!A472","v":"P363"},{"$f":"+'Table 1'!B472","v":"Wash contaminated clothing before reuse."},{"$f":"+'Table 1'!Z472","v":"Skin corrosion (chapter 3.2)"},{"$f":"+'Table 1'!BG472","v":"1A"},{"$f":"+'Table 1'!BH472","v":"1B"},{"$f":"+'Table 1'!BI472","v":"1C"},{"$f":"+'Table 1'!BJ472","v":0},{"$f":"+'Table 1'!BK472","v":0},{"$f":"+'Table 1'!BL472","v":0}]
[{"$f":"+'Table 1'!A540","v":"P304 + P340"},{"$f":"+'Table 1'!B540","v":"IF INHALED:  Remove person to fresh air and keep comfortable for breathing."},{"$f":"+'Table 1'!Z540","v":"Skin corrosion (chapter 3.2)"},{"$f":"+'Table 1'!BG540","v":"1A"},{"$f":"+'Table 1'!BH540","v":"1B"},{"$f":"+'Table 1'!BI540","v":"1C"},{"$f":"+'Table 1'!BJ540","v":0},{"$f":"+'Table 1'!BK540","v":0},{"$f":"+'Table 1'!BL540","v":0}]
[{"$f":"+'Table 1'!A572","v":"P301 + P330 + P331"},{"$f":"+'Table 1'!B572","v":"IF SWALLOWED:  Rinse mouth.  Do NOT induce vomiting."},{"$f":"+'Table 1'!Z572","v":"Skin corrosion (chapter 3.2)"},{"$f":"+'Table 1'!BG572","v":"1A"},{"$f":"+'Table 1'!BH572","v":"1B"},{"$f":"+'Table 1'!BI572","v":"1C"},{"$f":"+'Table 1'!BJ572","v":0},{"$f":"+'Table 1'!BK572","v":0},{"$f":"+'Table 1'!BL572","v":0}]
[{"$f":"+'Table 1'!A577","v":"P303 + P361 + P353"},{"$f":"+'Table 1'!B577","v":"IF ON SKIN (or hair):  Take off immediately all contaminated clothing.  Rinse skin with water [or shower]."},{"$f":"+'Table 1'!Z577","v":"Skin corrosion (chapter 3.2)"},{"$f":"+'Table 1'!BG577","v":"1A"},{"$f":"+'Table 1'!BH577","v":"1B"},{"$f":"+'Table 1'!BI577","v":"1C"},{"$f":"+'Table 1'!BJ577","v":0},{"$f":"+'Table 1'!BK577","v":0},{"$f":"+'Table 1'!BL577","v":0}]
[{"$f":"+'Table 1'!A582","v":"P305 +P351 + P338"},{"$f":"+'Table 1'!B582","v":"IF IN EYES:  Rinse cautiously with water for several minutes.  Remove contact lenses, if present and easy to do.  Continue rinsing."},{"$f":"+'Table 1'!Z582","v":"Skin corrosion (chapter 3.2)"},{"$f":"+'Table 1'!BG582","v":"1A"},{"$f":"+'Table 1'!BH582","v":"1B"},{"$f":"+'Table 1'!BI582","v":"1C"},{"$f":"+'Table 1'!BJ582","v":0},{"$f":"+'Table 1'!BK582","v":0},{"$f":"+'Table 1'!BL582","v":0}]
[{"$f":"+'Table 1'!A641","v":"P405"},{"$f":"+'Table 1'!B641","v":"Store locked up."},{"$f":"+'Table 1'!Z641","v":"Skin corrosion (chapter 3.2)"},{"$f":"+'Table 1'!BG641","v":"1A"},{"$f":"+'Table 1'!BH641","v":"1B"},{"$f":"+'Table 1'!BI641","v":"1C"},{"$f":"+'Table 1'!BJ641","v":0},{"$f":"+'Table 1'!BK641","v":0},{"$f":"+'Table 1'!BL641","v":0}]
[{"$f":"+'Table 1'!A689","v":"P501"},{"$f":"+'Table 1'!B689","v":"Dispose of contents/container to ..."},{"$f":"+'Table 1'!W689","v":"Skin corrosion (chapter 3.2)"},{"$f":"+'Table 1'!BI689","v":"1A"},{"$f":"+'Table 1'!BJ689","v":"1B"},{"$f":"+'Table 1'!BK689","v":"1C"},{"$f":"+'Table 1'!BL689","v":0},{"$f":"+'Table 1'!BM689","v":0},{"$f":"+'Table 1'!BN689","v":0}]
[{"$f":"+'Table 1'!A320","v":"P264"},{"$f":"+'Table 1'!B320","v":"Wash ... thoroughly after handling."},{"$f":"+'Table 1'!V320","v":"Skin irritation (chapter 3.2)"},{"$f":"+'Table 1'!BB320","v":2},{"$f":"+'Table 1'!BC320","v":0},{"$f":"+'Table 1'!BD320","v":0},{"$f":"+'Table 1'!BE320","v":0},{"$f":"+'Table 1'!BF320","v":0},{"$f":"+'Table 1'!BG320","v":0}]
[{"$f":"+'Table 1'!A354","v":"P280 (suite)"},{"$f":"+'Table 1'!B354","v":"Wear protective gloves/protective clothing/eye protection/face protection/hearing protection/..."},{"$f":"+'Table 1'!V354","v":"Skin irritation (chapter 3.2)"},{"$f":"+'Table 1'!BB354","v":2},{"$f":"+'Table 1'!BC354","v":0},{"$f":"+'Table 1'!BD354","v":0},{"$f":"+'Table 1'!BE354","v":0},{"$f":"+'Table 1'!BF354","v":0},{"$f":"+'Table 1'!BG354","v":0}]
[{"$f":"+'Table 1'!A377","v":"P302"},{"$f":"+'Table 1'!B377","v":"IF ON SKIN:"},{"$f":"+'Table 1'!Z377","v":"Skin irritation (chapter 3.2)"},{"$f":"+'Table 1'!BG377","v":2},{"$f":"+'Table 1'!BH377","v":0},{"$f":"+'Table 1'!BI377","v":0},{"$f":"+'Table 1'!BJ377","v":0},{"$f":"+'Table 1'!BK377","v":0},{"$f":"+'Table 1'!BL377","v":0}]
[{"$f":"+'Table 1'!A412","v":"P313"},{"$f":"+'Table 1'!B412","v":"Get medical advice/attention."},{"$f":"+'Table 1'!Z412","v":"Skin irritation (chapter 3.2)"},{"$f":"+'Table 1'!BG412","v":2},{"$f":"+'Table 1'!BH412","v":3},{"$f":"+'Table 1'!BI412","v":0},{"$f":"+'Table 1'!BJ412","v":0},{"$f":"+'Table 1'!BK412","v":0},{"$f":"+'Table 1'!BL412","v":0}]
[{"$f":"+'Table 1'!A427","v":"P321"},{"$f":"+'Table 1'!B427","v":"Specific treatment (see ... on this label)."},{"$f":"+'Table 1'!Z427","v":"Skin irritation (chapter 3.2)"},{"$f":"+'Table 1'!BG427","v":2},{"$f":"+'Table 1'!BH427","v":0},{"$f":"+'Table 1'!BI427","v":0},{"$f":"+'Table 1'!BJ427","v":0},{"$f":"+'Table 1'!BK427","v":0},{"$f":"+'Table 1'!BL427","v":0}]
[{"$f":"+'Table 1'!A435","v":"P332"},{"$f":"+'Table 1'!B435","v":"If skin irritation occurs:"},{"$f":"+'Table 1'!Z435","v":"Skin irritation (chapter 3.2)"},{"$f":"+'Table 1'!BG435","v":2},{"$f":"+'Table 1'!BH435","v":3},{"$f":"+'Table 1'!BI435","v":0},{"$f":"+'Table 1'!BJ435","v":0},{"$f":"+'Table 1'!BK435","v":0},{"$f":"+'Table 1'!BL435","v":0}]
[{"$f":"+'Table 1'!A459","v":"P352"},{"$f":"+'Table 1'!B459","v":"Wash with plenty of water/..."},{"$f":"+'Table 1'!Z459","v":"Skin irritation (chapter 3.2)"},{"$f":"+'Table 1'!BG459","v":2},{"$f":"+'Table 1'!BH459","v":0},{"$f":"+'Table 1'!BI459","v":0},{"$f":"+'Table 1'!BJ459","v":0},{"$f":"+'Table 1'!BK459","v":0},{"$f":"+'Table 1'!BL459","v":0}]
[{"$f":"+'Table 1'!A470","v":"P362"},{"$f":"+'Table 1'!B470","v":"Take off contaminated clothing."},{"$f":"+'Table 1'!Z470","v":"Skin irritation (chapter 3.2)"},{"$f":"+'Table 1'!BG470","v":2},{"$f":"+'Table 1'!BH470","v":0},{"$f":"+'Table 1'!BI470","v":0},{"$f":"+'Table 1'!BJ470","v":0},{"$f":"+'Table 1'!BK470","v":0},{"$f":"+'Table 1'!BL470","v":0}]
[{"$f":"+'Table 1'!A474","v":"P364"},{"$f":"+'Table 1'!B474","v":"And wash it before reuse."},{"$f":"+'Table 1'!Z474","v":"Skin irritation (chapter 3.2)"},{"$f":"+'Table 1'!BG474","v":2},{"$f":"+'Table 1'!BH474","v":0},{"$f":"+'Table 1'!BI474","v":0},{"$f":"+'Table 1'!BJ474","v":0},{"$f":"+'Table 1'!BK474","v":0},{"$f":"+'Table 1'!BL474","v":0}]
[{"$f":"+'Table 1'!A536","v":"P302 + P352"},{"$f":"+'Table 1'!B536","v":"IF ON SKIN:  Wash with plenty of water/..."},{"$f":"+'Table 1'!Z536","v":"Skin irritation (chapter 3.2)"},{"$f":"+'Table 1'!BG536","v":2},{"$f":"+'Table 1'!BH536","v":0},{"$f":"+'Table 1'!BI536","v":0},{"$f":"+'Table 1'!BJ536","v":0},{"$f":"+'Table 1'!BK536","v":0},{"$f":"+'Table 1'!BL536","v":0}]
[{"$f":"+'Table 1'!A551","v":"P332 + P313"},{"$f":"+'Table 1'!B551","v":"If skin irritation occurs:  Get medical advice/attention."},{"$f":"+'Table 1'!Z551","v":"Skin irritation (chapter 3.2)"},{"$f":"+'Table 1'!BG551","v":2},{"$f":"+'Table 1'!BH551","v":3},{"$f":"+'Table 1'!BI551","v":0},{"$f":"+'Table 1'!BJ551","v":0},{"$f":"+'Table 1'!BK551","v":0},{"$f":"+'Table 1'!BL551","v":0}]
[{"$f":"+'Table 1'!A559","v":"P362 + P364"},{"$f":"+'Table 1'!B559","v":"Take off contaminated clothing and wash it before reuse."},{"$f":"+'Table 1'!Z559","v":"Skin irritation (chapter 3.2)"},{"$f":"+'Table 1'!BG559","v":2},{"$f":"+'Table 1'!BH559","v":0},{"$f":"+'Table 1'!BI559","v":0},{"$f":"+'Table 1'!BJ559","v":0},{"$f":"+'Table 1'!BK559","v":0},{"$f":"+'Table 1'!BL559","v":0}]
[{"$f":"+'Table 1'!A312","v":"P261"},{"$f":"+'Table 1'!B312","v":"Avoid breathing dust/fume/gas/mist/vapours/spray."},{"$f":"+'Table 1'!V312","v":"Skin sensitization (chapter 3.4)"},{"$f":"+'Table 1'!BB312","v":1},{"$f":"+'Table 1'!BC312","v":"1A"},{"$f":"+'Table 1'!BD312","v":"1B"},{"$f":"+'Table 1'!BE312","v":0},{"$f":"+'Table 1'!BF312","v":0},{"$f":"+'Table 1'!BG312","v":0}]
[{"$f":"+'Table 1'!A334","v":"P272"},{"$f":"+'Table 1'!B334","v":"Contaminated work clothing should not be allowed out of the workplace."},{"$f":"+'Table 1'!V334","v":"Skin sensitization (chapter 3.4)"},{"$f":"+'Table 1'!BB334","v":1},{"$f":"+'Table 1'!BC334","v":"1A"},{"$f":"+'Table 1'!BD334","v":"1B"},{"$f":"+'Table 1'!BE334","v":0},{"$f":"+'Table 1'!BF334","v":0},{"$f":"+'Table 1'!BG334","v":0}]
[{"$f":"+'Table 1'!A355","v":"P280 (suite)"},{"$f":"+'Table 1'!B355","v":"Wear protective gloves/protective clothing/eye protection/face protection/hearing protection/..."},{"$f":"+'Table 1'!V355","v":"Skin sensitization (chapter 3.4)"},{"$f":"+'Table 1'!BB355","v":1},{"$f":"+'Table 1'!BC355","v":"1A"},{"$f":"+'Table 1'!BD355","v":"1B"},{"$f":"+'Table 1'!BE355","v":0},{"$f":"+'Table 1'!BF355","v":0},{"$f":"+'Table 1'!BG355","v":0}]
[{"$f":"+'Table 1'!A378","v":"P302"},{"$f":"+'Table 1'!B378","v":"IF ON SKIN:"},{"$f":"+'Table 1'!Z378","v":"Skin sensitization (chapter 3.4)"},{"$f":"+'Table 1'!BG378","v":1},{"$f":"+'Table 1'!BH378","v":"1A"},{"$f":"+'Table 1'!BI378","v":"1B"},{"$f":"+'Table 1'!BJ378","v":0},{"$f":"+'Table 1'!BK378","v":0},{"$f":"+'Table 1'!BL378","v":0}]
[{"$f":"+'Table 1'!A414","v":"P313"},{"$f":"+'Table 1'!B414","v":"Get medical advice/attention."},{"$f":"+'Table 1'!Z414","v":"Skin sensitization (chapter 3.4)"},{"$f":"+'Table 1'!BG414","v":1},{"$f":"+'Table 1'!BH414","v":"1A"},{"$f":"+'Table 1'!BI414","v":"1B"},{"$f":"+'Table 1'!BJ414","v":0},{"$f":"+'Table 1'!BK414","v":0},{"$f":"+'Table 1'!BL414","v":0}]
[{"$f":"+'Table 1'!A428","v":"P321"},{"$f":"+'Table 1'!B428","v":"Specific treatment (see ... on this label)."},{"$f":"+'Table 1'!Z428","v":"Skin sensitization (chapter 3.4)"},{"$f":"+'Table 1'!BG428","v":1},{"$f":"+'Table 1'!BH428","v":"1A"},{"$f":"+'Table 1'!BI428","v":"1B"},{"$f":"+'Table 1'!BJ428","v":0},{"$f":"+'Table 1'!BK428","v":0},{"$f":"+'Table 1'!BL428","v":0}]
[{"$f":"+'Table 1'!A436","v":"P333"},{"$f":"+'Table 1'!B436","v":"If skin irritation or rash occurs:"},{"$f":"+'Table 1'!Z436","v":"Skin sensitization (chapter 3.4)"},{"$f":"+'Table 1'!BG436","v":1},{"$f":"+'Table 1'!BH436","v":"1A"},{"$f":"+'Table 1'!BI436","v":"1B"},{"$f":"+'Table 1'!BJ436","v":0},{"$f":"+'Table 1'!BK436","v":0},{"$f":"+'Table 1'!BL436","v":0}]
[{"$f":"+'Table 1'!A460","v":"P352"},{"$f":"+'Table 1'!B460","v":"Wash with plenty of water/..."},{"$f":"+'Table 1'!Z460","v":"Skin sensitization (chapter 3.4)"},{"$f":"+'Table 1'!BG460","v":1},{"$f":"+'Table 1'!BH460","v":"1A"},{"$f":"+'Table 1'!BI460","v":"1B"},{"$f":"+'Table 1'!BJ460","v":0},{"$f":"+'Table 1'!BK460","v":0},{"$f":"+'Table 1'!BL460","v":0}]
[{"$f":"+'Table 1'!A471","v":"P362"},{"$f":"+'Table 1'!B471","v":"Take off contaminated clothing."},{"$f":"+'Table 1'!Z471","v":"Skin sensitization (chapter 3.4)"},{"$f":"+'Table 1'!BG471","v":1},{"$f":"+'Table 1'!BH471","v":"1A"},{"$f":"+'Table 1'!BI471","v":"1B"},{"$f":"+'Table 1'!BJ471","v":0},{"$f":"+'Table 1'!BK471","v":0},{"$f":"+'Table 1'!BL471","v":0}]
[{"$f":"+'Table 1'!A475","v":"P364"},{"$f":"+'Table 1'!B475","v":"And wash it before reuse."},{"$f":"+'Table 1'!Z475","v":"Skin sensitization (chapter 3.4)"},{"$f":"+'Table 1'!BG475","v":1},{"$f":"+'Table 1'!BH475","v":"1A"},{"$f":"+'Table 1'!BI475","v":"1B"},{"$f":"+'Table 1'!BJ475","v":0},{"$f":"+'Table 1'!BK475","v":0},{"$f":"+'Table 1'!BL475","v":0}]
[{"$f":"+'Table 1'!A537","v":"P302 + P352"},{"$f":"+'Table 1'!B537","v":"IF ON SKIN:  Wash with plenty of water/..."},{"$f":"+'Table 1'!Z537","v":"Skin sensitization (chapter 3.4)"},{"$f":"+'Table 1'!BG537","v":1},{"$f":"+'Table 1'!BH537","v":"1A"},{"$f":"+'Table 1'!BI537","v":"1B"},{"$f":"+'Table 1'!BJ537","v":0},{"$f":"+'Table 1'!BK537","v":0},{"$f":"+'Table 1'!BL537","v":0}]
[{"$f":"+'Table 1'!A553","v":"P333 + P313"},{"$f":"+'Table 1'!B553","v":"If skin irritation or rash occurs:  Get medical advice/attention."},{"$f":"+'Table 1'!Z553","v":"Skin sensitization (chapter 3.4)"},{"$f":"+'Table 1'!BG553","v":1},{"$f":"+'Table 1'!BH553","v":"1A"},{"$f":"+'Table 1'!BI553","v":"1B"},{"$f":"+'Table 1'!BJ553","v":0},{"$f":"+'Table 1'!BK553","v":0},{"$f":"+'Table 1'!BL553","v":0}]
[{"$f":"+'Table 1'!A560","v":"P362 + P364"},{"$f":"+'Table 1'!B560","v":"Take off contaminated clothing and wash it before reuse."},{"$f":"+'Table 1'!Z560","v":"Skin sensitization (chapter 3.4)"},{"$f":"+'Table 1'!BG560","v":1},{"$f":"+'Table 1'!BH560","v":"1A"},{"$f":"+'Table 1'!BI560","v":"1B"},{"$f":"+'Table 1'!BJ560","v":0},{"$f":"+'Table 1'!BK560","v":0},{"$f":"+'Table 1'!BL560","v":0}]
[{"$f":"+'Table 1'!A691","v":"P501"},{"$f":"+'Table 1'!B691","v":"Dispose of contents/container to ..."},{"$f":"+'Table 1'!W691","v":"Skin sensitization (chapter 3.4)"},{"$f":"+'Table 1'!BI691","v":1},{"$f":"+'Table 1'!BJ691","v":"1A"},{"$f":"+'Table 1'!BK691","v":"1B"},{"$f":"+'Table 1'!BL691","v":0},{"$f":"+'Table 1'!BM691","v":0},{"$f":"+'Table 1'!BN691","v":0}]
[{"$f":"+'Table 1'!A307","v":"P260"},{"$f":"+'Table 1'!B307","v":"Do not breathe dust/fume/gas/mist/vapours/spray."},{"$f":"+'Table 1'!V307","v":"Specific target organ toxicity, repeated exposure (chapter 3.9)"},{"$f":"+'Table 1'!BB307","v":1},{"$f":"+'Table 1'!BC307","v":2},{"$f":"+'Table 1'!BD307","v":0},{"$f":"+'Table 1'!BE307","v":0},{"$f":"+'Table 1'!BF307","v":0},{"$f":"+'Table 1'!BG307","v":0}]
[{"$f":"+'Table 1'!A324","v":"P264"},{"$f":"+'Table 1'!B324","v":"Wash ... thoroughly after handling."},{"$f":"+'Table 1'!V324","v":"Specific target organ toxicity, repeated exposure (chapter 3.9)"},{"$f":"+'Table 1'!BB324","v":1},{"$f":"+'Table 1'!BC324","v":0},{"$f":"+'Table 1'!BD324","v":0},{"$f":"+'Table 1'!BE324","v":0},{"$f":"+'Table 1'!BF324","v":0},{"$f":"+'Table 1'!BG324","v":0}]
[{"$f":"+'Table 1'!A330","v":"P270"},{"$f":"+'Table 1'!B330","v":"Do not eat, drink or smoke when using this product."},{"$f":"+'Table 1'!V330","v":"Specific target organ toxicity, repeated exposure (chapter 3.9)"},{"$f":"+'Table 1'!BB330","v":1},{"$f":"+'Table 1'!BC330","v":0},{"$f":"+'Table 1'!BD330","v":0},{"$f":"+'Table 1'!BE330","v":0},{"$f":"+'Table 1'!BF330","v":0},{"$f":"+'Table 1'!BG330","v":0}]
[{"$f":"+'Table 1'!A419","v":"P314"},{"$f":"+'Table 1'!B419","v":"Get medical advice/attention if you feel unwell."},{"$f":"+'Table 1'!Z419","v":"Specific target organ toxicity, repeated exposure (chapter 3.9)"},{"$f":"+'Table 1'!BG419","v":1},{"$f":"+'Table 1'!BH419","v":2},{"$f":"+'Table 1'!BI419","v":0},{"$f":"+'Table 1'!BJ419","v":0},{"$f":"+'Table 1'!BK419","v":0},{"$f":"+'Table 1'!BL419","v":0}]
[{"$f":"+'Table 1'!A698","v":"P501"},{"$f":"+'Table 1'!B698","v":"Dispose of contents/container to ..."},{"$f":"+'Table 1'!W698","v":"Specific target organ toxicity, repeated exposure (chapter 3.9)"},{"$f":"+'Table 1'!BI698","v":1},{"$f":"+'Table 1'!BJ698","v":2},{"$f":"+'Table 1'!BK698","v":0},{"$f":"+'Table 1'!BL698","v":0},{"$f":"+'Table 1'!BM698","v":0},{"$f":"+'Table 1'!BN698","v":0}]
[{"$f":"+'Table 1'!A306","v":"P260"},{"$f":"+'Table 1'!B306","v":"Do not breathe dust/fume/gas/mist/vapours/spray."},{"$f":"+'Table 1'!V306","v":"Specific target organ toxicity, single exposure (chapter 3.8)"},{"$f":"+'Table 1'!BB306","v":1},{"$f":"+'Table 1'!BC306","v":2},{"$f":"+'Table 1'!BD306","v":0},{"$f":"+'Table 1'!BE306","v":0},{"$f":"+'Table 1'!BF306","v":0},{"$f":"+'Table 1'!BG306","v":0}]
[{"$f":"+'Table 1'!A323","v":"P264"},{"$f":"+'Table 1'!B323","v":"Wash ... thoroughly after handling."},{"$f":"+'Table 1'!V323","v":"Specific target organ toxicity, single exposure (chapter 3.8)"},{"$f":"+'Table 1'!BB323","v":1},{"$f":"+'Table 1'!BC323","v":2},{"$f":"+'Table 1'!BD323","v":0},{"$f":"+'Table 1'!BE323","v":0},{"$f":"+'Table 1'!BF323","v":0},{"$f":"+'Table 1'!BG323","v":0}]
[{"$f":"+'Table 1'!A329","v":"P270"},{"$f":"+'Table 1'!B329","v":"Do not eat, drink or smoke when using this product."},{"$f":"+'Table 1'!V329","v":"Specific target organ toxicity, single exposure (chapter 3.8)"},{"$f":"+'Table 1'!BB329","v":1},{"$f":"+'Table 1'!BC329","v":2},{"$f":"+'Table 1'!BD329","v":0},{"$f":"+'Table 1'!BE329","v":0},{"$f":"+'Table 1'!BF329","v":0},{"$f":"+'Table 1'!BG329","v":0}]
[{"$f":"+'Table 1'!A396","v":"P308"},{"$f":"+'Table 1'!B396","v":"IF exposed or concerned:"},{"$f":"+'Table 1'!Z396","v":"Specific target organ toxicity, single exposure (chapter 3.8)"},{"$f":"+'Table 1'!BG396","v":1},{"$f":"+'Table 1'!BH396","v":2},{"$f":"+'Table 1'!BI396","v":0},{"$f":"+'Table 1'!BJ396","v":0},{"$f":"+'Table 1'!BK396","v":0},{"$f":"+'Table 1'!BL396","v":0}]
[{"$f":"+'Table 1'!A406","v":"P311"},{"$f":"+'Table 1'!B406","v":"Call a POISON CENTER/doctor/…"},{"$f":"+'Table 1'!Z406","v":"Specific target organ toxicity, single exposure (chapter 3.8)"},{"$f":"+'Table 1'!BG406","v":1},{"$f":"+'Table 1'!BH406","v":2},{"$f":"+'Table 1'!BI406","v":0},{"$f":"+'Table 1'!BJ406","v":0},{"$f":"+'Table 1'!BK406","v":0},{"$f":"+'Table 1'!BL406","v":0}]
[{"$f":"+'Table 1'!A429","v":"P321"},{"$f":"+'Table 1'!B429","v":"Specific treatment (see ... on this label)."},{"$f":"+'Table 1'!Z429","v":"Specific target organ toxicity, single exposure (chapter 3.8)"},{"$f":"+'Table 1'!BG429","v":1},{"$f":"+'Table 1'!BH429","v":0},{"$f":"+'Table 1'!BI429","v":0},{"$f":"+'Table 1'!BJ429","v":0},{"$f":"+'Table 1'!BK429","v":0},{"$f":"+'Table 1'!BL429","v":0}]
[{"$f":"+'Table 1'!A546","v":"P308 + P311"},{"$f":"+'Table 1'!B546","v":"IF exposed or concerned:  Call a POISON CENTER/doctor/..."},{"$f":"+'Table 1'!Z546","v":"Specific target organ toxicity, single exposure (chapter 3.8)"},{"$f":"+'Table 1'!BG546","v":1},{"$f":"+'Table 1'!BH546","v":2},{"$f":"+'Table 1'!BI546","v":0},{"$f":"+'Table 1'!BJ546","v":0},{"$f":"+'Table 1'!BK546","v":0},{"$f":"+'Table 1'!BL546","v":0}]
[{"$f":"+'Table 1'!A645","v":"P405"},{"$f":"+'Table 1'!B645","v":"Store locked up."},{"$f":"+'Table 1'!Z645","v":"Specific target organ toxicity, single exposure (chapter 3.8)"},{"$f":"+'Table 1'!BG645","v":1},{"$f":"+'Table 1'!BH645","v":2},{"$f":"+'Table 1'!BI645","v":0},{"$f":"+'Table 1'!BJ645","v":0},{"$f":"+'Table 1'!BK645","v":0},{"$f":"+'Table 1'!BL645","v":0}]
[{"$f":"+'Table 1'!A695","v":"P501"},{"$f":"+'Table 1'!B695","v":"Dispose of contents/container to ..."},{"$f":"+'Table 1'!W695","v":"Specific target organ toxicity, single exposure (chapter 3.8)"},{"$f":"+'Table 1'!BI695","v":1},{"$f":"+'Table 1'!BJ695","v":2},{"$f":"+'Table 1'!BK695","v":0},{"$f":"+'Table 1'!BL695","v":0},{"$f":"+'Table 1'!BM695","v":0},{"$f":"+'Table 1'!BN695","v":0}]
[{"$f":"+'Table 1'!A452","v":"P340"},{"$f":"+'Table 1'!B452","v":"Remove person to fresh air and keep comfortable for breathing."},{"$f":"+'Table 1'!Z452","v":"Specific target organ toxicity, single exposure; narcotic effects (chapter 3.8)"},{"$f":"+'Table 1'!BG452","v":3},{"$f":"+'Table 1'!BH452","v":0},{"$f":"+'Table 1'!BI452","v":0},{"$f":"+'Table 1'!BJ452","v":0},{"$f":"+'Table 1'!BK452","v":0},{"$f":"+'Table 1'!BL452","v":0}]
[{"$f":"+'Table 1'!A281","v":"P233"},{"$f":"+'Table 1'!B281","v":"Keep container tightly closed."},{"$f":"+'Table 1'!V281","v":"Specific target organ toxicity, single exposure; narcotic effects (chapter 3.8)"},{"$f":"+'Table 1'!BB281","v":3},{"$f":"+'Table 1'!BC281","v":0},{"$f":"+'Table 1'!BD281","v":0},{"$f":"+'Table 1'!BE281","v":0},{"$f":"+'Table 1'!BF281","v":0},{"$f":"+'Table 1'!BG281","v":0}]
[{"$f":"+'Table 1'!A314","v":"P261"},{"$f":"+'Table 1'!B314","v":"Avoid breathing dust/fume/gas/mist/vapours/spray."},{"$f":"+'Table 1'!V314","v":"Specific target organ toxicity, single exposure; narcotic effects (chapter 3.8)"},{"$f":"+'Table 1'!BB314","v":3},{"$f":"+'Table 1'!BC314","v":0},{"$f":"+'Table 1'!BD314","v":0},{"$f":"+'Table 1'!BE314","v":0},{"$f":"+'Table 1'!BF314","v":0},{"$f":"+'Table 1'!BG314","v":0}]
[{"$f":"+'Table 1'!A333","v":"P271"},{"$f":"+'Table 1'!B333","v":"Use only outdoors or in a well-ventilated area."},{"$f":"+'Table 1'!V333","v":"Specific target organ toxicity, single exposure; narcotic effects (chapter 3.8)"},{"$f":"+'Table 1'!BB333","v":3},{"$f":"+'Table 1'!BC333","v":0},{"$f":"+'Table 1'!BD333","v":0},{"$f":"+'Table 1'!BE333","v":0},{"$f":"+'Table 1'!BF333","v":0},{"$f":"+'Table 1'!BG333","v":0}]
[{"$f":"+'Table 1'!A385","v":"P304"},{"$f":"+'Table 1'!B385","v":"IF INHALED:"},{"$f":"+'Table 1'!Z385","v":"Specific target organ toxicity, single exposure; narcotic effects (chapter 3.8)"},{"$f":"+'Table 1'!BG385","v":3},{"$f":"+'Table 1'!BH385","v":0},{"$f":"+'Table 1'!BI385","v":0},{"$f":"+'Table 1'!BJ385","v":0},{"$f":"+'Table 1'!BK385","v":0},{"$f":"+'Table 1'!BL385","v":0}]
[{"$f":"+'Table 1'!A411","v":"P312"},{"$f":"+'Table 1'!B411","v":"Call a POISON CENTER/doctor/…if you feel unwell."},{"$f":"+'Table 1'!Z411","v":"Specific target organ toxicity, single exposure; narcotic effects (chapter 3.8)"},{"$f":"+'Table 1'!BG411","v":3},{"$f":"+'Table 1'!BH411","v":0},{"$f":"+'Table 1'!BI411","v":0},{"$f":"+'Table 1'!BJ411","v":0},{"$f":"+'Table 1'!BK411","v":0},{"$f":"+'Table 1'!BL411","v":0}]
[{"$f":"+'Table 1'!A543","v":"P304 + P340"},{"$f":"+'Table 1'!B543","v":"IF INHALED:  Remove person to fresh air and keep comfortable for breathing."},{"$f":"+'Table 1'!Z543","v":"Specific target organ toxicity, single exposure; narcotic effects (chapter 3.8)"},{"$f":"+'Table 1'!BG543","v":3},{"$f":"+'Table 1'!BH543","v":0},{"$f":"+'Table 1'!BI543","v":0},{"$f":"+'Table 1'!BJ543","v":0},{"$f":"+'Table 1'!BK543","v":0},{"$f":"+'Table 1'!BL543","v":0}]
[{"$f":"+'Table 1'!A635","v":"P403"},{"$f":"+'Table 1'!B635","v":"Store in a well-ventilated place."},{"$f":"+'Table 1'!Z635","v":"Specific target organ toxicity, single exposure; narcotic effects (chapter 3.8)"},{"$f":"+'Table 1'!BG635","v":3},{"$f":"+'Table 1'!BH635","v":0},{"$f":"+'Table 1'!BI635","v":0},{"$f":"+'Table 1'!BJ635","v":0},{"$f":"+'Table 1'!BK635","v":0},{"$f":"+'Table 1'!BL635","v":0}]
[{"$f":"+'Table 1'!A647","v":"P405"},{"$f":"+'Table 1'!B647","v":"Store locked up."},{"$f":"+'Table 1'!Z647","v":"Specific target organ toxicity, single exposure; narcotic effects (chapter 3.8)"},{"$f":"+'Table 1'!BG647","v":3},{"$f":"+'Table 1'!BH647","v":0},{"$f":"+'Table 1'!BI647","v":0},{"$f":"+'Table 1'!BJ647","v":0},{"$f":"+'Table 1'!BK647","v":0},{"$f":"+'Table 1'!BL647","v":0}]
[{"$f":"+'Table 1'!A671","v":"P403 + P233"},{"$f":"+'Table 1'!B671","v":"Store in a well-ventilated place.  Keep container tightly closed."},{"$f":"+'Table 1'!Z671","v":"Specific target organ toxicity, single exposure; narcotic effects (chapter 3.8)"},{"$f":"+'Table 1'!BG671","v":3},{"$f":"+'Table 1'!BH671","v":0},{"$f":"+'Table 1'!BI671","v":0},{"$f":"+'Table 1'!BJ671","v":0},{"$f":"+'Table 1'!BK671","v":0},{"$f":"+'Table 1'!BL671","v":0}]
[{"$f":"+'Table 1'!A697","v":"P501"},{"$f":"+'Table 1'!B697","v":"Dispose of contents/container to ..."},{"$f":"+'Table 1'!W697","v":"Specific target organ toxicity, single exposure; narcotic effects (chapter 3.8)"},{"$f":"+'Table 1'!BI697","v":3},{"$f":"+'Table 1'!BJ697","v":0},{"$f":"+'Table 1'!BK697","v":0},{"$f":"+'Table 1'!BL697","v":0},{"$f":"+'Table 1'!BM697","v":0},{"$f":"+'Table 1'!BN697","v":0}]
[{"$f":"+'Table 1'!A696","v":"P501"},{"$f":"+'Table 1'!B696","v":"Dispose of contents/container to ..."},{"$f":"+'Table 1'!W696","v":"Specific target organ toxicity, single exposure; respiratory tract irritation (chapter 3.8)"},{"$f":"+'Table 1'!BI696","v":3},{"$f":"+'Table 1'!BJ696","v":0},{"$f":"+'Table 1'!BK696","v":0},{"$f":"+'Table 1'!BL696","v":0},{"$f":"+'Table 1'!BM696","v":0},{"$f":"+'Table 1'!BN696","v":0}]
[{"$f":"+'Table 1'!A451","v":"P340"},{"$f":"+'Table 1'!B451","v":"Remove person to fresh air and keep comfortable for breathing."},{"$f":"+'Table 1'!Z451","v":"Specific target organ toxicity, single exposure; respiratory tract irritation (chapter 3.8)"},{"$f":"+'Table 1'!BG451","v":3},{"$f":"+'Table 1'!BH451","v":0},{"$f":"+'Table 1'!BI451","v":0},{"$f":"+'Table 1'!BJ451","v":0},{"$f":"+'Table 1'!BK451","v":0},{"$f":"+'Table 1'!BL451","v":0}]
[{"$f":"+'Table 1'!A280","v":"P233"},{"$f":"+'Table 1'!B280","v":"Keep container tightly closed."},{"$f":"+'Table 1'!V280","v":"Specific target organ toxicity, single exposure; respiratory tract irritation (chapter 3.8)"},{"$f":"+'Table 1'!BB280","v":3},{"$f":"+'Table 1'!BC280","v":0},{"$f":"+'Table 1'!BD280","v":0},{"$f":"+'Table 1'!BE280","v":0},{"$f":"+'Table 1'!BF280","v":0},{"$f":"+'Table 1'!BG280","v":0}]
[{"$f":"+'Table 1'!A313","v":"P261"},{"$f":"+'Table 1'!B313","v":"Avoid breathing dust/fume/gas/mist/vapours/spray."},{"$f":"+'Table 1'!V313","v":"Specific target organ toxicity, single exposure; respiratory tract irritation (chapter 3.8)"},{"$f":"+'Table 1'!BB313","v":3},{"$f":"+'Table 1'!BC313","v":0},{"$f":"+'Table 1'!BD313","v":0},{"$f":"+'Table 1'!BE313","v":0},{"$f":"+'Table 1'!BF313","v":0},{"$f":"+'Table 1'!BG313","v":0}]
[{"$f":"+'Table 1'!A332","v":"P271"},{"$f":"+'Table 1'!B332","v":"Use only outdoors or in a well-ventilated area."},{"$f":"+'Table 1'!V332","v":"Specific target organ toxicity, single exposure; respiratory tract irritation (chapter 3.8)"},{"$f":"+'Table 1'!BB332","v":3},{"$f":"+'Table 1'!BC332","v":0},{"$f":"+'Table 1'!BD332","v":0},{"$f":"+'Table 1'!BE332","v":0},{"$f":"+'Table 1'!BF332","v":0},{"$f":"+'Table 1'!BG332","v":0}]
[{"$f":"+'Table 1'!A384","v":"P304"},{"$f":"+'Table 1'!B384","v":"IF INHALED:"},{"$f":"+'Table 1'!Z384","v":"Specific target organ toxicity, single exposure; respiratory tract irritation (chapter 3.8)"},{"$f":"+'Table 1'!BG384","v":3},{"$f":"+'Table 1'!BH384","v":0},{"$f":"+'Table 1'!BI384","v":0},{"$f":"+'Table 1'!BJ384","v":0},{"$f":"+'Table 1'!BK384","v":0},{"$f":"+'Table 1'!BL384","v":0}]
[{"$f":"+'Table 1'!A410","v":"P312"},{"$f":"+'Table 1'!B410","v":"Call a POISON CENTER/doctor/…if you feel unwell."},{"$f":"+'Table 1'!Z410","v":"Specific target organ toxicity, single exposure; respiratory tract irritation (chapter 3.8)"},{"$f":"+'Table 1'!BG410","v":3},{"$f":"+'Table 1'!BH410","v":0},{"$f":"+'Table 1'!BI410","v":0},{"$f":"+'Table 1'!BJ410","v":0},{"$f":"+'Table 1'!BK410","v":0},{"$f":"+'Table 1'!BL410","v":0}]
[{"$f":"+'Table 1'!A542","v":"P304 + P340"},{"$f":"+'Table 1'!B542","v":"IF INHALED:  Remove person to fresh air and keep comfortable for breathing."},{"$f":"+'Table 1'!Z542","v":"Specific target organ toxicity, single exposure; respiratory tract irritation (chapter 3.8)"},{"$f":"+'Table 1'!BG542","v":3},{"$f":"+'Table 1'!BH542","v":0},{"$f":"+'Table 1'!BI542","v":0},{"$f":"+'Table 1'!BJ542","v":0},{"$f":"+'Table 1'!BK542","v":0},{"$f":"+'Table 1'!BL542","v":0}]
[{"$f":"+'Table 1'!A634","v":"P403"},{"$f":"+'Table 1'!B634","v":"Store in a well-ventilated place."},{"$f":"+'Table 1'!Z634","v":"Specific target organ toxicity, single exposure; respiratory tract irritation (chapter 3.8)"},{"$f":"+'Table 1'!BG634","v":3},{"$f":"+'Table 1'!BH634","v":0},{"$f":"+'Table 1'!BI634","v":0},{"$f":"+'Table 1'!BJ634","v":0},{"$f":"+'Table 1'!BK634","v":0},{"$f":"+'Table 1'!BL634","v":0}]
[{"$f":"+'Table 1'!A646","v":"P405"},{"$f":"+'Table 1'!B646","v":"Store locked up."},{"$f":"+'Table 1'!Z646","v":"Specific target organ toxicity, single exposure; respiratory tract irritation (chapter 3.8)"},{"$f":"+'Table 1'!BG646","v":3},{"$f":"+'Table 1'!BH646","v":0},{"$f":"+'Table 1'!BI646","v":0},{"$f":"+'Table 1'!BJ646","v":0},{"$f":"+'Table 1'!BK646","v":0},{"$f":"+'Table 1'!BL646","v":0}]
[{"$f":"+'Table 1'!A670","v":"P403 + P233"},{"$f":"+'Table 1'!B670","v":"Store in a well-ventilated place.  Keep container tightly closed."},{"$f":"+'Table 1'!Z670","v":"Specific target organ toxicity, single exposure; respiratory tract irritation (chapter 3.8)"},{"$f":"+'Table 1'!BG670","v":3},{"$f":"+'Table 1'!BH670","v":0},{"$f":"+'Table 1'!BI670","v":0},{"$f":"+'Table 1'!BJ670","v":0},{"$f":"+'Table 1'!BK670","v":0},{"$f":"+'Table 1'!BL670","v":0}]
[{"$f":"+'Table 1'!A439","v":"P334"},{"$f":"+'Table 1'!B439","v":"Immerse in cool water [or wrap in wet bandages]."},{"$f":"+'Table 1'!Z439","v":"Substances and mixtures which, in contact with water, emit flammable gases (chapter 2.12)"},{"$f":"+'Table 1'!BG439","v":1},{"$f":"+'Table 1'!BH439","v":2},{"$f":"+'Table 1'!BI439","v":0},{"$f":"+'Table 1'!BJ439","v":0},{"$f":"+'Table 1'!BK439","v":0},{"$f":"+'Table 1'!BL439","v":0}]
[{"$f":"+'Table 1'!A441","v":"P335"},{"$f":"+'Table 1'!B441","v":"Brush off loose particles from skin."},{"$f":"+'Table 1'!Z441","v":"Substances and mixtures which, in contact with water, emit flammable gases (chapter 2.12)"},{"$f":"+'Table 1'!BG441","v":1},{"$f":"+'Table 1'!BH441","v":2},{"$f":"+'Table 1'!BI441","v":0},{"$f":"+'Table 1'!BJ441","v":0},{"$f":"+'Table 1'!BK441","v":0},{"$f":"+'Table 1'!BL441","v":0}]
[{"$f":"+'Table 1'!A567","v":"P370 + P378"},{"$f":"+'Table 1'!B567","v":"In case of fire:  Use ... to extinguish."},{"$f":"+'Table 1'!Z567","v":"Substances and mixtures which, in contact with water, emit flammable gases (chapter 2.12)"},{"$f":"+'Table 1'!BG567","v":1},{"$f":"+'Table 1'!BH567","v":2},{"$f":"+'Table 1'!BI567","v":3},{"$f":"+'Table 1'!BJ567","v":0},{"$f":"+'Table 1'!BK567","v":0},{"$f":"+'Table 1'!BL567","v":0}]
[{"$f":"+'Table 1'!A574","v":"P302 + P335 + P334"},{"$f":"+'Table 1'!B574","v":"IF ON SKIN: Brush off loose particles from skin. Immerse in cool water [or wrap in wet bandages]."},{"$f":"+'Table 1'!Z574","v":"Substances and mixtures which, in contact with water, emit flammable gases (chapter 2.12)"},{"$f":"+'Table 1'!BG574","v":1},{"$f":"+'Table 1'!BH574","v":2},{"$f":"+'Table 1'!BI574","v":0},{"$f":"+'Table 1'!BJ574","v":0},{"$f":"+'Table 1'!BK574","v":0},{"$f":"+'Table 1'!BL574","v":0}]
[{"$f":"+'Table 1'!A266","v":"P223"},{"$f":"+'Table 1'!B266","v":"Do not allow contact with water."},{"$f":"+'Table 1'!V266","v":"Substances and mixtures which, in contact with water, emit flammable gases (chapter 2.12)"},{"$f":"+'Table 1'!BB266","v":1},{"$f":"+'Table 1'!BC266","v":2},{"$f":"+'Table 1'!BD266","v":0},{"$f":"+'Table 1'!BE266","v":0},{"$f":"+'Table 1'!BF266","v":0},{"$f":"+'Table 1'!BG266","v":0}]
[{"$f":"+'Table 1'!A273","v":"P231"},{"$f":"+'Table 1'!B273","v":"Handle and store contents under inert gas/..."},{"$f":"+'Table 1'!V273","v":"Substances and mixtures which, in contact with water, emit flammable gases (chapter 2.12)"},{"$f":"+'Table 1'!BB273","v":1},{"$f":"+'Table 1'!BC273","v":2},{"$f":"+'Table 1'!BD273","v":3},{"$f":"+'Table 1'!BE273","v":0},{"$f":"+'Table 1'!BF273","v":0},{"$f":"+'Table 1'!BG273","v":0}]
[{"$f":"+'Table 1'!A274","v":"P232"},{"$f":"+'Table 1'!B274","v":"Protect from moisture."},{"$f":"+'Table 1'!V274","v":"Substances and mixtures which, in contact with water, emit flammable gases (chapter 2.12)"},{"$f":"+'Table 1'!BB274","v":1},{"$f":"+'Table 1'!BC274","v":2},{"$f":"+'Table 1'!BD274","v":3},{"$f":"+'Table 1'!BE274","v":0},{"$f":"+'Table 1'!BF274","v":0},{"$f":"+'Table 1'!BG274","v":0}]
[{"$f":"+'Table 1'!A346","v":"P280"},{"$f":"+'Table 1'!B346","v":"Wear protective gloves/protective clothing/eye protection/face protection/hearing protection/..."},{"$f":"+'Table 1'!V346","v":"Substances and mixtures which, in contact with water, emit flammable gases (chapter 2.12)"},{"$f":"+'Table 1'!BB346","v":1},{"$f":"+'Table 1'!BC346","v":2},{"$f":"+'Table 1'!BD346","v":3},{"$f":"+'Table 1'!BE346","v":0},{"$f":"+'Table 1'!BF346","v":0},{"$f":"+'Table 1'!BG346","v":0}]
[{"$f":"+'Table 1'!A367","v":"P231 + P232"},{"$f":"+'Table 1'!B367","v":"Handle and store contents under inert gas/.... Protect from moisture."},{"$f":"+'Table 1'!V367","v":"Substances and mixtures which, in contact with water, emit flammable gases (chapter 2.12)"},{"$f":"+'Table 1'!BB367","v":1},{"$f":"+'Table 1'!BC367","v":2},{"$f":"+'Table 1'!BD367","v":3},{"$f":"+'Table 1'!BE367","v":0},{"$f":"+'Table 1'!BF367","v":0},{"$f":"+'Table 1'!BG367","v":0}]
[{"$f":"+'Table 1'!A375","v":"P302"},{"$f":"+'Table 1'!B375","v":"IF ON SKIN:"},{"$f":"+'Table 1'!Z375","v":"Substances and mixtures which, in contact with water, emit flammable gases (chapter 2.12)"},{"$f":"+'Table 1'!BG375","v":1},{"$f":"+'Table 1'!BH375","v":2},{"$f":"+'Table 1'!BI375","v":0},{"$f":"+'Table 1'!BJ375","v":0},{"$f":"+'Table 1'!BK375","v":0},{"$f":"+'Table 1'!BL375","v":0}]
[{"$f":"+'Table 1'!A485","v":"P370"},{"$f":"+'Table 1'!B485","v":"In case of fire:"},{"$f":"+'Table 1'!Z485","v":"Substances and mixtures which, in contact with water, emit flammable gases (chapter 2.12)"},{"$f":"+'Table 1'!BG485","v":1},{"$f":"+'Table 1'!BH485","v":2},{"$f":"+'Table 1'!BI485","v":3},{"$f":"+'Table 1'!BJ485","v":0},{"$f":"+'Table 1'!BK485","v":0},{"$f":"+'Table 1'!BL485","v":0}]
[{"$f":"+'Table 1'!A515","v":"P378"},{"$f":"+'Table 1'!B515","v":"Use ... to extinguish."},{"$f":"+'Table 1'!Z515","v":"Substances and mixtures which, in contact with water, emit flammable gases (chapter 2.12)"},{"$f":"+'Table 1'!BG515","v":1},{"$f":"+'Table 1'!BH515","v":2},{"$f":"+'Table 1'!BI515","v":3},{"$f":"+'Table 1'!BJ515","v":0},{"$f":"+'Table 1'!BK515","v":0},{"$f":"+'Table 1'!BL515","v":0}]
[{"$f":"+'Table 1'!A623","v":"P402"},{"$f":"+'Table 1'!B623","v":"Store in a dry place."},{"$f":"+'Table 1'!Z623","v":"Substances and mixtures which, in contact with water, emit flammable gases (chapter 2.12)"},{"$f":"+'Table 1'!BG623","v":1},{"$f":"+'Table 1'!BH623","v":2},{"$f":"+'Table 1'!BI623","v":3},{"$f":"+'Table 1'!BJ623","v":0},{"$f":"+'Table 1'!BK623","v":0},{"$f":"+'Table 1'!BL623","v":0}]
[{"$f":"+'Table 1'!A636","v":"P404"},{"$f":"+'Table 1'!B636","v":"Store in a closed container."},{"$f":"+'Table 1'!Z636","v":"Substances and mixtures which, in contact with water, emit flammable gases (chapter 2.12)"},{"$f":"+'Table 1'!BG636","v":1},{"$f":"+'Table 1'!BH636","v":2},{"$f":"+'Table 1'!BI636","v":3},{"$f":"+'Table 1'!BJ636","v":0},{"$f":"+'Table 1'!BK636","v":0},{"$f":"+'Table 1'!BL636","v":0}]
[{"$f":"+'Table 1'!A668","v":"P402 + P404"},{"$f":"+'Table 1'!B668","v":"Store in a dry place.  Store in a closed container."},{"$f":"+'Table 1'!Z668","v":"Substances and mixtures which, in contact with water, emit flammable gases (chapter 2.12)"},{"$f":"+'Table 1'!BG668","v":1},{"$f":"+'Table 1'!BH668","v":2},{"$f":"+'Table 1'!BI668","v":3},{"$f":"+'Table 1'!BJ668","v":0},{"$f":"+'Table 1'!BK668","v":0},{"$f":"+'Table 1'!BL668","v":0}]
[{"$f":"+'Table 1'!A680","v":"P501"},{"$f":"+'Table 1'!B680","v":"Dispose of contents/container to ..."},{"$f":"+'Table 1'!W680","v":"Substances and mixtures which, in contact with water, emit flammable gases (chapter 2.12)"},{"$f":"+'Table 1'!BI680","v":1},{"$f":"+'Table 1'!BJ680","v":2},{"$f":"+'Table 1'!BK680","v":3},{"$f":"+'Table 1'!BL680","v":0},{"$f":"+'Table 1'!BM680","v":0},{"$f":"+'Table 1'!BN680","v":0}]

{"sheet":"P_sentences_overview","index":2,"n_rows":262,"n_cols":13,"rows_kept":262,"cut":false,"hidden":true,"merged":[]}
["P101",null,null,{"$f":"OFFSET($A$1,ROW(A1)*2-2,0)","v":"P101"},{"$f":"OFFSET($A$1,ROW(B1)*2-1,0)","v":"If medical advice is needed, have product container or label at hand."},null,{"$f":"COUNTIF($D$1:$D$131,\"<=\"&D1)","v":1},{"$f":"IFERROR(INDEX($D$1:$D$131,MATCH(ROWS($G$1:G1),$G$1:$G$131,0)),\"\")","v":"P101"},{"$f":"IFERROR(INDEX($E$1:$E$131,MATCH(ROWS($G$1:G1),$G$1:$G$131,0)),\"\")","v":"If medical advice is needed, have product container or label at hand."},"B",1,{"$f":"MATCH(J1,$J$1:J1,)","v":1},{"$f":"OR(J1=J1:J18)","v":true}]
["If medical advice is needed, have product container or label at hand.",null,null,{"$f":"OFFSET($A$1,ROW(A2)*2-2,0)","v":"P102"},{"$f":"OFFSET($A$1,ROW(B2)*2-1,0)","v":"Keep out of reach of children."},null,{"$f":"COUNTIF($D$1:$D$131,\"<=\"&D2)","v":2},{"$f":"IFERROR(INDEX($D$1:$D$131,MATCH(ROWS($G$1:G2),$G$1:$G$131,0)),\"\")","v":"P102"},{"$f":"IFERROR(INDEX($E$1:$E$131,MATCH(ROWS($G$1:G2),$G$1:$G$131,0)),\"\")","v":"Keep out of reach of children."},"X",2,{"$f":"MATCH(J2,$J$1:J2,)","v":2}]
["P102",null,null,"P103","Read label before use.",null,3,{"$f":"IFERROR(INDEX($D$1:$D$131,MATCH(ROWS($G$1:G3),$G$1:$G$131,0)),\"\")","v":"P103"},{"$f":"IFERROR(INDEX($E$1:$E$131,MATCH(ROWS($G$1:G3),$G$1:$G$131,0)),\"\")","v":"Read label before use."},"B",1,{"$f":"MATCH(J3,$J$1:J3,)","v":1}]
["Keep out of reach of children.",null,null,"P201","Obtain special instructions before use.",null,4,{"$f":"IFERROR(INDEX($D$1:$D$131,MATCH(ROWS($G$1:G4),$G$1:$G$131,0)),\"\")","v":"P201"},{"$f":"IFERROR(INDEX($E$1:$E$131,MATCH(ROWS($G$1:G4),$G$1:$G$131,0)),\"\")","v":"Obtain special instructions before use."},"C",1,{"$f":"MATCH(J4,$J$1:J4,)","v":4}]
["P103",null,null,"P202","Do not handle until all safety precautions have been read and understood.",null,5,{"$f":"IFERROR(INDEX($D$1:$D$131,MATCH(ROWS($G$1:G5),$G$1:$G$131,0)),\"\")","v":"P202"},{"$f":"IFERROR(INDEX($E$1:$E$131,MATCH(ROWS($G$1:G5),$G$1:$G$131,0)),\"\")","v":"Do not handle until all safety precautions have been read and understood."},"C",2,{"$f":"MATCH(J5,$J$1:J5,)","v":4}]
["Read label before use.",null,null,"P210","Keep away from heat, hot surfaces, sparks, open flames and other ignition sources. No smoking.",null,6,{"$f":"IFERROR(INDEX($D$1:$D$131,MATCH(ROWS($G$1:G6),$G$1:$G$131,0)),\"\")","v":"P210"},{"$f":"IFERROR(INDEX($E$1:$E$131,MATCH(ROWS($G$1:G6),$G$1:$G$131,0)),\"\")","v":"Keep away from heat, hot surfaces, sparks, open flames and other ignition sources. No smoking."},"C",1,{"$f":"MATCH(J6,$J$1:J6,)","v":4}]
["P201",null,null,"P211","Do not spray on an open flame or other ignition source.",null,7,{"$f":"IFERROR(INDEX($D$1:$D$131,MATCH(ROWS($G$1:G7),$G$1:$G$131,0)),\"\")","v":"P211"},{"$f":"IFERROR(INDEX($E$1:$E$131,MATCH(ROWS($G$1:G7),$G$1:$G$131,0)),\"\")","v":"Do not spray on an open flame or other ignition source."},"D",1,{"$f":"MATCH(J7,$J$1:J7,)","v":7}]
["Obtain special instructions before use.",null,null,"P220","Keep/Store away from clothing/…/combustible materials.",null,8,{"$f":"IFERROR(INDEX($D$1:$D$131,MATCH(ROWS($G$1:G8),$G$1:$G$131,0)),\"\")","v":"P220"},{"$f":"IFERROR(INDEX($E$1:$E$131,MATCH(ROWS($G$1:G8),$G$1:$G$131,0)),\"\")","v":"Keep/Store away from clothing/…/combustible materials."},"D",2,{"$f":"MATCH(J8,$J$1:J8,)","v":7}]
["P202",null,null,"P221","Take any precaution to avoid mixing with combustibles…",null,9,{"$f":"IFERROR(INDEX($D$1:$D$131,MATCH(ROWS($G$1:G9),$G$1:$G$131,0)),\"\")","v":"P221"},{"$f":"IFERROR(INDEX($E$1:$E$131,MATCH(ROWS($G$1:G9),$G$1:$G$131,0)),\"\")","v":"Take any precaution to avoid mixing with combustibles…"},"D",1,{"$f":"MATCH(J9,$J$1:J9,)","v":7}]
["Do not handle until all safety precautions have been read and understood.",null,null,"P222","Do not allow contact with air.",null,10,{"$f":"IFERROR(INDEX($D$1:$D$131,MATCH(ROWS($G$1:G10),$G$1:$G$131,0)),\"\")","v":"P222"},{"$f":"IFERROR(INDEX($E$1:$E$131,MATCH(ROWS($G$1:G10),$G$1:$G$131,0)),\"\")","v":"Do not allow contact with air."},"A",1,{"$f":"MATCH(J10,$J$1:J10,)","v":10}]
["P210",null,null,"P223","Do not allow contact with water.",null,11,{"$f":"IFERROR(INDEX($D$1:$D$131,MATCH(ROWS($G$1:G11),$G$1:$G$131,0)),\"\")","v":"P223"},{"$f":"IFERROR(INDEX($E$1:$E$131,MATCH(ROWS($G$1:G11),$G$1:$G$131,0)),\"\")","v":"Do not allow contact with water."},"Y",2,{"$f":"MATCH(J11,$J$1:J11,)","v":11}]
["Keep away from heat, hot surfaces, sparks, open flames and other ignition sources. No smoking.",null,null,"P230","Keep wetted with…",null,12,{"$f":"IFERROR(INDEX($D$1:$D$131,MATCH(ROWS($G$1:G12),$G$1:$G$131,0)),\"\")","v":"P230"},{"$f":"IFERROR(INDEX($E$1:$E$131,MATCH(ROWS($G$1:G12),$G$1:$G$131,0)),\"\")","v":"Keep wetted with…"},"Y",1,{"$f":"MATCH(J12,$J$1:J12,)","v":11}]
["P211",null,null,"P231","Handle under inert gas.",null,13,{"$f":"IFERROR(INDEX($D$1:$D$131,MATCH(ROWS($G$1:G13),$G$1:$G$131,0)),\"\")","v":"P231"},{"$f":"IFERROR(INDEX($E$1:$E$131,MATCH(ROWS($G$1:G13),$G$1:$G$131,0)),\"\")","v":"Handle under inert gas."},"A",1,{"$f":"MATCH(J13,$J$1:J13,)","v":10}]
["Do not spray on an open flame or other ignition source.",null,null,"P232","Protect from moisture.",null,15,{"$f":"IFERROR(INDEX($D$1:$D$131,MATCH(ROWS($G$1:G14),$G$1:$G$131,0)),\"\")","v":"P231 + P232"},{"$f":"IFERROR(INDEX($E$1:$E$131,MATCH(ROWS($G$1:G14),$G$1:$G$131,0)),\"\")","v":"Handle under inert gas. Protect from moisture."},"A",2,{"$f":"MATCH(J14,$J$1:J14,)","v":10}]
["P220",null,null,"P233","Keep container tightly closed.",null,16,{"$f":"IFERROR(INDEX($D$1:$D$131,MATCH(ROWS($G$1:G15),$G$1:$G$131,0)),\"\")","v":"P232"},{"$f":"IFERROR(INDEX($E$1:$E$131,MATCH(ROWS($G$1:G15),$G$1:$G$131,0)),\"\")","v":"Protect from moisture."},"A",1,{"$f":"MATCH(J15,$J$1:J15,)","v":10}]
["Keep/Store away from clothing/…/combustible materials.",null,null,"P234","Keep only in original container.",null,17,{"$f":"IFERROR(INDEX($D$1:$D$131,MATCH(ROWS($G$1:G16),$G$1:$G$131,0)),\"\")","v":"P233"},{"$f":"IFERROR(INDEX($E$1:$E$131,MATCH(ROWS($G$1:G16),$G$1:$G$131,0)),\"\")","v":"Keep container tightly closed."},"T",1,{"$f":"MATCH(J16,$J$1:J16,)","v":16}]
["P221",null,null,"P235","Keep cool.",null,18,{"$f":"IFERROR(INDEX($D$1:$D$131,MATCH(ROWS($G$1:G17),$G$1:$G$131,0)),\"\")","v":"P234"},{"$f":"IFERROR(INDEX($E$1:$E$131,MATCH(ROWS($G$1:G17),$G$1:$G$131,0)),\"\")","v":"Keep only in original container."},"B",2,{"$f":"MATCH(J17,$J$1:J17,)","v":1}]
["Take any precaution to avoid mixing with combustibles…",null,null,"P240","Ground/bond container and receiving equipment.",null,20,{"$f":"IFERROR(INDEX($D$1:$D$131,MATCH(ROWS($G$1:G18),$G$1:$G$131,0)),\"\")","v":"P235"},{"$f":"IFERROR(INDEX($E$1:$E$131,MATCH(ROWS($G$1:G18),$G$1:$G$131,0)),\"\")","v":"Keep cool."},"T",1,{"$f":"MATCH(J18,$J$1:J18,)","v":16}]
["P222",null,null,"P241","Use explosion-proof electrical/ventilating/lighting/…/ equipment.",null,21,{"$f":"IFERROR(INDEX($D$1:$D$131,MATCH(ROWS($G$1:G19),$G$1:$G$131,0)),\"\")","v":"P235 + P410"},{"$f":"IFERROR(INDEX($E$1:$E$131,MATCH(ROWS($G$1:G19),$G$1:$G$131,0)),\"\")","v":"Keep cool. Protect from sunlight."}]
["Do not allow contact with air.",null,null,"P242","Use only non-sparking tools.",null,22,{"$f":"IFERROR(INDEX($D$1:$D$131,MATCH(ROWS($G$1:G20),$G$1:$G$131,0)),\"\")","v":"P240"},{"$f":"IFERROR(INDEX($E$1:$E$131,MATCH(ROWS($G$1:G20),$G$1:$G$131,0)),\"\")","v":"Ground/bond container and receiving equipment."}]
["P223",null,null,"P243","Take precautionary measures against static discharge.",null,23,{"$f":"IFERROR(INDEX($D$1:$D$131,MATCH(ROWS($G$1:G21),$G$1:$G$131,0)),\"\")","v":"P241"},{"$f":"IFERROR(INDEX($E$1:$E$131,MATCH(ROWS($G$1:G21),$G$1:$G$131,0)),\"\")","v":"Use explosion-proof electrical/ventilating/lighting/…/ equipment."}]
["Do not allow contact with water.",null,null,"P244","Keep valves and fittings free from oil and grease.",null,24,{"$f":"IFERROR(INDEX($D$1:$D$131,MATCH(ROWS($G$1:G22),$G$1:$G$131,0)),\"\")","v":"P242"},{"$f":"IFERROR(INDEX($E$1:$E$131,MATCH(ROWS($G$1:G22),$G$1:$G$131,0)),\"\")","v":"Use only non-sparking tools."}]
["P230",null,null,"P250","Do not subject to grinding/shock/…/friction.",null,25,{"$f":"IFERROR(INDEX($D$1:$D$131,MATCH(ROWS($G$1:G23),$G$1:$G$131,0)),\"\")","v":"P243"},{"$f":"IFERROR(INDEX($E$1:$E$131,MATCH(ROWS($G$1:G23),$G$1:$G$131,0)),\"\")","v":"Take precautionary measures against static discharge."}]
["Keep wetted with…",null,null,"P251","Do not pierce or burn, even after use.",null,26,{"$f":"IFERROR(INDEX($D$1:$D$131,MATCH(ROWS($G$1:G24),$G$1:$G$131,0)),\"\")","v":"P244"},{"$f":"IFERROR(INDEX($E$1:$E$131,MATCH(ROWS($G$1:G24),$G$1:$G$131,0)),\"\")","v":"Keep valves and fittings free from oil and grease."}]
["P231",null,null,"P260","Do not breathe dust/fume/gas/mist/vapours/ spray.",null,27,{"$f":"IFERROR(INDEX($D$1:$D$131,MATCH(ROWS($G$1:G25),$G$1:$G$131,0)),\"\")","v":"P250"},{"$f":"IFERROR(INDEX($E$1:$E$131,MATCH(ROWS($G$1:G25),$G$1:$G$131,0)),\"\")","v":"Do not subject to grinding/shock/…/friction."}]
["Handle under inert gas.",null,null,"P261","Avoid breathing dust/fume/gas/mist/vapours/ spray.",null,28,{"$f":"IFERROR(INDEX($D$1:$D$131,MATCH(ROWS($G$1:G26),$G$1:$G$131,0)),\"\")","v":"P251"},{"$f":"IFERROR(INDEX($E$1:$E$131,MATCH(ROWS($G$1:G26),$G$1:$G$131,0)),\"\")","v":"Do not pierce or burn, even after use."}]
["P232",null,null,"P262","Do not get in eyes, on skin, or on clothing.",null,29,{"$f":"IFERROR(INDEX($D$1:$D$131,MATCH(ROWS($G$1:G27),$G$1:$G$131,0)),\"\")","v":"P260"},{"$f":"IFERROR(INDEX($E$1:$E$131,MATCH(ROWS($G$1:G27),$G$1:$G$131,0)),\"\")","v":"Do not breathe dust/fume/gas/mist/vapours/ spray."}]
["Protect from moisture.",null,null,"P263","Avoid contact during pregnancy/while nursing.",null,30,{"$f":"IFERROR(INDEX($D$1:$D$131,MATCH(ROWS($G$1:G28),$G$1:$G$131,0)),\"\")","v":"P261"},{"$f":"IFERROR(INDEX($E$1:$E$131,MATCH(ROWS($G$1:G28),$G$1:$G$131,0)),\"\")","v":"Avoid breathing dust/fume/gas/mist/vapours/ spray."}]
["P233",null,null,"P264","Wash … thoroughly after handling.",null,31,{"$f":"IFERROR(INDEX($D$1:$D$131,MATCH(ROWS($G$1:G29),$G$1:$G$131,0)),\"\")","v":"P262"},{"$f":"IFERROR(INDEX($E$1:$E$131,MATCH(ROWS($G$1:G29),$G$1:$G$131,0)),\"\")","v":"Do not get in eyes, on skin, or on clothing."}]
["Keep container tightly closed.",null,null,"P270","Do not eat, drink or smoke when using this product.",null,32,{"$f":"IFERROR(INDEX($D$1:$D$131,MATCH(ROWS($G$1:G30),$G$1:$G$131,0)),\"\")","v":"P263"},{"$f":"IFERROR(INDEX($E$1:$E$131,MATCH(ROWS($G$1:G30),$G$1:$G$131,0)),\"\")","v":"Avoid contact during pregnancy/while nursing."}]
["P234",null,null,"P271","Use only outdoors or in a well-ventilated area.",null,33,{"$f":"IFERROR(INDEX($D$1:$D$131,MATCH(ROWS($G$1:G31),$G$1:$G$131,0)),\"\")","v":"P264"},{"$f":"IFERROR(INDEX($E$1:$E$131,MATCH(ROWS($G$1:G31),$G$1:$G$131,0)),\"\")","v":"Wash … thoroughly after handling."}]
["Keep only in original container.",null,null,"P272","Contaminated work clothing should not be allowed out of the workplace.",null,34,{"$f":"IFERROR(INDEX($D$1:$D$131,MATCH(ROWS($G$1:G32),$G$1:$G$131,0)),\"\")","v":"P270"},{"$f":"IFERROR(INDEX($E$1:$E$131,MATCH(ROWS($G$1:G32),$G$1:$G$131,0)),\"\")","v":"Do not eat, drink or smoke when using this product."}]
["P235",null,null,"P273","Avoid release to the environment.",null,35,{"$f":"IFERROR(INDEX($D$1:$D$131,MATCH(ROWS($G$1:G33),$G$1:$G$131,0)),\"\")","v":"P271"},{"$f":"IFERROR(INDEX($E$1:$E$131,MATCH(ROWS($G$1:G33),$G$1:$G$131,0)),\"\")","v":"Use only outdoors or in a well-ventilated area."}]
["Keep cool.",null,null,"P280","Wear protective gloves/protective clothing/eye protection/face protection.",null,36,{"$f":"IFERROR(INDEX($D$1:$D$131,MATCH(ROWS($G$1:G34),$G$1:$G$131,0)),\"\")","v":"P272"},{"$f":"IFERROR(INDEX($E$1:$E$131,MATCH(ROWS($G$1:G34),$G$1:$G$131,0)),\"\")","v":"Contaminated work clothing should not be allowed out of the workplace."}]
["P240",null,null,"P282","Wear cold insulating gloves/face shield/eye protection.",null,37,{"$f":"IFERROR(INDEX($D$1:$D$131,MATCH(ROWS($G$1:G35),$G$1:$G$131,0)),\"\")","v":"P273"},{"$f":"IFERROR(INDEX($E$1:$E$131,MATCH(ROWS($G$1:G35),$G$1:$G$131,0)),\"\")","v":"Avoid release to the environment."}]
["Ground/bond container and receiving equipment.",null,null,"P283","Wear fire/flame resistant/retardant clothing.",null,38,{"$f":"IFERROR(INDEX($D$1:$D$131,MATCH(ROWS($G$1:G36),$G$1:$G$131,0)),\"\")","v":"P280"},{"$f":"IFERROR(INDEX($E$1:$E$131,MATCH(ROWS($G$1:G36),$G$1:$G$131,0)),\"\")","v":"Wear protective gloves/protective clothing/eye protection/face protection."}]
["P241",null,null,"P284","[In case of inadequate ventilation] wear respiratory protection.",null,39,{"$f":"IFERROR(INDEX($D$1:$D$131,MATCH(ROWS($G$1:G37),$G$1:$G$131,0)),\"\")","v":"P282"},{"$f":"IFERROR(INDEX($E$1:$E$131,MATCH(ROWS($G$1:G37),$G$1:$G$131,0)),\"\")","v":"Wear cold insulating gloves/face shield/eye protection."}]
["Use explosion-proof electrical/ventilating/lighting/…/ equipment.",null,null,"P231 + P232","Handle under inert gas. Protect from moisture.",null,14,{"$f":"IFERROR(INDEX($D$1:$D$131,MATCH(ROWS($G$1:G38),$G$1:$G$131,0)),\"\")","v":"P283"},{"$f":"IFERROR(INDEX($E$1:$E$131,MATCH(ROWS($G$1:G38),$G$1:$G$131,0)),\"\")","v":"Wear fire/flame resistant/retardant clothing."}]
["P242",null,null,"P235 + P410","Keep cool. Protect from sunlight.",null,19,{"$f":"IFERROR(INDEX($D$1:$D$131,MATCH(ROWS($G$1:G39),$G$1:$G$131,0)),\"\")","v":"P284"},{"$f":"IFERROR(INDEX($E$1:$E$131,MATCH(ROWS($G$1:G39),$G$1:$G$131,0)),\"\")","v":"[In case of inadequate ventilation] wear respiratory protection."}]
["Use only non-sparking tools.",null,null,"P301","IF SWALLOWED:",null,40,{"$f":"IFERROR(INDEX($D$1:$D$131,MATCH(ROWS($G$1:G40),$G$1:$G$131,0)),\"\")","v":"P301"},{"$f":"IFERROR(INDEX($E$1:$E$131,MATCH(ROWS($G$1:G40),$G$1:$G$131,0)),\"\")","v":"IF SWALLOWED:"}]
["P243",null,null,"P302","IF ON SKIN:",null,44,{"$f":"IFERROR(INDEX($D$1:$D$131,MATCH(ROWS($G$1:G41),$G$1:$G$131,0)),\"\")","v":"P301 + P310"},{"$f":"IFERROR(INDEX($E$1:$E$131,MATCH(ROWS($G$1:G41),$G$1:$G$131,0)),\"\")","v":"IF SWALLOWED: Immediately call a POISON CENTER/doctor/…"}]
["Take precautionary measures against static discharge.",null,null,"P303","IF ON SKIN (or hair):",null,47,{"$f":"IFERROR(INDEX($D$1:$D$131,MATCH(ROWS($G$1:G42),$G$1:$G$131,0)),\"\")","v":"P301 + P312"},{"$f":"IFERROR(INDEX($E$1:$E$131,MATCH(ROWS($G$1:G42),$G$1:$G$131,0)),\"\")","v":"IF SWALLOWED: Call a POISON CENTER/ doctor/…/if you feel unwell."}]
["P244",null,null,"P304","IF INHALED:",null,49,{"$f":"IFERROR(INDEX($D$1:$D$131,MATCH(ROWS($G$1:G43),$G$1:$G$131,0)),\"\")","v":"P301 + P330 + P331"},{"$f":"IFERROR(INDEX($E$1:$E$131,MATCH(ROWS($G$1:G43),$G$1:$G$131,0)),\"\")","v":"IF SWALLOWED: rinse mouth. Do NOT induce vomiting."}]
["Keep valves and fittings free from oil and grease.",null,null,"P305","IF IN EYES:",null,51,{"$f":"IFERROR(INDEX($D$1:$D$131,MATCH(ROWS($G$1:G44),$G$1:$G$131,0)),\"\")","v":"P302"},{"$f":"IFERROR(INDEX($E$1:$E$131,MATCH(ROWS($G$1:G44),$G$1:$G$131,0)),\"\")","v":"IF ON SKIN:"}]
["P250",null,null,"P306","IF ON CLOTHING:",null,53,{"$f":"IFERROR(INDEX($D$1:$D$131,MATCH(ROWS($G$1:G45),$G$1:$G$131,0)),\"\")","v":"P302 + P334"},{"$f":"IFERROR(INDEX($E$1:$E$131,MATCH(ROWS($G$1:G45),$G$1:$G$131,0)),\"\")","v":"IF ON SKIN: Immerse in cool water/wrap in wet bandages."}]
["Do not subject to grinding/shock/…/friction.",null,null,"P308","IF exposed or concerned:",null,55,{"$f":"IFERROR(INDEX($D$1:$D$131,MATCH(ROWS($G$1:G46),$G$1:$G$131,0)),\"\")","v":"P302 + P352"},{"$f":"IFERROR(INDEX($E$1:$E$131,MATCH(ROWS($G$1:G46),$G$1:$G$131,0)),\"\")","v":"IF ON SKIN: Wash with plenty of water/…"}]
["P251",null,null,"P310","Immediately call a POISON CENTER/doctor/ …",null,58,{"$f":"IFERROR(INDEX($D$1:$D$131,MATCH(ROWS($G$1:G47),$G$1:$G$131,0)),\"\")","v":"P303"},{"$f":"IFERROR(INDEX($E$1:$E$131,MATCH(ROWS($G$1:G47),$G$1:$G$131,0)),\"\")","v":"IF ON SKIN (or hair):"}]
["Do not pierce or burn, even after use.",null,null,"P311","Call a POISON CENTER/doctor/…",null,59,{"$f":"IFERROR(INDEX($D$1:$D$131,MATCH(ROWS($G$1:G48),$G$1:$G$131,0)),\"\")","v":"P303 + P361 + P353"},{"$f":"IFERROR(INDEX($E$1:$E$131,MATCH(ROWS($G$1:G48),$G$1:$G$131,0)),\"\")","v":"IF ON SKIN (or hair): Take off immediately all contaminated clothing. Rinse skin with water/ shower."}]
["P260",null,null,"P312","Call a POISON CENTER/doctor/…/if you feel unwell.",null,60,{"$f":"IFERROR(INDEX($D$1:$D$131,MATCH(ROWS($G$1:G49),$G$1:$G$131,0)),\"\")","v":"P304"},{"$f":"IFERROR(INDEX($E$1:$E$131,MATCH(ROWS($G$1:G49),$G$1:$G$131,0)),\"\")","v":"IF INHALED:"}]
["Do not breathe dust/fume/gas/mist/vapours/ spray.",null,null,"P313","Get medical advice/attention.",null,61,{"$f":"IFERROR(INDEX($D$1:$D$131,MATCH(ROWS($G$1:G50),$G$1:$G$131,0)),\"\")","v":"P304 + P340"},{"$f":"IFERROR(INDEX($E$1:$E$131,MATCH(ROWS($G$1:G50),$G$1:$G$131,0)),\"\")","v":"IF INHALED: Remove person to fresh air and keep comfortable for breathing."}]
["P261",null,null,"P314","Get medical advice/attention if you feel unwell.",null,62,{"$f":"IFERROR(INDEX($D$1:$D$131,MATCH(ROWS($G$1:G51),$G$1:$G$131,0)),\"\")","v":"P305"},{"$f":"IFERROR(INDEX($E$1:$E$131,MATCH(ROWS($G$1:G51),$G$1:$G$131,0)),\"\")","v":"IF IN EYES:"}]
["Avoid breathing dust/fume/gas/mist/vapours/ spray.",null,null,"P315","Get immediate medical advice/attention.",null,63,{"$f":"IFERROR(INDEX($D$1:$D$131,MATCH(ROWS($G$1:G52),$G$1:$G$131,0)),\"\")","v":"P305 + P351 + P338"},{"$f":"IFERROR(INDEX($E$1:$E$131,MATCH(ROWS($G$1:G52),$G$1:$G$131,0)),\"\")","v":"IF IN EYES: Rinse cautiously with water for several minutes. Remove contact lenses, if present and easy to do. Continue rinsing."}]
["P262",null,null,"P320","Specific treatment is urgent (see … on this label).",null,64,{"$f":"IFERROR(INDEX($D$1:$D$131,MATCH(ROWS($G$1:G53),$G$1:$G$131,0)),\"\")","v":"P306"},{"$f":"IFERROR(INDEX($E$1:$E$131,MATCH(ROWS($G$1:G53),$G$1:$G$131,0)),\"\")","v":"IF ON CLOTHING:"}]
["Do not get in eyes, on skin, or on clothing.",null,null,"P321","Specific treatment (see … on this label).",null,65,{"$f":"IFERROR(INDEX($D$1:$D$131,MATCH(ROWS($G$1:G54),$G$1:$G$131,0)),\"\")","v":"P306 + P360"},{"$f":"IFERROR(INDEX($E$1:$E$131,MATCH(ROWS($G$1:G54),$G$1:$G$131,0)),\"\")","v":"IF ON CLOTHING: rinse immediately contaminated clothing and skin with plenty of water before removing clothes."}]
["P263",null,null,"P330","Rinse mouth.",null,66,{"$f":"IFERROR(INDEX($D$1:$D$131,MATCH(ROWS($G$1:G55),$G$1:$G$131,0)),\"\")","v":"P308"},{"$f":"IFERROR(INDEX($E$1:$E$131,MATCH(ROWS($G$1:G55),$G$1:$G$131,0)),\"\")","v":"IF exposed or concerned:"}]
["Avoid contact during pregnancy/while nursing.",null,null,"P331","Do NOT induce vomiting.",null,67,{"$f":"IFERROR(INDEX($D$1:$D$131,MATCH(ROWS($G$1:G56),$G$1:$G$131,0)),\"\")","v":"P308 + P311"},{"$f":"IFERROR(INDEX($E$1:$E$131,MATCH(ROWS($G$1:G56),$G$1:$G$131,0)),\"\")","v":"IF exposed or concerned: Call a POISON CENTER/doctor/…"}]
["P264",null,null,"P332","If skin irritation occurs:",null,68,{"$f":"IFERROR(INDEX($D$1:$D$131,MATCH(ROWS($G$1:G57),$G$1:$G$131,0)),\"\")","v":"P308 + P313"},{"$f":"IFERROR(INDEX($E$1:$E$131,MATCH(ROWS($G$1:G57),$G$1:$G$131,0)),\"\")","v":"IF exposed or concerned: Get medical advice/ attention."}]
["Wash … thoroughly after handling.",null,null,"P333","If skin irritation or rash occurs:",null,70,{"$f":"IFERROR(INDEX($D$1:$D$131,MATCH(ROWS($G$1:G58),$G$1:$G$131,0)),\"\")","v":"P310"},{"$f":"IFERROR(INDEX($E$1:$E$131,MATCH(ROWS($G$1:G58),$G$1:$G$131,0)),\"\")","v":"Immediately call a POISON CENTER/doctor/ …"}]
["P270",null,null,"P334","Immerse in cool water/wrap in wet bandages.",null,72,{"$f":"IFERROR(INDEX($D$1:$D$131,MATCH(ROWS($G$1:G59),$G$1:$G$131,0)),\"\")","v":"P311"},{"$f":"IFERROR(INDEX($E$1:$E$131,MATCH(ROWS($G$1:G59),$G$1:$G$131,0)),\"\")","v":"Call a POISON CENTER/doctor/…"}]
["Do not eat, drink or smoke when using this product.",null,null,"P335","Brush off loose particles from skin.",null,73,{"$f":"IFERROR(INDEX($D$1:$D$131,MATCH(ROWS($G$1:G60),$G$1:$G$131,0)),\"\")","v":"P312"},{"$f":"IFERROR(INDEX($E$1:$E$131,MATCH(ROWS($G$1:G60),$G$1:$G$131,0)),\"\")","v":"Call a POISON CENTER/doctor/…/if you feel unwell."}]
["P271",null,null,"P336","Thaw frosted parts with lukewarm water. Do no rub affected area.",null,75,{"$f":"IFERROR(INDEX($D$1:$D$131,MATCH(ROWS($G$1:G61),$G$1:$G$131,0)),\"\")","v":"P313"},{"$f":"IFERROR(INDEX($E$1:$E$131,MATCH(ROWS($G$1:G61),$G$1:$G$131,0)),\"\")","v":"Get medical advice/attention."}]
["Use only outdoors or in a well-ventilated area.",null,null,"P337","If eye irritation persists:",null,76,{"$f":"IFERROR(INDEX($D$1:$D$131,MATCH(ROWS($G$1:G62),$G$1:$G$131,0)),\"\")","v":"P314"},{"$f":"IFERROR(INDEX($E$1:$E$131,MATCH(ROWS($G$1:G62),$G$1:$G$131,0)),\"\")","v":"Get medical advice/attention if you feel unwell."}]
["P272",null,null,"P338","Remove contact lenses, if present and easy to do. Continue rinsing.",null,78,{"$f":"IFERROR(INDEX($D$1:$D$131,MATCH(ROWS($G$1:G63),$G$1:$G$131,0)),\"\")","v":"P315"},{"$f":"IFERROR(INDEX($E$1:$E$131,MATCH(ROWS($G$1:G63),$G$1:$G$131,0)),\"\")","v":"Get immediate medical advice/attention."}]
["Contaminated work clothing should not be allowed out of the workplace.",null,null,"P340","Remove person to fresh air and keep comfortable for breathing.",null,79,{"$f":"IFERROR(INDEX($D$1:$D$131,MATCH(ROWS($G$1:G64),$G$1:$G$131,0)),\"\")","v":"P320"},{"$f":"IFERROR(INDEX($E$1:$E$131,MATCH(ROWS($G$1:G64),$G$1:$G$131,0)),\"\")","v":"Specific treatment is urgent (see … on this label)."}]
["P273",null,null,"P342","If experiencing respiratory symptoms:",null,80,{"$f":"IFERROR(INDEX($D$1:$D$131,MATCH(ROWS($G$1:G65),$G$1:$G$131,0)),\"\")","v":"P321"},{"$f":"IFERROR(INDEX($E$1:$E$131,MATCH(ROWS($G$1:G65),$G$1:$G$131,0)),\"\")","v":"Specific treatment (see … on this label)."}]
["Avoid release to the environment.",null,null,{"$f":"OFFSET($A$1,ROW(A66)*2-2,0)","v":"P351"},{"$f":"OFFSET($A$1,ROW(B66)*2-1,0)","v":"Rinse cautiously with water for several minutes."},null,{"$f":"COUNTIF($D$1:$D$131,\"<=\"&D66)","v":82},{"$f":"IFERROR(INDEX($D$1:$D$131,MATCH(ROWS($G$1:G66),$G$1:$G$131,0)),\"\")","v":"P330"},{"$f":"IFERROR(INDEX($E$1:$E$131,MATCH(ROWS($G$1:G66),$G$1:$G$131,0)),\"\")","v":"Rinse mouth."}]
["P280",null,null,"P352","Wash with plenty of water/…",null,83,{"$f":"IFERROR(INDEX($D$1:$D$131,MATCH(ROWS($G$1:G67),$G$1:$G$131,0)),\"\")","v":"P331"},{"$f":"IFERROR(INDEX($E$1:$E$131,MATCH(ROWS($G$1:G67),$G$1:$G$131,0)),\"\")","v":"Do NOT induce vomiting."}]
["Wear protective gloves/protective clothing/eye protection/face protection.",null,null,"P353","Rinse skin with water/shower.",null,84,{"$f":"IFERROR(INDEX($D$1:$D$131,MATCH(ROWS($G$1:G68),$G$1:$G$131,0)),\"\")","v":"P332"},{"$f":"IFERROR(INDEX($E$1:$E$131,MATCH(ROWS($G$1:G68),$G$1:$G$131,0)),\"\")","v":"If skin irritation occurs:"}]
["P282",null,null,"P360","Rinse immediately contaminated clothing and skin with plenty of water before removing clothes.",null,85,{"$f":"IFERROR(INDEX($D$1:$D$131,MATCH(ROWS($G$1:G69),$G$1:$G$131,0)),\"\")","v":"P332 + P313"},{"$f":"IFERROR(INDEX($E$1:$E$131,MATCH(ROWS($G$1:G69),$G$1:$G$131,0)),\"\")","v":"If skin irritation occurs: Get medical advice/ attention."}]
["Wear cold insulating gloves/face shield/eye protection.",null,null,"P361","Take off immediately all contaminated clothing.",null,86,{"$f":"IFERROR(INDEX($D$1:$D$131,MATCH(ROWS($G$1:G70),$G$1:$G$131,0)),\"\")","v":"P333"},{"$f":"IFERROR(INDEX($E$1:$E$131,MATCH(ROWS($G$1:G70),$G$1:$G$131,0)),\"\")","v":"If skin irritation or rash occurs:"}]
["P283",null,null,"P362","Take off contaminated clothing.",null,88,{"$f":"IFERROR(INDEX($D$1:$D$131,MATCH(ROWS($G$1:G71),$G$1:$G$131,0)),\"\")","v":"P333 + P313"},{"$f":"IFERROR(INDEX($E$1:$E$131,MATCH(ROWS($G$1:G71),$G$1:$G$131,0)),\"\")","v":"If skin irritation or rash occurs: Get medical advice/attention."}]
["Wear fire/flame resistant/retardant clothing.",null,null,"P363","Wash contaminated clothing before reuse.",null,90,{"$f":"IFERROR(INDEX($D$1:$D$131,MATCH(ROWS($G$1:G72),$G$1:$G$131,0)),\"\")","v":"P334"},{"$f":"IFERROR(INDEX($E$1:$E$131,MATCH(ROWS($G$1:G72),$G$1:$G$131,0)),\"\")","v":"Immerse in cool water/wrap in wet bandages."}]
["P284",null,null,"P364","And wash it before reuse.",null,91,{"$f":"IFERROR(INDEX($D$1:$D$131,MATCH(ROWS($G$1:G73),$G$1:$G$131,0)),\"\")","v":"P335"},{"$f":"IFERROR(INDEX($E$1:$E$131,MATCH(ROWS($G$1:G73),$G$1:$G$131,0)),\"\")","v":"Brush off loose particles from skin."}]
["[In case of inadequate ventilation] wear respiratory protection.",null,null,"P370","In case of fire:",null,92,{"$f":"IFERROR(INDEX($D$1:$D$131,MATCH(ROWS($G$1:G74),$G$1:$G$131,0)),\"\")","v":"P335 + P334"},{"$f":"IFERROR(INDEX($E$1:$E$131,MATCH(ROWS($G$1:G74),$G$1:$G$131,0)),\"\")","v":"Brush off loose particles from skin. Immerse in cool water/wrap in wet bandages."}]
["P231 + P232",null,null,"P371","In case of major fire and large quantities:",null,98,{"$f":"IFERROR(INDEX($D$1:$D$131,MATCH(ROWS($G$1:G75),$G$1:$G$131,0)),\"\")","v":"P336"},{"$f":"IFERROR(INDEX($E$1:$E$131,MATCH(ROWS($G$1:G75),$G$1:$G$131,0)),\"\")","v":"Thaw frosted parts with lukewarm water. Do no rub affected area."}]
["Handle under inert gas. Protect from moisture.",null,null,"P372","Explosion risk in case of fire.",null,100,{"$f":"IFERROR(INDEX($D$1:$D$131,MATCH(ROWS($G$1:G76),$G$1:$G$131,0)),\"\")","v":"P337"},{"$f":"IFERROR(INDEX($E$1:$E$131,MATCH(ROWS($G$1:G76),$G$1:$G$131,0)),\"\")","v":"If eye irritation persists:"}]
["P235 + P410",null,null,"P373","DO NOT fight fire when fire reaches explosives.",null,101,{"$f":"IFERROR(INDEX($D$1:$D$131,MATCH(ROWS($G$1:G77),$G$1:$G$131,0)),\"\")","v":"P337 + P313"},{"$f":"IFERROR(INDEX($E$1:$E$131,MATCH(ROWS($G$1:G77),$G$1:$G$131,0)),\"\")","v":"If eye irritation persists: Get medical advice/ attention."}]
["Keep cool. Protect from sunlight.",null,null,"P374","Fight fire with normal precautions from a reasonable distance.",null,102,{"$f":"IFERROR(INDEX($D$1:$D$131,MATCH(ROWS($G$1:G78),$G$1:$G$131,0)),\"\")","v":"P338"},{"$f":"IFERROR(INDEX($E$1:$E$131,MATCH(ROWS($G$1:G78),$G$1:$G$131,0)),\"\")","v":"Remove contact lenses, if present and easy to do. Continue rinsing."}]
["P301",null,null,"P375","Fight fire remotely due to the risk of explosion.",null,103,{"$f":"IFERROR(INDEX($D$1:$D$131,MATCH(ROWS($G$1:G79),$G$1:$G$131,0)),\"\")","v":"P340"},{"$f":"IFERROR(INDEX($E$1:$E$131,MATCH(ROWS($G$1:G79),$G$1:$G$131,0)),\"\")","v":"Remove person to fresh air and keep comfortable for breathing."}]
["IF SWALLOWED:",null,null,"P376","Stop leak if safe to do so.",null,104,{"$f":"IFERROR(INDEX($D$1:$D$131,MATCH(ROWS($G$1:G80),$G$1:$G$131,0)),\"\")","v":"P342"},{"$f":"IFERROR(INDEX($E$1:$E$131,MATCH(ROWS($G$1:G80),$G$1:$G$131,0)),\"\")","v":"If experiencing respiratory symptoms:"}]
["P302",null,null,"P377","Leaking gas fire: Do not extinguish, unless leak can be stopped safely.",null,105,{"$f":"IFERROR(INDEX($D$1:$D$131,MATCH(ROWS($G$1:G81),$G$1:$G$131,0)),\"\")","v":"P342 + P311"},{"$f":"IFERROR(INDEX($E$1:$E$131,MATCH(ROWS($G$1:G81),$G$1:$G$131,0)),\"\")","v":"If experiencing respiratory symptoms: Call a POISON CENTER/doctor/…"}]
["IF ON SKIN:",null,null,"P378","Use… to extinguish.",null,106,{"$f":"IFERROR(INDEX($D$1:$D$131,MATCH(ROWS($G$1:G82),$G$1:$G$131,0)),\"\")","v":"P351"},{"$f":"IFERROR(INDEX($E$1:$E$131,MATCH(ROWS($G$1:G82),$G$1:$G$131,0)),\"\")","v":"Rinse cautiously with water for several minutes."}]
["P303",null,null,"P380","Evacuate area.",null,107,{"$f":"IFERROR(INDEX($D$1:$D$131,MATCH(ROWS($G$1:G83),$G$1:$G$131,0)),\"\")","v":"P352"},{"$f":"IFERROR(INDEX($E$1:$E$131,MATCH(ROWS($G$1:G83),$G$1:$G$131,0)),\"\")","v":"Wash with plenty of water/…"}]
["IF ON SKIN (or hair):",null,null,"P381","Eliminate all ignition sources if safe to do so.",null,108,{"$f":"IFERROR(INDEX($D$1:$D$131,MATCH(ROWS($G$1:G84),$G$1:$G$131,0)),\"\")","v":"P353"},{"$f":"IFERROR(INDEX($E$1:$E$131,MATCH(ROWS($G$1:G84),$G$1:$G$131,0)),\"\")","v":"Rinse skin with water/shower."}]
["P304",null,null,"P390","Absorb spillage to prevent material damage.",null,109,{"$f":"IFERROR(INDEX($D$1:$D$131,MATCH(ROWS($G$1:G85),$G$1:$G$131,0)),\"\")","v":"P360"},{"$f":"IFERROR(INDEX($E$1:$E$131,MATCH(ROWS($G$1:G85),$G$1:$G$131,0)),\"\")","v":"Rinse immediately contaminated clothing and skin with plenty of water before removing clothes."}]
["IF INHALED:",null,null,"P391","Collect spillage.",null,110,{"$f":"IFERROR(INDEX($D$1:$D$131,MATCH(ROWS($G$1:G86),$G$1:$G$131,0)),\"\")","v":"P361"},{"$f":"IFERROR(INDEX($E$1:$E$131,MATCH(ROWS($G$1:G86),$G$1:$G$131,0)),\"\")","v":"Take off immediately all contaminated clothing."}]
["P305",null,null,"P301 + P310","IF SWALLOWED: Immediately call a POISON CENTER/doctor/…",null,41,{"$f":"IFERROR(INDEX($D$1:$D$131,MATCH(ROWS($G$1:G87),$G$1:$G$131,0)),\"\")","v":"P361 + P364"},{"$f":"IFERROR(INDEX($E$1:$E$131,MATCH(ROWS($G$1:G87),$G$1:$G$131,0)),\"\")","v":"Take off immediately all contaminated clothing and wash it before reuse."}]
["IF IN EYES:",null,null,"P301 + P312","IF SWALLOWED: Call a POISON CENTER/ doctor/…/if you feel unwell.",null,42,{"$f":"IFERROR(INDEX($D$1:$D$131,MATCH(ROWS($G$1:G88),$G$1:$G$131,0)),\"\")","v":"P362"},{"$f":"IFERROR(INDEX($E$1:$E$131,MATCH(ROWS($G$1:G88),$G$1:$G$131,0)),\"\")","v":"Take off contaminated clothing."}]
["P306",null,null,"P301 + P330 + P331","IF SWALLOWED: rinse mouth. Do NOT induce vomiting.",null,43,{"$f":"IFERROR(INDEX($D$1:$D$131,MATCH(ROWS($G$1:G89),$G$1:$G$131,0)),\"\")","v":"P362 + P364"},{"$f":"IFERROR(INDEX($E$1:$E$131,MATCH(ROWS($G$1:G89),$G$1:$G$131,0)),\"\")","v":"Take off contaminated clothing and wash it before reuse."}]
["IF ON CLOTHING:",null,null,"P302 + P334","IF ON SKIN: Immerse in cool water/wrap in wet bandages.",null,45,{"$f":"IFERROR(INDEX($D$1:$D$131,MATCH(ROWS($G$1:G90),$G$1:$G$131,0)),\"\")","v":"P363"},{"$f":"IFERROR(INDEX($E$1:$E$131,MATCH(ROWS($G$1:G90),$G$1:$G$131,0)),\"\")","v":"Wash contaminated clothing before reuse."}]
["P308",null,null,"P302 + P352","IF ON SKIN: Wash with plenty of water/…",null,46,{"$f":"IFERROR(INDEX($D$1:$D$131,MATCH(ROWS($G$1:G91),$G$1:$G$131,0)),\"\")","v":"P364"},{"$f":"IFERROR(INDEX($E$1:$E$131,MATCH(ROWS($G$1:G91),$G$1:$G$131,0)),\"\")","v":"And wash it before reuse."}]
["IF exposed or concerned:",null,null,"P303 + P361 + P353","IF ON SKIN (or hair): Take off immediately all contaminated clothing. Rinse skin with water/ shower.",null,48,{"$f":"IFERROR(INDEX($D$1:$D$131,MATCH(ROWS($G$1:G92),$G$1:$G$131,0)),\"\")","v":"P370"},{"$f":"IFERROR(INDEX($E$1:$E$131,MATCH(ROWS($G$1:G92),$G$1:$G$131,0)),\"\")","v":"In case of fire:"}]
["P310",null,null,"P304 + P340","IF INHALED: Remove person to fresh air and keep comfortable for breathing.",null,50,{"$f":"IFERROR(INDEX($D$1:$D$131,MATCH(ROWS($G$1:G93),$G$1:$G$131,0)),\"\")","v":"P370 + P372 + P380 + P373"},{"$f":"IFERROR(INDEX($E$1:$E$131,MATCH(ROWS($G$1:G93),$G$1:$G$131,0)),\"\")","v":"In case of fire:  Explosion risk. Evacuate area. DO NOT fight fire when fire reaches explosives."}]
["Immediately call a POISON CENTER/doctor/ …",null,null,"P305 + P351 + P338","IF IN EYES: Rinse cautiously with water for several minutes. Remove contact lenses, if present and easy to do. Continue rinsing.",null,52,{"$f":"IFERROR(INDEX($D$1:$D$131,MATCH(ROWS($G$1:G94),$G$1:$G$131,0)),\"\")","v":"P370 + P376"},{"$f":"IFERROR(INDEX($E$1:$E$131,MATCH(ROWS($G$1:G94),$G$1:$G$131,0)),\"\")","v":"In case of fire: Stop leak if safe to do so."}]
["P311",null,null,"P306 + P360","IF ON CLOTHING: rinse immediately contaminated clothing and skin with plenty of water before removing clothes.",null,54,{"$f":"IFERROR(INDEX($D$1:$D$131,MATCH(ROWS($G$1:G95),$G$1:$G$131,0)),\"\")","v":"P370 + P378"},{"$f":"IFERROR(INDEX($E$1:$E$131,MATCH(ROWS($G$1:G95),$G$1:$G$131,0)),\"\")","v":"In case of fire: Use… to extinguish."}]
["Call a POISON CENTER/doctor/…",null,null,"P308 + P311","IF exposed or concerned: Call a POISON CENTER/doctor/…",null,56,{"$f":"IFERROR(INDEX($D$1:$D$131,MATCH(ROWS($G$1:G96),$G$1:$G$131,0)),\"\")","v":"P370 + P380"},{"$f":"IFERROR(INDEX($E$1:$E$131,MATCH(ROWS($G$1:G96),$G$1:$G$131,0)),\"\")","v":"In case of fire: Evacuate area."}]
["P312",null,null,"P308 + P313","IF exposed or concerned: Get medical advice/ attention.",null,57,{"$f":"IFERROR(INDEX($D$1:$D$131,MATCH(ROWS($G$1:G97),$G$1:$G$131,0)),\"\")","v":"P370 + P380 + P375"},{"$f":"IFERROR(INDEX($E$1:$E$131,MATCH(ROWS($G$1:G97),$G$1:$G$131,0)),\"\")","v":"In case of fire: Evacuate area. Fight fire remotely due to the risk of explosion."}]
["Call a POISON CENTER/doctor/…/if you feel unwell.",null,null,"P332 + P313","If skin irritation occurs: Get medical advice/ attention.",null,69,{"$f":"IFERROR(INDEX($D$1:$D$131,MATCH(ROWS($G$1:G98),$G$1:$G$131,0)),\"\")","v":"P371"},{"$f":"IFERROR(INDEX($E$1:$E$131,MATCH(ROWS($G$1:G98),$G$1:$G$131,0)),\"\")","v":"In case of major fire and large quantities:"}]
["P313",null,null,"P333 + P313","If skin irritation or rash occurs: Get medical advice/attention.",null,71,{"$f":"IFERROR(INDEX($D$1:$D$131,MATCH(ROWS($G$1:G99),$G$1:$G$131,0)),\"\")","v":"P371 + P380 + P375"},{"$f":"IFERROR(INDEX($E$1:$E$131,MATCH(ROWS($G$1:G99),$G$1:$G$131,0)),\"\")","v":"In case of major fire and large quantities: Evacuate area. Fight fire remotely due to the risk of explosion."}]
["Get medical advice/attention.",null,null,"P335 + P334","Brush off loose particles from skin. Immerse in cool water/wrap in wet bandages.",null,74,{"$f":"IFERROR(INDEX($D$1:$D$131,MATCH(ROWS($G$1:G100),$G$1:$G$131,0)),\"\")","v":"P372"},{"$f":"IFERROR(INDEX($E$1:$E$131,MATCH(ROWS($G$1:G100),$G$1:$G$131,0)),\"\")","v":"Explosion risk in case of fire."}]
["P314",null,null,"P337 + P313","If eye irritation persists: Get medical advice/ attention.",null,77,{"$f":"IFERROR(INDEX($D$1:$D$131,MATCH(ROWS($G$1:G101),$G$1:$G$131,0)),\"\")","v":"P373"},{"$f":"IFERROR(INDEX($E$1:$E$131,MATCH(ROWS($G$1:G101),$G$1:$G$131,0)),\"\")","v":"DO NOT fight fire when fire reaches explosives."}]
["Get medical advice/attention if you feel unwell.",null,null,"P342 + P311","If experiencing respiratory symptoms: Call a POISON CENTER/doctor/…",null,81,{"$f":"IFERROR(INDEX($D$1:$D$131,MATCH(ROWS($G$1:G102),$G$1:$G$131,0)),\"\")","v":"P374"},{"$f":"IFERROR(INDEX($E$1:$E$131,MATCH(ROWS($G$1:G102),$G$1:$G$131,0)),\"\")","v":"Fight fire with normal precautions from a reasonable distance."}]
["P315",null,null,"P361 + P364","Take off immediately all contaminated clothing and wash it before reuse.",null,87,{"$f":"IFERROR(INDEX($D$1:$D$131,MATCH(ROWS($G$1:G103),$G$1:$G$131,0)),\"\")","v":"P375"},{"$f":"IFERROR(INDEX($E$1:$E$131,MATCH(ROWS($G$1:G103),$G$1:$G$131,0)),\"\")","v":"Fight fire remotely due to the risk of explosion."}]
["Get immediate medical advice/attention.",null,null,"P362 + P364","Take off contaminated clothing and wash it before reuse.",null,89,{"$f":"IFERROR(INDEX($D$1:$D$131,MATCH(ROWS($G$1:G104),$G$1:$G$131,0)),\"\")","v":"P376"},{"$f":"IFERROR(INDEX($E$1:$E$131,MATCH(ROWS($G$1:G104),$G$1:$G$131,0)),\"\")","v":"Stop leak if safe to do so."}]
["P320",null,null,"P370 + P376","In case of fire: Stop leak if safe to do so.",null,94,{"$f":"IFERROR(INDEX($D$1:$D$131,MATCH(ROWS($G$1:G105),$G$1:$G$131,0)),\"\")","v":"P377"},{"$f":"IFERROR(INDEX($E$1:$E$131,MATCH(ROWS($G$1:G105),$G$1:$G$131,0)),\"\")","v":"Leaking gas fire: Do not extinguish, unless leak can be stopped safely."}]
["Specific treatment is urgent (see … on this label).",null,null,"P370 + P378","In case of fire: Use… to extinguish.",null,95,{"$f":"IFERROR(INDEX($D$1:$D$131,MATCH(ROWS($G$1:G106),$G$1:$G$131,0)),\"\")","v":"P378"},{"$f":"IFERROR(INDEX($E$1:$E$131,MATCH(ROWS($G$1:G106),$G$1:$G$131,0)),\"\")","v":"Use… to extinguish."}]
["P321",null,null,"P370 + P380","In case of fire: Evacuate area.",null,96,{"$f":"IFERROR(INDEX($D$1:$D$131,MATCH(ROWS($G$1:G107),$G$1:$G$131,0)),\"\")","v":"P380"},{"$f":"IFERROR(INDEX($E$1:$E$131,MATCH(ROWS($G$1:G107),$G$1:$G$131,0)),\"\")","v":"Evacuate area."}]
["Specific treatment (see … on this label).",null,null,"P370 + P380 + P375","In case of fire: Evacuate area. Fight fire remotely due to the risk of explosion.",null,97,{"$f":"IFERROR(INDEX($D$1:$D$131,MATCH(ROWS($G$1:G108),$G$1:$G$131,0)),\"\")","v":"P381"},{"$f":"IFERROR(INDEX($E$1:$E$131,MATCH(ROWS($G$1:G108),$G$1:$G$131,0)),\"\")","v":"Eliminate all ignition sources if safe to do so."}]
["P330",null,null,"P371 + P380 + P375","In case of major fire and large quantities: Evacuate area. Fight fire remotely due to the risk of explosion.",null,99,{"$f":"IFERROR(INDEX($D$1:$D$131,MATCH(ROWS($G$1:G109),$G$1:$G$131,0)),\"\")","v":"P390"},{"$f":"IFERROR(INDEX($E$1:$E$131,MATCH(ROWS($G$1:G109),$G$1:$G$131,0)),\"\")","v":"Absorb spillage to prevent material damage."}]
["Rinse mouth.",null,null,"P370 + P372 + P380 + P373","In case of fire:  Explosion risk. Evacuate area. DO NOT fight fire when fire reaches explosives.",null,93,{"$f":"IFERROR(INDEX($D$1:$D$131,MATCH(ROWS($G$1:G110),$G$1:$G$131,0)),\"\")","v":"P391"},{"$f":"IFERROR(INDEX($E$1:$E$131,MATCH(ROWS($G$1:G110),$G$1:$G$131,0)),\"\")","v":"Collect spillage."}]
["P331",null,null,"P401","Store …",null,111,{"$f":"IFERROR(INDEX($D$1:$D$131,MATCH(ROWS($G$1:G111),$G$1:$G$131,0)),\"\")","v":"P401"},{"$f":"IFERROR(INDEX($E$1:$E$131,MATCH(ROWS($G$1:G111),$G$1:$G$131,0)),\"\")","v":"Store …"}]
["Do NOT induce vomiting.",null,null,"P402","Store in a dry place.",null,112,{"$f":"IFERROR(INDEX($D$1:$D$131,MATCH(ROWS($G$1:G112),$G$1:$G$131,0)),\"\")","v":"P402"},{"$f":"IFERROR(INDEX($E$1:$E$131,MATCH(ROWS($G$1:G112),$G$1:$G$131,0)),\"\")","v":"Store in a dry place."}]
["P332",null,null,"P403","Store in a well-ventilated place.",null,114,{"$f":"IFERROR(INDEX($D$1:$D$131,MATCH(ROWS($G$1:G113),$G$1:$G$131,0)),\"\")","v":"P402 + P404"},{"$f":"IFERROR(INDEX($E$1:$E$131,MATCH(ROWS($G$1:G113),$G$1:$G$131,0)),\"\")","v":"Store in a dry place. Store in a closed container."}]
["If skin irritation occurs:",null,null,"P404","Store in a closed container.",null,117,{"$f":"IFERROR(INDEX($D$1:$D$131,MATCH(ROWS($G$1:G114),$G$1:$G$131,0)),\"\")","v":"P403"},{"$f":"IFERROR(INDEX($E$1:$E$131,MATCH(ROWS($G$1:G114),$G$1:$G$131,0)),\"\")","v":"Store in a well-ventilated place."}]
["P333",null,null,"P405","Store locked up.",null,118,{"$f":"IFERROR(INDEX($D$1:$D$131,MATCH(ROWS($G$1:G115),$G$1:$G$131,0)),\"\")","v":"P403 + P233"},{"$f":"IFERROR(INDEX($E$1:$E$131,MATCH(ROWS($G$1:G115),$G$1:$G$131,0)),\"\")","v":"Store in a well-ventilated place. Keep container tightly closed."}]
["If skin irritation or rash occurs:",null,null,"P406","Store in corrosive resistant/… container with a resistant inner liner.",null,119,{"$f":"IFERROR(INDEX($D$1:$D$131,MATCH(ROWS($G$1:G116),$G$1:$G$131,0)),\"\")","v":"P403 + P235"},{"$f":"IFERROR(INDEX($E$1:$E$131,MATCH(ROWS($G$1:G116),$G$1:$G$131,0)),\"\")","v":"Store in a well-ventilated place. Keep cool."}]
["P334",null,null,"P407","Maintain air gap between stacks/pallets.",null,120,{"$f":"IFERROR(INDEX($D$1:$D$131,MATCH(ROWS($G$1:G117),$G$1:$G$131,0)),\"\")","v":"P404"},{"$f":"IFERROR(INDEX($E$1:$E$131,MATCH(ROWS($G$1:G117),$G$1:$G$131,0)),\"\")","v":"Store in a closed container."}]
["Immerse in cool water/wrap in wet bandages.",null,null,"P410","Protect from sunlight.",null,121,{"$f":"IFERROR(INDEX($D$1:$D$131,MATCH(ROWS($G$1:G118),$G$1:$G$131,0)),\"\")","v":"P405"},{"$f":"IFERROR(INDEX($E$1:$E$131,MATCH(ROWS($G$1:G118),$G$1:$G$131,0)),\"\")","v":"Store locked up."}]
["P335",null,null,"P411","Store at temperatures not exceeding … o C/ … o F.",null,124,{"$f":"IFERROR(INDEX($D$1:$D$131,MATCH(ROWS($G$1:G119),$G$1:$G$131,0)),\"\")","v":"P406"},{"$f":"IFERROR(INDEX($E$1:$E$131,MATCH(ROWS($G$1:G119),$G$1:$G$131,0)),\"\")","v":"Store in corrosive resistant/… container with a resistant inner liner."}]
["Brush off loose particles from skin.",null,null,"P412","Do not expose to temperatures exceeding 50 o C/ 122 o F.",null,126,{"$f":"IFERROR(INDEX($D$1:$D$131,MATCH(ROWS($G$1:G120),$G$1:$G$131,0)),\"\")","v":"P407"},{"$f":"IFERROR(INDEX($E$1:$E$131,MATCH(ROWS($G$1:G120),$G$1:$G$131,0)),\"\")","v":"Maintain air gap between stacks/pallets."}]
["P336",null,null,"P413","Store bulk masses greater than … kg/… lbs at temperatures not exceeding … o C/… o F.",null,127,{"$f":"IFERROR(INDEX($D$1:$D$131,MATCH(ROWS($G$1:G121),$G$1:$G$131,0)),\"\")","v":"P410"},{"$f":"IFERROR(INDEX($E$1:$E$131,MATCH(ROWS($G$1:G121),$G$1:$G$131,0)),\"\")","v":"Protect from sunlight."}]
["Thaw frosted parts with lukewarm water. Do no rub affected area.",null,null,"P420","Store away from other materials.",null,128,{"$f":"IFERROR(INDEX($D$1:$D$131,MATCH(ROWS($G$1:G122),$G$1:$G$131,0)),\"\")","v":"P410 + P403"},{"$f":"IFERROR(INDEX($E$1:$E$131,MATCH(ROWS($G$1:G122),$G$1:$G$131,0)),\"\")","v":"Protect from sunlight. Store in a well-ventilated place."}]
["P337",null,null,"P422","Store contents under …",null,129,{"$f":"IFERROR(INDEX($D$1:$D$131,MATCH(ROWS($G$1:G123),$G$1:$G$131,0)),\"\")","v":"P410 + P412"},{"$f":"IFERROR(INDEX($E$1:$E$131,MATCH(ROWS($G$1:G123),$G$1:$G$131,0)),\"\")","v":"Protect from sunlight. Do no expose to temperatures exceeding 50 o C/ 122 o F."}]
["If eye irritation persists:",null,null,"P402 + P404","Store in a dry place. Store in a closed container.",null,113,{"$f":"IFERROR(INDEX($D$1:$D$131,MATCH(ROWS($G$1:G124),$G$1:$G$131,0)),\"\")","v":"P411"},{"$f":"IFERROR(INDEX($E$1:$E$131,MATCH(ROWS($G$1:G124),$G$1:$G$131,0)),\"\")","v":"Store at temperatures not exceeding … o C/ … o F."}]
["P338",null,null,"P403 + P233","Store in a well-ventilated place. Keep container tightly closed.",null,115,{"$f":"IFERROR(INDEX($D$1:$D$131,MATCH(ROWS($G$1:G125),$G$1:$G$131,0)),\"\")","v":"P411 + P235"},{"$f":"IFERROR(INDEX($E$1:$E$131,MATCH(ROWS($G$1:G125),$G$1:$G$131,0)),\"\")","v":"Store at temperatures not exceeding … o C/ … o F. Keep cool."}]
["Remove contact lenses, if present and easy to do. Continue rinsing.",null,null,"P403 + P235","Store in a well-ventilated place. Keep cool.",null,116,{"$f":"IFERROR(INDEX($D$1:$D$131,MATCH(ROWS($G$1:G126),$G$1:$G$131,0)),\"\")","v":"P412"},{"$f":"IFERROR(INDEX($E$1:$E$131,MATCH(ROWS($G$1:G126),$G$1:$G$131,0)),\"\")","v":"Do not expose to temperatures exceeding 50 o C/ 122 o F."}]
["P340",null,null,"P410 + P403","Protect from sunlight. Store in a well-ventilated place.",null,122,{"$f":"IFERROR(INDEX($D$1:$D$131,MATCH(ROWS($G$1:G127),$G$1:$G$131,0)),\"\")","v":"P413"},{"$f":"IFERROR(INDEX($E$1:$E$131,MATCH(ROWS($G$1:G127),$G$1:$G$131,0)),\"\")","v":"Store bulk masses greater than … kg/… lbs at temperatures not exceeding … o C/… o F."}]
["Remove person to fresh air and keep comfortable for breathing.",null,null,"P410 + P412","Protect from sunlight. Do no expose to temperatures exceeding 50 o C/ 122 o F.",null,123,{"$f":"IFERROR(INDEX($D$1:$D$131,MATCH(ROWS($G$1:G128),$G$1:$G$131,0)),\"\")","v":"P420"},{"$f":"IFERROR(INDEX($E$1:$E$131,MATCH(ROWS($G$1:G128),$G$1:$G$131,0)),\"\")","v":"Store away from other materials."}]
["P342",null,null,"P411 + P235","Store at temperatures not exceeding … o C/ … o F. Keep cool.",null,125,{"$f":"IFERROR(INDEX($D$1:$D$131,MATCH(ROWS($G$1:G129),$G$1:$G$131,0)),\"\")","v":"P422"},{"$f":"IFERROR(INDEX($E$1:$E$131,MATCH(ROWS($G$1:G129),$G$1:$G$131,0)),\"\")","v":"Store contents under …"}]
["If experiencing respiratory symptoms:",null,null,{"$f":"OFFSET($A$1,ROW(A130)*2-2,0)","v":"P501"},{"$f":"OFFSET($A$1,ROW(B130)*2-1,0)","v":"Dispose of contents/container to …"},null,{"$f":"COUNTIF($D$1:$D$131,\"<=\"&D130)","v":130},{"$f":"IFERROR(INDEX($D$1:$D$131,MATCH(ROWS($G$1:G130),$G$1:$G$131,0)),\"\")","v":"P501"},{"$f":"IFERROR(INDEX($E$1:$E$131,MATCH(ROWS($G$1:G130),$G$1:$G$131,0)),\"\")","v":"Dispose of contents/container to …"}]
["P351",null,null,"P502","Refer to manufacturer/supplier for information on recovery/recycling",null,131,{"$f":"IFERROR(INDEX($D$1:$D$131,MATCH(ROWS($G$1:G131),$G$1:$G$131,0)),\"\")","v":"P502"},{"$f":"IFERROR(INDEX($E$1:$E$131,MATCH(ROWS($G$1:G131),$G$1:$G$131,0)),\"\")","v":"Refer to manufacturer/supplier for information on recovery/recycling"}]
["Rinse cautiously with water for several minutes.",null,null,0,0]
["P352",null,null,0,0]
["Wash with plenty of water/…",null,null,0,0]
["P353",null,null,0,0]
["Rinse skin with water/shower.",null,null,0,0]
["P360",null,null,0,0]
["Rinse immediately contaminated clothing and skin with plenty of water before removing clothes.",null,null,0,0]
["P361",null,null,0,0]
["Take off immediately all contaminated clothing.",null,null,0,0]
["P362",null,null,0,0]
["Take off contaminated clothing.",null,null,0,0]
["P363",null,null,0,0]
["Wash contaminated clothing before reuse.",null,null,0,0]
["P364",null,null,0,0]
["And wash it before reuse.",null,null,0,0]
["P370",null,null,0,0]
["In case of fire:",null,null,0,0]
["P371",null,null,0,0]
["In case of major fire and large quantities:",null,null,0,0]
["P372",null,null,0,0]
["Explosion risk in case of fire.",null,null,0,0]
["P373",null,null,0,0]
["DO NOT fight fire when fire reaches explosives.",null,null,0,0]
["P374",null,null,0,0]
["Fight fire with normal precautions from a reasonable distance.",null,null,0,0]
["P375",null,null,0,0]
["Fight fire remotely due to the risk of explosion.",null,null,0,0]
["P376",null,null,0,0]
["Stop leak if safe to do so.",null,null,0,0]
["P377",null,null,0,0]
["Leaking gas fire: Do not extinguish, unless leak can be stopped safely.",null,null,0,0]
["P378",null,null,0,0]
["Use… to extinguish.",null,null,0,0]
["P380",null,null,0,0]
["Evacuate area.",null,null,0,0]
["P381",null,null,0,0]
["Eliminate all ignition sources if safe to do so.",null,null,0,0]
["P390",null,null,0,0]
["Absorb spillage to prevent material damage.",null,null,0,0]
["P391",null,null,0,0]
["Collect spillage.",null,null,0,0]
["P301 + P310",null,null,0,0]
["IF SWALLOWED: Immediately call a POISON CENTER/doctor/…",null,null,0,0]
["P301 + P312",null,null,0,0]
["IF SWALLOWED: Call a POISON CENTER/ doctor/…/if you feel unwell.",null,null,0,0]
["P301 + P330 + P331",null,null,0,0]
["IF SWALLOWED: rinse mouth. Do NOT induce vomiting.",null,null,0,0]
["P302 + P334",null,null,0,0]
["IF ON SKIN: Immerse in cool water/wrap in wet bandages.",null,null,0,0]
["P302 + P352",null,null,0,0]
["IF ON SKIN: Wash with plenty of water/…",null,null,0,0]
["P303 + P361 + P353",null,null,0,0]
["IF ON SKIN (or hair): Take off immediately all contaminated clothing. Rinse skin with water/ shower.",null,null,0,0]
["P304 + P340",null,null,0,0]
["IF INHALED: Remove person to fresh air and keep comfortable for breathing.",null,null,0,0]
["P305 + P351 + P338",null,null,0,0]
["IF IN EYES: Rinse cautiously with water for several minutes. Remove contact lenses, if present and easy to do. Continue rinsing.",null,null,0,0]
["P306 + P360",null,null,0,0]
["IF ON CLOTHING: rinse immediately contaminated clothing and skin with plenty of water before removing clothes.",null,null,0,0]
["P308 + P311",null,null,0,0]
["IF exposed or concerned: Call a POISON CENTER/doctor/…",null,null,0,0]
["P308 + P313",null,null,0,0]
["IF exposed or concerned: Get medical advice/ attention.",null,null,{"$f":"OFFSET($A$1,ROW(A194)*2-2,0)","v":0},{"$f":"OFFSET($A$1,ROW(B194)*2-1,0)","v":0}]
["P332 + P313",null,null,0,0]
["If skin irritation occurs: Get medical advice/ attention.",null,null,0,0]
["P333 + P313",null,null,0,0]
["If skin irritation or rash occurs: Get medical advice/attention.",null,null,0,0]
["P335 + P334",null,null,0,0]
["Brush off loose particles from skin. Immerse in cool water/wrap in wet bandages.",null,null,0,0]
["P337 + P313",null,null,0,0]
["If eye irritation persists: Get medical advice/ attention.",null,null,0,0]
["P342 + P311",null,null,0,0]
["If experiencing respiratory symptoms: Call a POISON CENTER/doctor/…",null,null,0,0]
["P361 + P364",null,null,0,0]
["Take off immediately all contaminated clothing and wash it before reuse.",null,null,0,0]
["P362 + P364",null,null,0,0]
["Take off contaminated clothing and wash it before reuse.",null,null,0,0]
["P370 + P376",null,null,0,0]
["In case of fire: Stop leak if safe to do so.",null,null,0,0]
["P370 + P378",null,null,0,0]
["In case of fire: Use… to extinguish.",null,null,0,0]
["P370 + P380",null,null,0,0]
["In case of fire: Evacuate area.",null,null,0,0]
["P370 + P380 + P375",null,null,0,0]
["In case of fire: Evacuate area. Fight fire remotely due to the risk of explosion.",null,null,0,0]
["P371 + P380 + P375",null,null,0,0]
["In case of major fire and large quantities: Evacuate area. Fight fire remotely due to the risk of explosion.",null,null,0,0]
["P370 + P372 + P380 + P373",null,null,{"$f":"OFFSET($A$1,ROW(A219)*2-2,0)","v":0},{"$f":"OFFSET($A$1,ROW(B219)*2-1,0)","v":0}]
["In case of fire:  Explosion risk. Evacuate area. DO NOT fight fire when fire reaches explosives.",null,null,0,0]
["P401",null,null,0,0]
["Store …",null,null,0,0]
["P402",null,null,0,0]
["Store in a dry place.",null,null,0,0]
["P403",null,null,0,0]
["Store in a well-ventilated place.",null,null,0,0]
["P404",null,null,0,0]
["Store in a closed container.",null,null,0,0]
["P405",null,null,0,0]
["Store locked up.",null,null,0,0]
["P406",null,null,0,0]
["Store in corrosive resistant/… container with a resistant inner liner.",null,null,0,0]
["P407",null,null,0,0]
["Maintain air gap between stacks/pallets.",null,null,0,0]
["P410",null,null,0,0]
["Protect from sunlight.",null,null,0,0]
["P411",null,null,0,0]
["Store at temperatures not exceeding … o C/ … o F.",null,null,0,0]
["P412",null,null,0,0]
["Do not expose to temperatures exceeding 50 o C/ 122 o F.",null,null,0,0]
["P413",null,null,0,0]
["Store bulk masses greater than … kg/… lbs at temperatures not exceeding … o C/… o F.",null,null,0,0]
["P420",null,null,0,0]
["Store away from other materials.",null,null,0,0]
["P422",null,null,0,0]
["Store contents under …",null,null,0,0]
["P402 + P404",null,null,0,0]
["Store in a dry place. Store in a closed container.",null,null,0,0]
["P403 + P233",null,null,0,0]
["Store in a well-ventilated place. Keep container tightly closed.",null,null,0,0]
["P403 + P235",null,null,0,0]
["Store in a well-ventilated place. Keep cool.",null,null,0,0]
["P410 + P403",null,null,0,0]
["Protect from sunlight. Store in a well-ventilated place.",null,null,0,0]
["P410 + P412",null,null,0,0]
["Protect from sunlight. Do no expose to temperatures exceeding 50 o C/ 122 o F.",null,null,0,0]
["P411 + P235",null,null,0,0]
["Store at temperatures not exceeding … o C/ … o F. Keep cool.",null,null,0,0]
["P501"]
["Dispose of contents/container to …"]
["P502"]
["Refer to manufacturer/supplier for information on recovery/recycling"]

{"sheet":"H_sentences_overview","index":3,"n_rows":143,"n_cols":12,"rows_kept":143,"cut":false,"hidden":true,"merged":[]}
["(none)",{"$f":"+'Table 1'!B31","v":"Physical hazard statements (2)"},{"$f":"+'Table 1'!X31","v":"Hazard class  (GHS chapter) (3)"},{"$f":"+'Table 1'!AX31","v":"Hazard category (4)"}]
[{"$f":"+'Table 1'!A32","v":"H200"},{"$f":"+'Table 1'!B32","v":"Unstable explosive"},{"$f":"+'Table 1'!X32","v":"Explosives (chapter 2.1)"},{"$f":"IF(CELL(\"type\",'Table 1'!AX32)=\"b\",\"\",+'Table 1'!AX32)","v":"Unstable explosive"},{"$f":"IF(CELL(\"type\",'Table 1'!AY32)=\"b\",\"\",+'Table 1'!AY32)","v":""},{"$f":"IF(CELL(\"type\",'Table 1'!AZ32)=\"b\",\"\",+'Table 1'!AZ32)","v":""},{"$f":"IF(CELL(\"type\",'Table 1'!BA32)=\"b\",\"\",+'Table 1'!BA32)","v":""},{"$f":"IF(CELL(\"type\",'Table 1'!BB32)=\"b\",\"\",+'Table 1'!BB32)","v":""},{"$f":"IF(CELL(\"type\",'Table 1'!BC32)=\"b\",\"\",+'Table 1'!BC32)","v":""},{"$f":"IF(CELL(\"type\",'Table 1'!BD32)=\"b\",\"\",+'Table 1'!BD32)","v":""},{"$f":"IF(CELL(\"type\",'Table 1'!BE32)=\"b\",\"\",+'Table 1'!BE32)","v":""},{"$f":"IF(CELL(\"type\",'Table 1'!BF32)=\"b\",\"\",+'Table 1'!BF32)","v":""}]
[{"$f":"+'Table 1'!A33","v":"H201"},{"$f":"+'Table 1'!B33","v":"Explosive; mass explosion hazard"},{"$f":"+'Table 1'!X33","v":"Explosives (chapter 2.1)"},{"$f":"IF(CELL(\"type\",'Table 1'!AX33)=\"b\",\"\",+'Table 1'!AX33)","v":"1.1"},{"$f":"IF(CELL(\"type\",'Table 1'!AY33)=\"b\",\"\",+'Table 1'!AY33)","v":""},{"$f":"IF(CELL(\"type\",'Table 1'!AZ33)=\"b\",\"\",+'Table 1'!AZ33)","v":""},{"$f":"IF(CELL(\"type\",'Table 1'!BA33)=\"b\",\"\",+'Table 1'!BA33)","v":""},{"$f":"IF(CELL(\"type\",'Table 1'!BB33)=\"b\",\"\",+'Table 1'!BB33)","v":""},{"$f":"IF(CELL(\"type\",'Table 1'!BC33)=\"b\",\"\",+'Table 1'!BC33)","v":""},{"$f":"IF(CELL(\"type\",'Table 1'!BD33)=\"b\",\"\",+'Table 1'!BD33)","v":""},{"$f":"IF(CELL(\"type\",'Table 1'!BE33)=\"b\",\"\",+'Table 1'!BE33)","v":""},{"$f":"IF(CELL(\"type\",'Table 1'!BF33)=\"b\",\"\",+'Table 1'!BF33)","v":""}]
[{"$f":"+'Table 1'!A34","v":"H202"},{"$f":"+'Table 1'!B34","v":"Explosive; severe projection hazard"},{"$f":"+'Table 1'!X34","v":"Explosives (chapter 2.1)"},{"$f":"IF(CELL(\"type\",'Table 1'!AX34)=\"b\",\"\",+'Table 1'!AX34)","v":"1.2"},{"$f":"IF(CELL(\"type\",'Table 1'!AY34)=\"b\",\"\",+'Table 1'!AY34)","v":""},{"$f":"IF(CELL(\"type\",'Table 1'!AZ34)=\"b\",\"\",+'Table 1'!AZ34)","v":""},{"$f":"IF(CELL(\"type\",'Table 1'!BA34)=\"b\",\"\",+'Table 1'!BA34)","v":""},{"$f":"IF(CELL(\"type\",'Table 1'!BB34)=\"b\",\"\",+'Table 1'!BB34)","v":""},{"$f":"IF(CELL(\"type\",'Table 1'!BC34)=\"b\",\"\",+'Table 1'!BC34)","v":""},{"$f":"IF(CELL(\"type\",'Table 1'!BD34)=\"b\",\"\",+'Table 1'!BD34)","v":""},{"$f":"IF(CELL(\"type\",'Table 1'!BE34)=\"b\",\"\",+'Table 1'!BE34)","v":""},{"$f":"IF(CELL(\"type\",'Table 1'!BF34)=\"b\",\"\",+'Table 1'!BF34)","v":""}]
[{"$f":"+'Table 1'!A35","v":"H203"},{"$f":"+'Table 1'!B35","v":"Explosive; fire, blast or projection hazard"},{"$f":"+'Table 1'!X35","v":"Explosives (chapter 2.1)"},{"$f":"IF(CELL(\"type\",'Table 1'!AX35)=\"b\",\"\",+'Table 1'!AX35)","v":"1.3"},{"$f":"IF(CELL(\"type\",'Table 1'!AY35)=\"b\",\"\",+'Table 1'!AY35)","v":""},{"$f":"IF(CELL(\"type\",'Table 1'!AZ35)=\"b\",\"\",+'Table 1'!AZ35)","v":""},{"$f":"IF(CELL(\"type\",'Table 1'!BA35)=\"b\",\"\",+'Table 1'!BA35)","v":""},{"$f":"IF(CELL(\"type\",'Table 1'!BB35)=\"b\",\"\",+'Table 1'!BB35)","v":""},{"$f":"IF(CELL(\"type\",'Table 1'!BC35)=\"b\",\"\",+'Table 1'!BC35)","v":""},{"$f":"IF(CELL(\"type\",'Table 1'!BD35)=\"b\",\"\",+'Table 1'!BD35)","v":""},{"$f":"IF(CELL(\"type\",'Table 1'!BE35)=\"b\",\"\",+'Table 1'!BE35)","v":""},{"$f":"IF(CELL(\"type\",'Table 1'!BF35)=\"b\",\"\",+'Table 1'!BF35)","v":""}]
[{"$f":"+'Table 1'!A36","v":"H204"},{"$f":"+'Table 1'!B36","v":"Fire or projection hazard"},{"$f":"+'Table 1'!X36","v":"Explosives (chapter 2.1)"},{"$f":"IF(CELL(\"type\",'Table 1'!AX36)=\"b\",\"\",+'Table 1'!AX36)","v":"1.4"},{"$f":"IF(CELL(\"type\",'Table 1'!AY36)=\"b\",\"\",+'Table 1'!AY36)","v":""},{"$f":"IF(CELL(\"type\",'Table 1'!AZ36)=\"b\",\"\",+'Table 1'!AZ36)","v":""},{"$f":"IF(CELL(\"type\",'Table 1'!BA36)=\"b\",\"\",+'Table 1'!BA36)","v":""},{"$f":"IF(CELL(\"type\",'Table 1'!BB36)=\"b\",\"\",+'Table 1'!BB36)","v":""},{"$f":"IF(CELL(\"type\",'Table 1'!BC36)=\"b\",\"\",+'Table 1'!BC36)","v":""},{"$f":"IF(CELL(\"type\",'Table 1'!BD36)=\"b\",\"\",+'Table 1'!BD36)","v":""},{"$f":"IF(CELL(\"type\",'Table 1'!BE36)=\"b\",\"\",+'Table 1'!BE36)","v":""},{"$f":"IF(CELL(\"type\",'Table 1'!BF36)=\"b\",\"\",+'Table 1'!BF36)","v":""}]
[{"$f":"+'Table 1'!A37","v":"H205"},{"$f":"+'Table 1'!B37","v":"May mass explode in fire"},{"$f":"+'Table 1'!X37","v":"Explosives (chapter 2.1)"},{"$f":"IF(CELL(\"type\",'Table 1'!AX37)=\"b\",\"\",+'Table 1'!AX37)","v":"1.5"},{"$f":"IF(CELL(\"type\",'Table 1'!AY37)=\"b\",\"\",+'Table 1'!AY37)","v":""},{"$f":"IF(CELL(\"type\",'Table 1'!AZ37)=\"b\",\"\",+'Table 1'!AZ37)","v":""},{"$f":"IF(CELL(\"type\",'Table 1'!BA37)=\"b\",\"\",+'Table 1'!BA37)","v":""},{"$f":"IF(CELL(\"type\",'Table 1'!BB37)=\"b\",\"\",+'Table 1'!BB37)","v":""},{"$f":"IF(CELL(\"type\",'Table 1'!BC37)=\"b\",\"\",+'Table 1'!BC37)","v":""},{"$f":"IF(CELL(\"type\",'Table 1'!BD37)=\"b\",\"\",+'Table 1'!BD37)","v":""},{"$f":"IF(CELL(\"type\",'Table 1'!BE37)=\"b\",\"\",+'Table 1'!BE37)","v":""},{"$f":"IF(CELL(\"type\",'Table 1'!BF37)=\"b\",\"\",+'Table 1'!BF37)","v":""}]
[{"$f":"+'Table 1'!A38","v":"H206"},{"$f":"+'Table 1'!B38","v":"Fire, blast or projection hazard; increased risk of explosion if desensitizing agent is reduced"},{"$f":"+'Table 1'!X38","v":"Desensitized explosives (chapter 2.17)"},{"$f":"IF(CELL(\"type\",'Table 1'!AX38)=\"b\",\"\",+'Table 1'!AX38)","v":1},{"$f":"IF(CELL(\"type\",'Table 1'!AY38)=\"b\",\"\",+'Table 1'!AY38)","v":""},{"$f":"IF(CELL(\"type\",'Table 1'!AZ38)=\"b\",\"\",+'Table 1'!AZ38)","v":""},{"$f":"IF(CELL(\"type\",'Table 1'!BA38)=\"b\",\"\",+'Table 1'!BA38)","v":""},{"$f":"IF(CELL(\"type\",'Table 1'!BB38)=\"b\",\"\",+'Table 1'!BB38)","v":""},{"$f":"IF(CELL(\"type\",'Table 1'!BC38)=\"b\",\"\",+'Table 1'!BC38)","v":""},{"$f":"IF(CELL(\"type\",'Table 1'!BD38)=\"b\",\"\",+'Table 1'!BD38)","v":""},{"$f":"IF(CELL(\"type\",'Table 1'!BE38)=\"b\",\"\",+'Table 1'!BE38)","v":""},{"$f":"IF(CELL(\"type\",'Table 1'!BF38)=\"b\",\"\",+'Table 1'!BF38)","v":""}]
[{"$f":"+'Table 1'!A39","v":"H207"},{"$f":"+'Table 1'!B39","v":"Fire or projection hazard; increased risk of explosion if desensitizing agent is reduced"},{"$f":"+'Table 1'!X39","v":"Desensitized explosives (chapter 2.17)"},{"$f":"IF(CELL(\"type\",'Table 1'!AX39)=\"b\",\"\",+'Table 1'!AX39)","v":2},{"$f":"IF(CELL(\"type\",'Table 1'!AY39)=\"b\",\"\",+'Table 1'!AY39)","v":3},{"$f":"IF(CELL(\"type\",'Table 1'!AZ39)=\"b\",\"\",+'Table 1'!AZ39)","v":""},{"$f":"IF(CELL(\"type\",'Table 1'!BA39)=\"b\",\"\",+'Table 1'!BA39)","v":""},{"$f":"IF(CELL(\"type\",'Table 1'!BB39)=\"b\",\"\",+'Table 1'!BB39)","v":""},{"$f":"IF(CELL(\"type\",'Table 1'!BC39)=\"b\",\"\",+'Table 1'!BC39)","v":""},{"$f":"IF(CELL(\"type\",'Table 1'!BD39)=\"b\",\"\",+'Table 1'!BD39)","v":""},{"$f":"IF(CELL(\"type\",'Table 1'!BE39)=\"b\",\"\",+'Table 1'!BE39)","v":""},{"$f":"IF(CELL(\"type\",'Table 1'!BF39)=\"b\",\"\",+'Table 1'!BF39)","v":""}]
[{"$f":"+'Table 1'!A40","v":"H208"},{"$f":"+'Table 1'!B40","v":"Fire hazard; increased risk of explosion if desensitizing agent is reduced"},{"$f":"+'Table 1'!X40","v":"Desensitized explosives (chapter 2.17)"},{"$f":"IF(CELL(\"type\",'Table 1'!AX40)=\"b\",\"\",+'Table 1'!AX40)","v":4},{"$f":"IF(CELL(\"type\",'Table 1'!AY40)=\"b\",\"\",+'Table 1'!AY40)","v":""},{"$f":"IF(CELL(\"type\",'Table 1'!AZ40)=\"b\",\"\",+'Table 1'!AZ40)","v":""},{"$f":"IF(CELL(\"type\",'Table 1'!BA40)=\"b\",\"\",+'Table 1'!BA40)","v":""},{"$f":"IF(CELL(\"type\",'Table 1'!BB40)=\"b\",\"\",+'Table 1'!BB40)","v":""},{"$f":"IF(CELL(\"type\",'Table 1'!BC40)=\"b\",\"\",+'Table 1'!BC40)","v":""},{"$f":"IF(CELL(\"type\",'Table 1'!BD40)=\"b\",\"\",+'Table 1'!BD40)","v":""},{"$f":"IF(CELL(\"type\",'Table 1'!BE40)=\"b\",\"\",+'Table 1'!BE40)","v":""},{"$f":"IF(CELL(\"type\",'Table 1'!BF40)=\"b\",\"\",+'Table 1'!BF40)","v":""}]
[{"$f":"+'Table 1'!A42","v":"H220"},{"$f":"+'Table 1'!B42","v":"Extremely flammable gas"},{"$f":"+'Table 1'!X42","v":"Flammable gases (chapter 2.2)"},{"$f":"IF(CELL(\"type\",'Table 1'!AX42)=\"b\",\"\",+'Table 1'!AX42)","v":"1A"},{"$f":"IF(CELL(\"type\",'Table 1'!AY42)=\"b\",\"\",+'Table 1'!AY42)","v":""},{"$f":"IF(CELL(\"type\",'Table 1'!AZ42)=\"b\",\"\",+'Table 1'!AZ42)","v":""},{"$f":"IF(CELL(\"type\",'Table 1'!BA42)=\"b\",\"\",+'Table 1'!BA42)","v":""},{"$f":"IF(CELL(\"type\",'Table 1'!BB42)=\"b\",\"\",+'Table 1'!BB42)","v":""},{"$f":"IF(CELL(\"type\",'Table 1'!BC42)=\"b\",\"\",+'Table 1'!BC42)","v":""},{"$f":"IF(CELL(\"type\",'Table 1'!BD42)=\"b\",\"\",+'Table 1'!BD42)","v":""},{"$f":"IF(CELL(\"type\",'Table 1'!BE42)=\"b\",\"\",+'Table 1'!BE42)","v":""},{"$f":"IF(CELL(\"type\",'Table 1'!BF42)=\"b\",\"\",+'Table 1'!BF42)","v":""}]
[{"$f":"+'Table 1'!A43","v":"H221"},{"$f":"+'Table 1'!B43","v":"Flammable gas"},{"$f":"+'Table 1'!X43","v":"Flammable gases (chapter 2.2)"},{"$f":"IF(CELL(\"type\",'Table 1'!AX43)=\"b\",\"\",+'Table 1'!AX43)","v":"1B"},{"$f":"IF(CELL(\"type\",'Table 1'!AY43)=\"b\",\"\",+'Table 1'!AY43)","v":2},{"$f":"IF(CELL(\"type\",'Table 1'!AZ43)=\"b\",\"\",+'Table 1'!AZ43)","v":""},{"$f":"IF(CELL(\"type\",'Table 1'!BA43)=\"b\",\"\",+'Table 1'!BA43)","v":""},{"$f":"IF(CELL(\"type\",'Table 1'!BB43)=\"b\",\"\",+'Table 1'!BB43)","v":""},{"$f":"IF(CELL(\"type\",'Table 1'!BC43)=\"b\",\"\",+'Table 1'!BC43)","v":""},{"$f":"IF(CELL(\"type\",'Table 1'!BD43)=\"b\",\"\",+'Table 1'!BD43)","v":""},{"$f":"IF(CELL(\"type\",'Table 1'!BE43)=\"b\",\"\",+'Table 1'!BE43)","v":""},{"$f":"IF(CELL(\"type\",'Table 1'!BF43)=\"b\",\"\",+'Table 1'!BF43)","v":""}]
[{"$f":"+'Table 1'!A44","v":"H222"},{"$f":"+'Table 1'!B44","v":"Extremely flammable aerosol"},{"$f":"+'Table 1'!X44","v":"Aerosols (chapter 2.3)"},{"$f":"IF(CELL(\"type\",'Table 1'!AX44)=\"b\",\"\",+'Table 1'!AX44)","v":1},{"$f":"IF(CELL(\"type\",'Table 1'!AY44)=\"b\",\"\",+'Table 1'!AY44)","v":""},{"$f":"IF(CELL(\"type\",'Table 1'!AZ44)=\"b\",\"\",+'Table 1'!AZ44)","v":""},{"$f":"IF(CELL(\"type\",'Table 1'!BA44)=\"b\",\"\",+'Table 1'!BA44)","v":""},{"$f":"IF(CELL(\"type\",'Table 1'!BB44)=\"b\",\"\",+'Table 1'!BB44)","v":""},{"$f":"IF(CELL(\"type\",'Table 1'!BC44)=\"b\",\"\",+'Table 1'!BC44)","v":""},{"$f":"IF(CELL(\"type\",'Table 1'!BD44)=\"b\",\"\",+'Table 1'!BD44)","v":""},{"$f":"IF(CELL(\"type\",'Table 1'!BE44)=\"b\",\"\",+'Table 1'!BE44)","v":""},{"$f":"IF(CELL(\"type\",'Table 1'!BF44)=\"b\",\"\",+'Table 1'!BF44)","v":""}]
[{"$f":"+'Table 1'!A45","v":"H223"},{"$f":"+'Table 1'!B45","v":"Flammable aerosol"},{"$f":"+'Table 1'!X45","v":"Aerosols (chapter 2.3)"},{"$f":"IF(CELL(\"type\",'Table 1'!AX45)=\"b\",\"\",+'Table 1'!AX45)","v":2},{"$f":"IF(CELL(\"type\",'Table 1'!AY45)=\"b\",\"\",+'Table 1'!AY45)","v":""},{"$f":"IF(CELL(\"type\",'Table 1'!AZ45)=\"b\",\"\",+'Table 1'!AZ45)","v":""},{"$f":"IF(CELL(\"type\",'Table 1'!BA45)=\"b\",\"\",+'Table 1'!BA45)","v":""},{"$f":"IF(CELL(\"type\",'Table 1'!BB45)=\"b\",\"\",+'Table 1'!BB45)","v":""},{"$f":"IF(CELL(\"type\",'Table 1'!BC45)=\"b\",\"\",+'Table 1'!BC45)","v":""},{"$f":"IF(CELL(\"type\",'Table 1'!BD45)=\"b\",\"\",+'Table 1'!BD45)","v":""},{"$f":"IF(CELL(\"type\",'Table 1'!BE45)=\"b\",\"\",+'Table 1'!BE45)","v":""},{"$f":"IF(CELL(\"type\",'Table 1'!BF45)=\"b\",\"\",+'Table 1'!BF45)","v":""}]
[{"$f":"+'Table 1'!A46","v":"H224"},{"$f":"+'Table 1'!B46","v":"Extremely flammable liquid and vapour"},{"$f":"+'Table 1'!X46","v":"Flammable liquids (chapter 2.6)"},{"$f":"IF(CELL(\"type\",'Table 1'!AX46)=\"b\",\"\",+'Table 1'!AX46)","v":1},{"$f":"IF(CELL(\"type\",'Table 1'!AY46)=\"b\",\"\",+'Table 1'!AY46)","v":""},{"$f":"IF(CELL(\"type\",'Table 1'!AZ46)=\"b\",\"\",+'Table 1'!AZ46)","v":""},{"$f":"IF(CELL(\"type\",'Table 1'!BA46)=\"b\",\"\",+'Table 1'!BA46)","v":""},{"$f":"IF(CELL(\"type\",'Table 1'!BB46)=\"b\",\"\",+'Table 1'!BB46)","v":""},{"$f":"IF(CELL(\"type\",'Table 1'!BC46)=\"b\",\"\",+'Table 1'!BC46)","v":""},{"$f":"IF(CELL(\"type\",'Table 1'!BD46)=\"b\",\"\",+'Table 1'!BD46)","v":""},{"$f":"IF(CELL(\"type\",'Table 1'!BE46)=\"b\",\"\",+'Table 1'!BE46)","v":""},{"$f":"IF(CELL(\"type\",'Table 1'!BF46)=\"b\",\"\",+'Table 1'!BF46)","v":""}]
[{"$f":"+'Table 1'!A47","v":"H225"},{"$f":"+'Table 1'!B47","v":"Highly flammable liquid and vapour"},{"$f":"+'Table 1'!X47","v":"Flammable liquids (chapter 2.6)"},{"$f":"IF(CELL(\"type\",'Table 1'!AX47)=\"b\",\"\",+'Table 1'!AX47)","v":2},{"$f":"IF(CELL(\"type\",'Table 1'!AY47)=\"b\",\"\",+'Table 1'!AY47)","v":""},{"$f":"IF(CELL(\"type\",'Table 1'!AZ47)=\"b\",\"\",+'Table 1'!AZ47)","v":""},{"$f":"IF(CELL(\"type\",'Table 1'!BA47)=\"b\",\"\",+'Table 1'!BA47)","v":""},{"$f":"IF(CELL(\"type\",'Table 1'!BB47)=\"b\",\"\",+'Table 1'!BB47)","v":""},{"$f":"IF(CELL(\"type\",'Table 1'!BC47)=\"b\",\"\",+'Table 1'!BC47)","v":""},{"$f":"IF(CELL(\"type\",'Table 1'!BD47)=\"b\",\"\",+'Table 1'!BD47)","v":""},{"$f":"IF(CELL(\"type\",'Table 1'!BE47)=\"b\",\"\",+'Table 1'!BE47)","v":""},{"$f":"IF(CELL(\"type\",'Table 1'!BF47)=\"b\",\"\",+'Table 1'!BF47)","v":""}]
[{"$f":"+'Table 1'!A48","v":"H226"},{"$f":"+'Table 1'!B48","v":"Flammable liquid and vapour"},{"$f":"+'Table 1'!X48","v":"Flammable liquids (chapter 2.6)"},{"$f":"IF(CELL(\"type\",'Table 1'!AX48)=\"b\",\"\",+'Table 1'!AX48)","v":3},{"$f":"IF(CELL(\"type\",'Table 1'!AY48)=\"b\",\"\",+'Table 1'!AY48)","v":""},{"$f":"IF(CELL(\"type\",'Table 1'!AZ48)=\"b\",\"\",+'Table 1'!AZ48)","v":""},{"$f":"IF(CELL(\"type\",'Table 1'!BA48)=\"b\",\"\",+'Table 1'!BA48)","v":""},{"$f":"IF(CELL(\"type\",'Table 1'!BB48)=\"b\",\"\",+'Table 1'!BB48)","v":""},{"$f":"IF(CELL(\"type\",'Table 1'!BC48)=\"b\",\"\",+'Table 1'!BC48)","v":""},{"$f":"IF(CELL(\"type\",'Table 1'!BD48)=\"b\",\"\",+'Table 1'!BD48)","v":""},{"$f":"IF(CELL(\"type\",'Table 1'!BE48)=\"b\",\"\",+'Table 1'!BE48)","v":""},{"$f":"IF(CELL(\"type\",'Table 1'!BF48)=\"b\",\"\",+'Table 1'!BF48)","v":""}]
[{"$f":"+'Table 1'!A49","v":"H227"},{"$f":"+'Table 1'!B49","v":"Combustible liquid"},{"$f":"+'Table 1'!X49","v":"Flammable liquids (chapter 2.6)"},{"$f":"IF(CELL(\"type\",'Table 1'!AX49)=\"b\",\"\",+'Table 1'!AX49)","v":4},{"$f":"IF(CELL(\"type\",'Table 1'!AY49)=\"b\",\"\",+'Table 1'!AY49)","v":""},{"$f":"IF(CELL(\"type\",'Table 1'!AZ49)=\"b\",\"\",+'Table 1'!AZ49)","v":""},{"$f":"IF(CELL(\"type\",'Table 1'!BA49)=\"b\",\"\",+'Table 1'!BA49)","v":""},{"$f":"IF(CELL(\"type\",'Table 1'!BB49)=\"b\",\"\",+'Table 1'!BB49)","v":""},{"$f":"IF(CELL(\"type\",'Table 1'!BC49)=\"b\",\"\",+'Table 1'!BC49)","v":""},{"$f":"IF(CELL(\"type\",'Table 1'!BD49)=\"b\",\"\",+'Table 1'!BD49)","v":""},{"$f":"IF(CELL(\"type\",'Table 1'!BE49)=\"b\",\"\",+'Table 1'!BE49)","v":""},{"$f":"IF(CELL(\"type\",'Table 1'!BF49)=\"b\",\"\",+'Table 1'!BF49)","v":""}]
[{"$f":"+'Table 1'!A50","v":"H228"},{"$f":"+'Table 1'!B50","v":"Flammable solid"},{"$f":"+'Table 1'!X50","v":"Flammable solids (chapter 2.7)"},{"$f":"IF(CELL(\"type\",'Table 1'!AX50)=\"b\",\"\",+'Table 1'!AX50)","v":1},{"$f":"IF(CELL(\"type\",'Table 1'!AY50)=\"b\",\"\",+'Table 1'!AY50)","v":2},{"$f":"IF(CELL(\"type\",'Table 1'!AZ50)=\"b\",\"\",+'Table 1'!AZ50)","v":""},{"$f":"IF(CELL(\"type\",'Table 1'!BA50)=\"b\",\"\",+'Table 1'!BA50)","v":""},{"$f":"IF(CELL(\"type\",'Table 1'!BB50)=\"b\",\"\",+'Table 1'!BB50)","v":""},{"$f":"IF(CELL(\"type\",'Table 1'!BC50)=\"b\",\"\",+'Table 1'!BC50)","v":""},{"$f":"IF(CELL(\"type\",'Table 1'!BD50)=\"b\",\"\",+'Table 1'!BD50)","v":""},{"$f":"IF(CELL(\"type\",'Table 1'!BE50)=\"b\",\"\",+'Table 1'!BE50)","v":""},{"$f":"IF(CELL(\"type\",'Table 1'!BF50)=\"b\",\"\",+'Table 1'!BF50)","v":""}]
[{"$f":"+'Table 1'!A51","v":"H229"},{"$f":"+'Table 1'!B51","v":"Pressurized container: may burst if heated"},{"$f":"+'Table 1'!X51","v":"Aerosols (chapter 2.3)"},{"$f":"IF(CELL(\"type\",'Table 1'!AX51)=\"b\",\"\",+'Table 1'!AX51)","v":1},{"$f":"IF(CELL(\"type\",'Table 1'!AY51)=\"b\",\"\",+'Table 1'!AY51)","v":2},{"$f":"IF(CELL(\"type\",'Table 1'!AZ51)=\"b\",\"\",+'Table 1'!AZ51)","v":3},{"$f":"IF(CELL(\"type\",'Table 1'!BA51)=\"b\",\"\",+'Table 1'!BA51)","v":""},{"$f":"IF(CELL(\"type\",'Table 1'!BB51)=\"b\",\"\",+'Table 1'!BB51)","v":""},{"$f":"IF(CELL(\"type\",'Table 1'!BC51)=\"b\",\"\",+'Table 1'!BC51)","v":""},{"$f":"IF(CELL(\"type\",'Table 1'!BD51)=\"b\",\"\",+'Table 1'!BD51)","v":""},{"$f":"IF(CELL(\"type\",'Table 1'!BE51)=\"b\",\"\",+'Table 1'!BE51)","v":""},{"$f":"IF(CELL(\"type\",'Table 1'!BF51)=\"b\",\"\",+'Table 1'!BF51)","v":""}]
[{"$f":"+'Table 1'!A53","v":"H230"},{"$f":"+'Table 1'!B53","v":"May react explosively even in the absence of air"},{"$f":"+'Table 1'!X53","v":"Flammable gases (chapter 2.2)"},{"$f":"IF(CELL(\"type\",'Table 1'!AX53)=\"b\",\"\",+'Table 1'!AX53)","v":"1A"},{"$f":"IF(CELL(\"type\",'Table 1'!AY53)=\"b\",\"\",+'Table 1'!AY53)","v":"Chemically unstable gasA"},{"$f":"IF(CELL(\"type\",'Table 1'!AZ53)=\"b\",\"\",+'Table 1'!AZ53)","v":""},{"$f":"IF(CELL(\"type\",'Table 1'!BA53)=\"b\",\"\",+'Table 1'!BA53)","v":""},{"$f":"IF(CELL(\"type\",'Table 1'!BB53)=\"b\",\"\",+'Table 1'!BB53)","v":""},{"$f":"IF(CELL(\"type\",'Table 1'!BC53)=\"b\",\"\",+'Table 1'!BC53)","v":""},{"$f":"IF(CELL(\"type\",'Table 1'!BD53)=\"b\",\"\",+'Table 1'!BD53)","v":""},{"$f":"IF(CELL(\"type\",'Table 1'!BE53)=\"b\",\"\",+'Table 1'!BE53)","v":""},{"$f":"IF(CELL(\"type\",'Table 1'!BF53)=\"b\",\"\",+'Table 1'!BF53)","v":""}]
[{"$f":"+'Table 1'!A54","v":"H231"},{"$f":"+'Table 1'!B54","v":"May react explosively even in the absence of air at elevated pressure and/or temperature"},{"$f":"+'Table 1'!X54","v":"Flammable gases (chapter 2.2)"},{"$f":"IF(CELL(\"type\",'Table 1'!AX54)=\"b\",\"\",+'Table 1'!AX54)","v":"1A"},{"$f":"IF(CELL(\"type\",'Table 1'!AY54)=\"b\",\"\",+'Table 1'!AY54)","v":"Chemically unstable gasB"},{"$f":"IF(CELL(\"type\",'Table 1'!AZ54)=\"b\",\"\",+'Table 1'!AZ54)","v":""},{"$f":"IF(CELL(\"type\",'Table 1'!BA54)=\"b\",\"\",+'Table 1'!BA54)","v":""},{"$f":"IF(CELL(\"type\",'Table 1'!BB54)=\"b\",\"\",+'Table 1'!BB54)","v":""},{"$f":"IF(CELL(\"type\",'Table 1'!BC54)=\"b\",\"\",+'Table 1'!BC54)","v":""},{"$f":"IF(CELL(\"type\",'Table 1'!BD54)=\"b\",\"\",+'Table 1'!BD54)","v":""},{"$f":"IF(CELL(\"type\",'Table 1'!BE54)=\"b\",\"\",+'Table 1'!BE54)","v":""},{"$f":"IF(CELL(\"type\",'Table 1'!BF54)=\"b\",\"\",+'Table 1'!BF54)","v":""}]
[{"$f":"+'Table 1'!A55","v":"H232"},{"$f":"+'Table 1'!B55","v":"May ignite spontaneously if exposed to air"},{"$f":"+'Table 1'!X55","v":"Flammable gases (chapter 2.2)"},{"$f":"IF(CELL(\"type\",'Table 1'!AX55)=\"b\",\"\",+'Table 1'!AX55)","v":"1A"},{"$f":"IF(CELL(\"type\",'Table 1'!AY55)=\"b\",\"\",+'Table 1'!AY55)","v":"pyrophoric gas"},{"$f":"IF(CELL(\"type\",'Table 1'!AZ55)=\"b\",\"\",+'Table 1'!AZ55)","v":""},{"$f":"IF(CELL(\"type\",'Table 1'!BA55)=\"b\",\"\",+'Table 1'!BA55)","v":""},{"$f":"IF(CELL(\"type\",'Table 1'!BB55)=\"b\",\"\",+'Table 1'!BB55)","v":""},{"$f":"IF(CELL(\"type\",'Table 1'!BC55)=\"b\",\"\",+'Table 1'!BC55)","v":""},{"$f":"IF(CELL(\"type\",'Table 1'!BD55)=\"b\",\"\",+'Table 1'!BD55)","v":""},{"$f":"IF(CELL(\"type\",'Table 1'!BE55)=\"b\",\"\",+'Table 1'!BE55)","v":""},{"$f":"IF(CELL(\"type\",'Table 1'!BF55)=\"b\",\"\",+'Table 1'!BF55)","v":""}]
[{"$f":"+'Table 1'!A57&\" (1 - \"&'Table 1'!X57&\")\"","v":"H240 (1 - Self-reactive substances and mixtures (chapter 2.8))"},{"$f":"+'Table 1'!B57","v":"Heating may cause an explosion"},{"$f":"+'Table 1'!X57","v":"Self-reactive substances and mixtures (chapter 2.8)"},{"$f":"IF(CELL(\"type\",'Table 1'!AX57)=\"b\",\"\",+'Table 1'!AX57)","v":"A"},{"$f":"IF(CELL(\"type\",'Table 1'!AY57)=\"b\",\"\",+'Table 1'!AY57)","v":""},{"$f":"IF(CELL(\"type\",'Table 1'!AZ57)=\"b\",\"\",+'Table 1'!AZ57)","v":""},{"$f":"IF(CELL(\"type\",'Table 1'!BA57)=\"b\",\"\",+'Table 1'!BA57)","v":""},{"$f":"IF(CELL(\"type\",'Table 1'!BB57)=\"b\",\"\",+'Table 1'!BB57)","v":""},{"$f":"IF(CELL(\"type\",'Table 1'!BC57)=\"b\",\"\",+'Table 1'!BC57)","v":""},{"$f":"IF(CELL(\"type\",'Table 1'!BD57)=\"b\",\"\",+'Table 1'!BD57)","v":""},{"$f":"IF(CELL(\"type\",'Table 1'!BE57)=\"b\",\"\",+'Table 1'!BE57)","v":""},{"$f":"IF(CELL(\"type\",'Table 1'!BF57)=\"b\",\"\",+'Table 1'!BF57)","v":""}]
[{"$f":"+'Table 1'!A58&\" (2 - \"&'Table 1'!X58&\")\"","v":"H240 (2 - Organic peroxides (chapter 2.15))"},{"$f":"+'Table 1'!B58","v":"Heating may cause an explosion"},{"$f":"+'Table 1'!X58","v":"Organic peroxides (chapter 2.15)"},{"$f":"IF(CELL(\"type\",'Table 1'!AX58)=\"b\",\"\",+'Table 1'!AX58)","v":"A"},{"$f":"IF(CELL(\"type\",'Table 1'!AY58)=\"b\",\"\",+'Table 1'!AY58)","v":""},{"$f":"IF(CELL(\"type\",'Table 1'!AZ58)=\"b\",\"\",+'Table 1'!AZ58)","v":""},{"$f":"IF(CELL(\"type\",'Table 1'!BA58)=\"b\",\"\",+'Table 1'!BA58)","v":""},{"$f":"IF(CELL(\"type\",'Table 1'!BB58)=\"b\",\"\",+'Table 1'!BB58)","v":""},{"$f":"IF(CELL(\"type\",'Table 1'!BC58)=\"b\",\"\",+'Table 1'!BC58)","v":""},{"$f":"IF(CELL(\"type\",'Table 1'!BD58)=\"b\",\"\",+'Table 1'!BD58)","v":""},{"$f":"IF(CELL(\"type\",'Table 1'!BE58)=\"b\",\"\",+'Table 1'!BE58)","v":""},{"$f":"IF(CELL(\"type\",'Table 1'!BF58)=\"b\",\"\",+'Table 1'!BF58)","v":""}]
[{"$f":"+'Table 1'!A61&\" (1 - \"&'Table 1'!X61&\")\"","v":"H241 (1 - Self-reactive substances and mixtures (chapter 2.8))"},{"$f":"+'Table 1'!B61","v":"Heating may cause a fire or explosion"},{"$f":"+'Table 1'!X61","v":"Self-reactive substances and mixtures (chapter 2.8)"},{"$f":"IF(CELL(\"type\",'Table 1'!AX61)=\"b\",\"\",+'Table 1'!AX61)","v":"B"},{"$f":"IF(CELL(\"type\",'Table 1'!AY61)=\"b\",\"\",+'Table 1'!AY61)","v":""},{"$f":"IF(CELL(\"type\",'Table 1'!AZ61)=\"b\",\"\",+'Table 1'!AZ61)","v":""},{"$f":"IF(CELL(\"type\",'Table 1'!BA61)=\"b\",\"\",+'Table 1'!BA61)","v":""},{"$f":"IF(CELL(\"type\",'Table 1'!BB61)=\"b\",\"\",+'Table 1'!BB61)","v":""},{"$f":"IF(CELL(\"type\",'Table 1'!BC61)=\"b\",\"\",+'Table 1'!BC61)","v":""},{"$f":"IF(CELL(\"type\",'Table 1'!BD61)=\"b\",\"\",+'Table 1'!BD61)","v":""},{"$f":"IF(CELL(\"type\",'Table 1'!BE61)=\"b\",\"\",+'Table 1'!BE61)","v":""},{"$f":"IF(CELL(\"type\",'Table 1'!BF61)=\"b\",\"\",+'Table 1'!BF61)","v":""}]
[{"$f":"+'Table 1'!A62&\" (2 - \"&'Table 1'!X62&\")\"","v":"H241 (2 - Organic peroxides (chapter 2.15))"},{"$f":"+'Table 1'!B62","v":"Heating may cause a fire or explosion"},{"$f":"+'Table 1'!X62","v":"Organic peroxides (chapter 2.15)"},{"$f":"IF(CELL(\"type\",'Table 1'!AX62)=\"b\",\"\",+'Table 1'!AX62)","v":"B"},{"$f":"IF(CELL(\"type\",'Table 1'!AY62)=\"b\",\"\",+'Table 1'!AY62)","v":""},{"$f":"IF(CELL(\"type\",'Table 1'!AZ62)=\"b\",\"\",+'Table 1'!AZ62)","v":""},{"$f":"IF(CELL(\"type\",'Table 1'!BA62)=\"b\",\"\",+'Table 1'!BA62)","v":""},{"$f":"IF(CELL(\"type\",'Table 1'!BB62)=\"b\",\"\",+'Table 1'!BB62)","v":""},{"$f":"IF(CELL(\"type\",'Table 1'!BC62)=\"b\",\"\",+'Table 1'!BC62)","v":""},{"$f":"IF(CELL(\"type\",'Table 1'!BD62)=\"b\",\"\",+'Table 1'!BD62)","v":""},{"$f":"IF(CELL(\"type\",'Table 1'!BE62)=\"b\",\"\",+'Table 1'!BE62)","v":""},{"$f":"IF(CELL(\"type\",'Table 1'!BF62)=\"b\",\"\",+'Table 1'!BF62)","v":""}]
[{"$f":"+'Table 1'!A63","v":"H242"},{"$f":"+'Table 1'!B63","v":"Heating may cause a fire"},{"$f":"+'Table 1'!X63","v":"Self-reactive substances and mixtures (chapter 2.8)"},{"$f":"IF(CELL(\"type\",'Table 1'!AX63)=\"b\",\"\",+'Table 1'!AX63)","v":"C"},{"$f":"IF(CELL(\"type\",'Table 1'!AY63)=\"b\",\"\",+'Table 1'!AY63)","v":"D"},{"$f":"IF(CELL(\"type\",'Table 1'!AZ63)=\"b\",\"\",+'Table 1'!AZ63)","v":"E"},{"$f":"IF(CELL(\"type\",'Table 1'!BA63)=\"b\",\"\",+'Table 1'!BA63)","v":"F"},{"$f":"IF(CELL(\"type\",'Table 1'!BB63)=\"b\",\"\",+'Table 1'!BB63)","v":""},{"$f":"IF(CELL(\"type\",'Table 1'!BC63)=\"b\",\"\",+'Table 1'!BC63)","v":""},{"$f":"IF(CELL(\"type\",'Table 1'!BD63)=\"b\",\"\",+'Table 1'!BD63)","v":""},{"$f":"IF(CELL(\"type\",'Table 1'!BE63)=\"b\",\"\",+'Table 1'!BE63)","v":""},{"$f":"IF(CELL(\"type\",'Table 1'!BF63)=\"b\",\"\",+'Table 1'!BF63)","v":""}]
[{"$f":"+'Table 1'!A64","v":"H242"},{"$f":"+'Table 1'!B64","v":"Heating may cause a fire"},{"$f":"+'Table 1'!X64","v":"Organic peroxides (chapter 2.15)"},{"$f":"IF(CELL(\"type\",'Table 1'!AX64)=\"b\",\"\",+'Table 1'!AX64)","v":"C"},{"$f":"IF(CELL(\"type\",'Table 1'!AY64)=\"b\",\"\",+'Table 1'!AY64)","v":"D"},{"$f":"IF(CELL(\"type\",'Table 1'!AZ64)=\"b\",\"\",+'Table 1'!AZ64)","v":"E"},{"$f":"IF(CELL(\"type\",'Table 1'!BA64)=\"b\",\"\",+'Table 1'!BA64)","v":"F"},{"$f":"IF(CELL(\"type\",'Table 1'!BB64)=\"b\",\"\",+'Table 1'!BB64)","v":""},{"$f":"IF(CELL(\"type\",'Table 1'!BC64)=\"b\",\"\",+'Table 1'!BC64)","v":""},{"$f":"IF(CELL(\"type\",'Table 1'!BD64)=\"b\",\"\",+'Table 1'!BD64)","v":""},{"$f":"IF(CELL(\"type\",'Table 1'!BE64)=\"b\",\"\",+'Table 1'!BE64)","v":""},{"$f":"IF(CELL(\"type\",'Table 1'!BF64)=\"b\",\"\",+'Table 1'!BF64)","v":""}]
[{"$f":"+'Table 1'!A65&\" (1 - \"&'Table 1'!X65&\")\"","v":"H250 (1 - Pyrophoric liquids (chapter 2.9))"},{"$f":"+'Table 1'!B65","v":"Catches fire spontaneously if exposed to air"},{"$f":"+'Table 1'!X65","v":"Pyrophoric liquids (chapter 2.9)"},{"$f":"IF(CELL(\"type\",'Table 1'!AX65)=\"b\",\"\",+'Table 1'!AX65)","v":1},{"$f":"IF(CELL(\"type\",'Table 1'!AY65)=\"b\",\"\",+'Table 1'!AY65)","v":""},{"$f":"IF(CELL(\"type\",'Table 1'!AZ65)=\"b\",\"\",+'Table 1'!AZ65)","v":""},{"$f":"IF(CELL(\"type\",'Table 1'!BA65)=\"b\",\"\",+'Table 1'!BA65)","v":""},{"$f":"IF(CELL(\"type\",'Table 1'!BB65)=\"b\",\"\",+'Table 1'!BB65)","v":""},{"$f":"IF(CELL(\"type\",'Table 1'!BC65)=\"b\",\"\",+'Table 1'!BC65)","v":""},{"$f":"IF(CELL(\"type\",'Table 1'!BD65)=\"b\",\"\",+'Table 1'!BD65)","v":""},{"$f":"IF(CELL(\"type\",'Table 1'!BE65)=\"b\",\"\",+'Table 1'!BE65)","v":""},{"$f":"IF(CELL(\"type\",'Table 1'!BF65)=\"b\",\"\",+'Table 1'!BF65)","v":""}]
[{"$f":"+'Table 1'!A66&\" (2 - \"&'Table 1'!X66&\")\"","v":"H250 (2 - Pyrophoric solids (chapter 2.10))"},{"$f":"+'Table 1'!B66","v":"Catches fire spontaneously if exposed to air"},{"$f":"+'Table 1'!X66","v":"Pyrophoric solids (chapter 2.10)"},{"$f":"IF(CELL(\"type\",'Table 1'!AX66)=\"b\",\"\",+'Table 1'!AX66)","v":1},{"$f":"IF(CELL(\"type\",'Table 1'!AY66)=\"b\",\"\",+'Table 1'!AY66)","v":""},{"$f":"IF(CELL(\"type\",'Table 1'!AZ66)=\"b\",\"\",+'Table 1'!AZ66)","v":""},{"$f":"IF(CELL(\"type\",'Table 1'!BA66)=\"b\",\"\",+'Table 1'!BA66)","v":""},{"$f":"IF(CELL(\"type\",'Table 1'!BB66)=\"b\",\"\",+'Table 1'!BB66)","v":""},{"$f":"IF(CELL(\"type\",'Table 1'!BC66)=\"b\",\"\",+'Table 1'!BC66)","v":""},{"$f":"IF(CELL(\"type\",'Table 1'!BD66)=\"b\",\"\",+'Table 1'!BD66)","v":""},{"$f":"IF(CELL(\"type\",'Table 1'!BE66)=\"b\",\"\",+'Table 1'!BE66)","v":""},{"$f":"IF(CELL(\"type\",'Table 1'!BF66)=\"b\",\"\",+'Table 1'!BF66)","v":""}]
[{"$f":"+'Table 1'!A67","v":"H251"},{"$f":"+'Table 1'!B67","v":"Self-heating; may catch fire"},{"$f":"+'Table 1'!X67","v":"Self-heating substances and mixtures (chapter 2.11)"},{"$f":"IF(CELL(\"type\",'Table 1'!AX67)=\"b\",\"\",+'Table 1'!AX67)","v":1},{"$f":"IF(CELL(\"type\",'Table 1'!AY67)=\"b\",\"\",+'Table 1'!AY67)","v":""},{"$f":"IF(CELL(\"type\",'Table 1'!AZ67)=\"b\",\"\",+'Table 1'!AZ67)","v":""},{"$f":"IF(CELL(\"type\",'Table 1'!BA67)=\"b\",\"\",+'Table 1'!BA67)","v":""},{"$f":"IF(CELL(\"type\",'Table 1'!BB67)=\"b\",\"\",+'Table 1'!BB67)","v":""},{"$f":"IF(CELL(\"type\",'Table 1'!BC67)=\"b\",\"\",+'Table 1'!BC67)","v":""},{"$f":"IF(CELL(\"type\",'Table 1'!BD67)=\"b\",\"\",+'Table 1'!BD67)","v":""},{"$f":"IF(CELL(\"type\",'Table 1'!BE67)=\"b\",\"\",+'Table 1'!BE67)","v":""},{"$f":"IF(CELL(\"type\",'Table 1'!BF67)=\"b\",\"\",+'Table 1'!BF67)","v":""}]
[{"$f":"+'Table 1'!A68","v":"H252"},{"$f":"+'Table 1'!B68","v":"Self-heating in large quantities; may catch fire"},{"$f":"+'Table 1'!X68","v":"Self-heating substances and mixtures (chapter 2.11)"},{"$f":"IF(CELL(\"type\",'Table 1'!AX68)=\"b\",\"\",+'Table 1'!AX68)","v":2},{"$f":"IF(CELL(\"type\",'Table 1'!AY68)=\"b\",\"\",+'Table 1'!AY68)","v":""},{"$f":"IF(CELL(\"type\",'Table 1'!AZ68)=\"b\",\"\",+'Table 1'!AZ68)","v":""},{"$f":"IF(CELL(\"type\",'Table 1'!BA68)=\"b\",\"\",+'Table 1'!BA68)","v":""},{"$f":"IF(CELL(\"type\",'Table 1'!BB68)=\"b\",\"\",+'Table 1'!BB68)","v":""},{"$f":"IF(CELL(\"type\",'Table 1'!BC68)=\"b\",\"\",+'Table 1'!BC68)","v":""},{"$f":"IF(CELL(\"type\",'Table 1'!BD68)=\"b\",\"\",+'Table 1'!BD68)","v":""},{"$f":"IF(CELL(\"type\",'Table 1'!BE68)=\"b\",\"\",+'Table 1'!BE68)","v":""},{"$f":"IF(CELL(\"type\",'Table 1'!BF68)=\"b\",\"\",+'Table 1'!BF68)","v":""}]
[{"$f":"+'Table 1'!A70","v":"H260"},{"$f":"+'Table 1'!B70","v":"In contact with water releases flammable gases which may ignite spontaneously"},{"$f":"+'Table 1'!X70","v":"Substances and mixtures which, in contact with water, emit flammable gases (chapter 2.12)"},{"$f":"IF(CELL(\"type\",'Table 1'!AX70)=\"b\",\"\",+'Table 1'!AX70)","v":1},{"$f":"IF(CELL(\"type\",'Table 1'!AY70)=\"b\",\"\",+'Table 1'!AY70)","v":""},{"$f":"IF(CELL(\"type\",'Table 1'!AZ70)=\"b\",\"\",+'Table 1'!AZ70)","v":""},{"$f":"IF(CELL(\"type\",'Table 1'!BA70)=\"b\",\"\",+'Table 1'!BA70)","v":""},{"$f":"IF(CELL(\"type\",'Table 1'!BB70)=\"b\",\"\",+'Table 1'!BB70)","v":""},{"$f":"IF(CELL(\"type\",'Table 1'!BC70)=\"b\",\"\",+'Table 1'!BC70)","v":""},{"$f":"IF(CELL(\"type\",'Table 1'!BD70)=\"b\",\"\",+'Table 1'!BD70)","v":""},{"$f":"IF(CELL(\"type\",'Table 1'!BE70)=\"b\",\"\",+'Table 1'!BE70)","v":""},{"$f":"IF(CELL(\"type\",'Table 1'!BF70)=\"b\",\"\",+'Table 1'!BF70)","v":""}]
[{"$f":"+'Table 1'!A71","v":"H261"},{"$f":"+'Table 1'!B71","v":"In contact with water releases flammable gas"},{"$f":"+'Table 1'!X71","v":"Substances and mixtures which, in contact with water, emit flammable gases (chapter 2.12)"},{"$f":"IF(CELL(\"type\",'Table 1'!AX71)=\"b\",\"\",+'Table 1'!AX71)","v":2},{"$f":"IF(CELL(\"type\",'Table 1'!AY71)=\"b\",\"\",+'Table 1'!AY71)","v":3},{"$f":"IF(CELL(\"type\",'Table 1'!AZ71)=\"b\",\"\",+'Table 1'!AZ71)","v":""},{"$f":"IF(CELL(\"type\",'Table 1'!BA71)=\"b\",\"\",+'Table 1'!BA71)","v":""},{"$f":"IF(CELL(\"type\",'Table 1'!BB71)=\"b\",\"\",+'Table 1'!BB71)","v":""},{"$f":"IF(CELL(\"type\",'Table 1'!BC71)=\"b\",\"\",+'Table 1'!BC71)","v":""},{"$f":"IF(CELL(\"type\",'Table 1'!BD71)=\"b\",\"\",+'Table 1'!BD71)","v":""},{"$f":"IF(CELL(\"type\",'Table 1'!BE71)=\"b\",\"\",+'Table 1'!BE71)","v":""},{"$f":"IF(CELL(\"type\",'Table 1'!BF71)=\"b\",\"\",+'Table 1'!BF71)","v":""}]
[{"$f":"+'Table 1'!A73","v":"H270"},{"$f":"+'Table 1'!B73","v":"May cause or intensify fire; oxidizer"},{"$f":"+'Table 1'!X73","v":"Oxidizing gases (chapter 2.4)"},{"$f":"IF(CELL(\"type\",'Table 1'!AX73)=\"b\",\"\",+'Table 1'!AX73)","v":1},{"$f":"IF(CELL(\"type\",'Table 1'!AY73)=\"b\",\"\",+'Table 1'!AY73)","v":""},{"$f":"IF(CELL(\"type\",'Table 1'!AZ73)=\"b\",\"\",+'Table 1'!AZ73)","v":""},{"$f":"IF(CELL(\"type\",'Table 1'!BA73)=\"b\",\"\",+'Table 1'!BA73)","v":""},{"$f":"IF(CELL(\"type\",'Table 1'!BB73)=\"b\",\"\",+'Table 1'!BB73)","v":""},{"$f":"IF(CELL(\"type\",'Table 1'!BC73)=\"b\",\"\",+'Table 1'!BC73)","v":""},{"$f":"IF(CELL(\"type\",'Table 1'!BD73)=\"b\",\"\",+'Table 1'!BD73)","v":""},{"$f":"IF(CELL(\"type\",'Table 1'!BE73)=\"b\",\"\",+'Table 1'!BE73)","v":""},{"$f":"IF(CELL(\"type\",'Table 1'!BF73)=\"b\",\"\",+'Table 1'!BF73)","v":""}]
[{"$f":"+'Table 1'!A74&\" (1 - \"&'Table 1'!X74&\")\"","v":"H271 (1 - Oxidizing liquids (chapter 2.13))"},{"$f":"+'Table 1'!B74","v":"May cause fire or explosion; strong oxidizer"},{"$f":"+'Table 1'!X74","v":"Oxidizing liquids (chapter 2.13)"},{"$f":"IF(CELL(\"type\",'Table 1'!AX74)=\"b\",\"\",+'Table 1'!AX74)","v":1},{"$f":"IF(CELL(\"type\",'Table 1'!AY74)=\"b\",\"\",+'Table 1'!AY74)","v":""},{"$f":"IF(CELL(\"type\",'Table 1'!AZ74)=\"b\",\"\",+'Table 1'!AZ74)","v":""},{"$f":"IF(CELL(\"type\",'Table 1'!BA74)=\"b\",\"\",+'Table 1'!BA74)","v":""},{"$f":"IF(CELL(\"type\",'Table 1'!BB74)=\"b\",\"\",+'Table 1'!BB74)","v":""},{"$f":"IF(CELL(\"type\",'Table 1'!BC74)=\"b\",\"\",+'Table 1'!BC74)","v":""},{"$f":"IF(CELL(\"type\",'Table 1'!BD74)=\"b\",\"\",+'Table 1'!BD74)","v":""},{"$f":"IF(CELL(\"type\",'Table 1'!BE74)=\"b\",\"\",+'Table 1'!BE74)","v":""},{"$f":"IF(CELL(\"type\",'Table 1'!BF74)=\"b\",\"\",+'Table 1'!BF74)","v":""}]
[{"$f":"+'Table 1'!A75&\" (2 - \"&'Table 1'!X75&\")\"","v":"H271 (2 - Oxidizing solids (chapter 2.14))"},{"$f":"+'Table 1'!B75","v":"May cause fire or explosion; strong oxidizer"},{"$f":"+'Table 1'!X75","v":"Oxidizing solids (chapter 2.14)"},{"$f":"IF(CELL(\"type\",'Table 1'!AX75)=\"b\",\"\",+'Table 1'!AX75)","v":1},{"$f":"IF(CELL(\"type\",'Table 1'!AY75)=\"b\",\"\",+'Table 1'!AY75)","v":""},{"$f":"IF(CELL(\"type\",'Table 1'!AZ75)=\"b\",\"\",+'Table 1'!AZ75)","v":""},{"$f":"IF(CELL(\"type\",'Table 1'!BA75)=\"b\",\"\",+'Table 1'!BA75)","v":""},{"$f":"IF(CELL(\"type\",'Table 1'!BB75)=\"b\",\"\",+'Table 1'!BB75)","v":""},{"$f":"IF(CELL(\"type\",'Table 1'!BC75)=\"b\",\"\",+'Table 1'!BC75)","v":""},{"$f":"IF(CELL(\"type\",'Table 1'!BD75)=\"b\",\"\",+'Table 1'!BD75)","v":""},{"$f":"IF(CELL(\"type\",'Table 1'!BE75)=\"b\",\"\",+'Table 1'!BE75)","v":""},{"$f":"IF(CELL(\"type\",'Table 1'!BF75)=\"b\",\"\",+'Table 1'!BF75)","v":""}]
[{"$f":"+'Table 1'!A76&\" (1 - \"&'Table 1'!X76&\")\"","v":"H272 (1 - Oxidizing liquids (chapter 2.13))"},{"$f":"+'Table 1'!B76","v":"May intensify fire; oxidizer"},{"$f":"+'Table 1'!X76","v":"Oxidizing liquids (chapter 2.13)"},{"$f":"IF(CELL(\"type\",'Table 1'!AX76)=\"b\",\"\",+'Table 1'!AX76)","v":2},{"$f":"IF(CELL(\"type\",'Table 1'!AY76)=\"b\",\"\",+'Table 1'!AY76)","v":3},{"$f":"IF(CELL(\"type\",'Table 1'!AZ76)=\"b\",\"\",+'Table 1'!AZ76)","v":""},{"$f":"IF(CELL(\"type\",'Table 1'!BA76)=\"b\",\"\",+'Table 1'!BA76)","v":""},{"$f":"IF(CELL(\"type\",'Table 1'!BB76)=\"b\",\"\",+'Table 1'!BB76)","v":""},{"$f":"IF(CELL(\"type\",'Table 1'!BC76)=\"b\",\"\",+'Table 1'!BC76)","v":""},{"$f":"IF(CELL(\"type\",'Table 1'!BD76)=\"b\",\"\",+'Table 1'!BD76)","v":""},{"$f":"IF(CELL(\"type\",'Table 1'!BE76)=\"b\",\"\",+'Table 1'!BE76)","v":""},{"$f":"IF(CELL(\"type\",'Table 1'!BF76)=\"b\",\"\",+'Table 1'!BF76)","v":""}]
[{"$f":"+'Table 1'!A77&\" (2 - \"&'Table 1'!X77&\")\"","v":"H272 (2 - Oxidizing solids (chapter 2.14))"},{"$f":"+'Table 1'!B77","v":"May intensify fire; oxidizer"},{"$f":"+'Table 1'!X77","v":"Oxidizing solids (chapter 2.14)"},{"$f":"IF(CELL(\"type\",'Table 1'!AX77)=\"b\",\"\",+'Table 1'!AX77)","v":2},{"$f":"IF(CELL(\"type\",'Table 1'!AY77)=\"b\",\"\",+'Table 1'!AY77)","v":3},{"$f":"IF(CELL(\"type\",'Table 1'!AZ77)=\"b\",\"\",+'Table 1'!AZ77)","v":""},{"$f":"IF(CELL(\"type\",'Table 1'!BA77)=\"b\",\"\",+'Table 1'!BA77)","v":""},{"$f":"IF(CELL(\"type\",'Table 1'!BB77)=\"b\",\"\",+'Table 1'!BB77)","v":""},{"$f":"IF(CELL(\"type\",'Table 1'!BC77)=\"b\",\"\",+'Table 1'!BC77)","v":""},{"$f":"IF(CELL(\"type\",'Table 1'!BD77)=\"b\",\"\",+'Table 1'!BD77)","v":""},{"$f":"IF(CELL(\"type\",'Table 1'!BE77)=\"b\",\"\",+'Table 1'!BE77)","v":""},{"$f":"IF(CELL(\"type\",'Table 1'!BF77)=\"b\",\"\",+'Table 1'!BF77)","v":""}]
[{"$f":"+'Table 1'!A78","v":"H280"},{"$f":"+'Table 1'!B78","v":"Contains gas under pressure; may explode if heated"},{"$f":"+'Table 1'!X78","v":"Gases under pressure (chapter 2.5)"},{"$f":"IF(CELL(\"type\",'Table 1'!AX78)=\"b\",\"\",+'Table 1'!AX78)","v":"Compressed gas Liquefied gasDissolved gas"},{"$f":"IF(CELL(\"type\",'Table 1'!AY78)=\"b\",\"\",+'Table 1'!AY78)","v":""},{"$f":"IF(CELL(\"type\",'Table 1'!AZ78)=\"b\",\"\",+'Table 1'!AZ78)","v":""},{"$f":"IF(CELL(\"type\",'Table 1'!BA78)=\"b\",\"\",+'Table 1'!BA78)","v":""},{"$f":"IF(CELL(\"type\",'Table 1'!BB78)=\"b\",\"\",+'Table 1'!BB78)","v":""},{"$f":"IF(CELL(\"type\",'Table 1'!BC78)=\"b\",\"\",+'Table 1'!BC78)","v":""},{"$f":"IF(CELL(\"type\",'Table 1'!BD78)=\"b\",\"\",+'Table 1'!BD78)","v":""},{"$f":"IF(CELL(\"type\",'Table 1'!BE78)=\"b\",\"\",+'Table 1'!BE78)","v":""},{"$f":"IF(CELL(\"type\",'Table 1'!BF78)=\"b\",\"\",+'Table 1'!BF78)","v":""}]
[{"$f":"+'Table 1'!A79","v":"H281"},{"$f":"+'Table 1'!B79","v":"Contains refrigerated gas; may cause cryogenic burns or injury"},{"$f":"+'Table 1'!X79","v":"Gases under pressure (chapter 2.5)"},{"$f":"IF(CELL(\"type\",'Table 1'!AX79)=\"b\",\"\",+'Table 1'!AX79)","v":"Refrigerated liquefied gas"},{"$f":"IF(CELL(\"type\",'Table 1'!AY79)=\"b\",\"\",+'Table 1'!AY79)","v":""},{"$f":"IF(CELL(\"type\",'Table 1'!AZ79)=\"b\",\"\",+'Table 1'!AZ79)","v":""},{"$f":"IF(CELL(\"type\",'Table 1'!BA79)=\"b\",\"\",+'Table 1'!BA79)","v":""},{"$f":"IF(CELL(\"type\",'Table 1'!BB79)=\"b\",\"\",+'Table 1'!BB79)","v":""},{"$f":"IF(CELL(\"type\",'Table 1'!BC79)=\"b\",\"\",+'Table 1'!BC79)","v":""},{"$f":"IF(CELL(\"type\",'Table 1'!BD79)=\"b\",\"\",+'Table 1'!BD79)","v":""},{"$f":"IF(CELL(\"type\",'Table 1'!BE79)=\"b\",\"\",+'Table 1'!BE79)","v":""},{"$f":"IF(CELL(\"type\",'Table 1'!BF79)=\"b\",\"\",+'Table 1'!BF79)","v":""}]
[{"$f":"+'Table 1'!A81","v":"H290"},{"$f":"+'Table 1'!B81","v":"May be corrosive to metals"},{"$f":"+'Table 1'!X81","v":"Corrosive to metals (chapter 2.16)"},{"$f":"IF(CELL(\"type\",'Table 1'!AX81)=\"b\",\"\",+'Table 1'!AX81)","v":1},{"$f":"IF(CELL(\"type\",'Table 1'!AY81)=\"b\",\"\",+'Table 1'!AY81)","v":""},{"$f":"IF(CELL(\"type\",'Table 1'!AZ81)=\"b\",\"\",+'Table 1'!AZ81)","v":""},{"$f":"IF(CELL(\"type\",'Table 1'!BA81)=\"b\",\"\",+'Table 1'!BA81)","v":""},{"$f":"IF(CELL(\"type\",'Table 1'!BB81)=\"b\",\"\",+'Table 1'!BB81)","v":""},{"$f":"IF(CELL(\"type\",'Table 1'!BC81)=\"b\",\"\",+'Table 1'!BC81)","v":""},{"$f":"IF(CELL(\"type\",'Table 1'!BD81)=\"b\",\"\",+'Table 1'!BD81)","v":""},{"$f":"IF(CELL(\"type\",'Table 1'!BE81)=\"b\",\"\",+'Table 1'!BE81)","v":""},{"$f":"IF(CELL(\"type\",'Table 1'!BF81)=\"b\",\"\",+'Table 1'!BF81)","v":""}]
[{"$f":"+'Table 1'!A86","v":"H300"},{"$f":"+'Table 1'!B86","v":"Fatal if swallowed"},{"$f":"+'Table 1'!AB86","v":"Acute toxicity, oral (chapter 3.1)"},{"$f":"IF(CELL(\"type\",'Table 1'!BB86)=\"b\",\"\",'Table 1'!BB86)","v":1},{"$f":"IF(CELL(\"type\",'Table 1'!BC86)=\"b\",\"\",'Table 1'!BC86)","v":2},{"$f":"IF(CELL(\"type\",'Table 1'!BD86)=\"b\",\"\",'Table 1'!BD86)","v":""},{"$f":"IF(CELL(\"type\",'Table 1'!BE86)=\"b\",\"\",'Table 1'!BE86)","v":""},{"$f":"IF(CELL(\"type\",'Table 1'!BF86)=\"b\",\"\",'Table 1'!BF86)","v":""},{"$f":"IF(CELL(\"type\",'Table 1'!BG86)=\"b\",\"\",'Table 1'!BG86)","v":""},{"$f":"IF(CELL(\"type\",'Table 1'!BH86)=\"b\",\"\",'Table 1'!BH86)","v":""},{"$f":"IF(CELL(\"type\",'Table 1'!BI86)=\"b\",\"\",'Table 1'!BI86)","v":""},{"$f":"IF(CELL(\"type\",'Table 1'!BJ86)=\"b\",\"\",'Table 1'!BJ86)","v":""}]
[{"$f":"+'Table 1'!A136","v":"H300 + H310 (1- Acute toxicity, oral)"},{"$f":"+'Table 1'!B136","v":"Fatal if swallowed or in contact with skin"},{"$f":"+'Table 1'!AB136","v":"Acute toxicity, oral (chapter 3.1)"},{"$f":"IF(CELL(\"type\",'Table 1'!BB136)=\"b\",\"\",'Table 1'!BB136)","v":1},{"$f":"IF(CELL(\"type\",'Table 1'!BC136)=\"b\",\"\",'Table 1'!BC136)","v":2},{"$f":"IF(CELL(\"type\",'Table 1'!BD136)=\"b\",\"\",'Table 1'!BD136)","v":""},{"$f":"IF(CELL(\"type\",'Table 1'!BE136)=\"b\",\"\",'Table 1'!BE136)","v":""},{"$f":"IF(CELL(\"type\",'Table 1'!BF136)=\"b\",\"\",'Table 1'!BF136)","v":""},{"$f":"IF(CELL(\"type\",'Table 1'!BG136)=\"b\",\"\",'Table 1'!BG136)","v":""},{"$f":"IF(CELL(\"type\",'Table 1'!BH136)=\"b\",\"\",'Table 1'!BH136)","v":""},{"$f":"IF(CELL(\"type\",'Table 1'!BI136)=\"b\",\"\",'Table 1'!BI136)","v":""},{"$f":"IF(CELL(\"type\",'Table 1'!BJ136)=\"b\",\"\",'Table 1'!BJ136)","v":""}]
[{"$f":"+'Table 1'!A137","v":"H300 + H310 (2 - Acute toxicity, dermal)"},{"$f":"+'Table 1'!B137","v":"Fatal if swallowed or in contact with skin"},{"$f":"+'Table 1'!AB137","v":"Acute toxicity, dermal (chapter 3.1)"},{"$f":"IF(CELL(\"type\",'Table 1'!BB137)=\"b\",\"\",'Table 1'!BB137)","v":1},{"$f":"IF(CELL(\"type\",'Table 1'!BC137)=\"b\",\"\",'Table 1'!BC137)","v":2},{"$f":"IF(CELL(\"type\",'Table 1'!BD137)=\"b\",\"\",'Table 1'!BD137)","v":""},{"$f":"IF(CELL(\"type\",'Table 1'!BE137)=\"b\",\"\",'Table 1'!BE137)","v":""},{"$f":"IF(CELL(\"type\",'Table 1'!BF137)=\"b\",\"\",'Table 1'!BF137)","v":""},{"$f":"IF(CELL(\"type\",'Table 1'!BG137)=\"b\",\"\",'Table 1'!BG137)","v":""},{"$f":"IF(CELL(\"type\",'Table 1'!BH137)=\"b\",\"\",'Table 1'!BH137)","v":""},{"$f":"IF(CELL(\"type\",'Table 1'!BI137)=\"b\",\"\",'Table 1'!BI137)","v":""},{"$f":"IF(CELL(\"type\",'Table 1'!BJ137)=\"b\",\"\",'Table 1'!BJ137)","v":""}]
[{"$f":"+'Table 1'!A142","v":"H300 + H310 + H330 (1 - Acute toxicity, oral )"},{"$f":"+'Table 1'!B142","v":"Fatal if swallowed, in contact with skin or if inhaled"},{"$f":"+'Table 1'!AB142","v":"Acute toxicity, oral (chapter 3.1)"},{"$f":"IF(CELL(\"type\",'Table 1'!BB142)=\"b\",\"\",'Table 1'!BB142)","v":1},{"$f":"IF(CELL(\"type\",'Table 1'!BC142)=\"b\",\"\",'Table 1'!BC142)","v":2},{"$f":"IF(CELL(\"type\",'Table 1'!BD142)=\"b\",\"\",'Table 1'!BD142)","v":""},{"$f":"IF(CELL(\"type\",'Table 1'!BE142)=\"b\",\"\",'Table 1'!BE142)","v":""},{"$f":"IF(CELL(\"type\",'Table 1'!BF142)=\"b\",\"\",'Table 1'!BF142)","v":""},{"$f":"IF(CELL(\"type\",'Table 1'!BG142)=\"b\",\"\",'Table 1'!BG142)","v":""},{"$f":"IF(CELL(\"type\",'Table 1'!BH142)=\"b\",\"\",'Table 1'!BH142)","v":""},{"$f":"IF(CELL(\"type\",'Table 1'!BI142)=\"b\",\"\",'Table 1'!BI142)","v":""},{"$f":"IF(CELL(\"type\",'Table 1'!BJ142)=\"b\",\"\",'Table 1'!BJ142)","v":""}]
[{"$f":"+'Table 1'!A143","v":"H300 + H310 + H330 (2 - Acute toxicity, dermal)"},{"$f":"+'Table 1'!B143","v":"Fatal if swallowed, in contact with skin or if inhaled"},{"$f":"+'Table 1'!AB143","v":"Acute toxicity, dermal (chapter 3.1)"},{"$f":"IF(CELL(\"type\",'Table 1'!BB143)=\"b\",\"\",'Table 1'!BB143)","v":1},{"$f":"IF(CELL(\"type\",'Table 1'!BC143)=\"b\",\"\",'Table 1'!BC143)","v":2},{"$f":"IF(CELL(\"type\",'Table 1'!BD143)=\"b\",\"\",'Table 1'!BD143)","v":""},{"$f":"IF(CELL(\"type\",'Table 1'!BE143)=\"b\",\"\",'Table 1'!BE143)","v":""},{"$f":"IF(CELL(\"type\",'Table 1'!BF143)=\"b\",\"\",'Table 1'!BF143)","v":""},{"$f":"IF(CELL(\"type\",'Table 1'!BG143)=\"b\",\"\",'Table 1'!BG143)","v":""},{"$f":"IF(CELL(\"type\",'Table 1'!BH143)=\"b\",\"\",'Table 1'!BH143)","v":""},{"$f":"IF(CELL(\"type\",'Table 1'!BI143)=\"b\",\"\",'Table 1'!BI143)","v":""},{"$f":"IF(CELL(\"type\",'Table 1'!BJ143)=\"b\",\"\",'Table 1'!BJ143)","v":""}]
[{"$f":"+'Table 1'!A144","v":"H300 + H310 + H330 (3 - Acute toxicity, inhalation)"},{"$f":"+'Table 1'!B144","v":"Fatal if swallowed, in contact with skin or if inhaled"},{"$f":"+'Table 1'!AB144","v":"Acute toxicity, inhalation (chapter 3.1)"},{"$f":"IF(CELL(\"type\",'Table 1'!BB144)=\"b\",\"\",'Table 1'!BB144)","v":1},{"$f":"IF(CELL(\"type\",'Table 1'!BC144)=\"b\",\"\",'Table 1'!BC144)","v":2},{"$f":"IF(CELL(\"type\",'Table 1'!BD144)=\"b\",\"\",'Table 1'!BD144)","v":""},{"$f":"IF(CELL(\"type\",'Table 1'!BE144)=\"b\",\"\",'Table 1'!BE144)","v":""},{"$f":"IF(CELL(\"type\",'Table 1'!BF144)=\"b\",\"\",'Table 1'!BF144)","v":""},{"$f":"IF(CELL(\"type\",'Table 1'!BG144)=\"b\",\"\",'Table 1'!BG144)","v":""},{"$f":"IF(CELL(\"type\",'Table 1'!BH144)=\"b\",\"\",'Table 1'!BH144)","v":""},{"$f":"IF(CELL(\"type\",'Table 1'!BI144)=\"b\",\"\",'Table 1'!BI144)","v":""},{"$f":"IF(CELL(\"type\",'Table 1'!BJ144)=\"b\",\"\",'Table 1'!BJ144)","v":""}]
[{"$f":"+'Table 1'!A138","v":"H300 + H330 (1 - Acute toxicity, oral)"},{"$f":"+'Table 1'!B138","v":"Fatal if swallowed or if inhaled"},{"$f":"+'Table 1'!AB138","v":"Acute toxicity, oral (chapter 3.1)"},{"$f":"IF(CELL(\"type\",'Table 1'!BB138)=\"b\",\"\",'Table 1'!BB138)","v":1},{"$f":"IF(CELL(\"type\",'Table 1'!BC138)=\"b\",\"\",'Table 1'!BC138)","v":2},{"$f":"IF(CELL(\"type\",'Table 1'!BD138)=\"b\",\"\",'Table 1'!BD138)","v":""},{"$f":"IF(CELL(\"type\",'Table 1'!BE138)=\"b\",\"\",'Table 1'!BE138)","v":""},{"$f":"IF(CELL(\"type\",'Table 1'!BF138)=\"b\",\"\",'Table 1'!BF138)","v":""},{"$f":"IF(CELL(\"type\",'Table 1'!BG138)=\"b\",\"\",'Table 1'!BG138)","v":""},{"$f":"IF(CELL(\"type\",'Table 1'!BH138)=\"b\",\"\",'Table 1'!BH138)","v":""},{"$f":"IF(CELL(\"type\",'Table 1'!BI138)=\"b\",\"\",'Table 1'!BI138)","v":""},{"$f":"IF(CELL(\"type\",'Table 1'!BJ138)=\"b\",\"\",'Table 1'!BJ138)","v":""}]
[{"$f":"+'Table 1'!A139","v":"H300 + H330 (2 - Acute toxicity, inhalation)"},{"$f":"+'Table 1'!B139","v":"Fatal if swallowed or if inhaled"},{"$f":"+'Table 1'!AB139","v":"Acute toxicity, inhalation (chapter 3.1)"},{"$f":"IF(CELL(\"type\",'Table 1'!BB139)=\"b\",\"\",'Table 1'!BB139)","v":1},{"$f":"IF(CELL(\"type\",'Table 1'!BC139)=\"b\",\"\",'Table 1'!BC139)","v":2},{"$f":"IF(CELL(\"type\",'Table 1'!BD139)=\"b\",\"\",'Table 1'!BD139)","v":""},{"$f":"IF(CELL(\"type\",'Table 1'!BE139)=\"b\",\"\",'Table 1'!BE139)","v":""},{"$f":"IF(CELL(\"type\",'Table 1'!BF139)=\"b\",\"\",'Table 1'!BF139)","v":""},{"$f":"IF(CELL(\"type\",'Table 1'!BG139)=\"b\",\"\",'Table 1'!BG139)","v":""},{"$f":"IF(CELL(\"type\",'Table 1'!BH139)=\"b\",\"\",'Table 1'!BH139)","v":""},{"$f":"IF(CELL(\"type\",'Table 1'!BI139)=\"b\",\"\",'Table 1'!BI139)","v":""},{"$f":"IF(CELL(\"type\",'Table 1'!BJ139)=\"b\",\"\",'Table 1'!BJ139)","v":""}]
[{"$f":"+'Table 1'!A87","v":"H301"},{"$f":"+'Table 1'!B87","v":"Toxic if swallowed"},{"$f":"+'Table 1'!AB87","v":"Acute toxicity, oral (chapter 3.1)"},{"$f":"IF(CELL(\"type\",'Table 1'!BB87)=\"b\",\"\",'Table 1'!BB87)","v":3},{"$f":"IF(CELL(\"type\",'Table 1'!BC87)=\"b\",\"\",'Table 1'!BC87)","v":""},{"$f":"IF(CELL(\"type\",'Table 1'!BD87)=\"b\",\"\",'Table 1'!BD87)","v":""},{"$f":"IF(CELL(\"type\",'Table 1'!BE87)=\"b\",\"\",'Table 1'!BE87)","v":""},{"$f":"IF(CELL(\"type\",'Table 1'!BF87)=\"b\",\"\",'Table 1'!BF87)","v":""},{"$f":"IF(CELL(\"type\",'Table 1'!BG87)=\"b\",\"\",'Table 1'!BG87)","v":""},{"$f":"IF(CELL(\"type\",'Table 1'!BH87)=\"b\",\"\",'Table 1'!BH87)","v":""},{"$f":"IF(CELL(\"type\",'Table 1'!BI87)=\"b\",\"\",'Table 1'!BI87)","v":""},{"$f":"IF(CELL(\"type\",'Table 1'!BJ87)=\"b\",\"\",'Table 1'!BJ87)","v":""}]
[{"$f":"+'Table 1'!A145","v":"H301 + H311 (1 - Acute toxicity, oral)"},{"$f":"+'Table 1'!B145","v":"Toxic if swallowed or in contact with skin"},{"$f":"+'Table 1'!AB145","v":"Acute toxicity, oral (chapter 3.1)"},{"$f":"IF(CELL(\"type\",'Table 1'!BB145)=\"b\",\"\",'Table 1'!BB145)","v":3},{"$f":"IF(CELL(\"type\",'Table 1'!BC145)=\"b\",\"\",'Table 1'!BC145)","v":""},{"$f":"IF(CELL(\"type\",'Table 1'!BD145)=\"b\",\"\",'Table 1'!BD145)","v":""},{"$f":"IF(CELL(\"type\",'Table 1'!BE145)=\"b\",\"\",'Table 1'!BE145)","v":""},{"$f":"IF(CELL(\"type\",'Table 1'!BF145)=\"b\",\"\",'Table 1'!BF145)","v":""},{"$f":"IF(CELL(\"type\",'Table 1'!BG145)=\"b\",\"\",'Table 1'!BG145)","v":""},{"$f":"IF(CELL(\"type\",'Table 1'!BH145)=\"b\",\"\",'Table 1'!BH145)","v":""},{"$f":"IF(CELL(\"type\",'Table 1'!BI145)=\"b\",\"\",'Table 1'!BI145)","v":""},{"$f":"IF(CELL(\"type\",'Table 1'!BJ145)=\"b\",\"\",'Table 1'!BJ145)","v":""}]
[{"$f":"+'Table 1'!A146","v":"H301 + H311 (2 - Acute toxicity, dermal)"},{"$f":"+'Table 1'!B146","v":"Toxic if swallowed or in contact with skin"},{"$f":"+'Table 1'!AB146","v":"Acute toxicity, dermal (chapter 3.1)"},{"$f":"IF(CELL(\"type\",'Table 1'!BB146)=\"b\",\"\",'Table 1'!BB146)","v":3},{"$f":"IF(CELL(\"type\",'Table 1'!BC146)=\"b\",\"\",'Table 1'!BC146)","v":""},{"$f":"IF(CELL(\"type\",'Table 1'!BD146)=\"b\",\"\",'Table 1'!BD146)","v":""},{"$f":"IF(CELL(\"type\",'Table 1'!BE146)=\"b\",\"\",'Table 1'!BE146)","v":""},{"$f":"IF(CELL(\"type\",'Table 1'!BF146)=\"b\",\"\",'Table 1'!BF146)","v":""},{"$f":"IF(CELL(\"type\",'Table 1'!BG146)=\"b\",\"\",'Table 1'!BG146)","v":""},{"$f":"IF(CELL(\"type\",'Table 1'!BH146)=\"b\",\"\",'Table 1'!BH146)","v":""},{"$f":"IF(CELL(\"type\",'Table 1'!BI146)=\"b\",\"\",'Table 1'!BI146)","v":""},{"$f":"IF(CELL(\"type\",'Table 1'!BJ146)=\"b\",\"\",'Table 1'!BJ146)","v":""}]
[{"$f":"+'Table 1'!A153","v":"H301 + H311 + H331 (1 -  Acute toxicity, oral)"},{"$f":"+'Table 1'!B153","v":"Toxic if swallowed, in contact with skin or if inhaled"},{"$f":"+'Table 1'!AB153","v":"Acute toxicity, oral (chapter 3.1)"},{"$f":"IF(CELL(\"type\",'Table 1'!BB153)=\"b\",\"\",'Table 1'!BB153)","v":3},{"$f":"IF(CELL(\"type\",'Table 1'!BC153)=\"b\",\"\",'Table 1'!BC153)","v":""},{"$f":"IF(CELL(\"type\",'Table 1'!BD153)=\"b\",\"\",'Table 1'!BD153)","v":""},{"$f":"IF(CELL(\"type\",'Table 1'!BE153)=\"b\",\"\",'Table 1'!BE153)","v":""},{"$f":"IF(CELL(\"type\",'Table 1'!BF153)=\"b\",\"\",'Table 1'!BF153)","v":""},{"$f":"IF(CELL(\"type\",'Table 1'!BG153)=\"b\",\"\",'Table 1'!BG153)","v":""},{"$f":"IF(CELL(\"type\",'Table 1'!BH153)=\"b\",\"\",'Table 1'!BH153)","v":""},{"$f":"IF(CELL(\"type\",'Table 1'!BI153)=\"b\",\"\",'Table 1'!BI153)","v":""},{"$f":"IF(CELL(\"type\",'Table 1'!BJ153)=\"b\",\"\",'Table 1'!BJ153)","v":""}]
[{"$f":"+'Table 1'!A154","v":"H301 + H311 + H331 (2 -  Acute toxicity, dermal)"},{"$f":"+'Table 1'!B154","v":"Toxic if swallowed, in contact with skin or if inhaled"},{"$f":"+'Table 1'!AB154","v":"Acute toxicity, dermal (chapter 3.1)"},{"$f":"IF(CELL(\"type\",'Table 1'!BB154)=\"b\",\"\",'Table 1'!BB154)","v":3},{"$f":"IF(CELL(\"type\",'Table 1'!BC154)=\"b\",\"\",'Table 1'!BC154)","v":""},{"$f":"IF(CELL(\"type\",'Table 1'!BD154)=\"b\",\"\",'Table 1'!BD154)","v":""},{"$f":"IF(CELL(\"type\",'Table 1'!BE154)=\"b\",\"\",'Table 1'!BE154)","v":""},{"$f":"IF(CELL(\"type\",'Table 1'!BF154)=\"b\",\"\",'Table 1'!BF154)","v":""},{"$f":"IF(CELL(\"type\",'Table 1'!BG154)=\"b\",\"\",'Table 1'!BG154)","v":""},{"$f":"IF(CELL(\"type\",'Table 1'!BH154)=\"b\",\"\",'Table 1'!BH154)","v":""},{"$f":"IF(CELL(\"type\",'Table 1'!BI154)=\"b\",\"\",'Table 1'!BI154)","v":""},{"$f":"IF(CELL(\"type\",'Table 1'!BJ154)=\"b\",\"\",'Table 1'!BJ154)","v":""}]
[{"$f":"+'Table 1'!A155","v":"H301 + H311 + H331 (3 -  Acute toxicity, inhalation)"},{"$f":"+'Table 1'!B155","v":"Toxic if swallowed, in contact with skin or if inhaled"},{"$f":"+'Table 1'!AB155","v":"Acute toxicity, inhalation (chapter 3.1)"},{"$f":"IF(CELL(\"type\",'Table 1'!BB155)=\"b\",\"\",'Table 1'!BB155)","v":3},{"$f":"IF(CELL(\"type\",'Table 1'!BC155)=\"b\",\"\",'Table 1'!BC155)","v":""},{"$f":"IF(CELL(\"type\",'Table 1'!BD155)=\"b\",\"\",'Table 1'!BD155)","v":""},{"$f":"IF(CELL(\"type\",'Table 1'!BE155)=\"b\",\"\",'Table 1'!BE155)","v":""},{"$f":"IF(CELL(\"type\",'Table 1'!BF155)=\"b\",\"\",'Table 1'!BF155)","v":""},{"$f":"IF(CELL(\"type\",'Table 1'!BG155)=\"b\",\"\",'Table 1'!BG155)","v":""},{"$f":"IF(CELL(\"type\",'Table 1'!BH155)=\"b\",\"\",'Table 1'!BH155)","v":""},{"$f":"IF(CELL(\"type\",'Table 1'!BI155)=\"b\",\"\",'Table 1'!BI155)","v":""},{"$f":"IF(CELL(\"type\",'Table 1'!BJ155)=\"b\",\"\",'Table 1'!BJ155)","v":""}]
[{"$f":"+'Table 1'!A149","v":"H301 + H331 (1 - Acute toxicity, oral)"},{"$f":"+'Table 1'!B149","v":"Toxic if swallowed or if inhaled"},{"$f":"+'Table 1'!AB149","v":"Acute toxicity, oral (chapter 3.1)"},{"$f":"IF(CELL(\"type\",'Table 1'!BB149)=\"b\",\"\",'Table 1'!BB149)","v":3},{"$f":"IF(CELL(\"type\",'Table 1'!BC149)=\"b\",\"\",'Table 1'!BC149)","v":""},{"$f":"IF(CELL(\"type\",'Table 1'!BD149)=\"b\",\"\",'Table 1'!BD149)","v":""},{"$f":"IF(CELL(\"type\",'Table 1'!BE149)=\"b\",\"\",'Table 1'!BE149)","v":""},{"$f":"IF(CELL(\"type\",'Table 1'!BF149)=\"b\",\"\",'Table 1'!BF149)","v":""},{"$f":"IF(CELL(\"type\",'Table 1'!BG149)=\"b\",\"\",'Table 1'!BG149)","v":""},{"$f":"IF(CELL(\"type\",'Table 1'!BH149)=\"b\",\"\",'Table 1'!BH149)","v":""},{"$f":"IF(CELL(\"type\",'Table 1'!BI149)=\"b\",\"\",'Table 1'!BI149)","v":""},{"$f":"IF(CELL(\"type\",'Table 1'!BJ149)=\"b\",\"\",'Table 1'!BJ149)","v":""}]
[{"$f":"+'Table 1'!A150","v":"H301 + H331 (2 - Acute toxicity, inhalation)"},{"$f":"+'Table 1'!B150","v":"Toxic if swallowed or if inhaled"},{"$f":"+'Table 1'!AB150","v":"Acute toxicity, inhalation (chapter 3.1)"},{"$f":"IF(CELL(\"type\",'Table 1'!BB150)=\"b\",\"\",'Table 1'!BB150)","v":3},{"$f":"IF(CELL(\"type\",'Table 1'!BC150)=\"b\",\"\",'Table 1'!BC150)","v":""},{"$f":"IF(CELL(\"type\",'Table 1'!BD150)=\"b\",\"\",'Table 1'!BD150)","v":""},{"$f":"IF(CELL(\"type\",'Table 1'!BE150)=\"b\",\"\",'Table 1'!BE150)","v":""},{"$f":"IF(CELL(\"type\",'Table 1'!BF150)=\"b\",\"\",'Table 1'!BF150)","v":""},{"$f":"IF(CELL(\"type\",'Table 1'!BG150)=\"b\",\"\",'Table 1'!BG150)","v":""},{"$f":"IF(CELL(\"type\",'Table 1'!BH150)=\"b\",\"\",'Table 1'!BH150)","v":""},{"$f":"IF(CELL(\"type\",'Table 1'!BI150)=\"b\",\"\",'Table 1'!BI150)","v":""},{"$f":"IF(CELL(\"type\",'Table 1'!BJ150)=\"b\",\"\",'Table 1'!BJ150)","v":""}]
[{"$f":"+'Table 1'!A88","v":"H302"},{"$f":"+'Table 1'!B88","v":"Harmful if swallowed"},{"$f":"+'Table 1'!AB88","v":"Acute toxicity, oral (chapter 3.1)"},{"$f":"IF(CELL(\"type\",'Table 1'!BB88)=\"b\",\"\",'Table 1'!BB88)","v":4},{"$f":"IF(CELL(\"type\",'Table 1'!BC88)=\"b\",\"\",'Table 1'!BC88)","v":""},{"$f":"IF(CELL(\"type\",'Table 1'!BD88)=\"b\",\"\",'Table 1'!BD88)","v":""},{"$f":"IF(CELL(\"type\",'Table 1'!BE88)=\"b\",\"\",'Table 1'!BE88)","v":""},{"$f":"IF(CELL(\"type\",'Table 1'!BF88)=\"b\",\"\",'Table 1'!BF88)","v":""},{"$f":"IF(CELL(\"type\",'Table 1'!BG88)=\"b\",\"\",'Table 1'!BG88)","v":""},{"$f":"IF(CELL(\"type\",'Table 1'!BH88)=\"b\",\"\",'Table 1'!BH88)","v":""},{"$f":"IF(CELL(\"type\",'Table 1'!BI88)=\"b\",\"\",'Table 1'!BI88)","v":""},{"$f":"IF(CELL(\"type\",'Table 1'!BJ88)=\"b\",\"\",'Table 1'!BJ88)","v":""}]
[{"$f":"+'Table 1'!A156","v":"H302 + H312 (1 - Acute toxicity, oral)"},{"$f":"+'Table 1'!B156","v":"Harmful if swallowed or in contact with skin"},{"$f":"+'Table 1'!AB156","v":"Acute toxicity, oral (chapter 3.1)"},{"$f":"IF(CELL(\"type\",'Table 1'!BB156)=\"b\",\"\",'Table 1'!BB156)","v":4},{"$f":"IF(CELL(\"type\",'Table 1'!BC156)=\"b\",\"\",'Table 1'!BC156)","v":""},{"$f":"IF(CELL(\"type\",'Table 1'!BD156)=\"b\",\"\",'Table 1'!BD156)","v":""},{"$f":"IF(CELL(\"type\",'Table 1'!BE156)=\"b\",\"\",'Table 1'!BE156)","v":""},{"$f":"IF(CELL(\"type\",'Table 1'!BF156)=\"b\",\"\",'Table 1'!BF156)","v":""},{"$f":"IF(CELL(\"type\",'Table 1'!BG156)=\"b\",\"\",'Table 1'!BG156)","v":""},{"$f":"IF(CELL(\"type\",'Table 1'!BH156)=\"b\",\"\",'Table 1'!BH156)","v":""},{"$f":"IF(CELL(\"type\",'Table 1'!BI156)=\"b\",\"\",'Table 1'!BI156)","v":""},{"$f":"IF(CELL(\"type\",'Table 1'!BJ156)=\"b\",\"\",'Table 1'!BJ156)","v":""}]
[{"$f":"+'Table 1'!A157","v":"H302 + H312 (2 - Acute toxicity, dermal)"},{"$f":"+'Table 1'!B157","v":"Harmful if swallowed or in contact with skin"},{"$f":"+'Table 1'!AB157","v":"Acute toxicity, dermal (chapter 3.1)"},{"$f":"IF(CELL(\"type\",'Table 1'!BB157)=\"b\",\"\",'Table 1'!BB157)","v":4},{"$f":"IF(CELL(\"type\",'Table 1'!BC157)=\"b\",\"\",'Table 1'!BC157)","v":""},{"$f":"IF(CELL(\"type\",'Table 1'!BD157)=\"b\",\"\",'Table 1'!BD157)","v":""},{"$f":"IF(CELL(\"type\",'Table 1'!BE157)=\"b\",\"\",'Table 1'!BE157)","v":""},{"$f":"IF(CELL(\"type\",'Table 1'!BF157)=\"b\",\"\",'Table 1'!BF157)","v":""},{"$f":"IF(CELL(\"type\",'Table 1'!BG157)=\"b\",\"\",'Table 1'!BG157)","v":""},{"$f":"IF(CELL(\"type\",'Table 1'!BH157)=\"b\",\"\",'Table 1'!BH157)","v":""},{"$f":"IF(CELL(\"type\",'Table 1'!BI157)=\"b\",\"\",'Table 1'!BI157)","v":""},{"$f":"IF(CELL(\"type\",'Table 1'!BJ157)=\"b\",\"\",'Table 1'!BJ157)","v":""}]
[{"$f":"+'Table 1'!A162","v":"H302 + H312 + H332 (1 - Acute toxicity, oral)"},{"$f":"+'Table 1'!B162","v":"Harmful if swallowed, in contact with skin or if inhaled"},{"$f":"+'Table 1'!AB162","v":"Acute toxicity, oral (chapter 3.1)"},{"$f":"IF(CELL(\"type\",'Table 1'!BB162)=\"b\",\"\",'Table 1'!BB162)","v":4},{"$f":"IF(CELL(\"type\",'Table 1'!BC162)=\"b\",\"\",'Table 1'!BC162)","v":""},{"$f":"IF(CELL(\"type\",'Table 1'!BD162)=\"b\",\"\",'Table 1'!BD162)","v":""},{"$f":"IF(CELL(\"type\",'Table 1'!BE162)=\"b\",\"\",'Table 1'!BE162)","v":""},{"$f":"IF(CELL(\"type\",'Table 1'!BF162)=\"b\",\"\",'Table 1'!BF162)","v":""},{"$f":"IF(CELL(\"type\",'Table 1'!BG162)=\"b\",\"\",'Table 1'!BG162)","v":""},{"$f":"IF(CELL(\"type\",'Table 1'!BH162)=\"b\",\"\",'Table 1'!BH162)","v":""},{"$f":"IF(CELL(\"type\",'Table 1'!BI162)=\"b\",\"\",'Table 1'!BI162)","v":""},{"$f":"IF(CELL(\"type\",'Table 1'!BJ162)=\"b\",\"\",'Table 1'!BJ162)","v":""}]
[{"$f":"+'Table 1'!A163","v":"H302 + H312 + H332 (2 - Acute toxicity, dermal)"},{"$f":"+'Table 1'!B163","v":"Harmful if swallowed, in contact with skin or if inhaled"},{"$f":"+'Table 1'!AB163","v":"Acute toxicity, dermal (chapter 3.1)"},{"$f":"IF(CELL(\"type\",'Table 1'!BB163)=\"b\",\"\",'Table 1'!BB163)","v":4},{"$f":"IF(CELL(\"type\",'Table 1'!BC163)=\"b\",\"\",'Table 1'!BC163)","v":""},{"$f":"IF(CELL(\"type\",'Table 1'!BD163)=\"b\",\"\",'Table 1'!BD163)","v":""},{"$f":"IF(CELL(\"type\",'Table 1'!BE163)=\"b\",\"\",'Table 1'!BE163)","v":""},{"$f":"IF(CELL(\"type\",'Table 1'!BF163)=\"b\",\"\",'Table 1'!BF163)","v":""},{"$f":"IF(CELL(\"type\",'Table 1'!BG163)=\"b\",\"\",'Table 1'!BG163)","v":""},{"$f":"IF(CELL(\"type\",'Table 1'!BH163)=\"b\",\"\",'Table 1'!BH163)","v":""},{"$f":"IF(CELL(\"type\",'Table 1'!BI163)=\"b\",\"\",'Table 1'!BI163)","v":""},{"$f":"IF(CELL(\"type\",'Table 1'!BJ163)=\"b\",\"\",'Table 1'!BJ163)","v":""}]
[{"$f":"+'Table 1'!A164","v":"H302 + H312 + H332 (3 - Acute toxicity, inhalation)"},{"$f":"+'Table 1'!B164","v":"Harmful if swallowed, in contact with skin or if inhaled"},{"$f":"+'Table 1'!AB164","v":"Acute toxicity, inhalation (chapter 3.1)"},{"$f":"IF(CELL(\"type\",'Table 1'!BB164)=\"b\",\"\",'Table 1'!BB164)","v":4},{"$f":"IF(CELL(\"type\",'Table 1'!BC164)=\"b\",\"\",'Table 1'!BC164)","v":""},{"$f":"IF(CELL(\"type\",'Table 1'!BD164)=\"b\",\"\",'Table 1'!BD164)","v":""},{"$f":"IF(CELL(\"type\",'Table 1'!BE164)=\"b\",\"\",'Table 1'!BE164)","v":""},{"$f":"IF(CELL(\"type\",'Table 1'!BF164)=\"b\",\"\",'Table 1'!BF164)","v":""},{"$f":"IF(CELL(\"type\",'Table 1'!BG164)=\"b\",\"\",'Table 1'!BG164)","v":""},{"$f":"IF(CELL(\"type\",'Table 1'!BH164)=\"b\",\"\",'Table 1'!BH164)","v":""},{"$f":"IF(CELL(\"type\",'Table 1'!BI164)=\"b\",\"\",'Table 1'!BI164)","v":""},{"$f":"IF(CELL(\"type\",'Table 1'!BJ164)=\"b\",\"\",'Table 1'!BJ164)","v":""}]
[{"$f":"+'Table 1'!A158","v":"H302 + H332 (1 - Acute toxicity, oral)"},{"$f":"+'Table 1'!B158","v":"Harmful if swallowed or if inhaled"},{"$f":"+'Table 1'!AB158","v":"Acute toxicity, oral (chapter 3.1)"},{"$f":"IF(CELL(\"type\",'Table 1'!BB158)=\"b\",\"\",'Table 1'!BB158)","v":4},{"$f":"IF(CELL(\"type\",'Table 1'!BC158)=\"b\",\"\",'Table 1'!BC158)","v":""},{"$f":"IF(CELL(\"type\",'Table 1'!BD158)=\"b\",\"\",'Table 1'!BD158)","v":""},{"$f":"IF(CELL(\"type\",'Table 1'!BE158)=\"b\",\"\",'Table 1'!BE158)","v":""},{"$f":"IF(CELL(\"type\",'Table 1'!BF158)=\"b\",\"\",'Table 1'!BF158)","v":""},{"$f":"IF(CELL(\"type\",'Table 1'!BG158)=\"b\",\"\",'Table 1'!BG158)","v":""},{"$f":"IF(CELL(\"type\",'Table 1'!BH158)=\"b\",\"\",'Table 1'!BH158)","v":""},{"$f":"IF(CELL(\"type\",'Table 1'!BI158)=\"b\",\"\",'Table 1'!BI158)","v":""},{"$f":"IF(CELL(\"type\",'Table 1'!BJ158)=\"b\",\"\",'Table 1'!BJ158)","v":""}]
[{"$f":"+'Table 1'!A159","v":"H302 + H332 (2 - Acute toxicity, inhalation)"},{"$f":"+'Table 1'!B159","v":"Harmful if swallowed or if inhaled"},{"$f":"+'Table 1'!AB159","v":"Acute toxicity, inhalation (chapter 3.1)"},{"$f":"IF(CELL(\"type\",'Table 1'!BB159)=\"b\",\"\",'Table 1'!BB159)","v":4},{"$f":"IF(CELL(\"type\",'Table 1'!BC159)=\"b\",\"\",'Table 1'!BC159)","v":""},{"$f":"IF(CELL(\"type\",'Table 1'!BD159)=\"b\",\"\",'Table 1'!BD159)","v":""},{"$f":"IF(CELL(\"type\",'Table 1'!BE159)=\"b\",\"\",'Table 1'!BE159)","v":""},{"$f":"IF(CELL(\"type\",'Table 1'!BF159)=\"b\",\"\",'Table 1'!BF159)","v":""},{"$f":"IF(CELL(\"type\",'Table 1'!BG159)=\"b\",\"\",'Table 1'!BG159)","v":""},{"$f":"IF(CELL(\"type\",'Table 1'!BH159)=\"b\",\"\",'Table 1'!BH159)","v":""},{"$f":"IF(CELL(\"type\",'Table 1'!BI159)=\"b\",\"\",'Table 1'!BI159)","v":""},{"$f":"IF(CELL(\"type\",'Table 1'!BJ159)=\"b\",\"\",'Table 1'!BJ159)","v":""}]
[{"$f":"+'Table 1'!A89","v":"H303"},{"$f":"+'Table 1'!B89","v":"May be harmful if swallowed"},{"$f":"+'Table 1'!AB89","v":"Acute toxicity, oral (chapter 3.1)"},{"$f":"IF(CELL(\"type\",'Table 1'!BB89)=\"b\",\"\",'Table 1'!BB89)","v":5},{"$f":"IF(CELL(\"type\",'Table 1'!BC89)=\"b\",\"\",'Table 1'!BC89)","v":""},{"$f":"IF(CELL(\"type\",'Table 1'!BD89)=\"b\",\"\",'Table 1'!BD89)","v":""},{"$f":"IF(CELL(\"type\",'Table 1'!BE89)=\"b\",\"\",'Table 1'!BE89)","v":""},{"$f":"IF(CELL(\"type\",'Table 1'!BF89)=\"b\",\"\",'Table 1'!BF89)","v":""},{"$f":"IF(CELL(\"type\",'Table 1'!BG89)=\"b\",\"\",'Table 1'!BG89)","v":""},{"$f":"IF(CELL(\"type\",'Table 1'!BH89)=\"b\",\"\",'Table 1'!BH89)","v":""},{"$f":"IF(CELL(\"type\",'Table 1'!BI89)=\"b\",\"\",'Table 1'!BI89)","v":""},{"$f":"IF(CELL(\"type\",'Table 1'!BJ89)=\"b\",\"\",'Table 1'!BJ89)","v":""}]
[{"$f":"+'Table 1'!A165","v":"H303 + H313 (1 - Acute toxicity, oral)"},{"$f":"+'Table 1'!B165","v":"May be harmful if swallowed or in contact with skin"},{"$f":"+'Table 1'!AB165","v":"Acute toxicity, oral (chapter 3.1)"},{"$f":"IF(CELL(\"type\",'Table 1'!BB165)=\"b\",\"\",'Table 1'!BB165)","v":5},{"$f":"IF(CELL(\"type\",'Table 1'!BC165)=\"b\",\"\",'Table 1'!BC165)","v":""},{"$f":"IF(CELL(\"type\",'Table 1'!BD165)=\"b\",\"\",'Table 1'!BD165)","v":""},{"$f":"IF(CELL(\"type\",'Table 1'!BE165)=\"b\",\"\",'Table 1'!BE165)","v":""},{"$f":"IF(CELL(\"type\",'Table 1'!BF165)=\"b\",\"\",'Table 1'!BF165)","v":""},{"$f":"IF(CELL(\"type\",'Table 1'!BG165)=\"b\",\"\",'Table 1'!BG165)","v":""},{"$f":"IF(CELL(\"type\",'Table 1'!BH165)=\"b\",\"\",'Table 1'!BH165)","v":""},{"$f":"IF(CELL(\"type\",'Table 1'!BI165)=\"b\",\"\",'Table 1'!BI165)","v":""},{"$f":"IF(CELL(\"type\",'Table 1'!BJ165)=\"b\",\"\",'Table 1'!BJ165)","v":""}]
[{"$f":"+'Table 1'!A166","v":"H303 + H313 (2 - Acute toxicity, dermal)"},{"$f":"+'Table 1'!B166","v":"May be harmful if swallowed or in contact with skin"},{"$f":"+'Table 1'!AB166","v":"Acute toxicity, dermal (chapter 3.1)"},{"$f":"IF(CELL(\"type\",'Table 1'!BB166)=\"b\",\"\",'Table 1'!BB166)","v":5},{"$f":"IF(CELL(\"type\",'Table 1'!BC166)=\"b\",\"\",'Table 1'!BC166)","v":""},{"$f":"IF(CELL(\"type\",'Table 1'!BD166)=\"b\",\"\",'Table 1'!BD166)","v":""},{"$f":"IF(CELL(\"type\",'Table 1'!BE166)=\"b\",\"\",'Table 1'!BE166)","v":""},{"$f":"IF(CELL(\"type\",'Table 1'!BF166)=\"b\",\"\",'Table 1'!BF166)","v":""},{"$f":"IF(CELL(\"type\",'Table 1'!BG166)=\"b\",\"\",'Table 1'!BG166)","v":""},{"$f":"IF(CELL(\"type\",'Table 1'!BH166)=\"b\",\"\",'Table 1'!BH166)","v":""},{"$f":"IF(CELL(\"type\",'Table 1'!BI166)=\"b\",\"\",'Table 1'!BI166)","v":""},{"$f":"IF(CELL(\"type\",'Table 1'!BJ166)=\"b\",\"\",'Table 1'!BJ166)","v":""}]
[{"$f":"+'Table 1'!A171","v":"H303 + H313 + H333 (1 - Acute toxicity, oral)"},{"$f":"+'Table 1'!B171","v":"May be harmful if swallowed, in contact with skin or if inhaled"},{"$f":"+'Table 1'!AB171","v":"Acute toxicity, oral (chapter 3.1)"},{"$f":"IF(CELL(\"type\",'Table 1'!BB171)=\"b\",\"\",'Table 1'!BB171)","v":5},{"$f":"IF(CELL(\"type\",'Table 1'!BC171)=\"b\",\"\",'Table 1'!BC171)","v":""},{"$f":"IF(CELL(\"type\",'Table 1'!BD171)=\"b\",\"\",'Table 1'!BD171)","v":""},{"$f":"IF(CELL(\"type\",'Table 1'!BE171)=\"b\",\"\",'Table 1'!BE171)","v":""},{"$f":"IF(CELL(\"type\",'Table 1'!BF171)=\"b\",\"\",'Table 1'!BF171)","v":""},{"$f":"IF(CELL(\"type\",'Table 1'!BG171)=\"b\",\"\",'Table 1'!BG171)","v":""},{"$f":"IF(CELL(\"type\",'Table 1'!BH171)=\"b\",\"\",'Table 1'!BH171)","v":""},{"$f":"IF(CELL(\"type\",'Table 1'!BI171)=\"b\",\"\",'Table 1'!BI171)","v":""},{"$f":"IF(CELL(\"type\",'Table 1'!BJ171)=\"b\",\"\",'Table 1'!BJ171)","v":""}]
[{"$f":"+'Table 1'!A172","v":"H303 + H313 + H333 (2 - Acute toxicity, inhalation)"},{"$f":"+'Table 1'!B172","v":"May be harmful if swallowed, in contact with skin or if inhaled"},{"$f":"+'Table 1'!AB172","v":"Acute toxicity, inhalation (chapter 3.1)"},{"$f":"IF(CELL(\"type\",'Table 1'!BB172)=\"b\",\"\",'Table 1'!BB172)","v":5},{"$f":"IF(CELL(\"type\",'Table 1'!BC172)=\"b\",\"\",'Table 1'!BC172)","v":""},{"$f":"IF(CELL(\"type\",'Table 1'!BD172)=\"b\",\"\",'Table 1'!BD172)","v":""},{"$f":"IF(CELL(\"type\",'Table 1'!BE172)=\"b\",\"\",'Table 1'!BE172)","v":""},{"$f":"IF(CELL(\"type\",'Table 1'!BF172)=\"b\",\"\",'Table 1'!BF172)","v":""},{"$f":"IF(CELL(\"type\",'Table 1'!BG172)=\"b\",\"\",'Table 1'!BG172)","v":""},{"$f":"IF(CELL(\"type\",'Table 1'!BH172)=\"b\",\"\",'Table 1'!BH172)","v":""},{"$f":"IF(CELL(\"type\",'Table 1'!BI172)=\"b\",\"\",'Table 1'!BI172)","v":""},{"$f":"IF(CELL(\"type\",'Table 1'!BJ172)=\"b\",\"\",'Table 1'!BJ172)","v":""}]
[{"$f":"+'Table 1'!A173","v":"H303 + H313 + H333 (3 - Acute toxicity, inhalation)"},{"$f":"+'Table 1'!B173","v":"May be harmful if swallowed, in contact with skin or if inhaled"},{"$f":"+'Table 1'!AB173","v":"Acute toxicity, inhalation (chapter 3.1)"},{"$f":"IF(CELL(\"type\",'Table 1'!BB173)=\"b\",\"\",'Table 1'!BB173)","v":5},{"$f":"IF(CELL(\"type\",'Table 1'!BC173)=\"b\",\"\",'Table 1'!BC173)","v":""},{"$f":"IF(CELL(\"type\",'Table 1'!BD173)=\"b\",\"\",'Table 1'!BD173)","v":""},{"$f":"IF(CELL(\"type\",'Table 1'!BE173)=\"b\",\"\",'Table 1'!BE173)","v":""},{"$f":"IF(CELL(\"type\",'Table 1'!BF173)=\"b\",\"\",'Table 1'!BF173)","v":""},{"$f":"IF(CELL(\"type\",'Table 1'!BG173)=\"b\",\"\",'Table 1'!BG173)","v":""},{"$f":"IF(CELL(\"type\",'Table 1'!BH173)=\"b\",\"\",'Table 1'!BH173)","v":""},{"$f":"IF(CELL(\"type\",'Table 1'!BI173)=\"b\",\"\",'Table 1'!BI173)","v":""},{"$f":"IF(CELL(\"type\",'Table 1'!BJ173)=\"b\",\"\",'Table 1'!BJ173)","v":""}]
[{"$f":"+'Table 1'!A167","v":"H303 + H333 (1 - Acute toxicity, oral)"},{"$f":"+'Table 1'!B167","v":"May be harmful if swallowed or if inhaled"},{"$f":"+'Table 1'!AB167","v":"Acute toxicity, oral (chapter 3.1)"},{"$f":"IF(CELL(\"type\",'Table 1'!BB167)=\"b\",\"\",'Table 1'!BB167)","v":5},{"$f":"IF(CELL(\"type\",'Table 1'!BC167)=\"b\",\"\",'Table 1'!BC167)","v":""},{"$f":"IF(CELL(\"type\",'Table 1'!BD167)=\"b\",\"\",'Table 1'!BD167)","v":""},{"$f":"IF(CELL(\"type\",'Table 1'!BE167)=\"b\",\"\",'Table 1'!BE167)","v":""},{"$f":"IF(CELL(\"type\",'Table 1'!BF167)=\"b\",\"\",'Table 1'!BF167)","v":""},{"$f":"IF(CELL(\"type\",'Table 1'!BG167)=\"b\",\"\",'Table 1'!BG167)","v":""},{"$f":"IF(CELL(\"type\",'Table 1'!BH167)=\"b\",\"\",'Table 1'!BH167)","v":""},{"$f":"IF(CELL(\"type\",'Table 1'!BI167)=\"b\",\"\",'Table 1'!BI167)","v":""},{"$f":"IF(CELL(\"type\",'Table 1'!BJ167)=\"b\",\"\",'Table 1'!BJ167)","v":""}]
[{"$f":"+'Table 1'!A168","v":"H303 + H333 (2 - Acute toxicity, inhalation)"},{"$f":"+'Table 1'!B168","v":"May be harmful if swallowed or if inhaled"},{"$f":"+'Table 1'!AB168","v":"Acute toxicity, inhalation (chapter 3.1)"},{"$f":"IF(CELL(\"type\",'Table 1'!BB168)=\"b\",\"\",'Table 1'!BB168)","v":5},{"$f":"IF(CELL(\"type\",'Table 1'!BC168)=\"b\",\"\",'Table 1'!BC168)","v":""},{"$f":"IF(CELL(\"type\",'Table 1'!BD168)=\"b\",\"\",'Table 1'!BD168)","v":""},{"$f":"IF(CELL(\"type\",'Table 1'!BE168)=\"b\",\"\",'Table 1'!BE168)","v":""},{"$f":"IF(CELL(\"type\",'Table 1'!BF168)=\"b\",\"\",'Table 1'!BF168)","v":""},{"$f":"IF(CELL(\"type\",'Table 1'!BG168)=\"b\",\"\",'Table 1'!BG168)","v":""},{"$f":"IF(CELL(\"type\",'Table 1'!BH168)=\"b\",\"\",'Table 1'!BH168)","v":""},{"$f":"IF(CELL(\"type\",'Table 1'!BI168)=\"b\",\"\",'Table 1'!BI168)","v":""},{"$f":"IF(CELL(\"type\",'Table 1'!BJ168)=\"b\",\"\",'Table 1'!BJ168)","v":""}]
[{"$f":"+'Table 1'!A90","v":"H304"},{"$f":"+'Table 1'!B90","v":"May be fatal if swallowed and enters airways"},{"$f":"+'Table 1'!AB90","v":"Aspiration hazard (chapter 3.10)"},{"$f":"IF(CELL(\"type\",'Table 1'!BB90)=\"b\",\"\",'Table 1'!BB90)","v":1},{"$f":"IF(CELL(\"type\",'Table 1'!BC90)=\"b\",\"\",'Table 1'!BC90)","v":""},{"$f":"IF(CELL(\"type\",'Table 1'!BD90)=\"b\",\"\",'Table 1'!BD90)","v":""},{"$f":"IF(CELL(\"type\",'Table 1'!BE90)=\"b\",\"\",'Table 1'!BE90)","v":""},{"$f":"IF(CELL(\"type\",'Table 1'!BF90)=\"b\",\"\",'Table 1'!BF90)","v":""},{"$f":"IF(CELL(\"type\",'Table 1'!BG90)=\"b\",\"\",'Table 1'!BG90)","v":""},{"$f":"IF(CELL(\"type\",'Table 1'!BH90)=\"b\",\"\",'Table 1'!BH90)","v":""},{"$f":"IF(CELL(\"type\",'Table 1'!BI90)=\"b\",\"\",'Table 1'!BI90)","v":""},{"$f":"IF(CELL(\"type\",'Table 1'!BJ90)=\"b\",\"\",'Table 1'!BJ90)","v":""}]
[{"$f":"+'Table 1'!A91","v":"H305"},{"$f":"+'Table 1'!B91","v":"May be harmful if swallowed and enters airways"},{"$f":"+'Table 1'!AB91","v":"Aspiration hazard (chapter 3.10)"},{"$f":"IF(CELL(\"type\",'Table 1'!BB91)=\"b\",\"\",'Table 1'!BB91)","v":2},{"$f":"IF(CELL(\"type\",'Table 1'!BC91)=\"b\",\"\",'Table 1'!BC91)","v":""},{"$f":"IF(CELL(\"type\",'Table 1'!BD91)=\"b\",\"\",'Table 1'!BD91)","v":""},{"$f":"IF(CELL(\"type\",'Table 1'!BE91)=\"b\",\"\",'Table 1'!BE91)","v":""},{"$f":"IF(CELL(\"type\",'Table 1'!BF91)=\"b\",\"\",'Table 1'!BF91)","v":""},{"$f":"IF(CELL(\"type\",'Table 1'!BG91)=\"b\",\"\",'Table 1'!BG91)","v":""},{"$f":"IF(CELL(\"type\",'Table 1'!BH91)=\"b\",\"\",'Table 1'!BH91)","v":""},{"$f":"IF(CELL(\"type\",'Table 1'!BI91)=\"b\",\"\",'Table 1'!BI91)","v":""},{"$f":"IF(CELL(\"type\",'Table 1'!BJ91)=\"b\",\"\",'Table 1'!BJ91)","v":""}]
[{"$f":"+'Table 1'!A93","v":"H310"},{"$f":"+'Table 1'!B93","v":"Fatal in contact with skin"},{"$f":"+'Table 1'!AB93","v":"Acute toxicity, dermal (chapter 3.1)"},{"$f":"IF(CELL(\"type\",'Table 1'!BB93)=\"b\",\"\",'Table 1'!BB93)","v":1},{"$f":"IF(CELL(\"type\",'Table 1'!BC93)=\"b\",\"\",'Table 1'!BC93)","v":2},{"$f":"IF(CELL(\"type\",'Table 1'!BD93)=\"b\",\"\",'Table 1'!BD93)","v":""},{"$f":"IF(CELL(\"type\",'Table 1'!BE93)=\"b\",\"\",'Table 1'!BE93)","v":""},{"$f":"IF(CELL(\"type\",'Table 1'!BF93)=\"b\",\"\",'Table 1'!BF93)","v":""},{"$f":"IF(CELL(\"type\",'Table 1'!BG93)=\"b\",\"\",'Table 1'!BG93)","v":""},{"$f":"IF(CELL(\"type\",'Table 1'!BH93)=\"b\",\"\",'Table 1'!BH93)","v":""},{"$f":"IF(CELL(\"type\",'Table 1'!BI93)=\"b\",\"\",'Table 1'!BI93)","v":""},{"$f":"IF(CELL(\"type\",'Table 1'!BJ93)=\"b\",\"\",'Table 1'!BJ93)","v":""}]
[{"$f":"+'Table 1'!A140","v":"H310 + H330 (1 - Acute toxicity, dermal)"},{"$f":"+'Table 1'!B140","v":"Fatal in contact with skin or if inhaled"},{"$f":"+'Table 1'!AB140","v":"Acute toxicity, dermal (chapter 3.1)"},{"$f":"IF(CELL(\"type\",'Table 1'!BB140)=\"b\",\"\",'Table 1'!BB140)","v":1},{"$f":"IF(CELL(\"type\",'Table 1'!BC140)=\"b\",\"\",'Table 1'!BC140)","v":2},{"$f":"IF(CELL(\"type\",'Table 1'!BD140)=\"b\",\"\",'Table 1'!BD140)","v":""},{"$f":"IF(CELL(\"type\",'Table 1'!BE140)=\"b\",\"\",'Table 1'!BE140)","v":""},{"$f":"IF(CELL(\"type\",'Table 1'!BF140)=\"b\",\"\",'Table 1'!BF140)","v":""},{"$f":"IF(CELL(\"type\",'Table 1'!BG140)=\"b\",\"\",'Table 1'!BG140)","v":""},{"$f":"IF(CELL(\"type\",'Table 1'!BH140)=\"b\",\"\",'Table 1'!BH140)","v":""},{"$f":"IF(CELL(\"type\",'Table 1'!BI140)=\"b\",\"\",'Table 1'!BI140)","v":""},{"$f":"IF(CELL(\"type\",'Table 1'!BJ140)=\"b\",\"\",'Table 1'!BJ140)","v":""}]
[{"$f":"+'Table 1'!A141","v":"H310 + H330 (2 - Acute toxicity, inhalation)"},{"$f":"+'Table 1'!B141","v":"Fatal in contact with skin or if inhaled"},{"$f":"+'Table 1'!AB141","v":"Acute toxicity, inhalation (chapter 3.1)"},{"$f":"IF(CELL(\"type\",'Table 1'!BB141)=\"b\",\"\",'Table 1'!BB141)","v":1},{"$f":"IF(CELL(\"type\",'Table 1'!BC141)=\"b\",\"\",'Table 1'!BC141)","v":2},{"$f":"IF(CELL(\"type\",'Table 1'!BD141)=\"b\",\"\",'Table 1'!BD141)","v":""},{"$f":"IF(CELL(\"type\",'Table 1'!BE141)=\"b\",\"\",'Table 1'!BE141)","v":""},{"$f":"IF(CELL(\"type\",'Table 1'!BF141)=\"b\",\"\",'Table 1'!BF141)","v":""},{"$f":"IF(CELL(\"type\",'Table 1'!BG141)=\"b\",\"\",'Table 1'!BG141)","v":""},{"$f":"IF(CELL(\"type\",'Table 1'!BH141)=\"b\",\"\",'Table 1'!BH141)","v":""},{"$f":"IF(CELL(\"type\",'Table 1'!BI141)=\"b\",\"\",'Table 1'!BI141)","v":""},{"$f":"IF(CELL(\"type\",'Table 1'!BJ141)=\"b\",\"\",'Table 1'!BJ141)","v":""}]
[{"$f":"+'Table 1'!A94","v":"H311"},{"$f":"+'Table 1'!B94","v":"Toxic in contact with skin"},{"$f":"+'Table 1'!AB94","v":"Acute toxicity, dermal (chapter 3.1)"},{"$f":"IF(CELL(\"type\",'Table 1'!BB94)=\"b\",\"\",'Table 1'!BB94)","v":3},{"$f":"IF(CELL(\"type\",'Table 1'!BC94)=\"b\",\"\",'Table 1'!BC94)","v":""},{"$f":"IF(CELL(\"type\",'Table 1'!BD94)=\"b\",\"\",'Table 1'!BD94)","v":""},{"$f":"IF(CELL(\"type\",'Table 1'!BE94)=\"b\",\"\",'Table 1'!BE94)","v":""},{"$f":"IF(CELL(\"type\",'Table 1'!BF94)=\"b\",\"\",'Table 1'!BF94)","v":""},{"$f":"IF(CELL(\"type\",'Table 1'!BG94)=\"b\",\"\",'Table 1'!BG94)","v":""},{"$f":"IF(CELL(\"type\",'Table 1'!BH94)=\"b\",\"\",'Table 1'!BH94)","v":""},{"$f":"IF(CELL(\"type\",'Table 1'!BI94)=\"b\",\"\",'Table 1'!BI94)","v":""},{"$f":"IF(CELL(\"type\",'Table 1'!BJ94)=\"b\",\"\",'Table 1'!BJ94)","v":""}]
[{"$f":"+'Table 1'!A151","v":"H311 + H331 (1 - Acute toxicity, dermal)"},{"$f":"+'Table 1'!B151","v":"Toxic in contact with skin or if inhaled"},{"$f":"+'Table 1'!AB151","v":"Acute toxicity, dermal (chapter 3.1)"},{"$f":"IF(CELL(\"type\",'Table 1'!BB151)=\"b\",\"\",'Table 1'!BB151)","v":3},{"$f":"IF(CELL(\"type\",'Table 1'!BC151)=\"b\",\"\",'Table 1'!BC151)","v":""},{"$f":"IF(CELL(\"type\",'Table 1'!BD151)=\"b\",\"\",'Table 1'!BD151)","v":""},{"$f":"IF(CELL(\"type\",'Table 1'!BE151)=\"b\",\"\",'Table 1'!BE151)","v":""},{"$f":"IF(CELL(\"type\",'Table 1'!BF151)=\"b\",\"\",'Table 1'!BF151)","v":""},{"$f":"IF(CELL(\"type\",'Table 1'!BG151)=\"b\",\"\",'Table 1'!BG151)","v":""},{"$f":"IF(CELL(\"type\",'Table 1'!BH151)=\"b\",\"\",'Table 1'!BH151)","v":""},{"$f":"IF(CELL(\"type\",'Table 1'!BI151)=\"b\",\"\",'Table 1'!BI151)","v":""},{"$f":"IF(CELL(\"type\",'Table 1'!BJ151)=\"b\",\"\",'Table 1'!BJ151)","v":""}]
[{"$f":"+'Table 1'!A152","v":"H311 + H331 (2 - Acute toxicity, inhalation)"},{"$f":"+'Table 1'!B152","v":"Toxic in contact with skin or if inhaled"},{"$f":"+'Table 1'!AB152","v":"Acute toxicity, inhalation (chapter 3.1)"},{"$f":"IF(CELL(\"type\",'Table 1'!BB152)=\"b\",\"\",'Table 1'!BB152)","v":3},{"$f":"IF(CELL(\"type\",'Table 1'!BC152)=\"b\",\"\",'Table 1'!BC152)","v":""},{"$f":"IF(CELL(\"type\",'Table 1'!BD152)=\"b\",\"\",'Table 1'!BD152)","v":""},{"$f":"IF(CELL(\"type\",'Table 1'!BE152)=\"b\",\"\",'Table 1'!BE152)","v":""},{"$f":"IF(CELL(\"type\",'Table 1'!BF152)=\"b\",\"\",'Table 1'!BF152)","v":""},{"$f":"IF(CELL(\"type\",'Table 1'!BG152)=\"b\",\"\",'Table 1'!BG152)","v":""},{"$f":"IF(CELL(\"type\",'Table 1'!BH152)=\"b\",\"\",'Table 1'!BH152)","v":""},{"$f":"IF(CELL(\"type\",'Table 1'!BI152)=\"b\",\"\",'Table 1'!BI152)","v":""},{"$f":"IF(CELL(\"type\",'Table 1'!BJ152)=\"b\",\"\",'Table 1'!BJ152)","v":""}]
[{"$f":"+'Table 1'!A95","v":"H312"},{"$f":"+'Table 1'!B95","v":"Harmful in contact with skin"},{"$f":"+'Table 1'!AB95","v":"Acute toxicity, dermal (chapter 3.1)"},{"$f":"IF(CELL(\"type\",'Table 1'!BB95)=\"b\",\"\",'Table 1'!BB95)","v":4},{"$f":"IF(CELL(\"type\",'Table 1'!BC95)=\"b\",\"\",'Table 1'!BC95)","v":""},{"$f":"IF(CELL(\"type\",'Table 1'!BD95)=\"b\",\"\",'Table 1'!BD95)","v":""},{"$f":"IF(CELL(\"type\",'Table 1'!BE95)=\"b\",\"\",'Table 1'!BE95)","v":""},{"$f":"IF(CELL(\"type\",'Table 1'!BF95)=\"b\",\"\",'Table 1'!BF95)","v":""},{"$f":"IF(CELL(\"type\",'Table 1'!BG95)=\"b\",\"\",'Table 1'!BG95)","v":""},{"$f":"IF(CELL(\"type\",'Table 1'!BH95)=\"b\",\"\",'Table 1'!BH95)","v":""},{"$f":"IF(CELL(\"type\",'Table 1'!BI95)=\"b\",\"\",'Table 1'!BI95)","v":""},{"$f":"IF(CELL(\"type\",'Table 1'!BJ95)=\"b\",\"\",'Table 1'!BJ95)","v":""}]
[{"$f":"+'Table 1'!A160","v":"H312 + H332 (1 - Acute toxicity, dermal)"},{"$f":"+'Table 1'!B160","v":"Harmful in contact with skin or if inhaled"},{"$f":"+'Table 1'!AB160","v":"Acute toxicity, dermal (chapter 3.1)"},{"$f":"IF(CELL(\"type\",'Table 1'!BB160)=\"b\",\"\",'Table 1'!BB160)","v":4},{"$f":"IF(CELL(\"type\",'Table 1'!BC160)=\"b\",\"\",'Table 1'!BC160)","v":""},{"$f":"IF(CELL(\"type\",'Table 1'!BD160)=\"b\",\"\",'Table 1'!BD160)","v":""},{"$f":"IF(CELL(\"type\",'Table 1'!BE160)=\"b\",\"\",'Table 1'!BE160)","v":""},{"$f":"IF(CELL(\"type\",'Table 1'!BF160)=\"b\",\"\",'Table 1'!BF160)","v":""},{"$f":"IF(CELL(\"type\",'Table 1'!BG160)=\"b\",\"\",'Table 1'!BG160)","v":""},{"$f":"IF(CELL(\"type\",'Table 1'!BH160)=\"b\",\"\",'Table 1'!BH160)","v":""},{"$f":"IF(CELL(\"type\",'Table 1'!BI160)=\"b\",\"\",'Table 1'!BI160)","v":""},{"$f":"IF(CELL(\"type\",'Table 1'!BJ160)=\"b\",\"\",'Table 1'!BJ160)","v":""}]
[{"$f":"+'Table 1'!A161","v":"H312 + H332 (2 - Acute toxicity, inhalation)"},{"$f":"+'Table 1'!B161","v":"Harmful in contact with skin or if inhaled"},{"$f":"+'Table 1'!AB161","v":"Acute toxicity, inhalation (chapter 3.1)"},{"$f":"IF(CELL(\"type\",'Table 1'!BB161)=\"b\",\"\",'Table 1'!BB161)","v":4},{"$f":"IF(CELL(\"type\",'Table 1'!BC161)=\"b\",\"\",'Table 1'!BC161)","v":""},{"$f":"IF(CELL(\"type\",'Table 1'!BD161)=\"b\",\"\",'Table 1'!BD161)","v":""},{"$f":"IF(CELL(\"type\",'Table 1'!BE161)=\"b\",\"\",'Table 1'!BE161)","v":""},{"$f":"IF(CELL(\"type\",'Table 1'!BF161)=\"b\",\"\",'Table 1'!BF161)","v":""},{"$f":"IF(CELL(\"type\",'Table 1'!BG161)=\"b\",\"\",'Table 1'!BG161)","v":""},{"$f":"IF(CELL(\"type\",'Table 1'!BH161)=\"b\",\"\",'Table 1'!BH161)","v":""},{"$f":"IF(CELL(\"type\",'Table 1'!BI161)=\"b\",\"\",'Table 1'!BI161)","v":""},{"$f":"IF(CELL(\"type\",'Table 1'!BJ161)=\"b\",\"\",'Table 1'!BJ161)","v":""}]
[{"$f":"+'Table 1'!A96","v":"H313"},{"$f":"+'Table 1'!B96","v":"May be harmful in contact with skin"},{"$f":"+'Table 1'!AB96","v":"Acute toxicity, dermal (chapter 3.1)"},{"$f":"IF(CELL(\"type\",'Table 1'!BB96)=\"b\",\"\",'Table 1'!BB96)","v":5},{"$f":"IF(CELL(\"type\",'Table 1'!BC96)=\"b\",\"\",'Table 1'!BC96)","v":""},{"$f":"IF(CELL(\"type\",'Table 1'!BD96)=\"b\",\"\",'Table 1'!BD96)","v":""},{"$f":"IF(CELL(\"type\",'Table 1'!BE96)=\"b\",\"\",'Table 1'!BE96)","v":""},{"$f":"IF(CELL(\"type\",'Table 1'!BF96)=\"b\",\"\",'Table 1'!BF96)","v":""},{"$f":"IF(CELL(\"type\",'Table 1'!BG96)=\"b\",\"\",'Table 1'!BG96)","v":""},{"$f":"IF(CELL(\"type\",'Table 1'!BH96)=\"b\",\"\",'Table 1'!BH96)","v":""},{"$f":"IF(CELL(\"type\",'Table 1'!BI96)=\"b\",\"\",'Table 1'!BI96)","v":""},{"$f":"IF(CELL(\"type\",'Table 1'!BJ96)=\"b\",\"\",'Table 1'!BJ96)","v":""}]
[{"$f":"+'Table 1'!A169","v":"H313 + H333 (1 - Acute toxicity, dermal)"},{"$f":"+'Table 1'!B169","v":"May be harmful in contact with skin or if inhaled"},{"$f":"+'Table 1'!AB169","v":"Acute toxicity, dermal (chapter 3.1)"},{"$f":"IF(CELL(\"type\",'Table 1'!BB169)=\"b\",\"\",'Table 1'!BB169)","v":5},{"$f":"IF(CELL(\"type\",'Table 1'!BC169)=\"b\",\"\",'Table 1'!BC169)","v":""},{"$f":"IF(CELL(\"type\",'Table 1'!BD169)=\"b\",\"\",'Table 1'!BD169)","v":""},{"$f":"IF(CELL(\"type\",'Table 1'!BE169)=\"b\",\"\",'Table 1'!BE169)","v":""},{"$f":"IF(CELL(\"type\",'Table 1'!BF169)=\"b\",\"\",'Table 1'!BF169)","v":""},{"$f":"IF(CELL(\"type\",'Table 1'!BG169)=\"b\",\"\",'Table 1'!BG169)","v":""},{"$f":"IF(CELL(\"type\",'Table 1'!BH169)=\"b\",\"\",'Table 1'!BH169)","v":""},{"$f":"IF(CELL(\"type\",'Table 1'!BI169)=\"b\",\"\",'Table 1'!BI169)","v":""},{"$f":"IF(CELL(\"type\",'Table 1'!BJ169)=\"b\",\"\",'Table 1'!BJ169)","v":""}]
[{"$f":"+'Table 1'!A170","v":"H313 + H333 (2 - Acute toxicity, inhalation)"},{"$f":"+'Table 1'!B170","v":"May be harmful in contact with skin or if inhaled"},{"$f":"+'Table 1'!AB170","v":"Acute toxicity, inhalation (chapter 3.1)"},{"$f":"IF(CELL(\"type\",'Table 1'!BB170)=\"b\",\"\",'Table 1'!BB170)","v":5},{"$f":"IF(CELL(\"type\",'Table 1'!BC170)=\"b\",\"\",'Table 1'!BC170)","v":""},{"$f":"IF(CELL(\"type\",'Table 1'!BD170)=\"b\",\"\",'Table 1'!BD170)","v":""},{"$f":"IF(CELL(\"type\",'Table 1'!BE170)=\"b\",\"\",'Table 1'!BE170)","v":""},{"$f":"IF(CELL(\"type\",'Table 1'!BF170)=\"b\",\"\",'Table 1'!BF170)","v":""},{"$f":"IF(CELL(\"type\",'Table 1'!BG170)=\"b\",\"\",'Table 1'!BG170)","v":""},{"$f":"IF(CELL(\"type\",'Table 1'!BH170)=\"b\",\"\",'Table 1'!BH170)","v":""},{"$f":"IF(CELL(\"type\",'Table 1'!BI170)=\"b\",\"\",'Table 1'!BI170)","v":""},{"$f":"IF(CELL(\"type\",'Table 1'!BJ170)=\"b\",\"\",'Table 1'!BJ170)","v":""}]
[{"$f":"+'Table 1'!A97","v":"H314 (1 - Skin corrosion)"},{"$f":"+'Table 1'!B97","v":"Causes severe skin burns and eye damage"},{"$f":"+'Table 1'!AB97","v":"Skin corrosion (chapter 3.2)"},{"$f":"IF(CELL(\"type\",'Table 1'!BB97)=\"b\",\"\",'Table 1'!BB97)","v":"1A"},{"$f":"IF(CELL(\"type\",'Table 1'!BC97)=\"b\",\"\",'Table 1'!BC97)","v":"1B"},{"$f":"IF(CELL(\"type\",'Table 1'!BD97)=\"b\",\"\",'Table 1'!BD97)","v":"1C"},{"$f":"IF(CELL(\"type\",'Table 1'!BE97)=\"b\",\"\",'Table 1'!BE97)","v":""},{"$f":"IF(CELL(\"type\",'Table 1'!BF97)=\"b\",\"\",'Table 1'!BF97)","v":""},{"$f":"IF(CELL(\"type\",'Table 1'!BG97)=\"b\",\"\",'Table 1'!BG97)","v":""},{"$f":"IF(CELL(\"type\",'Table 1'!BH97)=\"b\",\"\",'Table 1'!BH97)","v":""},{"$f":"IF(CELL(\"type\",'Table 1'!BI97)=\"b\",\"\",'Table 1'!BI97)","v":""},{"$f":"IF(CELL(\"type\",'Table 1'!BJ97)=\"b\",\"\",'Table 1'!BJ97)","v":""}]
[{"$f":"+'Table 1'!A98","v":"H314 (2 - Skin irritation)"},{"$f":"+'Table 1'!B98","v":"Causes severe skin burns and eye damage"},{"$f":"+'Table 1'!AB98","v":"Skin irritation (chapter 3.2)"},{"$f":"IF(CELL(\"type\",'Table 1'!BB98)=\"b\",\"\",'Table 1'!BB98)","v":"1A"},{"$f":"IF(CELL(\"type\",'Table 1'!BC98)=\"b\",\"\",'Table 1'!BC98)","v":"1B"},{"$f":"IF(CELL(\"type\",'Table 1'!BD98)=\"b\",\"\",'Table 1'!BD98)","v":"1C"},{"$f":"IF(CELL(\"type\",'Table 1'!BE98)=\"b\",\"\",'Table 1'!BE98)","v":""},{"$f":"IF(CELL(\"type\",'Table 1'!BF98)=\"b\",\"\",'Table 1'!BF98)","v":""},{"$f":"IF(CELL(\"type\",'Table 1'!BG98)=\"b\",\"\",'Table 1'!BG98)","v":""},{"$f":"IF(CELL(\"type\",'Table 1'!BH98)=\"b\",\"\",'Table 1'!BH98)","v":""},{"$f":"IF(CELL(\"type\",'Table 1'!BI98)=\"b\",\"\",'Table 1'!BI98)","v":""},{"$f":"IF(CELL(\"type\",'Table 1'!BJ98)=\"b\",\"\",'Table 1'!BJ98)","v":""}]
[{"$f":"+'Table 1'!A99","v":"H315 (1 - Skin corrosion)"},{"$f":"+'Table 1'!B99","v":"Causes skin irritation"},{"$f":"+'Table 1'!AB99","v":"Skin corrosion (chapter 3.2)"},{"$f":"IF(CELL(\"type\",'Table 1'!BB99)=\"b\",\"\",'Table 1'!BB99)","v":2},{"$f":"IF(CELL(\"type\",'Table 1'!BC99)=\"b\",\"\",'Table 1'!BC99)","v":""},{"$f":"IF(CELL(\"type\",'Table 1'!BD99)=\"b\",\"\",'Table 1'!BD99)","v":""},{"$f":"IF(CELL(\"type\",'Table 1'!BE99)=\"b\",\"\",'Table 1'!BE99)","v":""},{"$f":"IF(CELL(\"type\",'Table 1'!BF99)=\"b\",\"\",'Table 1'!BF99)","v":""},{"$f":"IF(CELL(\"type\",'Table 1'!BG99)=\"b\",\"\",'Table 1'!BG99)","v":""},{"$f":"IF(CELL(\"type\",'Table 1'!BH99)=\"b\",\"\",'Table 1'!BH99)","v":""},{"$f":"IF(CELL(\"type\",'Table 1'!BI99)=\"b\",\"\",'Table 1'!BI99)","v":""},{"$f":"IF(CELL(\"type\",'Table 1'!BJ99)=\"b\",\"\",'Table 1'!BJ99)","v":""}]
[{"$f":"+'Table 1'!A100","v":"H315 (2 - Skin irritation)"},{"$f":"+'Table 1'!B100","v":"Causes skin irritation"},{"$f":"+'Table 1'!AB100","v":"Skin irritation (chapter 3.2)"},{"$f":"IF(CELL(\"type\",'Table 1'!BB100)=\"b\",\"\",'Table 1'!BB100)","v":2},{"$f":"IF(CELL(\"type\",'Table 1'!BC100)=\"b\",\"\",'Table 1'!BC100)","v":""},{"$f":"IF(CELL(\"type\",'Table 1'!BD100)=\"b\",\"\",'Table 1'!BD100)","v":""},{"$f":"IF(CELL(\"type\",'Table 1'!BE100)=\"b\",\"\",'Table 1'!BE100)","v":""},{"$f":"IF(CELL(\"type\",'Table 1'!BF100)=\"b\",\"\",'Table 1'!BF100)","v":""},{"$f":"IF(CELL(\"type\",'Table 1'!BG100)=\"b\",\"\",'Table 1'!BG100)","v":""},{"$f":"IF(CELL(\"type\",'Table 1'!BH100)=\"b\",\"\",'Table 1'!BH100)","v":""},{"$f":"IF(CELL(\"type\",'Table 1'!BI100)=\"b\",\"\",'Table 1'!BI100)","v":""},{"$f":"IF(CELL(\"type\",'Table 1'!BJ100)=\"b\",\"\",'Table 1'!BJ100)","v":""}]
[{"$f":"+'Table 1'!A174","v":"H315 + H320 (1 - Skin corrosion)"},{"$f":"+'Table 1'!B174","v":"Causes skin and eye irritation"},{"$f":"+'Table 1'!AB174","v":"Skin corrosion (chapter 3.2)"},{"$f":"IF(CELL(\"type\",'Table 1'!BB174)=\"b\",\"\",'Table 1'!BB174)","v":2},{"$f":"IF(CELL(\"type\",'Table 1'!BC174)=\"b\",\"\",'Table 1'!BC174)","v":""},{"$f":"IF(CELL(\"type\",'Table 1'!BD174)=\"b\",\"\",'Table 1'!BD174)","v":""},{"$f":"IF(CELL(\"type\",'Table 1'!BE174)=\"b\",\"\",'Table 1'!BE174)","v":""},{"$f":"IF(CELL(\"type\",'Table 1'!BF174)=\"b\",\"\",'Table 1'!BF174)","v":""},{"$f":"IF(CELL(\"type\",'Table 1'!BG174)=\"b\",\"\",'Table 1'!BG174)","v":""},{"$f":"IF(CELL(\"type\",'Table 1'!BH174)=\"b\",\"\",'Table 1'!BH174)","v":""},{"$f":"IF(CELL(\"type\",'Table 1'!BI174)=\"b\",\"\",'Table 1'!BI174)","v":""},{"$f":"IF(CELL(\"type\",'Table 1'!BJ174)=\"b\",\"\",'Table 1'!BJ174)","v":""}]
[{"$f":"+'Table 1'!A175","v":"H315 + H320 (2 - Skin irritation)"},{"$f":"+'Table 1'!B175","v":"Causes skin and eye irritation"},{"$f":"+'Table 1'!AB175","v":"Skin irritation (chapter 3.2)"},{"$f":"IF(CELL(\"type\",'Table 1'!BB175)=\"b\",\"\",'Table 1'!BB175)","v":2},{"$f":"IF(CELL(\"type\",'Table 1'!BC175)=\"b\",\"\",'Table 1'!BC175)","v":""},{"$f":"IF(CELL(\"type\",'Table 1'!BD175)=\"b\",\"\",'Table 1'!BD175)","v":""},{"$f":"IF(CELL(\"type\",'Table 1'!BE175)=\"b\",\"\",'Table 1'!BE175)","v":""},{"$f":"IF(CELL(\"type\",'Table 1'!BF175)=\"b\",\"\",'Table 1'!BF175)","v":""},{"$f":"IF(CELL(\"type\",'Table 1'!BG175)=\"b\",\"\",'Table 1'!BG175)","v":""},{"$f":"IF(CELL(\"type\",'Table 1'!BH175)=\"b\",\"\",'Table 1'!BH175)","v":""},{"$f":"IF(CELL(\"type\",'Table 1'!BI175)=\"b\",\"\",'Table 1'!BI175)","v":""},{"$f":"IF(CELL(\"type\",'Table 1'!BJ175)=\"b\",\"\",'Table 1'!BJ175)","v":""}]
[{"$f":"+'Table 1'!A176","v":"H315 + H320 (3 - Serious eye damage)"},{"$f":"+'Table 1'!B176","v":"Causes skin and eye irritation"},{"$f":"+'Table 1'!AB176","v":"Serious eye damage (chapter 3.3)"},{"$f":"IF(CELL(\"type\",'Table 1'!BB176)=\"b\",\"\",'Table 1'!BB176)","v":"2B"},{"$f":"IF(CELL(\"type\",'Table 1'!BC176)=\"b\",\"\",'Table 1'!BC176)","v":""},{"$f":"IF(CELL(\"type\",'Table 1'!BD176)=\"b\",\"\",'Table 1'!BD176)","v":""},{"$f":"IF(CELL(\"type\",'Table 1'!BE176)=\"b\",\"\",'Table 1'!BE176)","v":""},{"$f":"IF(CELL(\"type\",'Table 1'!BF176)=\"b\",\"\",'Table 1'!BF176)","v":""},{"$f":"IF(CELL(\"type\",'Table 1'!BG176)=\"b\",\"\",'Table 1'!BG176)","v":""},{"$f":"IF(CELL(\"type\",'Table 1'!BH176)=\"b\",\"\",'Table 1'!BH176)","v":""},{"$f":"IF(CELL(\"type\",'Table 1'!BI176)=\"b\",\"\",'Table 1'!BI176)","v":""},{"$f":"IF(CELL(\"type\",'Table 1'!BJ176)=\"b\",\"\",'Table 1'!BJ176)","v":""}]
[{"$f":"+'Table 1'!A177","v":"H315 + H320 (4 - Eye irritation)"},{"$f":"+'Table 1'!B177","v":"Causes skin and eye irritation"},{"$f":"+'Table 1'!AB177","v":"Eye irritation (chapter 3.3)"},{"$f":"IF(CELL(\"type\",'Table 1'!BB177)=\"b\",\"\",'Table 1'!BB177)","v":"2B"},{"$f":"IF(CELL(\"type\",'Table 1'!BC177)=\"b\",\"\",'Table 1'!BC177)","v":""},{"$f":"IF(CELL(\"type\",'Table 1'!BD177)=\"b\",\"\",'Table 1'!BD177)","v":""},{"$f":"IF(CELL(\"type\",'Table 1'!BE177)=\"b\",\"\",'Table 1'!BE177)","v":""},{"$f":"IF(CELL(\"type\",'Table 1'!BF177)=\"b\",\"\",'Table 1'!BF177)","v":""},{"$f":"IF(CELL(\"type\",'Table 1'!BG177)=\"b\",\"\",'Table 1'!BG177)","v":""},{"$f":"IF(CELL(\"type\",'Table 1'!BH177)=\"b\",\"\",'Table 1'!BH177)","v":""},{"$f":"IF(CELL(\"type\",'Table 1'!BI177)=\"b\",\"\",'Table 1'!BI177)","v":""},{"$f":"IF(CELL(\"type\",'Table 1'!BJ177)=\"b\",\"\",'Table 1'!BJ177)","v":""}]
[{"$f":"+'Table 1'!A101","v":"H316 (1 - Skin corrosion)"},{"$f":"+'Table 1'!B101","v":"Causes mild skin irritation"},{"$f":"+'Table 1'!AB101","v":"Skin corrosion (chapter 3.2)"},{"$f":"IF(CELL(\"type\",'Table 1'!BB101)=\"b\",\"\",'Table 1'!BB101)","v":3},{"$f":"IF(CELL(\"type\",'Table 1'!BC101)=\"b\",\"\",'Table 1'!BC101)","v":""},{"$f":"IF(CELL(\"type\",'Table 1'!BD101)=\"b\",\"\",'Table 1'!BD101)","v":""},{"$f":"IF(CELL(\"type\",'Table 1'!BE101)=\"b\",\"\",'Table 1'!BE101)","v":""},{"$f":"IF(CELL(\"type\",'Table 1'!BF101)=\"b\",\"\",'Table 1'!BF101)","v":""},{"$f":"IF(CELL(\"type\",'Table 1'!BG101)=\"b\",\"\",'Table 1'!BG101)","v":""},{"$f":"IF(CELL(\"type\",'Table 1'!BH101)=\"b\",\"\",'Table 1'!BH101)","v":""},{"$f":"IF(CELL(\"type\",'Table 1'!BI101)=\"b\",\"\",'Table 1'!BI101)","v":""},{"$f":"IF(CELL(\"type\",'Table 1'!BJ101)=\"b\",\"\",'Table 1'!BJ101)","v":""}]
[{"$f":"+'Table 1'!A102","v":"H316 (2 - Skin irritation)"},{"$f":"+'Table 1'!B102","v":"Causes mild skin irritation"},{"$f":"+'Table 1'!AB102","v":"Skin irritation (chapter 3.2)"},{"$f":"IF(CELL(\"type\",'Table 1'!BB102)=\"b\",\"\",'Table 1'!BB102)","v":3},{"$f":"IF(CELL(\"type\",'Table 1'!BC102)=\"b\",\"\",'Table 1'!BC102)","v":""},{"$f":"IF(CELL(\"type\",'Table 1'!BD102)=\"b\",\"\",'Table 1'!BD102)","v":""},{"$f":"IF(CELL(\"type\",'Table 1'!BE102)=\"b\",\"\",'Table 1'!BE102)","v":""},{"$f":"IF(CELL(\"type\",'Table 1'!BF102)=\"b\",\"\",'Table 1'!BF102)","v":""},{"$f":"IF(CELL(\"type\",'Table 1'!BG102)=\"b\",\"\",'Table 1'!BG102)","v":""},{"$f":"IF(CELL(\"type\",'Table 1'!BH102)=\"b\",\"\",'Table 1'!BH102)","v":""},{"$f":"IF(CELL(\"type\",'Table 1'!BI102)=\"b\",\"\",'Table 1'!BI102)","v":""},{"$f":"IF(CELL(\"type\",'Table 1'!BJ102)=\"b\",\"\",'Table 1'!BJ102)","v":""}]
[{"$f":"+'Table 1'!A103","v":"H317"},{"$f":"+'Table 1'!B103","v":"May cause an allergic skin reaction"},{"$f":"+'Table 1'!AB103","v":"Skin sensitisation (chapter 3.4)"},{"$f":"IF(CELL(\"type\",'Table 1'!BB103)=\"b\",\"\",'Table 1'!BB103)","v":1},{"$f":"IF(CELL(\"type\",'Table 1'!BC103)=\"b\",\"\",'Table 1'!BC103)","v":"1A"},{"$f":"IF(CELL(\"type\",'Table 1'!BD103)=\"b\",\"\",'Table 1'!BD103)","v":"1B"},{"$f":"IF(CELL(\"type\",'Table 1'!BE103)=\"b\",\"\",'Table 1'!BE103)","v":""},{"$f":"IF(CELL(\"type\",'Table 1'!BF103)=\"b\",\"\",'Table 1'!BF103)","v":""},{"$f":"IF(CELL(\"type\",'Table 1'!BG103)=\"b\",\"\",'Table 1'!BG103)","v":""},{"$f":"IF(CELL(\"type\",'Table 1'!BH103)=\"b\",\"\",'Table 1'!BH103)","v":""},{"$f":"IF(CELL(\"type\",'Table 1'!BI103)=\"b\",\"\",'Table 1'!BI103)","v":""},{"$f":"IF(CELL(\"type\",'Table 1'!BJ103)=\"b\",\"\",'Table 1'!BJ103)","v":""}]
[{"$f":"+'Table 1'!A104","v":"H318 (1 - Serious eye damage)"},{"$f":"+'Table 1'!B104","v":"Causes serious eye damage"},{"$f":"+'Table 1'!AB104","v":"Serious eye damage (chapter 3.3)"},{"$f":"IF(CELL(\"type\",'Table 1'!BB104)=\"b\",\"\",'Table 1'!BB104)","v":1},{"$f":"IF(CELL(\"type\",'Table 1'!BC104)=\"b\",\"\",'Table 1'!BC104)","v":""},{"$f":"IF(CELL(\"type\",'Table 1'!BD104)=\"b\",\"\",'Table 1'!BD104)","v":""},{"$f":"IF(CELL(\"type\",'Table 1'!BE104)=\"b\",\"\",'Table 1'!BE104)","v":""},{"$f":"IF(CELL(\"type\",'Table 1'!BF104)=\"b\",\"\",'Table 1'!BF104)","v":""},{"$f":"IF(CELL(\"type\",'Table 1'!BG104)=\"b\",\"\",'Table 1'!BG104)","v":""},{"$f":"IF(CELL(\"type\",'Table 1'!BH104)=\"b\",\"\",'Table 1'!BH104)","v":""},{"$f":"IF(CELL(\"type\",'Table 1'!BI104)=\"b\",\"\",'Table 1'!BI104)","v":""},{"$f":"IF(CELL(\"type\",'Table 1'!BJ104)=\"b\",\"\",'Table 1'!BJ104)","v":""}]
[{"$f":"+'Table 1'!A105","v":"H318 (2 - Eye irritation)"},{"$f":"+'Table 1'!B105","v":"Causes serious eye damage"},{"$f":"+'Table 1'!AB105","v":"Eye irritation (chapter 3.3)"},{"$f":"IF(CELL(\"type\",'Table 1'!BB105)=\"b\",\"\",'Table 1'!BB105)","v":1},{"$f":"IF(CELL(\"type\",'Table 1'!BC105)=\"b\",\"\",'Table 1'!BC105)","v":""},{"$f":"IF(CELL(\"type\",'Table 1'!BD105)=\"b\",\"\",'Table 1'!BD105)","v":""},{"$f":"IF(CELL(\"type\",'Table 1'!BE105)=\"b\",\"\",'Table 1'!BE105)","v":""},{"$f":"IF(CELL(\"type\",'Table 1'!BF105)=\"b\",\"\",'Table 1'!BF105)","v":""},{"$f":"IF(CELL(\"type\",'Table 1'!BG105)=\"b\",\"\",'Table 1'!BG105)","v":""},{"$f":"IF(CELL(\"type\",'Table 1'!BH105)=\"b\",\"\",'Table 1'!BH105)","v":""},{"$f":"IF(CELL(\"type\",'Table 1'!BI105)=\"b\",\"\",'Table 1'!BI105)","v":""},{"$f":"IF(CELL(\"type\",'Table 1'!BJ105)=\"b\",\"\",'Table 1'!BJ105)","v":""}]
[{"$f":"+'Table 1'!A106","v":"H319 (1 - Serious eye damage)"},{"$f":"+'Table 1'!B106","v":"Causes serious eye irritation"},{"$f":"+'Table 1'!AB106","v":"Serious eye damage (chapter 3.3)"},{"$f":"IF(CELL(\"type\",'Table 1'!BB106)=\"b\",\"\",'Table 1'!BB106)","v":"2A"},{"$f":"IF(CELL(\"type\",'Table 1'!BC106)=\"b\",\"\",'Table 1'!BC106)","v":""},{"$f":"IF(CELL(\"type\",'Table 1'!BD106)=\"b\",\"\",'Table 1'!BD106)","v":""},{"$f":"IF(CELL(\"type\",'Table 1'!BE106)=\"b\",\"\",'Table 1'!BE106)","v":""},{"$f":"IF(CELL(\"type\",'Table 1'!BF106)=\"b\",\"\",'Table 1'!BF106)","v":""},{"$f":"IF(CELL(\"type\",'Table 1'!BG106)=\"b\",\"\",'Table 1'!BG106)","v":""},{"$f":"IF(CELL(\"type\",'Table 1'!BH106)=\"b\",\"\",'Table 1'!BH106)","v":""},{"$f":"IF(CELL(\"type\",'Table 1'!BI106)=\"b\",\"\",'Table 1'!BI106)","v":""},{"$f":"IF(CELL(\"type\",'Table 1'!BJ106)=\"b\",\"\",'Table 1'!BJ106)","v":""}]
[{"$f":"+'Table 1'!A107","v":"H319 (2 - Eye irritation)"},{"$f":"+'Table 1'!B107","v":"Causes serious eye irritation"},{"$f":"+'Table 1'!AB107","v":"Eye irritation (chapter 3.3)"},{"$f":"IF(CELL(\"type\",'Table 1'!BB107)=\"b\",\"\",'Table 1'!BB107)","v":"2A"},{"$f":"IF(CELL(\"type\",'Table 1'!BC107)=\"b\",\"\",'Table 1'!BC107)","v":""},{"$f":"IF(CELL(\"type\",'Table 1'!BD107)=\"b\",\"\",'Table 1'!BD107)","v":""},{"$f":"IF(CELL(\"type\",'Table 1'!BE107)=\"b\",\"\",'Table 1'!BE107)","v":""},{"$f":"IF(CELL(\"type\",'Table 1'!BF107)=\"b\",\"\",'Table 1'!BF107)","v":""},{"$f":"IF(CELL(\"type\",'Table 1'!BG107)=\"b\",\"\",'Table 1'!BG107)","v":""},{"$f":"IF(CELL(\"type\",'Table 1'!BH107)=\"b\",\"\",'Table 1'!BH107)","v":""},{"$f":"IF(CELL(\"type\",'Table 1'!BI107)=\"b\",\"\",'Table 1'!BI107)","v":""},{"$f":"IF(CELL(\"type\",'Table 1'!BJ107)=\"b\",\"\",'Table 1'!BJ107)","v":""}]
[{"$f":"+'Table 1'!A108","v":"H320 (1 - Serious eye damage)"},{"$f":"+'Table 1'!B108","v":"Causes eye irritation"},{"$f":"+'Table 1'!AB108","v":"Serious eye damage (chapter 3.3)"},{"$f":"IF(CELL(\"type\",'Table 1'!BB108)=\"b\",\"\",'Table 1'!BB108)","v":"2B"},{"$f":"IF(CELL(\"type\",'Table 1'!BC108)=\"b\",\"\",'Table 1'!BC108)","v":""},{"$f":"IF(CELL(\"type\",'Table 1'!BD108)=\"b\",\"\",'Table 1'!BD108)","v":""},{"$f":"IF(CELL(\"type\",'Table 1'!BE108)=\"b\",\"\",'Table 1'!BE108)","v":""},{"$f":"IF(CELL(\"type\",'Table 1'!BF108)=\"b\",\"\",'Table 1'!BF108)","v":""},{"$f":"IF(CELL(\"type\",'Table 1'!BG108)=\"b\",\"\",'Table 1'!BG108)","v":""},{"$f":"IF(CELL(\"type\",'Table 1'!BH108)=\"b\",\"\",'Table 1'!BH108)","v":""},{"$f":"IF(CELL(\"type\",'Table 1'!BI108)=\"b\",\"\",'Table 1'!BI108)","v":""},{"$f":"IF(CELL(\"type\",'Table 1'!BJ108)=\"b\",\"\",'Table 1'!BJ108)","v":""}]
[{"$f":"+'Table 1'!A109","v":"H320 (2 - Eye irritation)"},{"$f":"+'Table 1'!B109","v":"Causes eye irritation"},{"$f":"+'Table 1'!AB109","v":"Eye irritation (chapter 3.3)"},{"$f":"IF(CELL(\"type\",'Table 1'!BB109)=\"b\",\"\",'Table 1'!BB109)","v":"2B"},{"$f":"IF(CELL(\"type\",'Table 1'!BC109)=\"b\",\"\",'Table 1'!BC109)","v":""},{"$f":"IF(CELL(\"type\",'Table 1'!BD109)=\"b\",\"\",'Table 1'!BD109)","v":""},{"$f":"IF(CELL(\"type\",'Table 1'!BE109)=\"b\",\"\",'Table 1'!BE109)","v":""},{"$f":"IF(CELL(\"type\",'Table 1'!BF109)=\"b\",\"\",'Table 1'!BF109)","v":""},{"$f":"IF(CELL(\"type\",'Table 1'!BG109)=\"b\",\"\",'Table 1'!BG109)","v":""},{"$f":"IF(CELL(\"type\",'Table 1'!BH109)=\"b\",\"\",'Table 1'!BH109)","v":""},{"$f":"IF(CELL(\"type\",'Table 1'!BI109)=\"b\",\"\",'Table 1'!BI109)","v":""},{"$f":"IF(CELL(\"type\",'Table 1'!BJ109)=\"b\",\"\",'Table 1'!BJ109)","v":""}]
[{"$f":"+'Table 1'!A110","v":"H330"},{"$f":"+'Table 1'!B110","v":"Fatal if inhaled"},{"$f":"+'Table 1'!AB110","v":"Acute toxicity, inhalation (chapter 3.1)"},{"$f":"IF(CELL(\"type\",'Table 1'!BB110)=\"b\",\"\",'Table 1'!BB110)","v":1},{"$f":"IF(CELL(\"type\",'Table 1'!BC110)=\"b\",\"\",'Table 1'!BC110)","v":2},{"$f":"IF(CELL(\"type\",'Table 1'!BD110)=\"b\",\"\",'Table 1'!BD110)","v":""},{"$f":"IF(CELL(\"type\",'Table 1'!BE110)=\"b\",\"\",'Table 1'!BE110)","v":""},{"$f":"IF(CELL(\"type\",'Table 1'!BF110)=\"b\",\"\",'Table 1'!BF110)","v":""},{"$f":"IF(CELL(\"type\",'Table 1'!BG110)=\"b\",\"\",'Table 1'!BG110)","v":""},{"$f":"IF(CELL(\"type\",'Table 1'!BH110)=\"b\",\"\",'Table 1'!BH110)","v":""},{"$f":"IF(CELL(\"type\",'Table 1'!BI110)=\"b\",\"\",'Table 1'!BI110)","v":""},{"$f":"IF(CELL(\"type\",'Table 1'!BJ110)=\"b\",\"\",'Table 1'!BJ110)","v":""}]
[{"$f":"+'Table 1'!A111","v":"H331"},{"$f":"+'Table 1'!B111","v":"Toxic if inhaled"},{"$f":"+'Table 1'!AB111","v":"Acute toxicity, inhalation (chapter 3.1)"},{"$f":"IF(CELL(\"type\",'Table 1'!BB111)=\"b\",\"\",'Table 1'!BB111)","v":3},{"$f":"IF(CELL(\"type\",'Table 1'!BC111)=\"b\",\"\",'Table 1'!BC111)","v":""},{"$f":"IF(CELL(\"type\",'Table 1'!BD111)=\"b\",\"\",'Table 1'!BD111)","v":""},{"$f":"IF(CELL(\"type\",'Table 1'!BE111)=\"b\",\"\",'Table 1'!BE111)","v":""},{"$f":"IF(CELL(\"type\",'Table 1'!BF111)=\"b\",\"\",'Table 1'!BF111)","v":""},{"$f":"IF(CELL(\"type\",'Table 1'!BG111)=\"b\",\"\",'Table 1'!BG111)","v":""},{"$f":"IF(CELL(\"type\",'Table 1'!BH111)=\"b\",\"\",'Table 1'!BH111)","v":""},{"$f":"IF(CELL(\"type\",'Table 1'!BI111)=\"b\",\"\",'Table 1'!BI111)","v":""},{"$f":"IF(CELL(\"type\",'Table 1'!BJ111)=\"b\",\"\",'Table 1'!BJ111)","v":""}]
[{"$f":"+'Table 1'!A112","v":"H332"},{"$f":"+'Table 1'!B112","v":"Harmful if inhaled"},{"$f":"+'Table 1'!AB112","v":"Acute toxicity, inhalation (chapter 3.1)"},{"$f":"IF(CELL(\"type\",'Table 1'!BB112)=\"b\",\"\",'Table 1'!BB112)","v":4},{"$f":"IF(CELL(\"type\",'Table 1'!BC112)=\"b\",\"\",'Table 1'!BC112)","v":""},{"$f":"IF(CELL(\"type\",'Table 1'!BD112)=\"b\",\"\",'Table 1'!BD112)","v":""},{"$f":"IF(CELL(\"type\",'Table 1'!BE112)=\"b\",\"\",'Table 1'!BE112)","v":""},{"$f":"IF(CELL(\"type\",'Table 1'!BF112)=\"b\",\"\",'Table 1'!BF112)","v":""},{"$f":"IF(CELL(\"type\",'Table 1'!BG112)=\"b\",\"\",'Table 1'!BG112)","v":""},{"$f":"IF(CELL(\"type\",'Table 1'!BH112)=\"b\",\"\",'Table 1'!BH112)","v":""},{"$f":"IF(CELL(\"type\",'Table 1'!BI112)=\"b\",\"\",'Table 1'!BI112)","v":""},{"$f":"IF(CELL(\"type\",'Table 1'!BJ112)=\"b\",\"\",'Table 1'!BJ112)","v":""}]
[{"$f":"+'Table 1'!A113","v":"H333"},{"$f":"+'Table 1'!B113","v":"May be harmful if inhaled"},{"$f":"+'Table 1'!AB113","v":"Acute toxicity, inhalation (chapter 3.1)"},{"$f":"IF(CELL(\"type\",'Table 1'!BB113)=\"b\",\"\",'Table 1'!BB113)","v":5},{"$f":"IF(CELL(\"type\",'Table 1'!BC113)=\"b\",\"\",'Table 1'!BC113)","v":""},{"$f":"IF(CELL(\"type\",'Table 1'!BD113)=\"b\",\"\",'Table 1'!BD113)","v":""},{"$f":"IF(CELL(\"type\",'Table 1'!BE113)=\"b\",\"\",'Table 1'!BE113)","v":""},{"$f":"IF(CELL(\"type\",'Table 1'!BF113)=\"b\",\"\",'Table 1'!BF113)","v":""},{"$f":"IF(CELL(\"type\",'Table 1'!BG113)=\"b\",\"\",'Table 1'!BG113)","v":""},{"$f":"IF(CELL(\"type\",'Table 1'!BH113)=\"b\",\"\",'Table 1'!BH113)","v":""},{"$f":"IF(CELL(\"type\",'Table 1'!BI113)=\"b\",\"\",'Table 1'!BI113)","v":""},{"$f":"IF(CELL(\"type\",'Table 1'!BJ113)=\"b\",\"\",'Table 1'!BJ113)","v":""}]
[{"$f":"+'Table 1'!A114","v":"H334"},{"$f":"+'Table 1'!B114","v":"May cause allergy or asthma symptoms or breathing difficulties if inhaled"},{"$f":"+'Table 1'!AB114","v":"Respiratory sensitisation (chapter 3.4)"},{"$f":"IF(CELL(\"type\",'Table 1'!BB114)=\"b\",\"\",'Table 1'!BB114)","v":1},{"$f":"IF(CELL(\"type\",'Table 1'!BC114)=\"b\",\"\",'Table 1'!BC114)","v":"1A"},{"$f":"IF(CELL(\"type\",'Table 1'!BD114)=\"b\",\"\",'Table 1'!BD114)","v":"1B"},{"$f":"IF(CELL(\"type\",'Table 1'!BE114)=\"b\",\"\",'Table 1'!BE114)","v":""},{"$f":"IF(CELL(\"type\",'Table 1'!BF114)=\"b\",\"\",'Table 1'!BF114)","v":""},{"$f":"IF(CELL(\"type\",'Table 1'!BG114)=\"b\",\"\",'Table 1'!BG114)","v":""},{"$f":"IF(CELL(\"type\",'Table 1'!BH114)=\"b\",\"\",'Table 1'!BH114)","v":""},{"$f":"IF(CELL(\"type\",'Table 1'!BI114)=\"b\",\"\",'Table 1'!BI114)","v":""},{"$f":"IF(CELL(\"type\",'Table 1'!BJ114)=\"b\",\"\",'Table 1'!BJ114)","v":""}]
[{"$f":"+'Table 1'!A115","v":"H335 (1 - Specific target organ toxicity, single exposure)"},{"$f":"+'Table 1'!B115","v":"May cause respiratory irritation"},{"$f":"+'Table 1'!AB115","v":"Specific target organ toxicity, single exposure (chapter 3.8)"},{"$f":"IF(CELL(\"type\",'Table 1'!BB115)=\"b\",\"\",'Table 1'!BB115)","v":3},{"$f":"IF(CELL(\"type\",'Table 1'!BC115)=\"b\",\"\",'Table 1'!BC115)","v":""},{"$f":"IF(CELL(\"type\",'Table 1'!BD115)=\"b\",\"\",'Table 1'!BD115)","v":""},{"$f":"IF(CELL(\"type\",'Table 1'!BE115)=\"b\",\"\",'Table 1'!BE115)","v":""},{"$f":"IF(CELL(\"type\",'Table 1'!BF115)=\"b\",\"\",'Table 1'!BF115)","v":""},{"$f":"IF(CELL(\"type\",'Table 1'!BG115)=\"b\",\"\",'Table 1'!BG115)","v":""},{"$f":"IF(CELL(\"type\",'Table 1'!BH115)=\"b\",\"\",'Table 1'!BH115)","v":""},{"$f":"IF(CELL(\"type\",'Table 1'!BI115)=\"b\",\"\",'Table 1'!BI115)","v":""},{"$f":"IF(CELL(\"type\",'Table 1'!BJ115)=\"b\",\"\",'Table 1'!BJ115)","v":""}]
[{"$f":"+'Table 1'!A116","v":"H335 (2 - Respiratory tract irritation)"},{"$f":"+'Table 1'!B116","v":"May cause respiratory irritation"},{"$f":"+'Table 1'!AB116","v":"Respiratory tract irritation (chapter 3.8)"},{"$f":"IF(CELL(\"type\",'Table 1'!BB116)=\"b\",\"\",'Table 1'!BB116)","v":3},{"$f":"IF(CELL(\"type\",'Table 1'!BC116)=\"b\",\"\",'Table 1'!BC116)","v":""},{"$f":"IF(CELL(\"type\",'Table 1'!BD116)=\"b\",\"\",'Table 1'!BD116)","v":""},{"$f":"IF(CELL(\"type\",'Table 1'!BE116)=\"b\",\"\",'Table 1'!BE116)","v":""},{"$f":"IF(CELL(\"type\",'Table 1'!BF116)=\"b\",\"\",'Table 1'!BF116)","v":""},{"$f":"IF(CELL(\"type\",'Table 1'!BG116)=\"b\",\"\",'Table 1'!BG116)","v":""},{"$f":"IF(CELL(\"type\",'Table 1'!BH116)=\"b\",\"\",'Table 1'!BH116)","v":""},{"$f":"IF(CELL(\"type\",'Table 1'!BI116)=\"b\",\"\",'Table 1'!BI116)","v":""},{"$f":"IF(CELL(\"type\",'Table 1'!BJ116)=\"b\",\"\",'Table 1'!BJ116)","v":""}]
[{"$f":"+'Table 1'!A117","v":"H336 (1 - Specific target organ toxicity, single exposure)"},{"$f":"+'Table 1'!B117","v":"May cause drowsiness or dizziness"},{"$f":"+'Table 1'!AB117","v":"Specific target organ toxicity, single exposure (chapter 3.8)"},{"$f":"IF(CELL(\"type\",'Table 1'!BB117)=\"b\",\"\",'Table 1'!BB117)","v":3},{"$f":"IF(CELL(\"type\",'Table 1'!BC117)=\"b\",\"\",'Table 1'!BC117)","v":""},{"$f":"IF(CELL(\"type\",'Table 1'!BD117)=\"b\",\"\",'Table 1'!BD117)","v":""},{"$f":"IF(CELL(\"type\",'Table 1'!BE117)=\"b\",\"\",'Table 1'!BE117)","v":""},{"$f":"IF(CELL(\"type\",'Table 1'!BF117)=\"b\",\"\",'Table 1'!BF117)","v":""},{"$f":"IF(CELL(\"type\",'Table 1'!BG117)=\"b\",\"\",'Table 1'!BG117)","v":""},{"$f":"IF(CELL(\"type\",'Table 1'!BH117)=\"b\",\"\",'Table 1'!BH117)","v":""},{"$f":"IF(CELL(\"type\",'Table 1'!BI117)=\"b\",\"\",'Table 1'!BI117)","v":""},{"$f":"IF(CELL(\"type\",'Table 1'!BJ117)=\"b\",\"\",'Table 1'!BJ117)","v":""}]
[{"$f":"+'Table 1'!A118","v":"H336 (2 - Narcotic effects)"},{"$f":"+'Table 1'!B118","v":"May cause drowsiness or dizziness"},{"$f":"+'Table 1'!AB118","v":"Narcotic effects (chapter 3.8)"},{"$f":"IF(CELL(\"type\",'Table 1'!BB118)=\"b\",\"\",'Table 1'!BB118)","v":3},{"$f":"IF(CELL(\"type\",'Table 1'!BC118)=\"b\",\"\",'Table 1'!BC118)","v":""},{"$f":"IF(CELL(\"type\",'Table 1'!BD118)=\"b\",\"\",'Table 1'!BD118)","v":""},{"$f":"IF(CELL(\"type\",'Table 1'!BE118)=\"b\",\"\",'Table 1'!BE118)","v":""},{"$f":"IF(CELL(\"type\",'Table 1'!BF118)=\"b\",\"\",'Table 1'!BF118)","v":""},{"$f":"IF(CELL(\"type\",'Table 1'!BG118)=\"b\",\"\",'Table 1'!BG118)","v":""},{"$f":"IF(CELL(\"type\",'Table 1'!BH118)=\"b\",\"\",'Table 1'!BH118)","v":""},{"$f":"IF(CELL(\"type\",'Table 1'!BI118)=\"b\",\"\",'Table 1'!BI118)","v":""},{"$f":"IF(CELL(\"type\",'Table 1'!BJ118)=\"b\",\"\",'Table 1'!BJ118)","v":""}]
[{"$f":"+'Table 1'!A119","v":"H340"},{"$f":"+'Table 1'!B119","v":"May cause genetic defects (state route of exposure if it is conclusively proven that no other routes of exposure cause the hazard)"},{"$f":"+'Table 1'!AB119","v":"Germ cell mutagenicity (chapter 3.5)"},{"$f":"IF(CELL(\"type\",'Table 1'!BB119)=\"b\",\"\",'Table 1'!BB119)","v":"1A"},{"$f":"IF(CELL(\"type\",'Table 1'!BC119)=\"b\",\"\",'Table 1'!BC119)","v":"1B"},{"$f":"IF(CELL(\"type\",'Table 1'!BD119)=\"b\",\"\",'Table 1'!BD119)","v":""},{"$f":"IF(CELL(\"type\",'Table 1'!BE119)=\"b\",\"\",'Table 1'!BE119)","v":""},{"$f":"IF(CELL(\"type\",'Table 1'!BF119)=\"b\",\"\",'Table 1'!BF119)","v":""},{"$f":"IF(CELL(\"type\",'Table 1'!BG119)=\"b\",\"\",'Table 1'!BG119)","v":""},{"$f":"IF(CELL(\"type\",'Table 1'!BH119)=\"b\",\"\",'Table 1'!BH119)","v":""},{"$f":"IF(CELL(\"type\",'Table 1'!BI119)=\"b\",\"\",'Table 1'!BI119)","v":""},{"$f":"IF(CELL(\"type\",'Table 1'!BJ119)=\"b\",\"\",'Table 1'!BJ119)","v":""}]
[{"$f":"+'Table 1'!A120","v":"H341"},{"$f":"+'Table 1'!B120","v":"Suspected of causing genetic defects (state route of exposure if it is conclusively proven that no other routes of exposure cause the hazard)"},{"$f":"+'Table 1'!AB120","v":"Germ cell mutagenicity (chapter 3.5)"},{"$f":"IF(CELL(\"type\",'Table 1'!BB120)=\"b\",\"\",'Table 1'!BB120)","v":2},{"$f":"IF(CELL(\"type\",'Table 1'!BC120)=\"b\",\"\",'Table 1'!BC120)","v":""},{"$f":"IF(CELL(\"type\",'Table 1'!BD120)=\"b\",\"\",'Table 1'!BD120)","v":""},{"$f":"IF(CELL(\"type\",'Table 1'!BE120)=\"b\",\"\",'Table 1'!BE120)","v":""},{"$f":"IF(CELL(\"type\",'Table 1'!BF120)=\"b\",\"\",'Table 1'!BF120)","v":""},{"$f":"IF(CELL(\"type\",'Table 1'!BG120)=\"b\",\"\",'Table 1'!BG120)","v":""},{"$f":"IF(CELL(\"type\",'Table 1'!BH120)=\"b\",\"\",'Table 1'!BH120)","v":""},{"$f":"IF(CELL(\"type\",'Table 1'!BI120)=\"b\",\"\",'Table 1'!BI120)","v":""},{"$f":"IF(CELL(\"type\",'Table 1'!BJ120)=\"b\",\"\",'Table 1'!BJ120)","v":""}]
[{"$f":"+'Table 1'!A121","v":"H350"},{"$f":"+'Table 1'!B121","v":"May cause cancer (state route of exposure if it is conclusively proven that no other routes of exposure cause the hazard)"},{"$f":"+'Table 1'!AB121","v":"Carcinogenicity (chapter 3.6)"},{"$f":"IF(CELL(\"type\",'Table 1'!BB121)=\"b\",\"\",'Table 1'!BB121)","v":"1A"},{"$f":"IF(CELL(\"type\",'Table 1'!BC121)=\"b\",\"\",'Table 1'!BC121)","v":"1B"},{"$f":"IF(CELL(\"type\",'Table 1'!BD121)=\"b\",\"\",'Table 1'!BD121)","v":""},{"$f":"IF(CELL(\"type\",'Table 1'!BE121)=\"b\",\"\",'Table 1'!BE121)","v":""},{"$f":"IF(CELL(\"type\",'Table 1'!BF121)=\"b\",\"\",'Table 1'!BF121)","v":""},{"$f":"IF(CELL(\"type\",'Table 1'!BG121)=\"b\",\"\",'Table 1'!BG121)","v":""},{"$f":"IF(CELL(\"type\",'Table 1'!BH121)=\"b\",\"\",'Table 1'!BH121)","v":""},{"$f":"IF(CELL(\"type\",'Table 1'!BI121)=\"b\",\"\",'Table 1'!BI121)","v":""},{"$f":"IF(CELL(\"type\",'Table 1'!BJ121)=\"b\",\"\",'Table 1'!BJ121)","v":""}]
[{"$f":"+'Table 1'!A125","v":"H351"},{"$f":"+'Table 1'!B125","v":"Suspected of causing cancer (state route of exposure if it is conclusively proven that no other routes of exposure cause the hazard)"},{"$f":"+'Table 1'!AB125","v":"Carcinogenicity (chapter 3.6)"},{"$f":"IF(CELL(\"type\",'Table 1'!BB125)=\"b\",\"\",'Table 1'!BB125)","v":2},{"$f":"IF(CELL(\"type\",'Table 1'!BC125)=\"b\",\"\",'Table 1'!BC125)","v":""},{"$f":"IF(CELL(\"type\",'Table 1'!BD125)=\"b\",\"\",'Table 1'!BD125)","v":""},{"$f":"IF(CELL(\"type\",'Table 1'!BE125)=\"b\",\"\",'Table 1'!BE125)","v":""},{"$f":"IF(CELL(\"type\",'Table 1'!BF125)=\"b\",\"\",'Table 1'!BF125)","v":""},{"$f":"IF(CELL(\"type\",'Table 1'!BG125)=\"b\",\"\",'Table 1'!BG125)","v":""},{"$f":"IF(CELL(\"type\",'Table 1'!BH125)=\"b\",\"\",'Table 1'!BH125)","v":""},{"$f":"IF(CELL(\"type\",'Table 1'!BI125)=\"b\",\"\",'Table 1'!BI125)","v":""},{"$f":"IF(CELL(\"type\",'Table 1'!BJ125)=\"b\",\"\",'Table 1'!BJ125)","v":""}]
[{"$f":"+'Table 1'!A127","v":"H360"},{"$f":"+'Table 1'!B127","v":"May damage fertility or the unborn child (state specific effect if known)(state route of exposure if it is conclusively proven that no other routes of exposure cause the hazard)"},{"$f":"+'Table 1'!AB127","v":"Reproductive toxicity (chapter 3.7)"},{"$f":"IF(CELL(\"type\",'Table 1'!BB127)=\"b\",\"\",'Table 1'!BB127)","v":"1A"},{"$f":"IF(CELL(\"type\",'Table 1'!BC127)=\"b\",\"\",'Table 1'!BC127)","v":"1B"},{"$f":"IF(CELL(\"type\",'Table 1'!BD127)=\"b\",\"\",'Table 1'!BD127)","v":""},{"$f":"IF(CELL(\"type\",'Table 1'!BE127)=\"b\",\"\",'Table 1'!BE127)","v":""},{"$f":"IF(CELL(\"type\",'Table 1'!BF127)=\"b\",\"\",'Table 1'!BF127)","v":""},{"$f":"IF(CELL(\"type\",'Table 1'!BG127)=\"b\",\"\",'Table 1'!BG127)","v":""},{"$f":"IF(CELL(\"type\",'Table 1'!BH127)=\"b\",\"\",'Table 1'!BH127)","v":""},{"$f":"IF(CELL(\"type\",'Table 1'!BI127)=\"b\",\"\",'Table 1'!BI127)","v":""},{"$f":"IF(CELL(\"type\",'Table 1'!BJ127)=\"b\",\"\",'Table 1'!BJ127)","v":""}]
[{"$f":"+'Table 1'!A128","v":"H361"},{"$f":"+'Table 1'!B128","v":"Suspected of damaging fertility or the unborn child (state specific effect if known)(state route of exposure if it is conclusively proven that no other routes of exposure cause the hazard)"},{"$f":"+'Table 1'!AB128","v":"Reproductive toxicity (chapter 3.7)"},{"$f":"IF(CELL(\"type\",'Table 1'!BB128)=\"b\",\"\",'Table 1'!BB128)","v":2},{"$f":"IF(CELL(\"type\",'Table 1'!BC128)=\"b\",\"\",'Table 1'!BC128)","v":""},{"$f":"IF(CELL(\"type\",'Table 1'!BD128)=\"b\",\"\",'Table 1'!BD128)","v":""},{"$f":"IF(CELL(\"type\",'Table 1'!BE128)=\"b\",\"\",'Table 1'!BE128)","v":""},{"$f":"IF(CELL(\"type\",'Table 1'!BF128)=\"b\",\"\",'Table 1'!BF128)","v":""},{"$f":"IF(CELL(\"type\",'Table 1'!BG128)=\"b\",\"\",'Table 1'!BG128)","v":""},{"$f":"IF(CELL(\"type\",'Table 1'!BH128)=\"b\",\"\",'Table 1'!BH128)","v":""},{"$f":"IF(CELL(\"type\",'Table 1'!BI128)=\"b\",\"\",'Table 1'!BI128)","v":""},{"$f":"IF(CELL(\"type\",'Table 1'!BJ128)=\"b\",\"\",'Table 1'!BJ128)","v":""}]
[{"$f":"+'Table 1'!A129","v":"H362"},{"$f":"+'Table 1'!B129","v":"May cause harm to breast-fed children"},{"$f":"+'Table 1'!AB129","v":"Reproductive toxicity, effects on or via lactation (chapter 3.7)"},{"$f":"IF(CELL(\"type\",'Table 1'!BB129)=\"b\",\"\",'Table 1'!BB129)","v":"Additional category"},{"$f":"IF(CELL(\"type\",'Table 1'!BC129)=\"b\",\"\",'Table 1'!BC129)","v":""},{"$f":"IF(CELL(\"type\",'Table 1'!BD129)=\"b\",\"\",'Table 1'!BD129)","v":""},{"$f":"IF(CELL(\"type\",'Table 1'!BE129)=\"b\",\"\",'Table 1'!BE129)","v":""},{"$f":"IF(CELL(\"type\",'Table 1'!BF129)=\"b\",\"\",'Table 1'!BF129)","v":""},{"$f":"IF(CELL(\"type\",'Table 1'!BG129)=\"b\",\"\",'Table 1'!BG129)","v":""},{"$f":"IF(CELL(\"type\",'Table 1'!BH129)=\"b\",\"\",'Table 1'!BH129)","v":""},{"$f":"IF(CELL(\"type\",'Table 1'!BI129)=\"b\",\"\",'Table 1'!BI129)","v":""},{"$f":"IF(CELL(\"type\",'Table 1'!BJ129)=\"b\",\"\",'Table 1'!BJ129)","v":""}]
[{"$f":"+'Table 1'!A131","v":"H370"},{"$f":"+'Table 1'!B131","v":"Causes damage to organs (or state all organs affected, if known) (state route of exposure if it is conclusively proven that no other routes of exposure cause the hazard)"},{"$f":"+'Table 1'!AB131","v":"Specific target organ toxicity, single exposure (chapter 3.8)"},{"$f":"IF(CELL(\"type\",'Table 1'!BB131)=\"b\",\"\",'Table 1'!BB131)","v":1},{"$f":"IF(CELL(\"type\",'Table 1'!BC131)=\"b\",\"\",'Table 1'!BC131)","v":""},{"$f":"IF(CELL(\"type\",'Table 1'!BD131)=\"b\",\"\",'Table 1'!BD131)","v":""},{"$f":"IF(CELL(\"type\",'Table 1'!BE131)=\"b\",\"\",'Table 1'!BE131)","v":""},{"$f":"IF(CELL(\"type\",'Table 1'!BF131)=\"b\",\"\",'Table 1'!BF131)","v":""},{"$f":"IF(CELL(\"type\",'Table 1'!BG131)=\"b\",\"\",'Table 1'!BG131)","v":""},{"$f":"IF(CELL(\"type\",'Table 1'!BH131)=\"b\",\"\",'Table 1'!BH131)","v":""},{"$f":"IF(CELL(\"type\",'Table 1'!BI131)=\"b\",\"\",'Table 1'!BI131)","v":""},{"$f":"IF(CELL(\"type\",'Table 1'!BJ131)=\"b\",\"\",'Table 1'!BJ131)","v":""}]
[{"$f":"+'Table 1'!A132","v":"H371"},{"$f":"+'Table 1'!B132","v":"May cause damage to organs (or state all organs affected, if known)(state route of exposure if it is conclusively proven that no other routes of exposure cause the hazard)"},{"$f":"+'Table 1'!AB132","v":"Specific target organ toxicity, single exposure (chapter 3.8)"},{"$f":"IF(CELL(\"type\",'Table 1'!BB132)=\"b\",\"\",'Table 1'!BB132)","v":2},{"$f":"IF(CELL(\"type\",'Table 1'!BC132)=\"b\",\"\",'Table 1'!BC132)","v":""},{"$f":"IF(CELL(\"type\",'Table 1'!BD132)=\"b\",\"\",'Table 1'!BD132)","v":""},{"$f":"IF(CELL(\"type\",'Table 1'!BE132)=\"b\",\"\",'Table 1'!BE132)","v":""},{"$f":"IF(CELL(\"type\",'Table 1'!BF132)=\"b\",\"\",'Table 1'!BF132)","v":""},{"$f":"IF(CELL(\"type\",'Table 1'!BG132)=\"b\",\"\",'Table 1'!BG132)","v":""},{"$f":"IF(CELL(\"type\",'Table 1'!BH132)=\"b\",\"\",'Table 1'!BH132)","v":""},{"$f":"IF(CELL(\"type\",'Table 1'!BI132)=\"b\",\"\",'Table 1'!BI132)","v":""},{"$f":"IF(CELL(\"type\",'Table 1'!BJ132)=\"b\",\"\",'Table 1'!BJ132)","v":""}]
[{"$f":"+'Table 1'!A133","v":"H372"},{"$f":"+'Table 1'!B133","v":"Causes damage to organs ( state all organs affected, if known) through prolonged or repeated exposure (state route of exposure if it is conclusively proven that no other routes of exposure cause the hazard)"},{"$f":"+'Table 1'!AB133","v":"Specific target organ toxicity, repeated exposure (chapter 3.9)"},{"$f":"IF(CELL(\"type\",'Table 1'!BB133)=\"b\",\"\",'Table 1'!BB133)","v":1},{"$f":"IF(CELL(\"type\",'Table 1'!BC133)=\"b\",\"\",'Table 1'!BC133)","v":""},{"$f":"IF(CELL(\"type\",'Table 1'!BD133)=\"b\",\"\",'Table 1'!BD133)","v":""},{"$f":"IF(CELL(\"type\",'Table 1'!BE133)=\"b\",\"\",'Table 1'!BE133)","v":""},{"$f":"IF(CELL(\"type\",'Table 1'!BF133)=\"b\",\"\",'Table 1'!BF133)","v":""},{"$f":"IF(CELL(\"type\",'Table 1'!BG133)=\"b\",\"\",'Table 1'!BG133)","v":""},{"$f":"IF(CELL(\"type\",'Table 1'!BH133)=\"b\",\"\",'Table 1'!BH133)","v":""},{"$f":"IF(CELL(\"type\",'Table 1'!BI133)=\"b\",\"\",'Table 1'!BI133)","v":""},{"$f":"IF(CELL(\"type\",'Table 1'!BJ133)=\"b\",\"\",'Table 1'!BJ133)","v":""}]
[{"$f":"+'Table 1'!A134","v":"H373"},{"$f":"+'Table 1'!B134","v":"May cause damage to organs ( state all organs affected, if known) through prolonged or repeated exposure (state route of exposure if it is conclusively proven that no other routes of exposure cause the hazard)"},{"$f":"+'Table 1'!AB134","v":"Specific target organ toxicity, repeated exposure (chapter 3.9)"},{"$f":"IF(CELL(\"type\",'Table 1'!BB134)=\"b\",\"\",'Table 1'!BB134)","v":2},{"$f":"IF(CELL(\"type\",'Table 1'!BC134)=\"b\",\"\",'Table 1'!BC134)","v":""},{"$f":"IF(CELL(\"type\",'Table 1'!BD134)=\"b\",\"\",'Table 1'!BD134)","v":""},{"$f":"IF(CELL(\"type\",'Table 1'!BE134)=\"b\",\"\",'Table 1'!BE134)","v":""},{"$f":"IF(CELL(\"type\",'Table 1'!BF134)=\"b\",\"\",'Table 1'!BF134)","v":""},{"$f":"IF(CELL(\"type\",'Table 1'!BG134)=\"b\",\"\",'Table 1'!BG134)","v":""},{"$f":"IF(CELL(\"type\",'Table 1'!BH134)=\"b\",\"\",'Table 1'!BH134)","v":""},{"$f":"IF(CELL(\"type\",'Table 1'!BI134)=\"b\",\"\",'Table 1'!BI134)","v":""},{"$f":"IF(CELL(\"type\",'Table 1'!BJ134)=\"b\",\"\",'Table 1'!BJ134)","v":""}]
[{"$f":"+'Table 1'!A179","v":"H400"},{"$f":"+'Table 1'!B179","v":"Very toxic to aquatic life"},{"$f":"+'Table 1'!Z179","v":"Hazardous to the aquatic environment, acute hazard (chapter 4.1)"},{"$f":"IF(CELL(\"type\",'Table 1'!BA179)=\"b\",\"\",'Table 1'!BA179)","v":1},{"$f":"IF(CELL(\"type\",'Table 1'!BB179)=\"b\",\"\",'Table 1'!BB179)","v":""},{"$f":"IF(CELL(\"type\",'Table 1'!BC179)=\"b\",\"\",'Table 1'!BC179)","v":""},{"$f":"IF(CELL(\"type\",'Table 1'!BD179)=\"b\",\"\",'Table 1'!BD179)","v":""},{"$f":"IF(CELL(\"type\",'Table 1'!BE179)=\"b\",\"\",'Table 1'!BE179)","v":""},{"$f":"IF(CELL(\"type\",'Table 1'!BF179)=\"b\",\"\",'Table 1'!BF179)","v":""},{"$f":"IF(CELL(\"type\",'Table 1'!BG179)=\"b\",\"\",'Table 1'!BG179)","v":""},{"$f":"IF(CELL(\"type\",'Table 1'!BH179)=\"b\",\"\",'Table 1'!BH179)","v":""}]
[{"$f":"+'Table 1'!A180","v":"H401"},{"$f":"+'Table 1'!B180","v":"Toxic to aquatic life"},{"$f":"+'Table 1'!Z180","v":"Hazardous to the aquatic environment, acute hazard (chapter 4.1)"},{"$f":"IF(CELL(\"type\",'Table 1'!BA180)=\"b\",\"\",'Table 1'!BA180)","v":2},{"$f":"IF(CELL(\"type\",'Table 1'!BB180)=\"b\",\"\",'Table 1'!BB180)","v":""},{"$f":"IF(CELL(\"type\",'Table 1'!BC180)=\"b\",\"\",'Table 1'!BC180)","v":""},{"$f":"IF(CELL(\"type\",'Table 1'!BD180)=\"b\",\"\",'Table 1'!BD180)","v":""},{"$f":"IF(CELL(\"type\",'Table 1'!BE180)=\"b\",\"\",'Table 1'!BE180)","v":""},{"$f":"IF(CELL(\"type\",'Table 1'!BF180)=\"b\",\"\",'Table 1'!BF180)","v":""},{"$f":"IF(CELL(\"type\",'Table 1'!BG180)=\"b\",\"\",'Table 1'!BG180)","v":""},{"$f":"IF(CELL(\"type\",'Table 1'!BH180)=\"b\",\"\",'Table 1'!BH180)","v":""}]
[{"$f":"+'Table 1'!A181","v":"H402"},{"$f":"+'Table 1'!B181","v":"Harmful to aquatic life"},{"$f":"+'Table 1'!Z181","v":"Hazardous to the aquatic environment, acute hazard (chapter 4.1)"},{"$f":"IF(CELL(\"type\",'Table 1'!BA181)=\"b\",\"\",'Table 1'!BA181)","v":3},{"$f":"IF(CELL(\"type\",'Table 1'!BB181)=\"b\",\"\",'Table 1'!BB181)","v":""},{"$f":"IF(CELL(\"type\",'Table 1'!BC181)=\"b\",\"\",'Table 1'!BC181)","v":""},{"$f":"IF(CELL(\"type\",'Table 1'!BD181)=\"b\",\"\",'Table 1'!BD181)","v":""},{"$f":"IF(CELL(\"type\",'Table 1'!BE181)=\"b\",\"\",'Table 1'!BE181)","v":""},{"$f":"IF(CELL(\"type\",'Table 1'!BF181)=\"b\",\"\",'Table 1'!BF181)","v":""},{"$f":"IF(CELL(\"type\",'Table 1'!BG181)=\"b\",\"\",'Table 1'!BG181)","v":""},{"$f":"IF(CELL(\"type\",'Table 1'!BH181)=\"b\",\"\",'Table 1'!BH181)","v":""}]
[{"$f":"+'Table 1'!A183","v":"H410"},{"$f":"+'Table 1'!B183","v":"Very toxic to aquatic life with long lasting effects"},{"$f":"+'Table 1'!Z183","v":"Hazardous to the aquatic environment, long-term hazard (chapter 4.1)"},{"$f":"IF(CELL(\"type\",'Table 1'!BA183)=\"b\",\"\",'Table 1'!BA183)","v":1},{"$f":"IF(CELL(\"type\",'Table 1'!BB183)=\"b\",\"\",'Table 1'!BB183)","v":""},{"$f":"IF(CELL(\"type\",'Table 1'!BC183)=\"b\",\"\",'Table 1'!BC183)","v":""},{"$f":"IF(CELL(\"type\",'Table 1'!BD183)=\"b\",\"\",'Table 1'!BD183)","v":""},{"$f":"IF(CELL(\"type\",'Table 1'!BE183)=\"b\",\"\",'Table 1'!BE183)","v":""},{"$f":"IF(CELL(\"type\",'Table 1'!BF183)=\"b\",\"\",'Table 1'!BF183)","v":""},{"$f":"IF(CELL(\"type\",'Table 1'!BG183)=\"b\",\"\",'Table 1'!BG183)","v":""},{"$f":"IF(CELL(\"type\",'Table 1'!BH183)=\"b\",\"\",'Table 1'!BH183)","v":""}]
[{"$f":"+'Table 1'!A184","v":"H411"},{"$f":"+'Table 1'!B184","v":"Toxic to aquatic life with long lasting effects"},{"$f":"+'Table 1'!Z184","v":"Hazardous to the aquatic environment, long-term hazard (chapter 4.1)"},{"$f":"IF(CELL(\"type\",'Table 1'!BA184)=\"b\",\"\",'Table 1'!BA184)","v":2},{"$f":"IF(CELL(\"type\",'Table 1'!BB184)=\"b\",\"\",'Table 1'!BB184)","v":""},{"$f":"IF(CELL(\"type\",'Table 1'!BC184)=\"b\",\"\",'Table 1'!BC184)","v":""},{"$f":"IF(CELL(\"type\",'Table 1'!BD184)=\"b\",\"\",'Table 1'!BD184)","v":""},{"$f":"IF(CELL(\"type\",'Table 1'!BE184)=\"b\",\"\",'Table 1'!BE184)","v":""},{"$f":"IF(CELL(\"type\",'Table 1'!BF184)=\"b\",\"\",'Table 1'!BF184)","v":""},{"$f":"IF(CELL(\"type\",'Table 1'!BG184)=\"b\",\"\",'Table 1'!BG184)","v":""},{"$f":"IF(CELL(\"type\",'Table 1'!BH184)=\"b\",\"\",'Table 1'!BH184)","v":""}]
[{"$f":"+'Table 1'!A185","v":"H412"},{"$f":"+'Table 1'!B185","v":"Harmful to aquatic life with long lasting effects"},{"$f":"+'Table 1'!Z185","v":"Hazardous to the aquatic environment, long-term hazard (chapter 4.1)"},{"$f":"IF(CELL(\"type\",'Table 1'!BA185)=\"b\",\"\",'Table 1'!BA185)","v":3},{"$f":"IF(CELL(\"type\",'Table 1'!BB185)=\"b\",\"\",'Table 1'!BB185)","v":""},{"$f":"IF(CELL(\"type\",'Table 1'!BC185)=\"b\",\"\",'Table 1'!BC185)","v":""},{"$f":"IF(CELL(\"type\",'Table 1'!BD185)=\"b\",\"\",'Table 1'!BD185)","v":""},{"$f":"IF(CELL(\"type\",'Table 1'!BE185)=\"b\",\"\",'Table 1'!BE185)","v":""},{"$f":"IF(CELL(\"type\",'Table 1'!BF185)=\"b\",\"\",'Table 1'!BF185)","v":""},{"$f":"IF(CELL(\"type\",'Table 1'!BG185)=\"b\",\"\",'Table 1'!BG185)","v":""},{"$f":"IF(CELL(\"type\",'Table 1'!BH185)=\"b\",\"\",'Table 1'!BH185)","v":""}]
[{"$f":"+'Table 1'!A186","v":"H413"},{"$f":"+'Table 1'!B186","v":"May cause long lasting harmful effects to aquatic life"},{"$f":"+'Table 1'!Z186","v":"Hazardous to the aquatic environment, long-term hazard (chapter 4.1)"},{"$f":"IF(CELL(\"type\",'Table 1'!BA186)=\"b\",\"\",'Table 1'!BA186)","v":4},{"$f":"IF(CELL(\"type\",'Table 1'!BB186)=\"b\",\"\",'Table 1'!BB186)","v":""},{"$f":"IF(CELL(\"type\",'Table 1'!BC186)=\"b\",\"\",'Table 1'!BC186)","v":""},{"$f":"IF(CELL(\"type\",'Table 1'!BD186)=\"b\",\"\",'Table 1'!BD186)","v":""},{"$f":"IF(CELL(\"type\",'Table 1'!BE186)=\"b\",\"\",'Table 1'!BE186)","v":""},{"$f":"IF(CELL(\"type\",'Table 1'!BF186)=\"b\",\"\",'Table 1'!BF186)","v":""},{"$f":"IF(CELL(\"type\",'Table 1'!BG186)=\"b\",\"\",'Table 1'!BG186)","v":""},{"$f":"IF(CELL(\"type\",'Table 1'!BH186)=\"b\",\"\",'Table 1'!BH186)","v":""}]
[{"$f":"+'Table 1'!A188","v":"H420"},{"$f":"+'Table 1'!B188","v":"Harms public health and the environment by destroying ozone in the upper atmosphere"},{"$f":"+'Table 1'!Z188","v":"Hazardous to the ozone layer (chapter 4.2)"},{"$f":"IF(CELL(\"type\",'Table 1'!BA188)=\"b\",\"\",'Table 1'!BA188)","v":1},{"$f":"IF(CELL(\"type\",'Table 1'!BB188)=\"b\",\"\",'Table 1'!BB188)","v":""},{"$f":"IF(CELL(\"type\",'Table 1'!BC188)=\"b\",\"\",'Table 1'!BC188)","v":""},{"$f":"IF(CELL(\"type\",'Table 1'!BD188)=\"b\",\"\",'Table 1'!BD188)","v":""},{"$f":"IF(CELL(\"type\",'Table 1'!BE188)=\"b\",\"\",'Table 1'!BE188)","v":""},{"$f":"IF(CELL(\"type\",'Table 1'!BF188)=\"b\",\"\",'Table 1'!BF188)","v":""},{"$f":"IF(CELL(\"type\",'Table 1'!BG188)=\"b\",\"\",'Table 1'!BG188)","v":""},{"$f":"IF(CELL(\"type\",'Table 1'!BH188)=\"b\",\"\",'Table 1'!BH188)","v":""}]
[null,null,null,{"$f":"IF(CELL(\"type\",'Table 1'!AX41)=\"b\",\"\",+'Table 1'!AX41)","v":""},{"$f":"IF(CELL(\"type\",'Table 1'!AY41)=\"b\",\"\",+'Table 1'!AY41)","v":""},{"$f":"IF(CELL(\"type\",'Table 1'!AZ41)=\"b\",\"\",+'Table 1'!AZ41)","v":""},{"$f":"IF(CELL(\"type\",'Table 1'!BA41)=\"b\",\"\",+'Table 1'!BA41)","v":""},{"$f":"IF(CELL(\"type\",'Table 1'!BB41)=\"b\",\"\",+'Table 1'!BB41)","v":""},{"$f":"IF(CELL(\"type\",'Table 1'!BC41)=\"b\",\"\",+'Table 1'!BC41)","v":""},{"$f":"IF(CELL(\"type\",'Table 1'!BD41)=\"b\",\"\",+'Table 1'!BD41)","v":""},{"$f":"IF(CELL(\"type\",'Table 1'!BE41)=\"b\",\"\",+'Table 1'!BE41)","v":""},{"$f":"IF(CELL(\"type\",'Table 1'!BF41)=\"b\",\"\",+'Table 1'!BF41)","v":""}]
[null,null,null,{"$f":"IF(CELL(\"type\",'Table 1'!AX52)=\"b\",\"\",+'Table 1'!AX52)","v":""},{"$f":"IF(CELL(\"type\",'Table 1'!AY52)=\"b\",\"\",+'Table 1'!AY52)","v":""},{"$f":"IF(CELL(\"type\",'Table 1'!AZ52)=\"b\",\"\",+'Table 1'!AZ52)","v":""},{"$f":"IF(CELL(\"type\",'Table 1'!BA52)=\"b\",\"\",+'Table 1'!BA52)","v":""},{"$f":"IF(CELL(\"type\",'Table 1'!BB52)=\"b\",\"\",+'Table 1'!BB52)","v":""},{"$f":"IF(CELL(\"type\",'Table 1'!BC52)=\"b\",\"\",+'Table 1'!BC52)","v":""},{"$f":"IF(CELL(\"type\",'Table 1'!BD52)=\"b\",\"\",+'Table 1'!BD52)","v":""},{"$f":"IF(CELL(\"type\",'Table 1'!BE52)=\"b\",\"\",+'Table 1'!BE52)","v":""},{"$f":"IF(CELL(\"type\",'Table 1'!BF52)=\"b\",\"\",+'Table 1'!BF52)","v":""}]
[null,null,null,{"$f":"IF(CELL(\"type\",'Table 1'!AX56)=\"b\",\"\",+'Table 1'!AX56)","v":""},{"$f":"IF(CELL(\"type\",'Table 1'!AY56)=\"b\",\"\",+'Table 1'!AY56)","v":""},{"$f":"IF(CELL(\"type\",'Table 1'!AZ56)=\"b\",\"\",+'Table 1'!AZ56)","v":""},{"$f":"IF(CELL(\"type\",'Table 1'!BA56)=\"b\",\"\",+'Table 1'!BA56)","v":""},{"$f":"IF(CELL(\"type\",'Table 1'!BB56)=\"b\",\"\",+'Table 1'!BB56)","v":""},{"$f":"IF(CELL(\"type\",'Table 1'!BC56)=\"b\",\"\",+'Table 1'!BC56)","v":""},{"$f":"IF(CELL(\"type\",'Table 1'!BD56)=\"b\",\"\",+'Table 1'!BD56)","v":""},{"$f":"IF(CELL(\"type\",'Table 1'!BE56)=\"b\",\"\",+'Table 1'!BE56)","v":""},{"$f":"IF(CELL(\"type\",'Table 1'!BF56)=\"b\",\"\",+'Table 1'!BF56)","v":""}]
[null,null,null,{"$f":"IF(CELL(\"type\",'Table 1'!AX59)=\"b\",\"\",+'Table 1'!AX59)","v":""},{"$f":"IF(CELL(\"type\",'Table 1'!AY59)=\"b\",\"\",+'Table 1'!AY59)","v":""},{"$f":"IF(CELL(\"type\",'Table 1'!AZ59)=\"b\",\"\",+'Table 1'!AZ59)","v":""},{"$f":"IF(CELL(\"type\",'Table 1'!BA59)=\"b\",\"\",+'Table 1'!BA59)","v":""},{"$f":"IF(CELL(\"type\",'Table 1'!BB59)=\"b\",\"\",+'Table 1'!BB59)","v":""},{"$f":"IF(CELL(\"type\",'Table 1'!BC59)=\"b\",\"\",+'Table 1'!BC59)","v":""},{"$f":"IF(CELL(\"type\",'Table 1'!BD59)=\"b\",\"\",+'Table 1'!BD59)","v":""},{"$f":"IF(CELL(\"type\",'Table 1'!BE59)=\"b\",\"\",+'Table 1'!BE59)","v":""},{"$f":"IF(CELL(\"type\",'Table 1'!BF59)=\"b\",\"\",+'Table 1'!BF59)","v":""}]
[null,null,null,null,{"$f":"IF(CELL(\"type\",'Table 1'!AY60)=\"b\",\"\",+'Table 1'!AY60)","v":""},{"$f":"IF(CELL(\"type\",'Table 1'!AZ60)=\"b\",\"\",+'Table 1'!AZ60)","v":""},{"$f":"IF(CELL(\"type\",'Table 1'!BA60)=\"b\",\"\",+'Table 1'!BA60)","v":""},{"$f":"IF(CELL(\"type\",'Table 1'!BB60)=\"b\",\"\",+'Table 1'!BB60)","v":""},{"$f":"IF(CELL(\"type\",'Table 1'!BC60)=\"b\",\"\",+'Table 1'!BC60)","v":""},{"$f":"IF(CELL(\"type\",'Table 1'!BD60)=\"b\",\"\",+'Table 1'!BD60)","v":""},{"$f":"IF(CELL(\"type\",'Table 1'!BE60)=\"b\",\"\",+'Table 1'!BE60)","v":""},{"$f":"IF(CELL(\"type\",'Table 1'!BF60)=\"b\",\"\",+'Table 1'!BF60)","v":""}]
[null,null,null,{"$f":"IF(CELL(\"type\",'Table 1'!AX69)=\"b\",\"\",+'Table 1'!AX69)","v":""},{"$f":"IF(CELL(\"type\",'Table 1'!AY69)=\"b\",\"\",+'Table 1'!AY69)","v":""},{"$f":"IF(CELL(\"type\",'Table 1'!AZ69)=\"b\",\"\",+'Table 1'!AZ69)","v":""},{"$f":"IF(CELL(\"type\",'Table 1'!BA69)=\"b\",\"\",+'Table 1'!BA69)","v":""},{"$f":"IF(CELL(\"type\",'Table 1'!BB69)=\"b\",\"\",+'Table 1'!BB69)","v":""},{"$f":"IF(CELL(\"type\",'Table 1'!BC69)=\"b\",\"\",+'Table 1'!BC69)","v":""},{"$f":"IF(CELL(\"type\",'Table 1'!BD69)=\"b\",\"\",+'Table 1'!BD69)","v":""},{"$f":"IF(CELL(\"type\",'Table 1'!BE69)=\"b\",\"\",+'Table 1'!BE69)","v":""},{"$f":"IF(CELL(\"type\",'Table 1'!BF69)=\"b\",\"\",+'Table 1'!BF69)","v":""}]
[null,null,null,{"$f":"IF(CELL(\"type\",'Table 1'!AX72)=\"b\",\"\",+'Table 1'!AX72)","v":""},{"$f":"IF(CELL(\"type\",'Table 1'!AY72)=\"b\",\"\",+'Table 1'!AY72)","v":""},{"$f":"IF(CELL(\"type\",'Table 1'!AZ72)=\"b\",\"\",+'Table 1'!AZ72)","v":""},{"$f":"IF(CELL(\"type\",'Table 1'!BA72)=\"b\",\"\",+'Table 1'!BA72)","v":""},{"$f":"IF(CELL(\"type\",'Table 1'!BB72)=\"b\",\"\",+'Table 1'!BB72)","v":""},{"$f":"IF(CELL(\"type\",'Table 1'!BC72)=\"b\",\"\",+'Table 1'!BC72)","v":""},{"$f":"IF(CELL(\"type\",'Table 1'!BD72)=\"b\",\"\",+'Table 1'!BD72)","v":""},{"$f":"IF(CELL(\"type\",'Table 1'!BE72)=\"b\",\"\",+'Table 1'!BE72)","v":""},{"$f":"IF(CELL(\"type\",'Table 1'!BF72)=\"b\",\"\",+'Table 1'!BF72)","v":""}]
[null,null,null,{"$f":"IF(CELL(\"type\",'Table 1'!AX80)=\"b\",\"\",+'Table 1'!AX80)","v":""},{"$f":"IF(CELL(\"type\",'Table 1'!AY80)=\"b\",\"\",+'Table 1'!AY80)","v":""},{"$f":"IF(CELL(\"type\",'Table 1'!AZ80)=\"b\",\"\",+'Table 1'!AZ80)","v":""},{"$f":"IF(CELL(\"type\",'Table 1'!BA80)=\"b\",\"\",+'Table 1'!BA80)","v":""},{"$f":"IF(CELL(\"type\",'Table 1'!BB80)=\"b\",\"\",+'Table 1'!BB80)","v":""},{"$f":"IF(CELL(\"type\",'Table 1'!BC80)=\"b\",\"\",+'Table 1'!BC80)","v":""},{"$f":"IF(CELL(\"type\",'Table 1'!BD80)=\"b\",\"\",+'Table 1'!BD80)","v":""},{"$f":"IF(CELL(\"type\",'Table 1'!BE80)=\"b\",\"\",+'Table 1'!BE80)","v":""},{"$f":"IF(CELL(\"type\",'Table 1'!BF80)=\"b\",\"\",+'Table 1'!BF80)","v":""}]
[null,null,null,{"$f":"IF(CELL(\"type\",'Table 1'!AX82)=\"b\",\"\",+'Table 1'!AX82)","v":""}]

{"sheet":"Engine","index":4,"n_rows":308,"n_cols":68,"rows_kept":308,"cut":false,"hidden":false,"merged":[]}
[null,null,null,null,null,null,null,null,null,null,null,null,null,"Chosen hazard codes",null,"Vælg  Hazard code","Opslag Hazard category","Vælg Hazard class","Opslag Hazard category","Opslag Hazard class","Column1","Column2","Column3","Column4",null,null,null,null,null,null,null,null,null,null,null,null,null,null,null,null,null,null,null,null,null,null,null,null,null,"Unique values","Number check","numbers_pull","text_pull","numbers_pull_rated","text_pull_rated","All_sorted","All_sorted_top",null,"Denne rubrik sorterer P-sætningerne ovenfor","Tæller antallet af gange strengen optræder (>1 betyder den også indgår i en sammensat p-sætning)","Giver værdier der kun optræder een gang (opadskuende)","Sætter prioritet ift. alfabetisk rækkefølge","Sorterer ift. alfabetisk rækkefølge (i.e. fjerner blanke)","tæller antal gange en værdi optræder - kigger nedad ift. den celle der tjekkes","Giver værdier der kun optræder een gang (nedadskuende)","Sætter prioritet ift. alfabetisk rækkefølge","Corresponding precautionary codes","Corresponding precautionary text"]
[null,null,null,null,null,null,null,null,null,null,null,null,null,{"$f":"+P2","v":"(none)"},null,{"$f":"INDEX(H_sentences_overview!$A$1:$A$134,Engine!P7)","v":"(none)"},{"$f":"IFERROR(VLOOKUP(P2,H_sentences_overview!$A$2:$D$161,3),\"\")","v":""},{"$f":"INDEX(BE2:BE23,Engine!R7)","v":""},null,null,{"$f":"IFERROR(INDEX(P_saetn,SMALL(IF(Hazard=Engine!$Q2,ROW(P_saetn)-MIN(ROW(P_saetn))+1),COLUMNS($U2:U2))),\"\")","v":0},{"$f":"IFERROR(INDEX(P_saetn,SMALL(IF(Hazard=Engine!$Q2,ROW(P_saetn)-MIN(ROW(P_saetn))+1),COLUMNS($U2:V2))),\"\")","v":0},{"$f":"IFERROR(INDEX(P_saetn,SMALL(IF(Hazard=Engine!$Q2,ROW(P_saetn)-MIN(ROW(P_saetn))+1),COLUMNS($U2:W2))),\"\")","v":0},{"$f":"IFERROR(INDEX(P_saetn,SMALL(IF(Hazard=Engine!$Q2,ROW(P_saetn)-MIN(ROW(P_saetn))+1),COLUMNS($U2:X2))),\"\")","v":0},{"$f":"IFERROR(INDEX(P_saetn,SMALL(IF(Hazard=Engine!$Q2,ROW(P_saetn)-MIN(ROW(P_saetn))+1),COLUMNS($U2:Y2))),\"\")","v":0},{"$f":"IFERROR(INDEX(P_saetn,SMALL(IF(Hazard=Engine!$Q2,ROW(P_saetn)-MIN(ROW(P_saetn))+1),COLUMNS($U2:Z2))),\"\")","v":0},{"$f":"IFERROR(INDEX(P_saetn,SMALL(IF(Hazard=Engine!$Q2,ROW(P_saetn)-MIN(ROW(P_saetn))+1),COLUMNS($U2:AA2))),\"\")","v":0},{"$f":"IFERROR(INDEX(P_saetn,SMALL(IF(Hazard=Engine!$Q2,ROW(P_saetn)-MIN(ROW(P_saetn))+1),COLUMNS($U2:AB2))),\"\")","v":0},{"$f":"IFERROR(INDEX(P_saetn,SMALL(IF(Hazard=Engine!$Q2,ROW(P_saetn)-MIN(ROW(P_saetn))+1),COLUMNS($U2:AC2))),\"\")","v":0},{"$f":"IFERROR(INDEX(P_saetn,SMALL(IF(Hazard=Engine!$Q2,ROW(P_saetn)-MIN(ROW(P_saetn))+1),COLUMNS($U2:AD2))),\"\")","v":0},{"$f":"IFERROR(INDEX(P_saetn,SMALL(IF(Hazard=Engine!$Q2,ROW(P_saetn)-MIN(ROW(P_saetn))+1),COLUMNS($U2:AE2))),\"\")","v":0},{"$f":"IFERROR(INDEX(P_saetn,SMALL(IF(Hazard=Engine!$Q2,ROW(P_saetn)-MIN(ROW(P_saetn))+1),COLUMNS($U2:AF2))),\"\")","v":0},{"$f":"IFERROR(INDEX(P_saetn,SMALL(IF(Hazard=Engine!$Q2,ROW(P_saetn)-MIN(ROW(P_saetn))+1),COLUMNS($U2:AG2))),\"\")","v":0},{"$f":"IFERROR(INDEX(P_saetn,SMALL(IF(Hazard=Engine!$Q2,ROW(P_saetn)-MIN(ROW(P_saetn))+1),COLUMNS($U2:AH2))),\"\")","v":0},{"$f":"IFERROR(INDEX(P_saetn,SMALL(IF(Hazard=Engine!$Q2,ROW(P_saetn)-MIN(ROW(P_saetn))+1),COLUMNS($U2:AI2))),\"\")","v":0},{"$f":"IFERROR(INDEX(P_saetn,SMALL(IF(Hazard=Engine!$Q2,ROW(P_saetn)-MIN(ROW(P_saetn))+1),COLUMNS($U2:AJ2))),\"\")","v":0},{"$f":"IFERROR(INDEX(P_saetn,SMALL(IF(Hazard=Engine!$Q2,ROW(P_saetn)-MIN(ROW(P_saetn))+1),COLUMNS($U2:AK2))),\"\")","v":0},{"$f":"IFERROR(INDEX(P_saetn,SMALL(IF(Hazard=Engine!$Q2,ROW(P_saetn)-MIN(ROW(P_saetn))+1),COLUMNS($U2:AL2))),\"\")","v":0},{"$f":"IFERROR(INDEX(P_saetn,SMALL(IF(Hazard=Engine!$Q2,ROW(P_saetn)-MIN(ROW(P_saetn))+1),COLUMNS($U2:AM2))),\"\")","v":0},{"$f":"IFERROR(INDEX(P_saetn,SMALL(IF(Hazard=Engine!$Q2,ROW(P_saetn)-MIN(ROW(P_saetn))+1),COLUMNS($U2:AN2))),\"\")","v":0},{"$f":"IFERROR(INDEX(P_saetn,SMALL(IF(Hazard=Engine!$Q2,ROW(P_saetn)-MIN(ROW(P_saetn))+1),COLUMNS($U2:AO2))),\"\")","v":0},{"$f":"IFERROR(INDEX(P_saetn,SMALL(IF(Hazard=Engine!$Q2,ROW(P_saetn)-MIN(ROW(P_saetn))+1),COLUMNS($U2:AP2))),\"\")","v":0},{"$f":"IFERROR(INDEX(P_saetn,SMALL(IF(Hazard=Engine!$Q2,ROW(P_saetn)-MIN(ROW(P_saetn))+1),COLUMNS($U2:AQ2))),\"\")","v":0},{"$f":"IFERROR(INDEX(P_saetn,SMALL(IF(Hazard=Engine!$Q2,ROW(P_saetn)-MIN(ROW(P_saetn))+1),COLUMNS($U2:AR2))),\"\")","v":0},{"$f":"IFERROR(INDEX(P_saetn,SMALL(IF(Hazard=Engine!$Q2,ROW(P_saetn)-MIN(ROW(P_saetn))+1),COLUMNS($U2:AS2))),\"\")","v":0},{"$f":"IFERROR(INDEX(P_saetn,SMALL(IF(Hazard=Engine!$Q2,ROW(P_saetn)-MIN(ROW(P_saetn))+1),COLUMNS($U2:AT2))),\"\")","v":0},{"$f":"IFERROR(INDEX(P_saetn,SMALL(IF(Hazard=Engine!$Q2,ROW(P_saetn)-MIN(ROW(P_saetn))+1),COLUMNS($U2:AU2))),\"\")","v":0},{"$f":"IFERROR(INDEX(P_saetn,SMALL(IF(Hazard=Engine!$Q2,ROW(P_saetn)-MIN(ROW(P_saetn))+1),COLUMNS($U2:AV2))),\"\")","v":0},null,{"$f":"INDIRECT(TEXT(MIN(IF(($U11:$AV16<>\"\")*(COUNTIF($AX1:$AX1,$U11:$AV16)=0),ROW($P11:$BM16)*100+COLUMN($U1:$AV29),7^8)),\"R0C00\"),)&\"\"","v":""},{"$f":"ISNUMBER(AX2*1)","v":false},{"$f":"IF(AY2=TRUE,AX2*1,\"\")","v":""},{"$f":"IF(AY2=FALSE,AX2,\"\")","v":""},{"$f":"COUNTIF(AZ2:AZ12,\"<=\"&AZ2)","v":0},{"$f":"IF(COUNTIF(BA2:BA12,\"<=\"&BA2)=0,\"\",COUNTIF(BA2:BA12,\"<=\"&BA2))","v":""},{"$f":"IFERROR(SMALL(AZ2:AZ12,ROWS(AX2:AX2)),\"\")","v":""},{"$f":"IFERROR(INDEX(BD2:BD23,SMALL(IF(BD2:BD23<>\"\",ROW(BD2:BD23)-MIN(ROW(BD2:BD23))+1),ROWS(AX2:AX2))),\"\")","v":""},null,{"$f":"U20","v":0},{"$f":"COUNTIF($BG$2:BG2,\"*\"&BG2&\"*\")","v":0},{"$f":"IF(BH2=1,BG2,\"\")","v":""},{"$f":"IF(COUNTIF($BI$2:$BI$308,\"<=\"&BI2)=0,\"\",COUNTIF($BI$2:$BI$308,\"<=\"&BI2)-COUNTBLANK($BI$2:$BI$308))","v":""},{"$f":"IFERROR(INDEX(BI$2:BI$308,MATCH(ROWS(BJ$2:BJ2),BJ$2:BJ$308,0)),\"\")","v":""},{"$f":"COUNTIF($BK2:$BK$308,\"*\"&BK2&\"*\")","v":307},{"$f":"IF(BL2=1,BK2,\"\")","v":""},{"$f":"IF(COUNTIF(BM$2:BM$308,\"<=\"&BM2)=0,\"\",COUNTIF(BM$2:BM$308,\"<=\"&BM2)-COUNTBLANK(BM$2:BM$308))","v":""},{"$f":"IFERROR(INDEX($BM$2:$BM$308,MATCH(ROWS(BN$2:BN2),BN$2:BN308,0)),\"\")","v":""},{"$f":"IFERROR(VLOOKUP(Engine!BO2,P_sentences_overview!H1:I130,2),\"\")","v":""}]
[null,null,null,null,null,null,null,null,null,null,null,null,null,{"$f":"OFFSET($P$2,(ROW()-2)*31,0)","v":"(none)"},null,null,null,null,null,null,{"$f":"SMALL(IF(Hazard=Engine!$Q2,ROW(P_saetn)-MIN(ROW(P_saetn))+1),COLUMNS($U2:U2)+1)","v":465},{"$f":"SMALL(IF(Hazard=Engine!$Q2,ROW(P_saetn)-MIN(ROW(P_saetn))+1),COLUMNS($U2:V2)+1)","v":466},{"$f":"SMALL(IF(Hazard=Engine!$Q2,ROW(P_saetn)-MIN(ROW(P_saetn))+1),COLUMNS($U2:W2)+1)","v":467},{"$f":"SMALL(IF(Hazard=Engine!$Q2,ROW(P_saetn)-MIN(ROW(P_saetn))+1),COLUMNS($U2:X2)+1)","v":468},{"$f":"SMALL(IF(Hazard=Engine!$Q2,ROW(P_saetn)-MIN(ROW(P_saetn))+1),COLUMNS($U2:Y2)+1)","v":469},{"$f":"SMALL(IF(Hazard=Engine!$Q2,ROW(P_saetn)-MIN(ROW(P_saetn))+1),COLUMNS($U2:Z2)+1)","v":470},{"$f":"SMALL(IF(Hazard=Engine!$Q2,ROW(P_saetn)-MIN(ROW(P_saetn))+1),COLUMNS($U2:AA2)+1)","v":471},{"$f":"SMALL(IF(Hazard=Engine!$Q2,ROW(P_saetn)-MIN(ROW(P_saetn))+1),COLUMNS($U2:AB2)+1)","v":472},{"$f":"SMALL(IF(Hazard=Engine!$Q2,ROW(P_saetn)-MIN(ROW(P_saetn))+1),COLUMNS($U2:AC2)+1)","v":473},{"$f":"SMALL(IF(Hazard=Engine!$Q2,ROW(P_saetn)-MIN(ROW(P_saetn))+1),COLUMNS($U2:AD2)+1)","v":474},{"$f":"SMALL(IF(Hazard=Engine!$Q2,ROW(P_saetn)-MIN(ROW(P_saetn))+1),COLUMNS($U2:AE2)+1)","v":475},{"$f":"SMALL(IF(Hazard=Engine!$Q2,ROW(P_saetn)-MIN(ROW(P_saetn))+1),COLUMNS($U2:AF2)+1)","v":476},{"$f":"SMALL(IF(Hazard=Engine!$Q2,ROW(P_saetn)-MIN(ROW(P_saetn))+1),COLUMNS($U2:AG2)+1)","v":477},{"$f":"SMALL(IF(Hazard=Engine!$Q2,ROW(P_saetn)-MIN(ROW(P_saetn))+1),COLUMNS($U2:AH2)+1)","v":478},{"$f":"SMALL(IF(Hazard=Engine!$Q2,ROW(P_saetn)-MIN(ROW(P_saetn))+1),COLUMNS($U2:AI2)+1)","v":479},{"$f":"SMALL(IF(Hazard=Engine!$Q2,ROW(P_saetn)-MIN(ROW(P_saetn))+1),COLUMNS($U2:AJ2)+1)","v":480},{"$f":"SMALL(IF(Hazard=Engine!$Q2,ROW(P_saetn)-MIN(ROW(P_saetn))+1),COLUMNS($U2:AK2)+1)","v":481},{"$f":"SMALL(IF(Hazard=Engine!$Q2,ROW(P_saetn)-MIN(ROW(P_saetn))+1),COLUMNS($U2:AL2)+1)","v":482},{"$f":"SMALL(IF(Hazard=Engine!$Q2,ROW(P_saetn)-MIN(ROW(P_saetn))+1),COLUMNS($U2:AM2)+1)","v":483},{"$f":"SMALL(IF(Hazard=Engine!$Q2,ROW(P_saetn)-MIN(ROW(P_saetn))+1),COLUMNS($U2:AN2)+1)","v":484},{"$f":"SMALL(IF(Hazard=Engine!$Q2,ROW(P_saetn)-MIN(ROW(P_saetn))+1),COLUMNS($U2:AO2)+1)","v":485},{"$f":"SMALL(IF(Hazard=Engine!$Q2,ROW(P_saetn)-MIN(ROW(P_saetn))+1),COLUMNS($U2:AP2)+1)","v":486},{"$f":"SMALL(IF(Hazard=Engine!$Q2,ROW(P_saetn)-MIN(ROW(P_saetn))+1),COLUMNS($U2:AQ2)+1)","v":487},{"$f":"SMALL(IF(Hazard=Engine!$Q2,ROW(P_saetn)-MIN(ROW(P_saetn))+1),COLUMNS($U2:AR2)+1)","v":488},{"$f":"SMALL(IF(Hazard=Engine!$Q2,ROW(P_saetn)-MIN(ROW(P_saetn))+1),COLUMNS($U2:AS2)+1)","v":489},{"$f":"SMALL(IF(Hazard=Engine!$Q2,ROW(P_saetn)-MIN(ROW(P_saetn))+1),COLUMNS($U2:AT2)+1)","v":490},{"$f":"SMALL(IF(Hazard=Engine!$Q2,ROW(P_saetn)-MIN(ROW(P_saetn))+1),COLUMNS($U2:AU2)+1)","v":491},{"$f":"SMALL(IF(Hazard=Engine!$Q2,ROW(P_saetn)-MIN(ROW(P_saetn))+1),COLUMNS($U2:AV2)+1)","v":492},null,{"$f":"INDIRECT(TEXT(MIN(IF(($U11:$AV16<>\"\")*(COUNTIF($AX1:$AX2,$U11:$AV16)=0),ROW($P11:$BM16)*100+COLUMN($U1:$AV29),7^8)),\"R0C00\"),)&\"\"","v":""},false,"","",{"$f":"COUNTIF(AZ2:AZ12,\"<=\"&AZ3)","v":0},{"$f":"IF(COUNTIF(BA2:BA12,\"<=\"&BA3)=0,\"\",COUNTIF(BA2:BA12,\"<=\"&BA3))","v":""},{"$f":"IFERROR(SMALL(AZ2:AZ12,ROWS(AX2:AX3)),\"\")","v":""},{"$f":"IFERROR(INDEX(BD2:BD23,SMALL(IF(BD2:BD23<>\"\",ROW(BD2:BD23)-MIN(ROW(BD2:BD23))+1),ROWS(AX2:AX3))),\"\")","v":""},null,{"$f":"+V20","v":0},{"$f":"COUNTIF($BG$2:BG3,\"*\"&BG3&\"*\")","v":0},"",{"$f":"IF(COUNTIF($BI$2:$BI$308,\"<=\"&BI3)=0,\"\",COUNTIF($BI$2:$BI$308,\"<=\"&BI3)-COUNTBLANK($BI$2:$BI$308))","v":""},{"$f":"IFERROR(INDEX(BI$2:BI$308,MATCH(ROWS(BJ$2:BJ3),BJ$2:BJ$308,0)),\"\")","v":""},{"$f":"COUNTIF($BK3:$BK$308,\"*\"&BK3&\"*\")","v":306},{"$f":"IF(BL3=1,BK3,\"\")","v":""},{"$f":"IF(COUNTIF(BM$2:BM$308,\"<=\"&BM3)=0,\"\",COUNTIF(BM$2:BM$308,\"<=\"&BM3)-COUNTBLANK(BM$2:BM$308))","v":""},{"$f":"IFERROR(INDEX($BM$2:$BM$308,MATCH(ROWS(BN$2:BN3),BN$2:BN309,0)),\"\")","v":""},{"$f":"IFERROR(VLOOKUP(Engine!BO3,P_sentences_overview!H2:I131,2),\"\")","v":""}]
[null,null,null,null,null,null,null,null,null,null,null,null,null,{"$f":"OFFSET($P$2,(ROW()-2)*31,0)","v":"(none)"},null,null,null,null,null,null,{"$f":"IFERROR(INDEX(Haz_Cat,SMALL(IF(Hazard=Engine!$Q2,ROW(Haz_Cat)-MIN(ROW(Haz_Cat))+1),COLUMNS($U4:U4)),COLUMNS(Main!D$2:D$2)),\"\")","v":0},{"$f":"IFERROR(INDEX(Haz_Cat,SMALL(IF(Hazard=Engine!$Q2,ROW(Haz_Cat)-MIN(ROW(Haz_Cat))+1),COLUMNS($U4:V4)),COLUMNS(Main!E$2:E$2)),\"\")","v":0},{"$f":"IFERROR(INDEX(Haz_Cat,SMALL(IF(Hazard=Engine!$Q2,ROW(Haz_Cat)-MIN(ROW(Haz_Cat))+1),COLUMNS($U4:W4)),COLUMNS(Main!F$2:F$2)),\"\")","v":0},{"$f":"IFERROR(INDEX(Haz_Cat,SMALL(IF(Hazard=Engine!$Q2,ROW(Haz_Cat)-MIN(ROW(Haz_Cat))+1),COLUMNS($U4:X4)),COLUMNS(Main!G$2:G$2)),\"\")","v":0},{"$f":"IFERROR(INDEX(Haz_Cat,SMALL(IF(Hazard=Engine!$Q2,ROW(Haz_Cat)-MIN(ROW(Haz_Cat))+1),COLUMNS($U4:Y4)),COLUMNS(Main!H$2:H$2)),\"\")","v":0},{"$f":"IFERROR(INDEX(Haz_Cat,SMALL(IF(Hazard=Engine!$Q2,ROW(Haz_Cat)-MIN(ROW(Haz_Cat))+1),COLUMNS($U4:Z4)),COLUMNS(Main!I$2:I$2)),\"\")","v":0},{"$f":"IFERROR(INDEX(Haz_Cat,SMALL(IF(Hazard=Engine!$Q2,ROW(Haz_Cat)-MIN(ROW(Haz_Cat))+1),COLUMNS($U4:AA4)),COLUMNS(Main!J$2:J$2)),\"\")","v":0},{"$f":"IFERROR(INDEX(Haz_Cat,SMALL(IF(Hazard=Engine!$Q2,ROW(Haz_Cat)-MIN(ROW(Haz_Cat))+1),COLUMNS($U4:AB4)),COLUMNS(Main!K$2:K$2)),\"\")","v":0},{"$f":"IFERROR(INDEX(Haz_Cat,SMALL(IF(Hazard=Engine!$Q2,ROW(Haz_Cat)-MIN(ROW(Haz_Cat))+1),COLUMNS($U4:AC4)),COLUMNS(Main!L$2:L$2)),\"\")","v":0},{"$f":"IFERROR(INDEX(Haz_Cat,SMALL(IF(Hazard=Engine!$Q2,ROW(Haz_Cat)-MIN(ROW(Haz_Cat))+1),COLUMNS($U4:AD4)),COLUMNS(Main!M$2:M$2)),\"\")","v":0},{"$f":"IFERROR(INDEX(Haz_Cat,SMALL(IF(Hazard=Engine!$Q2,ROW(Haz_Cat)-MIN(ROW(Haz_Cat))+1),COLUMNS($U4:AE4)),COLUMNS(Main!N$2:N$2)),\"\")","v":0},{"$f":"IFERROR(INDEX(Haz_Cat,SMALL(IF(Hazard=Engine!$Q2,ROW(Haz_Cat)-MIN(ROW(Haz_Cat))+1),COLUMNS($U4:AF4)),COLUMNS(Main!O$2:O$2)),\"\")","v":0},{"$f":"IFERROR(INDEX(Haz_Cat,SMALL(IF(Hazard=Engine!$Q2,ROW(Haz_Cat)-MIN(ROW(Haz_Cat))+1),COLUMNS($U4:AG4)),COLUMNS(Main!P$2:P$2)),\"\")","v":0},{"$f":"IFERROR(INDEX(Haz_Cat,SMALL(IF(Hazard=Engine!$Q2,ROW(Haz_Cat)-MIN(ROW(Haz_Cat))+1),COLUMNS($U4:AH4)),COLUMNS(Main!Q$2:Q$2)),\"\")","v":0},{"$f":"IFERROR(INDEX(Haz_Cat,SMALL(IF(Hazard=Engine!$Q2,ROW(Haz_Cat)-MIN(ROW(Haz_Cat))+1),COLUMNS($U4:AI4)),COLUMNS(Main!R$2:R$2)),\"\")","v":0},{"$f":"IFERROR(INDEX(Haz_Cat,SMALL(IF(Hazard=Engine!$Q2,ROW(Haz_Cat)-MIN(ROW(Haz_Cat))+1),COLUMNS($U4:AJ4)),COLUMNS(Main!S$2:S$2)),\"\")","v":0},{"$f":"IFERROR(INDEX(Haz_Cat,SMALL(IF(Hazard=Engine!$Q2,ROW(Haz_Cat)-MIN(ROW(Haz_Cat))+1),COLUMNS($U4:AK4)),COLUMNS(Main!T$2:T$2)),\"\")","v":0},{"$f":"IFERROR(INDEX(Haz_Cat,SMALL(IF(Hazard=Engine!$Q2,ROW(Haz_Cat)-MIN(ROW(Haz_Cat))+1),COLUMNS($U4:AL4)),COLUMNS(Main!U$2:U$2)),\"\")","v":0},{"$f":"IFERROR(INDEX(Haz_Cat,SMALL(IF(Hazard=Engine!$Q2,ROW(Haz_Cat)-MIN(ROW(Haz_Cat))+1),COLUMNS($U4:AM4)),COLUMNS(Main!V$2:V$2)),\"\")","v":0},{"$f":"IFERROR(INDEX(Haz_Cat,SMALL(IF(Hazard=Engine!$Q2,ROW(Haz_Cat)-MIN(ROW(Haz_Cat))+1),COLUMNS($U4:AN4)),COLUMNS(Main!W$2:W$2)),\"\")","v":0},{"$f":"IFERROR(INDEX(Haz_Cat,SMALL(IF(Hazard=Engine!$Q2,ROW(Haz_Cat)-MIN(ROW(Haz_Cat))+1),COLUMNS($U4:AO4)),COLUMNS(Main!X$2:X$2)),\"\")","v":0},{"$f":"IFERROR(INDEX(Haz_Cat,SMALL(IF(Hazard=Engine!$Q2,ROW(Haz_Cat)-MIN(ROW(Haz_Cat))+1),COLUMNS($U4:AP4)),COLUMNS(Main!Y$2:Y$2)),\"\")","v":0},{"$f":"IFERROR(INDEX(Haz_Cat,SMALL(IF(Hazard=Engine!$Q2,ROW(Haz_Cat)-MIN(ROW(Haz_Cat))+1),COLUMNS($U4:AQ4)),COLUMNS(Main!Z$2:Z$2)),\"\")","v":0},{"$f":"IFERROR(INDEX(Haz_Cat,SMALL(IF(Hazard=Engine!$Q2,ROW(Haz_Cat)-MIN(ROW(Haz_Cat))+1),COLUMNS($U4:AR4)),COLUMNS(Main!AA$2:AA$2)),\"\")","v":0},{"$f":"IFERROR(INDEX(Haz_Cat,SMALL(IF(Hazard=Engine!$Q2,ROW(Haz_Cat)-MIN(ROW(Haz_Cat))+1),COLUMNS($U4:AS4)),COLUMNS(Main!AB$2:AB$2)),\"\")","v":0},{"$f":"IFERROR(INDEX(Haz_Cat,SMALL(IF(Hazard=Engine!$Q2,ROW(Haz_Cat)-MIN(ROW(Haz_Cat))+1),COLUMNS($U4:AT4)),COLUMNS(Main!AC$2:AC$2)),\"\")","v":0},{"$f":"IFERROR(INDEX(Haz_Cat,SMALL(IF(Hazard=Engine!$Q2,ROW(Haz_Cat)-MIN(ROW(Haz_Cat))+1),COLUMNS($U4:AU4)),COLUMNS(Main!AD$2:AD$2)),\"\")","v":0},{"$f":"IFERROR(INDEX(Haz_Cat,SMALL(IF(Hazard=Engine!$Q2,ROW(Haz_Cat)-MIN(ROW(Haz_Cat))+1),COLUMNS($U4:AV4)),COLUMNS(Main!AE$2:AE$2)),\"\")","v":0},null,{"$f":"INDIRECT(TEXT(MIN(IF(($U11:$AV16<>\"\")*(COUNTIF($AX1:$AX3,$U11:$AV16)=0),ROW($P11:$BM16)*100+COLUMN($U1:$AV29),7^8)),\"R0C00\"),)&\"\"","v":""},false,"","",{"$f":"COUNTIF(AZ2:AZ12,\"<=\"&AZ4)","v":0},{"$f":"IF(COUNTIF(BA2:BA12,\"<=\"&BA4)=0,\"\",COUNTIF(BA2:BA12,\"<=\"&BA4))","v":""},{"$f":"IFERROR(SMALL(AZ2:AZ12,ROWS(AX2:AX4)),\"\")","v":""},{"$f":"IFERROR(INDEX(BD2:BD23,SMALL(IF(BD2:BD23<>\"\",ROW(BD2:BD23)-MIN(ROW(BD2:BD23))+1),ROWS(AX2:AX4))),\"\")","v":""},null,{"$f":"+W20","v":0},{"$f":"COUNTIF($BG$2:BG4,\"*\"&BG4&\"*\")","v":0},"","",{"$f":"IFERROR(INDEX(BI$2:BI$308,MATCH(ROWS(BJ$2:BJ4),BJ$2:BJ$308,0)),\"\")","v":""},{"$f":"COUNTIF($BK4:$BK$308,\"*\"&BK4&\"*\")","v":305},"","",{"$f":"IFERROR(INDEX($BM$2:$BM$308,MATCH(ROWS(BN$2:BN4),BN$2:BN310,0)),\"\")","v":""},{"$f":"IFERROR(VLOOKUP(Engine!BO4,P_sentences_overview!H3:I132,2),\"\")","v":""}]
[null,null,null,null,null,null,null,null,null,null,null,null,null,"(none)",null,null,null,null,null,null,{"$f":"IFERROR(INDEX(Haz_Cat,SMALL(IF(Hazard=Engine!$Q2,ROW(Haz_Cat)-MIN(ROW(Haz_Cat))+1),COLUMNS($U4:U4)),COLUMNS(Main!$D2:$E2)),\"\")","v":0},{"$f":"IFERROR(INDEX(Haz_Cat,SMALL(IF(Hazard=Engine!$Q2,ROW(Haz_Cat)-MIN(ROW(Haz_Cat))+1),COLUMNS($U4:V4)),COLUMNS(Main!$D2:$E2)),\"\")","v":0},{"$f":"IFERROR(INDEX(Haz_Cat,SMALL(IF(Hazard=Engine!$Q2,ROW(Haz_Cat)-MIN(ROW(Haz_Cat))+1),COLUMNS($U4:W4)),COLUMNS(Main!$D2:$E2)),\"\")","v":0},{"$f":"IFERROR(INDEX(Haz_Cat,SMALL(IF(Hazard=Engine!$Q2,ROW(Haz_Cat)-MIN(ROW(Haz_Cat))+1),COLUMNS($U4:X4)),COLUMNS(Main!$D2:$E2)),\"\")","v":0},{"$f":"IFERROR(INDEX(Haz_Cat,SMALL(IF(Hazard=Engine!$Q2,ROW(Haz_Cat)-MIN(ROW(Haz_Cat))+1),COLUMNS($U4:Y4)),COLUMNS(Main!$D2:$E2)),\"\")","v":0},{"$f":"IFERROR(INDEX(Haz_Cat,SMALL(IF(Hazard=Engine!$Q2,ROW(Haz_Cat)-MIN(ROW(Haz_Cat))+1),COLUMNS($U4:Z4)),COLUMNS(Main!$D2:$E2)),\"\")","v":0},{"$f":"IFERROR(INDEX(Haz_Cat,SMALL(IF(Hazard=Engine!$Q2,ROW(Haz_Cat)-MIN(ROW(Haz_Cat))+1),COLUMNS($U4:AA4)),COLUMNS(Main!$D2:$E2)),\"\")","v":0},{"$f":"IFERROR(INDEX(Haz_Cat,SMALL(IF(Hazard=Engine!$Q2,ROW(Haz_Cat)-MIN(ROW(Haz_Cat))+1),COLUMNS($U4:AB4)),COLUMNS(Main!$D2:$E2)),\"\")","v":0},{"$f":"IFERROR(INDEX(Haz_Cat,SMALL(IF(Hazard=Engine!$Q2,ROW(Haz_Cat)-MIN(ROW(Haz_Cat))+1),COLUMNS($U4:AC4)),COLUMNS(Main!$D2:$E2)),\"\")","v":0},{"$f":"IFERROR(INDEX(Haz_Cat,SMALL(IF(Hazard=Engine!$Q2,ROW(Haz_Cat)-MIN(ROW(Haz_Cat))+1),COLUMNS($U4:AD4)),COLUMNS(Main!$D2:$E2)),\"\")","v":0},{"$f":"IFERROR(INDEX(Haz_Cat,SMALL(IF(Hazard=Engine!$Q2,ROW(Haz_Cat)-MIN(ROW(Haz_Cat))+1),COLUMNS($U4:AE4)),COLUMNS(Main!$D2:$E2)),\"\")","v":0},{"$f":"IFERROR(INDEX(Haz_Cat,SMALL(IF(Hazard=Engine!$Q2,ROW(Haz_Cat)-MIN(ROW(Haz_Cat))+1),COLUMNS($U4:AF4)),COLUMNS(Main!$D2:$E2)),\"\")","v":0},{"$f":"IFERROR(INDEX(Haz_Cat,SMALL(IF(Hazard=Engine!$Q2,ROW(Haz_Cat)-MIN(ROW(Haz_Cat))+1),COLUMNS($U4:AG4)),COLUMNS(Main!$D2:$E2)),\"\")","v":0},{"$f":"IFERROR(INDEX(Haz_Cat,SMALL(IF(Hazard=Engine!$Q2,ROW(Haz_Cat)-MIN(ROW(Haz_Cat))+1),COLUMNS($U4:AH4)),COLUMNS(Main!$D2:$E2)),\"\")","v":0},{"$f":"IFERROR(INDEX(Haz_Cat,SMALL(IF(Hazard=Engine!$Q2,ROW(Haz_Cat)-MIN(ROW(Haz_Cat))+1),COLUMNS($U4:AI4)),COLUMNS(Main!$D2:$E2)),\"\")","v":0},{"$f":"IFERROR(INDEX(Haz_Cat,SMALL(IF(Hazard=Engine!$Q2,ROW(Haz_Cat)-MIN(ROW(Haz_Cat))+1),COLUMNS($U4:AJ4)),COLUMNS(Main!$D2:$E2)),\"\")","v":0},{"$f":"IFERROR(INDEX(Haz_Cat,SMALL(IF(Hazard=Engine!$Q2,ROW(Haz_Cat)-MIN(ROW(Haz_Cat))+1),COLUMNS($U4:AK4)),COLUMNS(Main!$D2:$E2)),\"\")","v":0},{"$f":"IFERROR(INDEX(Haz_Cat,SMALL(IF(Hazard=Engine!$Q2,ROW(Haz_Cat)-MIN(ROW(Haz_Cat))+1),COLUMNS($U4:AL4)),COLUMNS(Main!$D2:$E2)),\"\")","v":0},{"$f":"IFERROR(INDEX(Haz_Cat,SMALL(IF(Hazard=Engine!$Q2,ROW(Haz_Cat)-MIN(ROW(Haz_Cat))+1),COLUMNS($U4:AM4)),COLUMNS(Main!$D2:$E2)),\"\")","v":0},{"$f":"IFERROR(INDEX(Haz_Cat,SMALL(IF(Hazard=Engine!$Q2,ROW(Haz_Cat)-MIN(ROW(Haz_Cat))+1),COLUMNS($U4:AN4)),COLUMNS(Main!$D2:$E2)),\"\")","v":0},{"$f":"IFERROR(INDEX(Haz_Cat,SMALL(IF(Hazard=Engine!$Q2,ROW(Haz_Cat)-MIN(ROW(Haz_Cat))+1),COLUMNS($U4:AO4)),COLUMNS(Main!$D2:$E2)),\"\")","v":0},{"$f":"IFERROR(INDEX(Haz_Cat,SMALL(IF(Hazard=Engine!$Q2,ROW(Haz_Cat)-MIN(ROW(Haz_Cat))+1),COLUMNS($U4:AP4)),COLUMNS(Main!$D2:$E2)),\"\")","v":0},{"$f":"IFERROR(INDEX(Haz_Cat,SMALL(IF(Hazard=Engine!$Q2,ROW(Haz_Cat)-MIN(ROW(Haz_Cat))+1),COLUMNS($U4:AQ4)),COLUMNS(Main!$D2:$E2)),\"\")","v":0},{"$f":"IFERROR(INDEX(Haz_Cat,SMALL(IF(Hazard=Engine!$Q2,ROW(Haz_Cat)-MIN(ROW(Haz_Cat))+1),COLUMNS($U4:AR4)),COLUMNS(Main!$D2:$E2)),\"\")","v":0},{"$f":"IFERROR(INDEX(Haz_Cat,SMALL(IF(Hazard=Engine!$Q2,ROW(Haz_Cat)-MIN(ROW(Haz_Cat))+1),COLUMNS($U4:AS4)),COLUMNS(Main!$D2:$E2)),\"\")","v":0},{"$f":"IFERROR(INDEX(Haz_Cat,SMALL(IF(Hazard=Engine!$Q2,ROW(Haz_Cat)-MIN(ROW(Haz_Cat))+1),COLUMNS($U4:AT4)),COLUMNS(Main!$D2:$E2)),\"\")","v":0},{"$f":"IFERROR(INDEX(Haz_Cat,SMALL(IF(Hazard=Engine!$Q2,ROW(Haz_Cat)-MIN(ROW(Haz_Cat))+1),COLUMNS($U4:AU4)),COLUMNS(Main!$D2:$E2)),\"\")","v":0},{"$f":"IFERROR(INDEX(Haz_Cat,SMALL(IF(Hazard=Engine!$Q2,ROW(Haz_Cat)-MIN(ROW(Haz_Cat))+1),COLUMNS($U4:AV4)),COLUMNS(Main!$D2:$E2)),\"\")","v":0},null,{"$f":"INDIRECT(TEXT(MIN(IF(($U11:$AV16<>\"\")*(COUNTIF($AX1:$AX4,$U11:$AV16)=0),ROW($P11:$BM16)*100+COLUMN($U1:$AV29),7^8)),\"R0C00\"),)&\"\"","v":""},false,"","",{"$f":"COUNTIF(AZ2:AZ12,\"<=\"&AZ5)","v":0},{"$f":"IF(COUNTIF(BA2:BA12,\"<=\"&BA5)=0,\"\",COUNTIF(BA2:BA12,\"<=\"&BA5))","v":""},{"$f":"IFERROR(SMALL(AZ2:AZ12,ROWS(AX2:AX5)),\"\")","v":""},{"$f":"IFERROR(INDEX(BD2:BD23,SMALL(IF(BD2:BD23<>\"\",ROW(BD2:BD23)-MIN(ROW(BD2:BD23))+1),ROWS(AX2:AX5))),\"\")","v":""},null,{"$f":"+X20","v":0},{"$f":"COUNTIF($BG$2:BG5,\"*\"&BG5&\"*\")","v":0},"","",{"$f":"IFERROR(INDEX(BI$2:BI$308,MATCH(ROWS(BJ$2:BJ5),BJ$2:BJ$308,0)),\"\")","v":""},{"$f":"COUNTIF($BK5:$BK$308,\"*\"&BK5&\"*\")","v":304},"","",{"$f":"IFERROR(INDEX($BM$2:$BM$308,MATCH(ROWS(BN$2:BN5),BN$2:BN311,0)),\"\")","v":""},{"$f":"IFERROR(VLOOKUP(Engine!BO5,P_sentences_overview!H4:I133,2),\"\")","v":""}]
[null,null,null,null,null,null,null,null,null,null,null,null,null,"(none)",null,{"$f":"INDEX(H_sentences_overview!$A$1:$A$134,Engine!P7)","v":"(none)"},null,{"$f":"INDEX(BE2:BE7,Engine!R7)","v":""},null,null,{"$f":"IFERROR(INDEX(Haz_Cat,SMALL(IF(Hazard=Engine!$Q2,ROW(Haz_Cat)-MIN(ROW(Haz_Cat))+1),COLUMNS($U4:U4)),COLUMNS(Main!$D2:$F2)),\"\")","v":0},{"$f":"IFERROR(INDEX(Haz_Cat,SMALL(IF(Hazard=Engine!$Q2,ROW(Haz_Cat)-MIN(ROW(Haz_Cat))+1),COLUMNS($U4:V4)),COLUMNS(Main!$D2:$F2)),\"\")","v":0},{"$f":"IFERROR(INDEX(Haz_Cat,SMALL(IF(Hazard=Engine!$Q2,ROW(Haz_Cat)-MIN(ROW(Haz_Cat))+1),COLUMNS($U4:W4)),COLUMNS(Main!$D2:$F2)),\"\")","v":0},{"$f":"IFERROR(INDEX(Haz_Cat,SMALL(IF(Hazard=Engine!$Q2,ROW(Haz_Cat)-MIN(ROW(Haz_Cat))+1),COLUMNS($U4:X4)),COLUMNS(Main!$D2:$F2)),\"\")","v":0},{"$f":"IFERROR(INDEX(Haz_Cat,SMALL(IF(Hazard=Engine!$Q2,ROW(Haz_Cat)-MIN(ROW(Haz_Cat))+1),COLUMNS($U4:Y4)),COLUMNS(Main!$D2:$F2)),\"\")","v":0},{"$f":"IFERROR(INDEX(Haz_Cat,SMALL(IF(Hazard=Engine!$Q2,ROW(Haz_Cat)-MIN(ROW(Haz_Cat))+1),COLUMNS($U4:Z4)),COLUMNS(Main!$D2:$F2)),\"\")","v":0},{"$f":"IFERROR(INDEX(Haz_Cat,SMALL(IF(Hazard=Engine!$Q2,ROW(Haz_Cat)-MIN(ROW(Haz_Cat))+1),COLUMNS($U4:AA4)),COLUMNS(Main!$D2:$F2)),\"\")","v":0},{"$f":"IFERROR(INDEX(Haz_Cat,SMALL(IF(Hazard=Engine!$Q2,ROW(Haz_Cat)-MIN(ROW(Haz_Cat))+1),COLUMNS($U4:AB4)),COLUMNS(Main!$D2:$F2)),\"\")","v":0},{"$f":"IFERROR(INDEX(Haz_Cat,SMALL(IF(Hazard=Engine!$Q2,ROW(Haz_Cat)-MIN(ROW(Haz_Cat))+1),COLUMNS($U4:AC4)),COLUMNS(Main!$D2:$F2)),\"\")","v":0},{"$f":"IFERROR(INDEX(Haz_Cat,SMALL(IF(Hazard=Engine!$Q2,ROW(Haz_Cat)-MIN(ROW(Haz_Cat))+1),COLUMNS($U4:AD4)),COLUMNS(Main!$D2:$F2)),\"\")","v":0},{"$f":"IFERROR(INDEX(Haz_Cat,SMALL(IF(Hazard=Engine!$Q2,ROW(Haz_Cat)-MIN(ROW(Haz_Cat))+1),COLUMNS($U4:AE4)),COLUMNS(Main!$D2:$F2)),\"\")","v":0},{"$f":"IFERROR(INDEX(Haz_Cat,SMALL(IF(Hazard=Engine!$Q2,ROW(Haz_Cat)-MIN(ROW(Haz_Cat))+1),COLUMNS($U4:AF4)),COLUMNS(Main!$D2:$F2)),\"\")","v":0},{"$f":"IFERROR(INDEX(Haz_Cat,SMALL(IF(Hazard=Engine!$Q2,ROW(Haz_Cat)-MIN(ROW(Haz_Cat))+1),COLUMNS($U4:AG4)),COLUMNS(Main!$D2:$F2)),\"\")","v":0},{"$f":"IFERROR(INDEX(Haz_Cat,SMALL(IF(Hazard=Engine!$Q2,ROW(Haz_Cat)-MIN(ROW(Haz_Cat))+1),COLUMNS($U4:AH4)),COLUMNS(Main!$D2:$F2)),\"\")","v":0},{"$f":"IFERROR(INDEX(Haz_Cat,SMALL(IF(Hazard=Engine!$Q2,ROW(Haz_Cat)-MIN(ROW(Haz_Cat))+1),COLUMNS($U4:AI4)),COLUMNS(Main!$D2:$F2)),\"\")","v":0},{"$f":"IFERROR(INDEX(Haz_Cat,SMALL(IF(Hazard=Engine!$Q2,ROW(Haz_Cat)-MIN(ROW(Haz_Cat))+1),COLUMNS($U4:AJ4)),COLUMNS(Main!$D2:$F2)),\"\")","v":0},{"$f":"IFERROR(INDEX(Haz_Cat,SMALL(IF(Hazard=Engine!$Q2,ROW(Haz_Cat)-MIN(ROW(Haz_Cat))+1),COLUMNS($U4:AK4)),COLUMNS(Main!$D2:$F2)),\"\")","v":0},{"$f":"IFERROR(INDEX(Haz_Cat,SMALL(IF(Hazard=Engine!$Q2,ROW(Haz_Cat)-MIN(ROW(Haz_Cat))+1),COLUMNS($U4:AL4)),COLUMNS(Main!$D2:$F2)),\"\")","v":0},{"$f":"IFERROR(INDEX(Haz_Cat,SMALL(IF(Hazard=Engine!$Q2,ROW(Haz_Cat)-MIN(ROW(Haz_Cat))+1),COLUMNS($U4:AM4)),COLUMNS(Main!$D2:$F2)),\"\")","v":0},{"$f":"IFERROR(INDEX(Haz_Cat,SMALL(IF(Hazard=Engine!$Q2,ROW(Haz_Cat)-MIN(ROW(Haz_Cat))+1),COLUMNS($U4:AN4)),COLUMNS(Main!$D2:$F2)),\"\")","v":0},{"$f":"IFERROR(INDEX(Haz_Cat,SMALL(IF(Hazard=Engine!$Q2,ROW(Haz_Cat)-MIN(ROW(Haz_Cat))+1),COLUMNS($U4:AO4)),COLUMNS(Main!$D2:$F2)),\"\")","v":0},{"$f":"IFERROR(INDEX(Haz_Cat,SMALL(IF(Hazard=Engine!$Q2,ROW(Haz_Cat)-MIN(ROW(Haz_Cat))+1),COLUMNS($U4:AP4)),COLUMNS(Main!$D2:$F2)),\"\")","v":0},{"$f":"IFERROR(INDEX(Haz_Cat,SMALL(IF(Hazard=Engine!$Q2,ROW(Haz_Cat)-MIN(ROW(Haz_Cat))+1),COLUMNS($U4:AQ4)),COLUMNS(Main!$D2:$F2)),\"\")","v":0},{"$f":"IFERROR(INDEX(Haz_Cat,SMALL(IF(Hazard=Engine!$Q2,ROW(Haz_Cat)-MIN(ROW(Haz_Cat))+1),COLUMNS($U4:AR4)),COLUMNS(Main!$D2:$F2)),\"\")","v":0},{"$f":"IFERROR(INDEX(Haz_Cat,SMALL(IF(Hazard=Engine!$Q2,ROW(Haz_Cat)-MIN(ROW(Haz_Cat))+1),COLUMNS($U4:AS4)),COLUMNS(Main!$D2:$F2)),\"\")","v":0},{"$f":"IFERROR(INDEX(Haz_Cat,SMALL(IF(Hazard=Engine!$Q2,ROW(Haz_Cat)-MIN(ROW(Haz_Cat))+1),COLUMNS($U4:AT4)),COLUMNS(Main!$D2:$F2)),\"\")","v":0},{"$f":"IFERROR(INDEX(Haz_Cat,SMALL(IF(Hazard=Engine!$Q2,ROW(Haz_Cat)-MIN(ROW(Haz_Cat))+1),COLUMNS($U4:AU4)),COLUMNS(Main!$D2:$F2)),\"\")","v":0},{"$f":"IFERROR(INDEX(Haz_Cat,SMALL(IF(Hazard=Engine!$Q2,ROW(Haz_Cat)-MIN(ROW(Haz_Cat))+1),COLUMNS($U4:AV4)),COLUMNS(Main!$D2:$F2)),\"\")","v":0},null,{"$f":"INDIRECT(TEXT(MIN(IF(($U11:$AV16<>\"\")*(COUNTIF($AX1:$AX5,$U11:$AV16)=0),ROW($P11:$BM16)*100+COLUMN($U1:$AV29),7^8)),\"R0C00\"),)&\"\"","v":""},false,"","",{"$f":"COUNTIF(AZ2:AZ12,\"<=\"&AZ6)","v":0},{"$f":"IF(COUNTIF(BA2:BA12,\"<=\"&BA6)=0,\"\",COUNTIF(BA2:BA12,\"<=\"&BA6))","v":""},{"$f":"IFERROR(SMALL(AZ2:AZ12,ROWS(AX2:AX6)),\"\")","v":""},{"$f":"IFERROR(INDEX(BD2:BD23,SMALL(IF(BD2:BD23<>\"\",ROW(BD2:BD23)-MIN(ROW(BD2:BD23))+1),ROWS(AX2:AX6))),\"\")","v":""},null,{"$f":"+Y20","v":0},{"$f":"COUNTIF($BG$2:BG6,\"*\"&BG6&\"*\")","v":0},"","",{"$f":"IFERROR(INDEX(BI$2:BI$308,MATCH(ROWS(BJ$2:BJ6),BJ$2:BJ$308,0)),\"\")","v":""},{"$f":"COUNTIF($BK6:$BK$308,\"*\"&BK6&\"*\")","v":303},"","",{"$f":"IFERROR(INDEX($BM$2:$BM$308,MATCH(ROWS(BN$2:BN6),BN$2:BN312,0)),\"\")","v":""},{"$f":"IFERROR(VLOOKUP(Engine!BO6,P_sentences_overview!H5:I134,2),\"\")","v":""}]
[null,null,null,null,null,null,null,null,null,null,null,null,null,"(none)",null,1,null,1,null,null,{"$f":"IFERROR(INDEX(Haz_Cat,SMALL(IF(Hazard=Engine!$Q2,ROW(Haz_Cat)-MIN(ROW(Haz_Cat))+1),COLUMNS($U4:U4)),COLUMNS(Main!$D2:$G2)),\"\")","v":0},{"$f":"IFERROR(INDEX(Haz_Cat,SMALL(IF(Hazard=Engine!$Q2,ROW(Haz_Cat)-MIN(ROW(Haz_Cat))+1),COLUMNS($U4:V4)),COLUMNS(Main!$D2:$G2)),\"\")","v":0},{"$f":"IFERROR(INDEX(Haz_Cat,SMALL(IF(Hazard=Engine!$Q2,ROW(Haz_Cat)-MIN(ROW(Haz_Cat))+1),COLUMNS($U4:W4)),COLUMNS(Main!$D2:$G2)),\"\")","v":0},{"$f":"IFERROR(INDEX(Haz_Cat,SMALL(IF(Hazard=Engine!$Q2,ROW(Haz_Cat)-MIN(ROW(Haz_Cat))+1),COLUMNS($U4:X4)),COLUMNS(Main!$D2:$G2)),\"\")","v":0},{"$f":"IFERROR(INDEX(Haz_Cat,SMALL(IF(Hazard=Engine!$Q2,ROW(Haz_Cat)-MIN(ROW(Haz_Cat))+1),COLUMNS($U4:Y4)),COLUMNS(Main!$D2:$G2)),\"\")","v":0},{"$f":"IFERROR(INDEX(Haz_Cat,SMALL(IF(Hazard=Engine!$Q2,ROW(Haz_Cat)-MIN(ROW(Haz_Cat))+1),COLUMNS($U4:Z4)),COLUMNS(Main!$D2:$G2)),\"\")","v":0},{"$f":"IFERROR(INDEX(Haz_Cat,SMALL(IF(Hazard=Engine!$Q2,ROW(Haz_Cat)-MIN(ROW(Haz_Cat))+1),COLUMNS($U4:AA4)),COLUMNS(Main!$D2:$G2)),\"\")","v":0},{"$f":"IFERROR(INDEX(Haz_Cat,SMALL(IF(Hazard=Engine!$Q2,ROW(Haz_Cat)-MIN(ROW(Haz_Cat))+1),COLUMNS($U4:AB4)),COLUMNS(Main!$D2:$G2)),\"\")","v":0},{"$f":"IFERROR(INDEX(Haz_Cat,SMALL(IF(Hazard=Engine!$Q2,ROW(Haz_Cat)-MIN(ROW(Haz_Cat))+1),COLUMNS($U4:AC4)),COLUMNS(Main!$D2:$G2)),\"\")","v":0},{"$f":"IFERROR(INDEX(Haz_Cat,SMALL(IF(Hazard=Engine!$Q2,ROW(Haz_Cat)-MIN(ROW(Haz_Cat))+1),COLUMNS($U4:AD4)),COLUMNS(Main!$D2:$G2)),\"\")","v":0},{"$f":"IFERROR(INDEX(Haz_Cat,SMALL(IF(Hazard=Engine!$Q2,ROW(Haz_Cat)-MIN(ROW(Haz_Cat))+1),COLUMNS($U4:AE4)),COLUMNS(Main!$D2:$G2)),\"\")","v":0},{"$f":"IFERROR(INDEX(Haz_Cat,SMALL(IF(Hazard=Engine!$Q2,ROW(Haz_Cat)-MIN(ROW(Haz_Cat))+1),COLUMNS($U4:AF4)),COLUMNS(Main!$D2:$G2)),\"\")","v":0},{"$f":"IFERROR(INDEX(Haz_Cat,SMALL(IF(Hazard=Engine!$Q2,ROW(Haz_Cat)-MIN(ROW(Haz_Cat))+1),COLUMNS($U4:AG4)),COLUMNS(Main!$D2:$G2)),\"\")","v":0},{"$f":"IFERROR(INDEX(Haz_Cat,SMALL(IF(Hazard=Engine!$Q2,ROW(Haz_Cat)-MIN(ROW(Haz_Cat))+1),COLUMNS($U4:AH4)),COLUMNS(Main!$D2:$G2)),\"\")","v":0},{"$f":"IFERROR(INDEX(Haz_Cat,SMALL(IF(Hazard=Engine!$Q2,ROW(Haz_Cat)-MIN(ROW(Haz_Cat))+1),COLUMNS($U4:AI4)),COLUMNS(Main!$D2:$G2)),\"\")","v":0},{"$f":"IFERROR(INDEX(Haz_Cat,SMALL(IF(Hazard=Engine!$Q2,ROW(Haz_Cat)-MIN(ROW(Haz_Cat))+1),COLUMNS($U4:AJ4)),COLUMNS(Main!$D2:$G2)),\"\")","v":0},{"$f":"IFERROR(INDEX(Haz_Cat,SMALL(IF(Hazard=Engine!$Q2,ROW(Haz_Cat)-MIN(ROW(Haz_Cat))+1),COLUMNS($U4:AK4)),COLUMNS(Main!$D2:$G2)),\"\")","v":0},{"$f":"IFERROR(INDEX(Haz_Cat,SMALL(IF(Hazard=Engine!$Q2,ROW(Haz_Cat)-MIN(ROW(Haz_Cat))+1),COLUMNS($U4:AL4)),COLUMNS(Main!$D2:$G2)),\"\")","v":0},{"$f":"IFERROR(INDEX(Haz_Cat,SMALL(IF(Hazard=Engine!$Q2,ROW(Haz_Cat)-MIN(ROW(Haz_Cat))+1),COLUMNS($U4:AM4)),COLUMNS(Main!$D2:$G2)),\"\")","v":0},{"$f":"IFERROR(INDEX(Haz_Cat,SMALL(IF(Hazard=Engine!$Q2,ROW(Haz_Cat)-MIN(ROW(Haz_Cat))+1),COLUMNS($U4:AN4)),COLUMNS(Main!$D2:$G2)),\"\")","v":0},{"$f":"IFERROR(INDEX(Haz_Cat,SMALL(IF(Hazard=Engine!$Q2,ROW(Haz_Cat)-MIN(ROW(Haz_Cat))+1),COLUMNS($U4:AO4)),COLUMNS(Main!$D2:$G2)),\"\")","v":0},{"$f":"IFERROR(INDEX(Haz_Cat,SMALL(IF(Hazard=Engine!$Q2,ROW(Haz_Cat)-MIN(ROW(Haz_Cat))+1),COLUMNS($U4:AP4)),COLUMNS(Main!$D2:$G2)),\"\")","v":0},{"$f":"IFERROR(INDEX(Haz_Cat,SMALL(IF(Hazard=Engine!$Q2,ROW(Haz_Cat)-MIN(ROW(Haz_Cat))+1),COLUMNS($U4:AQ4)),COLUMNS(Main!$D2:$G2)),\"\")","v":0},{"$f":"IFERROR(INDEX(Haz_Cat,SMALL(IF(Hazard=Engine!$Q2,ROW(Haz_Cat)-MIN(ROW(Haz_Cat))+1),COLUMNS($U4:AR4)),COLUMNS(Main!$D2:$G2)),\"\")","v":0},{"$f":"IFERROR(INDEX(Haz_Cat,SMALL(IF(Hazard=Engine!$Q2,ROW(Haz_Cat)-MIN(ROW(Haz_Cat))+1),COLUMNS($U4:AS4)),COLUMNS(Main!$D2:$G2)),\"\")","v":0},{"$f":"IFERROR(INDEX(Haz_Cat,SMALL(IF(Hazard=Engine!$Q2,ROW(Haz_Cat)-MIN(ROW(Haz_Cat))+1),COLUMNS($U4:AT4)),COLUMNS(Main!$D2:$G2)),\"\")","v":0},{"$f":"IFERROR(INDEX(Haz_Cat,SMALL(IF(Hazard=Engine!$Q2,ROW(Haz_Cat)-MIN(ROW(Haz_Cat))+1),COLUMNS($U4:AU4)),COLUMNS(Main!$D2:$G2)),\"\")","v":0},{"$f":"IFERROR(INDEX(Haz_Cat,SMALL(IF(Hazard=Engine!$Q2,ROW(Haz_Cat)-MIN(ROW(Haz_Cat))+1),COLUMNS($U4:AV4)),COLUMNS(Main!$D2:$G2)),\"\")","v":0},null,{"$f":"INDIRECT(TEXT(MIN(IF(($U11:$AV16<>\"\")*(COUNTIF($AX1:$AX6,$U11:$AV16)=0),ROW($P11:$BM16)*100+COLUMN($U1:$AV29),7^8)),\"R0C00\"),)&\"\"","v":""},false,"","",{"$f":"COUNTIF(AZ2:AZ12,\"<=\"&AZ7)","v":0},{"$f":"IF(COUNTIF(BA2:BA12,\"<=\"&BA7)=0,\"\",COUNTIF(BA2:BA12,\"<=\"&BA7))","v":""},{"$f":"IFERROR(SMALL(AZ2:AZ12,ROWS(AX2:AX7)),\"\")","v":""},{"$f":"IFERROR(INDEX(BD2:BD23,SMALL(IF(BD2:BD23<>\"\",ROW(BD2:BD23)-MIN(ROW(BD2:BD23))+1),ROWS(AX2:AX7))),\"\")","v":""},null,{"$f":"+Z20","v":0},{"$f":"COUNTIF($BG$2:BG7,\"*\"&BG7&\"*\")","v":0},"","",{"$f":"IFERROR(INDEX(BI$2:BI$308,MATCH(ROWS(BJ$2:BJ7),BJ$2:BJ$308,0)),\"\")","v":""},{"$f":"COUNTIF($BK7:$BK$308,\"*\"&BK7&\"*\")","v":302},"","",{"$f":"IFERROR(INDEX($BM$2:$BM$308,MATCH(ROWS(BN$2:BN7),BN$2:BN313,0)),\"\")","v":""},{"$f":"IFERROR(VLOOKUP(Engine!BO7,P_sentences_overview!H6:I135,2),\"\")","v":""}]
[null,null,null,null,null,null,null,null,null,null,null,null,null,"(none)",null,null,null,null,null,null,{"$f":"IFERROR(INDEX(Haz_Cat,SMALL(IF(Hazard=Engine!$Q2,ROW(Haz_Cat)-MIN(ROW(Haz_Cat))+1),COLUMNS($U4:U4)),COLUMNS(Main!$D2:$H2)),\"\")","v":0},{"$f":"IFERROR(INDEX(Haz_Cat,SMALL(IF(Hazard=Engine!$Q2,ROW(Haz_Cat)-MIN(ROW(Haz_Cat))+1),COLUMNS($U4:V4)),COLUMNS(Main!$D2:$H2)),\"\")","v":0},{"$f":"IFERROR(INDEX(Haz_Cat,SMALL(IF(Hazard=Engine!$Q2,ROW(Haz_Cat)-MIN(ROW(Haz_Cat))+1),COLUMNS($U4:W4)),COLUMNS(Main!$D2:$H2)),\"\")","v":0},{"$f":"IFERROR(INDEX(Haz_Cat,SMALL(IF(Hazard=Engine!$Q2,ROW(Haz_Cat)-MIN(ROW(Haz_Cat))+1),COLUMNS($U4:X4)),COLUMNS(Main!$D2:$H2)),\"\")","v":0},{"$f":"IFERROR(INDEX(Haz_Cat,SMALL(IF(Hazard=Engine!$Q2,ROW(Haz_Cat)-MIN(ROW(Haz_Cat))+1),COLUMNS($U4:Y4)),COLUMNS(Main!$D2:$H2)),\"\")","v":0},{"$f":"IFERROR(INDEX(Haz_Cat,SMALL(IF(Hazard=Engine!$Q2,ROW(Haz_Cat)-MIN(ROW(Haz_Cat))+1),COLUMNS($U4:Z4)),COLUMNS(Main!$D2:$H2)),\"\")","v":0},{"$f":"IFERROR(INDEX(Haz_Cat,SMALL(IF(Hazard=Engine!$Q2,ROW(Haz_Cat)-MIN(ROW(Haz_Cat))+1),COLUMNS($U4:AA4)),COLUMNS(Main!$D2:$H2)),\"\")","v":0},{"$f":"IFERROR(INDEX(Haz_Cat,SMALL(IF(Hazard=Engine!$Q2,ROW(Haz_Cat)-MIN(ROW(Haz_Cat))+1),COLUMNS($U4:AB4)),COLUMNS(Main!$D2:$H2)),\"\")","v":0},{"$f":"IFERROR(INDEX(Haz_Cat,SMALL(IF(Hazard=Engine!$Q2,ROW(Haz_Cat)-MIN(ROW(Haz_Cat))+1),COLUMNS($U4:AC4)),COLUMNS(Main!$D2:$H2)),\"\")","v":0},{"$f":"IFERROR(INDEX(Haz_Cat,SMALL(IF(Hazard=Engine!$Q2,ROW(Haz_Cat)-MIN(ROW(Haz_Cat))+1),COLUMNS($U4:AD4)),COLUMNS(Main!$D2:$H2)),\"\")","v":0},{"$f":"IFERROR(INDEX(Haz_Cat,SMALL(IF(Hazard=Engine!$Q2,ROW(Haz_Cat)-MIN(ROW(Haz_Cat))+1),COLUMNS($U4:AE4)),COLUMNS(Main!$D2:$H2)),\"\")","v":0},{"$f":"IFERROR(INDEX(Haz_Cat,SMALL(IF(Hazard=Engine!$Q2,ROW(Haz_Cat)-MIN(ROW(Haz_Cat))+1),COLUMNS($U4:AF4)),COLUMNS(Main!$D2:$H2)),\"\")","v":0},{"$f":"IFERROR(INDEX(Haz_Cat,SMALL(IF(Hazard=Engine!$Q2,ROW(Haz_Cat)-MIN(ROW(Haz_Cat))+1),COLUMNS($U4:AG4)),COLUMNS(Main!$D2:$H2)),\"\")","v":0},{"$f":"IFERROR(INDEX(Haz_Cat,SMALL(IF(Hazard=Engine!$Q2,ROW(Haz_Cat)-MIN(ROW(Haz_Cat))+1),COLUMNS($U4:AH4)),COLUMNS(Main!$D2:$H2)),\"\")","v":0},{"$f":"IFERROR(INDEX(Haz_Cat,SMALL(IF(Hazard=Engine!$Q2,ROW(Haz_Cat)-MIN(ROW(Haz_Cat))+1),COLUMNS($U4:AI4)),COLUMNS(Main!$D2:$H2)),\"\")","v":0},{"$f":"IFERROR(INDEX(Haz_Cat,SMALL(IF(Hazard=Engine!$Q2,ROW(Haz_Cat)-MIN(ROW(Haz_Cat))+1),COLUMNS($U4:AJ4)),COLUMNS(Main!$D2:$H2)),\"\")","v":0},{"$f":"IFERROR(INDEX(Haz_Cat,SMALL(IF(Hazard=Engine!$Q2,ROW(Haz_Cat)-MIN(ROW(Haz_Cat))+1),COLUMNS($U4:AK4)),COLUMNS(Main!$D2:$H2)),\"\")","v":0},{"$f":"IFERROR(INDEX(Haz_Cat,SMALL(IF(Hazard=Engine!$Q2,ROW(Haz_Cat)-MIN(ROW(Haz_Cat))+1),COLUMNS($U4:AL4)),COLUMNS(Main!$D2:$H2)),\"\")","v":0},{"$f":"IFERROR(INDEX(Haz_Cat,SMALL(IF(Hazard=Engine!$Q2,ROW(Haz_Cat)-MIN(ROW(Haz_Cat))+1),COLUMNS($U4:AM4)),COLUMNS(Main!$D2:$H2)),\"\")","v":0},{"$f":"IFERROR(INDEX(Haz_Cat,SMALL(IF(Hazard=Engine!$Q2,ROW(Haz_Cat)-MIN(ROW(Haz_Cat))+1),COLUMNS($U4:AN4)),COLUMNS(Main!$D2:$H2)),\"\")","v":0},{"$f":"IFERROR(INDEX(Haz_Cat,SMALL(IF(Hazard=Engine!$Q2,ROW(Haz_Cat)-MIN(ROW(Haz_Cat))+1),COLUMNS($U4:AO4)),COLUMNS(Main!$D2:$H2)),\"\")","v":0},{"$f":"IFERROR(INDEX(Haz_Cat,SMALL(IF(Hazard=Engine!$Q2,ROW(Haz_Cat)-MIN(ROW(Haz_Cat))+1),COLUMNS($U4:AP4)),COLUMNS(Main!$D2:$H2)),\"\")","v":0},{"$f":"IFERROR(INDEX(Haz_Cat,SMALL(IF(Hazard=Engine!$Q2,ROW(Haz_Cat)-MIN(ROW(Haz_Cat))+1),COLUMNS($U4:AQ4)),COLUMNS(Main!$D2:$H2)),\"\")","v":0},{"$f":"IFERROR(INDEX(Haz_Cat,SMALL(IF(Hazard=Engine!$Q2,ROW(Haz_Cat)-MIN(ROW(Haz_Cat))+1),COLUMNS($U4:AR4)),COLUMNS(Main!$D2:$H2)),\"\")","v":0},{"$f":"IFERROR(INDEX(Haz_Cat,SMALL(IF(Hazard=Engine!$Q2,ROW(Haz_Cat)-MIN(ROW(Haz_Cat))+1),COLUMNS($U4:AS4)),COLUMNS(Main!$D2:$H2)),\"\")","v":0},{"$f":"IFERROR(INDEX(Haz_Cat,SMALL(IF(Hazard=Engine!$Q2,ROW(Haz_Cat)-MIN(ROW(Haz_Cat))+1),COLUMNS($U4:AT4)),COLUMNS(Main!$D2:$H2)),\"\")","v":0},{"$f":"IFERROR(INDEX(Haz_Cat,SMALL(IF(Hazard=Engine!$Q2,ROW(Haz_Cat)-MIN(ROW(Haz_Cat))+1),COLUMNS($U4:AU4)),COLUMNS(Main!$D2:$H2)),\"\")","v":0},{"$f":"IFERROR(INDEX(Haz_Cat,SMALL(IF(Hazard=Engine!$Q2,ROW(Haz_Cat)-MIN(ROW(Haz_Cat))+1),COLUMNS($U4:AV4)),COLUMNS(Main!$D2:$H2)),\"\")","v":0},null,{"$f":"INDIRECT(TEXT(MIN(IF(($U11:$AV16<>\"\")*(COUNTIF($AX1:$AX7,$U11:$AV16)=0),ROW($P11:$BM16)*100+COLUMN($U1:$AV29),7^8)),\"R0C00\"),)&\"\"","v":""},false,"","",{"$f":"COUNTIF(AZ2:AZ12,\"<=\"&AZ8)","v":0},{"$f":"IF(COUNTIF(BA2:BA12,\"<=\"&BA8)=0,\"\",COUNTIF(BA2:BA12,\"<=\"&BA8))","v":""},{"$f":"IFERROR(SMALL(AZ2:AZ12,ROWS(AX2:AX8)),\"\")","v":""},{"$f":"IFERROR(INDEX(BD2:BD23,SMALL(IF(BD2:BD23<>\"\",ROW(BD2:BD23)-MIN(ROW(BD2:BD23))+1),ROWS(AX2:AX8))),\"\")","v":""},null,{"$f":"+AA20","v":0},{"$f":"COUNTIF($BG$2:BG8,\"*\"&BG8&\"*\")","v":0},"","",{"$f":"IFERROR(INDEX(BI$2:BI$308,MATCH(ROWS(BJ$2:BJ8),BJ$2:BJ$308,0)),\"\")","v":""},{"$f":"COUNTIF($BK8:$BK$308,\"*\"&BK8&\"*\")","v":301},"","",{"$f":"IFERROR(INDEX($BM$2:$BM$308,MATCH(ROWS(BN$2:BN8),BN$2:BN314,0)),\"\")","v":""},{"$f":"IFERROR(VLOOKUP(Engine!BO8,P_sentences_overview!H7:I136,2),\"\")","v":""}]
[null,null,null,null,null,null,null,null,null,null,null,null,null,"(none)",null,null,null,null,null,null,{"$f":"IFERROR(INDEX(Haz_Cat,SMALL(IF(Hazard=Engine!$Q2,ROW(Haz_Cat)-MIN(ROW(Haz_Cat))+1),COLUMNS($U4:U4)),COLUMNS(Main!$D2:$I2)),\"\")","v":0},{"$f":"IFERROR(INDEX(Haz_Cat,SMALL(IF(Hazard=Engine!$Q2,ROW(Haz_Cat)-MIN(ROW(Haz_Cat))+1),COLUMNS($U4:V4)),COLUMNS(Main!$D2:$I2)),\"\")","v":0},{"$f":"IFERROR(INDEX(Haz_Cat,SMALL(IF(Hazard=Engine!$Q2,ROW(Haz_Cat)-MIN(ROW(Haz_Cat))+1),COLUMNS($U4:W4)),COLUMNS(Main!$D2:$I2)),\"\")","v":0},{"$f":"IFERROR(INDEX(Haz_Cat,SMALL(IF(Hazard=Engine!$Q2,ROW(Haz_Cat)-MIN(ROW(Haz_Cat))+1),COLUMNS($U4:X4)),COLUMNS(Main!$D2:$I2)),\"\")","v":0},{"$f":"IFERROR(INDEX(Haz_Cat,SMALL(IF(Hazard=Engine!$Q2,ROW(Haz_Cat)-MIN(ROW(Haz_Cat))+1),COLUMNS($U4:Y4)),COLUMNS(Main!$D2:$I2)),\"\")","v":0},{"$f":"IFERROR(INDEX(Haz_Cat,SMALL(IF(Hazard=Engine!$Q2,ROW(Haz_Cat)-MIN(ROW(Haz_Cat))+1),COLUMNS($U4:Z4)),COLUMNS(Main!$D2:$I2)),\"\")","v":0},{"$f":"IFERROR(INDEX(Haz_Cat,SMALL(IF(Hazard=Engine!$Q2,ROW(Haz_Cat)-MIN(ROW(Haz_Cat))+1),COLUMNS($U4:AA4)),COLUMNS(Main!$D2:$I2)),\"\")","v":0},{"$f":"IFERROR(INDEX(Haz_Cat,SMALL(IF(Hazard=Engine!$Q2,ROW(Haz_Cat)-MIN(ROW(Haz_Cat))+1),COLUMNS($U4:AB4)),COLUMNS(Main!$D2:$I2)),\"\")","v":0},{"$f":"IFERROR(INDEX(Haz_Cat,SMALL(IF(Hazard=Engine!$Q2,ROW(Haz_Cat)-MIN(ROW(Haz_Cat))+1),COLUMNS($U4:AC4)),COLUMNS(Main!$D2:$I2)),\"\")","v":0},{"$f":"IFERROR(INDEX(Haz_Cat,SMALL(IF(Hazard=Engine!$Q2,ROW(Haz_Cat)-MIN(ROW(Haz_Cat))+1),COLUMNS($U4:AD4)),COLUMNS(Main!$D2:$I2)),\"\")","v":0},{"$f":"IFERROR(INDEX(Haz_Cat,SMALL(IF(Hazard=Engine!$Q2,ROW(Haz_Cat)-MIN(ROW(Haz_Cat))+1),COLUMNS($U4:AE4)),COLUMNS(Main!$D2:$I2)),\"\")","v":0},{"$f":"IFERROR(INDEX(Haz_Cat,SMALL(IF(Hazard=Engine!$Q2,ROW(Haz_Cat)-MIN(ROW(Haz_Cat))+1),COLUMNS($U4:AF4)),COLUMNS(Main!$D2:$I2)),\"\")","v":0},{"$f":"IFERROR(INDEX(Haz_Cat,SMALL(IF(Hazard=Engine!$Q2,ROW(Haz_Cat)-MIN(ROW(Haz_Cat))+1),COLUMNS($U4:AG4)),COLUMNS(Main!$D2:$I2)),\"\")","v":0},{"$f":"IFERROR(INDEX(Haz_Cat,SMALL(IF(Hazard=Engine!$Q2,ROW(Haz_Cat)-MIN(ROW(Haz_Cat))+1),COLUMNS($U4:AH4)),COLUMNS(Main!$D2:$I2)),\"\")","v":0},{"$f":"IFERROR(INDEX(Haz_Cat,SMALL(IF(Hazard=Engine!$Q2,ROW(Haz_Cat)-MIN(ROW(Haz_Cat))+1),COLUMNS($U4:AI4)),COLUMNS(Main!$D2:$I2)),\"\")","v":0},{"$f":"IFERROR(INDEX(Haz_Cat,SMALL(IF(Hazard=Engine!$Q2,ROW(Haz_Cat)-MIN(ROW(Haz_Cat))+1),COLUMNS($U4:AJ4)),COLUMNS(Main!$D2:$I2)),\"\")","v":0},{"$f":"IFERROR(INDEX(Haz_Cat,SMALL(IF(Hazard=Engine!$Q2,ROW(Haz_Cat)-MIN(ROW(Haz_Cat))+1),COLUMNS($U4:AK4)),COLUMNS(Main!$D2:$I2)),\"\")","v":0},{"$f":"IFERROR(INDEX(Haz_Cat,SMALL(IF(Hazard=Engine!$Q2,ROW(Haz_Cat)-MIN(ROW(Haz_Cat))+1),COLUMNS($U4:AL4)),COLUMNS(Main!$D2:$I2)),\"\")","v":0},{"$f":"IFERROR(INDEX(Haz_Cat,SMALL(IF(Hazard=Engine!$Q2,ROW(Haz_Cat)-MIN(ROW(Haz_Cat))+1),COLUMNS($U4:AM4)),COLUMNS(Main!$D2:$I2)),\"\")","v":0},{"$f":"IFERROR(INDEX(Haz_Cat,SMALL(IF(Hazard=Engine!$Q2,ROW(Haz_Cat)-MIN(ROW(Haz_Cat))+1),COLUMNS($U4:AN4)),COLUMNS(Main!$D2:$I2)),\"\")","v":0},{"$f":"IFERROR(INDEX(Haz_Cat,SMALL(IF(Hazard=Engine!$Q2,ROW(Haz_Cat)-MIN(ROW(Haz_Cat))+1),COLUMNS($U4:AO4)),COLUMNS(Main!$D2:$I2)),\"\")","v":0},{"$f":"IFERROR(INDEX(Haz_Cat,SMALL(IF(Hazard=Engine!$Q2,ROW(Haz_Cat)-MIN(ROW(Haz_Cat))+1),COLUMNS($U4:AP4)),COLUMNS(Main!$D2:$I2)),\"\")","v":0},{"$f":"IFERROR(INDEX(Haz_Cat,SMALL(IF(Hazard=Engine!$Q2,ROW(Haz_Cat)-MIN(ROW(Haz_Cat))+1),COLUMNS($U4:AQ4)),COLUMNS(Main!$D2:$I2)),\"\")","v":0},{"$f":"IFERROR(INDEX(Haz_Cat,SMALL(IF(Hazard=Engine!$Q2,ROW(Haz_Cat)-MIN(ROW(Haz_Cat))+1),COLUMNS($U4:AR4)),COLUMNS(Main!$D2:$I2)),\"\")","v":0},{"$f":"IFERROR(INDEX(Haz_Cat,SMALL(IF(Hazard=Engine!$Q2,ROW(Haz_Cat)-MIN(ROW(Haz_Cat))+1),COLUMNS($U4:AS4)),COLUMNS(Main!$D2:$I2)),\"\")","v":0},{"$f":"IFERROR(INDEX(Haz_Cat,SMALL(IF(Hazard=Engine!$Q2,ROW(Haz_Cat)-MIN(ROW(Haz_Cat))+1),COLUMNS($U4:AT4)),COLUMNS(Main!$D2:$I2)),\"\")","v":0},{"$f":"IFERROR(INDEX(Haz_Cat,SMALL(IF(Hazard=Engine!$Q2,ROW(Haz_Cat)-MIN(ROW(Haz_Cat))+1),COLUMNS($U4:AU4)),COLUMNS(Main!$D2:$I2)),\"\")","v":0},{"$f":"IFERROR(INDEX(Haz_Cat,SMALL(IF(Hazard=Engine!$Q2,ROW(Haz_Cat)-MIN(ROW(Haz_Cat))+1),COLUMNS($U4:AV4)),COLUMNS(Main!$D2:$I2)),\"\")","v":0},null,{"$f":"INDIRECT(TEXT(MIN(IF(($U11:$AV16<>\"\")*(COUNTIF($AX1:$AX8,$U11:$AV16)=0),ROW($P11:$BM16)*100+COLUMN($U1:$AV29),7^8)),\"R0C00\"),)&\"\"","v":""},false,"","",{"$f":"COUNTIF(AZ2:AZ12,\"<=\"&AZ9)","v":0},{"$f":"IF(COUNTIF(BA2:BA12,\"<=\"&BA9)=0,\"\",COUNTIF(BA2:BA12,\"<=\"&BA9))","v":""},{"$f":"IFERROR(SMALL(AZ2:AZ12,ROWS(AX2:AX9)),\"\")","v":""},{"$f":"IFERROR(INDEX(BD2:BD23,SMALL(IF(BD2:BD23<>\"\",ROW(BD2:BD23)-MIN(ROW(BD2:BD23))+1),ROWS(AX2:AX9))),\"\")","v":""},null,{"$f":"+AB20","v":0},{"$f":"COUNTIF($BG$2:BG9,\"*\"&BG9&\"*\")","v":0},"","",{"$f":"IFERROR(INDEX(BI$2:BI$308,MATCH(ROWS(BJ$2:BJ9),BJ$2:BJ$308,0)),\"\")","v":""},{"$f":"COUNTIF($BK9:$BK$308,\"*\"&BK9&\"*\")","v":300},"","",{"$f":"IFERROR(INDEX($BM$2:$BM$308,MATCH(ROWS(BN$2:BN9),BN$2:BN315,0)),\"\")","v":""},{"$f":"IFERROR(VLOOKUP(Engine!BO9,P_sentences_overview!H8:I137,2),\"\")","v":""}]
[null,null,null,null,null,null,null,null,null,null,null,null,null,"(none)",null,null,null,null,null,null,null,null,null,null,null,null,null,null,null,null,null,null,null,null,null,null,null,null,null,null,null,null,null,null,null,null,null,null,null,{"$f":"INDIRECT(TEXT(MIN(IF(($U11:$AV16<>\"\")*(COUNTIF($AX1:$AX9,$U11:$AV16)=0),ROW($P11:$BM16)*100+COLUMN($U1:$AV29),7^8)),\"R0C00\"),)&\"\"","v":""},false,"","",{"$f":"COUNTIF(AZ2:AZ12,\"<=\"&AZ10)","v":0},{"$f":"IF(COUNTIF(BA2:BA12,\"<=\"&BA10)=0,\"\",COUNTIF(BA2:BA12,\"<=\"&BA10))","v":""},{"$f":"IFERROR(SMALL(AZ2:AZ12,ROWS(AX2:AX10)),\"\")","v":""},{"$f":"IFERROR(INDEX(BD2:BD23,SMALL(IF(BD2:BD23<>\"\",ROW(BD2:BD23)-MIN(ROW(BD2:BD23))+1),ROWS(AX2:AX10))),\"\")","v":""},null,{"$f":"+AC20","v":0},{"$f":"COUNTIF($BG$2:BG10,\"*\"&BG10&\"*\")","v":0},"","",{"$f":"IFERROR(INDEX(BI$2:BI$308,MATCH(ROWS(BJ$2:BJ10),BJ$2:BJ$308,0)),\"\")","v":""},{"$f":"COUNTIF($BK10:$BK$308,\"*\"&BK10&\"*\")","v":299},"","",{"$f":"IFERROR(INDEX($BM$2:$BM$308,MATCH(ROWS(BN$2:BN10),BN$2:BN316,0)),\"\")","v":""},{"$f":"IFERROR(VLOOKUP(Engine!BO10,P_sentences_overview!H9:I138,2),\"\")","v":""}]
[null,null,null,null,null,null,null,null,null,null,null,null,null,"(none)",null,null,null,null,null,null,{"$f":"+IF(U4=0,\"\",U4)","v":""},"","","","","","","","","","","","","","","","","","","","","","","","","","","",null,{"$f":"INDIRECT(TEXT(MIN(IF(($U11:$AV16<>\"\")*(COUNTIF($AX1:$AX10,$U11:$AV16)=0),ROW($P11:$BM16)*100+COLUMN($U1:$AV29),7^8)),\"R0C00\"),)&\"\"","v":""},false,"","",{"$f":"COUNTIF(AZ2:AZ12,\"<=\"&AZ11)","v":0},{"$f":"IF(COUNTIF(BA2:BA12,\"<=\"&BA11)=0,\"\",COUNTIF(BA2:BA12,\"<=\"&BA11))","v":""},{"$f":"IFERROR(SMALL(AZ2:AZ12,ROWS(AX2:AX11)),\"\")","v":""},{"$f":"IFERROR(INDEX(BD2:BD23,SMALL(IF(BD2:BD23<>\"\",ROW(BD2:BD23)-MIN(ROW(BD2:BD23))+1),ROWS(AX2:AX11))),\"\")","v":""},null,{"$f":"+AD20","v":0},{"$f":"COUNTIF($BG$2:BG11,\"*\"&BG11&\"*\")","v":0},"","",{"$f":"IFERROR(INDEX(BI$2:BI$308,MATCH(ROWS(BJ$2:BJ11),BJ$2:BJ$308,0)),\"\")","v":""},{"$f":"COUNTIF($BK11:$BK$308,\"*\"&BK11&\"*\")","v":298},"","",{"$f":"IFERROR(INDEX($BM$2:$BM$308,MATCH(ROWS(BN$2:BN11),BN$2:BN317,0)),\"\")","v":""},{"$f":"IFERROR(VLOOKUP(Engine!BO11,P_sentences_overview!H10:I139,2),\"\")","v":""}]
[null,null,null,null,null,null,null,null,null,null,null,null,null,null,null,null,null,null,null,null,{"$f":"+IF(U5=0,\"\",U5)","v":""},"","","","","","","","","","","","","","","","","","","","","","","","","","","",null,{"$f":"INDIRECT(TEXT(MIN(IF(($U11:$AV16<>\"\")*(COUNTIF($AX1:$AX11,$U11:$AV16)=0),ROW($P11:$BM16)*100+COLUMN($U1:$AV29),7^8)),\"R0C00\"),)&\"\"","v":""},false,"","",{"$f":"COUNTIF(AZ2:AZ12,\"<=\"&AZ12)","v":0},{"$f":"IF(COUNTIF(BA2:BA12,\"<=\"&BA12)=0,\"\",COUNTIF(BA2:BA12,\"<=\"&BA12))","v":""},{"$f":"IFERROR(SMALL(AZ2:AZ12,ROWS(AX2:AX12)),\"\")","v":""},{"$f":"IFERROR(INDEX(BD2:BD23,SMALL(IF(BD2:BD23<>\"\",ROW(BD2:BD23)-MIN(ROW(BD2:BD23))+1),ROWS(AX2:AX12))),\"\")","v":""},null,{"$f":"+AE20","v":0},{"$f":"COUNTIF($BG$2:BG12,\"*\"&BG12&\"*\")","v":0},"","",{"$f":"IFERROR(INDEX(BI$2:BI$308,MATCH(ROWS(BJ$2:BJ12),BJ$2:BJ$308,0)),\"\")","v":""},{"$f":"COUNTIF($BK12:$BK$308,\"*\"&BK12&\"*\")","v":297},"","",{"$f":"IFERROR(INDEX($BM$2:$BM$308,MATCH(ROWS(BN$2:BN12),BN$2:BN318,0)),\"\")","v":""},{"$f":"IFERROR(VLOOKUP(Engine!BO12,P_sentences_overview!H11:I140,2),\"\")","v":""}]
[null,null,null,null,null,null,null,null,null,null,null,null,null,null,null,null,null,null,null,null,{"$f":"+IF(U6=0,\"\",U6)","v":""},"","","","","","","","","","","","","","","","","","","","","","","","","","","",null,null,null,null,null,null,null,{"$f":"IFERROR(INDEX(BA2:BA12,MATCH(SMALL(BC2:BC12,ROWS(BA2:BA2)),BC2:BC12,)),\"\")","v":""},{"$f":"IFERROR(INDEX(BD2:BD23,SMALL(IF(BD2:BD23<>\"\",ROW(BD2:BD23)-MIN(ROW(BD2:BD23))+1),ROWS(AX2:AX13))),\"\")","v":""},null,{"$f":"+AF20","v":0},{"$f":"COUNTIF($BG$2:BG13,\"*\"&BG13&\"*\")","v":0},"","",{"$f":"IFERROR(INDEX(BI$2:BI$308,MATCH(ROWS(BJ$2:BJ13),BJ$2:BJ$308,0)),\"\")","v":""},{"$f":"COUNTIF($BK13:$BK$308,\"*\"&BK13&\"*\")","v":296},"","",{"$f":"IFERROR(INDEX($BM$2:$BM$308,MATCH(ROWS(BN$2:BN13),BN$2:BN319,0)),\"\")","v":""},{"$f":"IFERROR(VLOOKUP(Engine!BO13,P_sentences_overview!H12:I141,2),\"\")","v":""}]
[null,null,null,null,null,null,null,null,null,null,null,null,null,null,null,null,null,null,null,null,{"$f":"+IF(U7=0,\"\",U7)","v":""},"","","","","","","","","","","","","","","","","","","","","","","","","","","",null,null,null,null,null,null,null,{"$f":"IFERROR(INDEX(BA2:BA12,MATCH(SMALL(BC2:BC12,ROWS(BA2:BA3)),BC2:BC12,)),\"\")","v":""},{"$f":"IFERROR(INDEX(BD2:BD23,SMALL(IF(BD2:BD23<>\"\",ROW(BD2:BD23)-MIN(ROW(BD2:BD23))+1),ROWS(AX2:AX14))),\"\")","v":""},null,{"$f":"+AG20","v":0},{"$f":"COUNTIF($BG$2:BG14,\"*\"&BG14&\"*\")","v":0},"","",{"$f":"IFERROR(INDEX(BI$2:BI$308,MATCH(ROWS(BJ$2:BJ14),BJ$2:BJ$308,0)),\"\")","v":""},{"$f":"COUNTIF($BK14:$BK$308,\"*\"&BK14&\"*\")","v":295},"","",{"$f":"IFERROR(INDEX($BM$2:$BM$308,MATCH(ROWS(BN$2:BN14),BN$2:BN320,0)),\"\")","v":""},{"$f":"IFERROR(VLOOKUP(Engine!BO14,P_sentences_overview!H13:I142,2),\"\")","v":""}]
[null,null,null,null,null,null,null,null,null,null,null,null,null,null,null,null,null,null,null,null,{"$f":"+IF(U8=0,\"\",U8)","v":""},"","","","","","","","","","","","","","","","","","","","","","","","","","","",null,null,null,null,null,null,null,{"$f":"IFERROR(INDEX(BA2:BA12,MATCH(SMALL(BC2:BC12,ROWS(BA2:BA4)),BC2:BC12,)),\"\")","v":""},{"$f":"IFERROR(INDEX(BD2:BD23,SMALL(IF(BD2:BD23<>\"\",ROW(BD2:BD23)-MIN(ROW(BD2:BD23))+1),ROWS(AX2:AX15))),\"\")","v":""},null,{"$f":"+AH20","v":0},{"$f":"COUNTIF($BG$2:BG15,\"*\"&BG15&\"*\")","v":0},"","",{"$f":"IFERROR(INDEX(BI$2:BI$308,MATCH(ROWS(BJ$2:BJ15),BJ$2:BJ$308,0)),\"\")","v":""},{"$f":"COUNTIF($BK15:$BK$308,\"*\"&BK15&\"*\")","v":294},"","",{"$f":"IFERROR(INDEX($BM$2:$BM$308,MATCH(ROWS(BN$2:BN15),BN$2:BN321,0)),\"\")","v":""},{"$f":"IFERROR(VLOOKUP(Engine!BO15,P_sentences_overview!H14:I143,2),\"\")","v":""}]
[null,null,null,null,null,null,null,null,null,null,null,null,null,null,null,null,null,null,null,null,{"$f":"+IF(U9=0,\"\",U9)","v":""},"","","","","","","","","","","","","","","","","","","","","","","","","","","",null,null,null,null,null,null,null,{"$f":"IFERROR(INDEX(BA2:BA12,MATCH(SMALL(BC2:BC12,ROWS(BA2:BA5)),BC2:BC12,)),\"\")","v":""},{"$f":"IFERROR(INDEX(BD2:BD23,SMALL(IF(BD2:BD23<>\"\",ROW(BD2:BD23)-MIN(ROW(BD2:BD23))+1),ROWS(AX2:AX16))),\"\")","v":""},null,{"$f":"+AI20","v":0},{"$f":"COUNTIF($BG$2:BG16,\"*\"&BG16&\"*\")","v":0},"","",{"$f":"IFERROR(INDEX(BI$2:BI$308,MATCH(ROWS(BJ$2:BJ16),BJ$2:BJ$308,0)),\"\")","v":""},{"$f":"COUNTIF($BK16:$BK$308,\"*\"&BK16&\"*\")","v":293},"","",{"$f":"IFERROR(INDEX($BM$2:$BM$308,MATCH(ROWS(BN$2:BN16),BN$2:BN322,0)),\"\")","v":""},{"$f":"IFERROR(VLOOKUP(Engine!BO16,P_sentences_overview!H15:I144,2),\"\")","v":""}]
[null,null,null,null,null,null,null,null,null,null,null,null,null,null,null,null,null,null,null,null,null,null,null,null,null,null,null,null,null,null,null,null,null,null,null,null,null,null,null,null,null,null,null,null,null,null,null,null,null,null,null,null,null,null,null,{"$f":"IFERROR(INDEX(BA2:BA12,MATCH(SMALL(BC2:BC12,ROWS(BA2:BA6)),BC2:BC12,)),\"\")","v":""},{"$f":"IFERROR(INDEX(BD2:BD23,SMALL(IF(BD2:BD23<>\"\",ROW(BD2:BD23)-MIN(ROW(BD2:BD23))+1),ROWS(AX2:AX17))),\"\")","v":""},null,{"$f":"+AJ20","v":0},{"$f":"COUNTIF($BG$2:BG17,\"*\"&BG17&\"*\")","v":0},"","",{"$f":"IFERROR(INDEX(BI$2:BI$308,MATCH(ROWS(BJ$2:BJ17),BJ$2:BJ$308,0)),\"\")","v":""},{"$f":"COUNTIF($BK17:$BK$308,\"*\"&BK17&\"*\")","v":292},"","",{"$f":"IFERROR(INDEX($BM$2:$BM$308,MATCH(ROWS(BN$2:BN17),BN$2:BN323,0)),\"\")","v":""},{"$f":"IFERROR(VLOOKUP(Engine!BO17,P_sentences_overview!H16:I145,2),\"\")","v":""}]
[null,null,null,null,null,null,null,null,null,null,null,null,null,null,null,null,null,null,null,null,{"$f":"IF(ISNUMBER(MATCH($R2,U11:U16,0)),U2,\"\")","v":0},{"$f":"IF(ISNUMBER(MATCH($R2,V11:V16,0)),V2,\"\")","v":0},0,0,0,0,0,0,0,0,0,0,0,0,0,0,0,0,0,0,0,0,0,0,0,0,0,0,null,null,null,null,null,null,null,{"$f":"IFERROR(INDEX(BA2:BA12,MATCH(SMALL(BC2:BC12,ROWS(BA2:BA7)),BC2:BC12,)),\"\")","v":""},{"$f":"IFERROR(INDEX(BD2:BD23,SMALL(IF(BD2:BD23<>\"\",ROW(BD2:BD23)-MIN(ROW(BD2:BD23))+1),ROWS(AX2:AX18))),\"\")","v":""},null,{"$f":"+AK20","v":0},{"$f":"COUNTIF($BG$2:BG18,\"*\"&BG18&\"*\")","v":0},"","",{"$f":"IFERROR(INDEX(BI$2:BI$308,MATCH(ROWS(BJ$2:BJ18),BJ$2:BJ$308,0)),\"\")","v":""},{"$f":"COUNTIF($BK18:$BK$308,\"*\"&BK18&\"*\")","v":291},"","",{"$f":"IFERROR(INDEX($BM$2:$BM$308,MATCH(ROWS(BN$2:BN18),BN$2:BN324,0)),\"\")","v":""},{"$f":"IFERROR(VLOOKUP(Engine!BO18,P_sentences_overview!H17:I146,2),\"\")","v":""}]
[null,null,null,null,null,null,null,null,null,null,null,null,null,null,null,null,null,null,null,null,null,null,null,null,null,null,null,null,null,null,null,null,null,null,null,null,null,null,null,null,null,null,null,null,null,null,null,null,null,null,null,null,null,null,null,{"$f":"IFERROR(INDEX(BA2:BA12,MATCH(SMALL(BC2:BC12,ROWS(BA2:BA8)),BC2:BC12,)),\"\")","v":""},{"$f":"IFERROR(INDEX(BD2:BD23,SMALL(IF(BD2:BD23<>\"\",ROW(BD2:BD23)-MIN(ROW(BD2:BD23))+1),ROWS(AX2:AX19))),\"\")","v":""},null,{"$f":"+AL20","v":0},{"$f":"COUNTIF($BG$2:BG19,\"*\"&BG19&\"*\")","v":0},"","",{"$f":"IFERROR(INDEX(BI$2:BI$308,MATCH(ROWS(BJ$2:BJ19),BJ$2:BJ$308,0)),\"\")","v":""},{"$f":"COUNTIF($BK19:$BK$308,\"*\"&BK19&\"*\")","v":290},"","",{"$f":"IFERROR(INDEX($BM$2:$BM$308,MATCH(ROWS(BN$2:BN19),BN$2:BN325,0)),\"\")","v":""},{"$f":"IFERROR(VLOOKUP(Engine!BO19,P_sentences_overview!H18:I147,2),\"\")","v":""}]
[null,null,null,null,null,null,null,null,null,null,null,null,null,null,null,null,null,null,null,null,{"$f":"IFERROR(INDEX(U18:AV18,1,SMALL(IF(U18:AV18<>\"\",COLUMN(U18:AV18)-MIN(COLUMN(U18:AV18))+1),COLUMNS($U$2:U2))),\"\")","v":0},{"$f":"IFERROR(INDEX(U18:AV18,1,SMALL(IF(U18:AV18<>\"\",COLUMN(U18:AV18)-MIN(COLUMN(U18:AV18))+1),COLUMNS($U$2:V2))),\"\")","v":0},{"$f":"IFERROR(INDEX(U18:AV18,1,SMALL(IF(U18:AV18<>\"\",COLUMN(U18:AV18)-MIN(COLUMN(U18:AV18))+1),COLUMNS($U$2:W2))),\"\")","v":0},{"$f":"IFERROR(INDEX(U18:AV18,1,SMALL(IF(U18:AV18<>\"\",COLUMN(U18:AV18)-MIN(COLUMN(U18:AV18))+1),COLUMNS($U$2:X2))),\"\")","v":0},{"$f":"IFERROR(INDEX(U18:AV18,1,SMALL(IF(U18:AV18<>\"\",COLUMN(U18:AV18)-MIN(COLUMN(U18:AV18))+1),COLUMNS($U$2:Y2))),\"\")","v":0},{"$f":"IFERROR(INDEX(U18:AV18,1,SMALL(IF(U18:AV18<>\"\",COLUMN(U18:AV18)-MIN(COLUMN(U18:AV18))+1),COLUMNS($U$2:Z2))),\"\")","v":0},{"$f":"IFERROR(INDEX(U18:AV18,1,SMALL(IF(U18:AV18<>\"\",COLUMN(U18:AV18)-MIN(COLUMN(U18:AV18))+1),COLUMNS($U$2:AA2))),\"\")","v":0},{"$f":"IFERROR(INDEX(U18:AV18,1,SMALL(IF(U18:AV18<>\"\",COLUMN(U18:AV18)-MIN(COLUMN(U18:AV18))+1),COLUMNS($U$2:AB2))),\"\")","v":0},{"$f":"IFERROR(INDEX(U18:AV18,1,SMALL(IF(U18:AV18<>\"\",COLUMN(U18:AV18)-MIN(COLUMN(U18:AV18))+1),COLUMNS($U$2:AC2))),\"\")","v":0},{"$f":"IFERROR(INDEX(U18:AV18,1,SMALL(IF(U18:AV18<>\"\",COLUMN(U18:AV18)-MIN(COLUMN(U18:AV18))+1),COLUMNS($U$2:AD2))),\"\")","v":0},{"$f":"IFERROR(INDEX(U18:AV18,1,SMALL(IF(U18:AV18<>\"\",COLUMN(U18:AV18)-MIN(COLUMN(U18:AV18))+1),COLUMNS($U$2:AE2))),\"\")","v":0},{"$f":"IFERROR(INDEX(U18:AV18,1,SMALL(IF(U18:AV18<>\"\",COLUMN(U18:AV18)-MIN(COLUMN(U18:AV18))+1),COLUMNS($U$2:AF2))),\"\")","v":0},{"$f":"IFERROR(INDEX(U18:AV18,1,SMALL(IF(U18:AV18<>\"\",COLUMN(U18:AV18)-MIN(COLUMN(U18:AV18))+1),COLUMNS($U$2:AG2))),\"\")","v":0},{"$f":"IFERROR(INDEX(U18:AV18,1,SMALL(IF(U18:AV18<>\"\",COLUMN(U18:AV18)-MIN(COLUMN(U18:AV18))+1),COLUMNS($U$2:AH2))),\"\")","v":0},{"$f":"IFERROR(INDEX(U18:AV18,1,SMALL(IF(U18:AV18<>\"\",COLUMN(U18:AV18)-MIN(COLUMN(U18:AV18))+1),COLUMNS($U$2:AI2))),\"\")","v":0},{"$f":"IFERROR(INDEX(U18:AV18,1,SMALL(IF(U18:AV18<>\"\",COLUMN(U18:AV18)-MIN(COLUMN(U18:AV18))+1),COLUMNS($U$2:AJ2))),\"\")","v":0},{"$f":"IFERROR(INDEX(U18:AV18,1,SMALL(IF(U18:AV18<>\"\",COLUMN(U18:AV18)-MIN(COLUMN(U18:AV18))+1),COLUMNS($U$2:AK2))),\"\")","v":0},{"$f":"IFERROR(INDEX(U18:AV18,1,SMALL(IF(U18:AV18<>\"\",COLUMN(U18:AV18)-MIN(COLUMN(U18:AV18))+1),COLUMNS($U$2:AL2))),\"\")","v":0},{"$f":"IFERROR(INDEX(U18:AV18,1,SMALL(IF(U18:AV18<>\"\",COLUMN(U18:AV18)-MIN(COLUMN(U18:AV18))+1),COLUMNS($U$2:AM2))),\"\")","v":0},{"$f":"IFERROR(INDEX(U18:AV18,1,SMALL(IF(U18:AV18<>\"\",COLUMN(U18:AV18)-MIN(COLUMN(U18:AV18))+1),COLUMNS($U$2:AN2))),\"\")","v":0},{"$f":"IFERROR(INDEX(U18:AV18,1,SMALL(IF(U18:AV18<>\"\",COLUMN(U18:AV18)-MIN(COLUMN(U18:AV18))+1),COLUMNS($U$2:AO2))),\"\")","v":0},{"$f":"IFERROR(INDEX(U18:AV18,1,SMALL(IF(U18:AV18<>\"\",COLUMN(U18:AV18)-MIN(COLUMN(U18:AV18))+1),COLUMNS($U$2:AP2))),\"\")","v":0},{"$f":"IFERROR(INDEX(U18:AV18,1,SMALL(IF(U18:AV18<>\"\",COLUMN(U18:AV18)-MIN(COLUMN(U18:AV18))+1),COLUMNS($U$2:AQ2))),\"\")","v":0},{"$f":"IFERROR(INDEX(U18:AV18,1,SMALL(IF(U18:AV18<>\"\",COLUMN(U18:AV18)-MIN(COLUMN(U18:AV18))+1),COLUMNS($U$2:AR2))),\"\")","v":0},{"$f":"IFERROR(INDEX(U18:AV18,1,SMALL(IF(U18:AV18<>\"\",COLUMN(U18:AV18)-MIN(COLUMN(U18:AV18))+1),COLUMNS($U$2:AS2))),\"\")","v":0},{"$f":"IFERROR(INDEX(U18:AV18,1,SMALL(IF(U18:AV18<>\"\",COLUMN(U18:AV18)-MIN(COLUMN(U18:AV18))+1),COLUMNS($U$2:AT2))),\"\")","v":0},{"$f":"IFERROR(INDEX(U18:AV18,1,SMALL(IF(U18:AV18<>\"\",COLUMN(U18:AV18)-MIN(COLUMN(U18:AV18))+1),COLUMNS($U$2:AU2))),\"\")","v":0},{"$f":"IFERROR(INDEX(U18:AV18,1,SMALL(IF(U18:AV18<>\"\",COLUMN(U18:AV18)-MIN(COLUMN(U18:AV18))+1),COLUMNS($U$2:AV2))),\"\")","v":0},null,null,null,null,null,null,null,{"$f":"IFERROR(INDEX(BA2:BA12,MATCH(SMALL(BC2:BC12,ROWS(BA2:BA9)),BC2:BC12,)),\"\")","v":""},{"$f":"IFERROR(INDEX(BD2:BD23,SMALL(IF(BD2:BD23<>\"\",ROW(BD2:BD23)-MIN(ROW(BD2:BD23))+1),ROWS(AX2:AX20))),\"\")","v":""},null,{"$f":"+AM20","v":0},{"$f":"COUNTIF($BG$2:BG20,\"*\"&BG20&\"*\")","v":0},"","",{"$f":"IFERROR(INDEX(BI$2:BI$308,MATCH(ROWS(BJ$2:BJ20),BJ$2:BJ$308,0)),\"\")","v":""},{"$f":"COUNTIF($BK20:$BK$308,\"*\"&BK20&\"*\")","v":289},"","",{"$f":"IFERROR(INDEX($BM$2:$BM$308,MATCH(ROWS(BN$2:BN20),BN$2:BN326,0)),\"\")","v":""},{"$f":"IFERROR(VLOOKUP(Engine!BO20,P_sentences_overview!H19:I148,2),\"\")","v":""}]
[null,null,null,null,null,null,null,null,null,null,null,null,null,null,null,null,null,null,null,null,null,null,null,null,null,null,null,null,null,null,null,null,null,null,null,null,null,null,null,null,null,null,null,null,null,null,null,null,null,null,null,null,null,null,null,{"$f":"IFERROR(INDEX(BA2:BA12,MATCH(SMALL(BC2:BC12,ROWS(BA2:BA10)),BC2:BC12,)),\"\")","v":""},{"$f":"IFERROR(INDEX(BD2:BD23,SMALL(IF(BD2:BD23<>\"\",ROW(BD2:BD23)-MIN(ROW(BD2:BD23))+1),ROWS(AX2:AX21))),\"\")","v":""},null,{"$f":"+AN20","v":0},{"$f":"COUNTIF($BG$2:BG21,\"*\"&BG21&\"*\")","v":0},"","",{"$f":"IFERROR(INDEX(BI$2:BI$308,MATCH(ROWS(BJ$2:BJ21),BJ$2:BJ$308,0)),\"\")","v":""},{"$f":"COUNTIF($BK21:$BK$308,\"*\"&BK21&\"*\")","v":288},"","",{"$f":"IFERROR(INDEX($BM$2:$BM$308,MATCH(ROWS(BN$2:BN21),BN$2:BN327,0)),\"\")","v":""},{"$f":"IFERROR(VLOOKUP(Engine!BO21,P_sentences_overview!H20:I149,2),\"\")","v":""}]
[null,null,null,null,null,null,null,null,null,null,null,null,null,null,null,null,null,null,null,null,null,null,null,null,null,null,null,null,null,null,null,null,null,null,null,null,null,null,null,null,null,null,null,null,null,null,null,null,null,null,null,null,null,null,null,{"$f":"IFERROR(INDEX(BA2:BA12,MATCH(SMALL(BC2:BC12,ROWS(BA2:BA11)),BC2:BC12,)),\"\")","v":""},{"$f":"IFERROR(INDEX(BD2:BD23,SMALL(IF(BD2:BD23<>\"\",ROW(BD2:BD23)-MIN(ROW(BD2:BD23))+1),ROWS(AX2:AX22))),\"\")","v":""},null,{"$f":"+AO20","v":0},{"$f":"COUNTIF($BG$2:BG22,\"*\"&BG22&\"*\")","v":0},"","",{"$f":"IFERROR(INDEX(BI$2:BI$308,MATCH(ROWS(BJ$2:BJ22),BJ$2:BJ$308,0)),\"\")","v":""},{"$f":"COUNTIF($BK22:$BK$308,\"*\"&BK22&\"*\")","v":287},"","",{"$f":"IFERROR(INDEX($BM$2:$BM$308,MATCH(ROWS(BN$2:BN22),BN$2:BN328,0)),\"\")","v":""},{"$f":"IFERROR(VLOOKUP(Engine!BO22,P_sentences_overview!H21:I150,2),\"\")","v":""}]
[null,null,null,null,null,null,null,null,null,null,null,null,null,null,null,null,null,null,null,null,null,null,null,null,null,null,null,null,null,null,null,null,null,null,null,null,null,null,null,null,null,null,null,null,null,null,null,null,null,null,null,null,null,null,null,{"$f":"IFERROR(INDEX(BA2:BA12,MATCH(SMALL(BC2:BC12,ROWS(BA2:BA12)),BC2:BC12,)),\"\")","v":""},{"$f":"IFERROR(INDEX(BD2:BD23,SMALL(IF(BD2:BD23<>\"\",ROW(BD2:BD23)-MIN(ROW(BD2:BD23))+1),ROWS(AX2:AX23))),\"\")","v":""},null,{"$f":"+AP20","v":0},{"$f":"COUNTIF($BG$2:BG23,\"*\"&BG23&\"*\")","v":0},"","",{"$f":"IFERROR(INDEX(BI$2:BI$308,MATCH(ROWS(BJ$2:BJ23),BJ$2:BJ$308,0)),\"\")","v":""},{"$f":"COUNTIF($BK23:$BK$308,\"*\"&BK23&\"*\")","v":286},"","",{"$f":"IFERROR(INDEX($BM$2:$BM$308,MATCH(ROWS(BN$2:BN23),BN$2:BN329,0)),\"\")","v":""},{"$f":"IFERROR(VLOOKUP(Engine!BO23,P_sentences_overview!H22:I151,2),\"\")","v":""}]
[null,null,null,null,null,null,null,null,null,null,null,null,null,null,null,null,null,null,null,null,null,null,null,null,null,null,null,null,null,null,null,null,null,null,null,null,null,null,null,null,null,null,null,null,null,null,null,null,null,null,null,null,null,null,null,null,null,null,{"$f":"+AQ20","v":0},{"$f":"COUNTIF($BG$2:BG24,\"*\"&BG24&\"*\")","v":0},"","",{"$f":"IFERROR(INDEX(BI$2:BI$308,MATCH(ROWS(BJ$2:BJ24),BJ$2:BJ$308,0)),\"\")","v":""},{"$f":"COUNTIF($BK24:$BK$308,\"*\"&BK24&\"*\")","v":285},"","",{"$f":"IFERROR(INDEX($BM$2:$BM$308,MATCH(ROWS(BN$2:BN24),BN$2:BN330,0)),\"\")","v":""},{"$f":"IFERROR(VLOOKUP(Engine!BO24,P_sentences_overview!H23:I152,2),\"\")","v":""}]
[null,null,null,null,null,null,null,null,null,null,null,null,null,null,null,null,null,null,null,null,null,null,null,null,null,null,null,null,null,null,null,null,null,null,null,null,null,null,null,null,null,null,null,null,null,null,null,null,null,null,null,null,null,null,null,null,null,null,{"$f":"+AR20","v":0},{"$f":"COUNTIF($BG$2:BG25,\"*\"&BG25&\"*\")","v":0},"","",{"$f":"IFERROR(INDEX(BI$2:BI$308,MATCH(ROWS(BJ$2:BJ25),BJ$2:BJ$308,0)),\"\")","v":""},{"$f":"COUNTIF($BK25:$BK$308,\"*\"&BK25&\"*\")","v":284},"","",{"$f":"IFERROR(INDEX($BM$2:$BM$308,MATCH(ROWS(BN$2:BN25),BN$2:BN331,0)),\"\")","v":""},{"$f":"IFERROR(VLOOKUP(Engine!BO25,P_sentences_overview!H24:I153,2),\"\")","v":""}]
[null,null,null,null,null,null,null,null,null,null,null,null,null,null,null,null,null,null,null,null,null,null,null,null,null,null,null,null,null,null,null,null,null,null,null,null,null,null,null,null,null,null,null,null,null,null,null,null,null,null,null,null,null,null,null,null,null,null,{"$f":"+AS20","v":0},{"$f":"COUNTIF($BG$2:BG26,\"*\"&BG26&\"*\")","v":0},"","",{"$f":"IFERROR(INDEX(BI$2:BI$308,MATCH(ROWS(BJ$2:BJ26),BJ$2:BJ$308,0)),\"\")","v":""},{"$f":"COUNTIF($BK26:$BK$308,\"*\"&BK26&\"*\")","v":283},"","",{"$f":"IFERROR(INDEX($BM$2:$BM$308,MATCH(ROWS(BN$2:BN26),BN$2:BN332,0)),\"\")","v":""},{"$f":"IFERROR(VLOOKUP(Engine!BO26,P_sentences_overview!H25:I154,2),\"\")","v":""}]
[null,null,null,null,null,null,null,null,null,null,null,null,null,null,null,null,null,null,null,null,null,null,null,null,null,null,null,null,null,null,null,null,null,null,null,null,null,null,null,null,null,null,null,null,null,null,null,null,null,null,null,null,null,null,null,null,null,null,{"$f":"+AT20","v":0},{"$f":"COUNTIF($BG$2:BG27,\"*\"&BG27&\"*\")","v":0},"","",{"$f":"IFERROR(INDEX(BI$2:BI$308,MATCH(ROWS(BJ$2:BJ27),BJ$2:BJ$308,0)),\"\")","v":""},{"$f":"COUNTIF($BK27:$BK$308,\"*\"&BK27&\"*\")","v":282},"","",{"$f":"IFERROR(INDEX($BM$2:$BM$308,MATCH(ROWS(BN$2:BN27),BN$2:BN333,0)),\"\")","v":""},{"$f":"IFERROR(VLOOKUP(Engine!BO27,P_sentences_overview!H26:I155,2),\"\")","v":""}]
[null,null,null,null,null,null,null,null,null,null,null,null,null,null,null,null,null,null,null,null,null,null,null,null,null,null,null,null,null,null,null,null,null,null,null,null,null,null,null,null,null,null,null,null,null,null,null,null,null,null,null,null,null,null,null,null,null,null,{"$f":"+AU20","v":0},{"$f":"COUNTIF($BG$2:BG28,\"*\"&BG28&\"*\")","v":0},"","",{"$f":"IFERROR(INDEX(BI$2:BI$308,MATCH(ROWS(BJ$2:BJ28),BJ$2:BJ$308,0)),\"\")","v":""},{"$f":"COUNTIF($BK28:$BK$308,\"*\"&BK28&\"*\")","v":281},"","",{"$f":"IFERROR(INDEX($BM$2:$BM$308,MATCH(ROWS(BN$2:BN28),BN$2:BN334,0)),\"\")","v":""},{"$f":"IFERROR(VLOOKUP(Engine!BO28,P_sentences_overview!H27:I156,2),\"\")","v":""}]
[null,null,null,null,null,null,null,null,null,null,null,null,null,null,null,null,null,null,null,null,null,null,null,null,null,null,null,null,null,null,null,null,null,null,null,null,null,null,null,null,null,null,null,null,null,null,null,null,null,null,null,null,null,null,null,null,null,null,{"$f":"+AV20","v":0},{"$f":"COUNTIF($BG$2:BG29,\"*\"&BG29&\"*\")","v":0},"","",{"$f":"IFERROR(INDEX(BI$2:BI$308,MATCH(ROWS(BJ$2:BJ29),BJ$2:BJ$308,0)),\"\")","v":""},{"$f":"COUNTIF($BK29:$BK$308,\"*\"&BK29&\"*\")","v":280},"","",{"$f":"IFERROR(INDEX($BM$2:$BM$308,MATCH(ROWS(BN$2:BN29),BN$2:BN335,0)),\"\")","v":""},{"$f":"IFERROR(VLOOKUP(Engine!BO29,P_sentences_overview!H28:I157,2),\"\")","v":""}]
[null,null,null,null,null,null,null,null,null,null,null,null,null,null,null,null,null,null,null,null,null,null,null,null,null,null,null,null,null,null,null,null,null,null,null,null,null,null,null,null,null,null,null,null,null,null,null,null,null,null,null,null,null,null,null,null,null,null,null,{"$f":"COUNTIF($BG$2:BG29,\"*\"&#REF!&\"*\")","v":0},{"$f":"IF(BH30=1,#REF!,\"\")","v":""},"",{"$f":"IFERROR(INDEX(BI$2:BI$308,MATCH(ROWS(BJ$2:BJ30),BJ$2:BJ$308,0)),\"\")","v":""},{"$f":"COUNTIF($BK30:$BK$308,\"*\"&BK30&\"*\")","v":279},"","",{"$f":"IFERROR(INDEX($BM$2:$BM$308,MATCH(ROWS(BN$2:BN30),BN$2:BN336,0)),\"\")","v":""},{"$f":"IFERROR(VLOOKUP(Engine!BO30,P_sentences_overview!H29:I158,2),\"\")","v":""}]
[null,null,null,null,null,null,null,null,null,null,null,null,null,null,null,null,null,null,null,null,null,null,null,null,null,null,null,null,null,null,null,null,null,null,null,null,null,null,null,null,null,null,null,null,null,null,null,null,null,null,null,null,null,null,null,null,null,null,null,{"$f":"COUNTIF($BG$2:BG31,\"*\"&BG31&\"*\")","v":0},{"$f":"IF(BH31=1,BG31,\"\")","v":""},"",{"$f":"IFERROR(INDEX(BI$2:BI$308,MATCH(ROWS(BJ$2:BJ31),BJ$2:BJ$308,0)),\"\")","v":""},{"$f":"COUNTIF($BK31:$BK$308,\"*\"&BK31&\"*\")","v":278},"","",{"$f":"IFERROR(INDEX($BM$2:$BM$308,MATCH(ROWS(BN$2:BN31),BN$2:BN337,0)),\"\")","v":""},{"$f":"IFERROR(VLOOKUP(Engine!BO31,P_sentences_overview!H30:I159,2),\"\")","v":""}]
[null,null,null,null,null,null,null,null,null,null,null,null,null,null,null,"Vælg  Hazard code","Opslag Hazard category","Vælg Hazard class","Opslag Hazard category","Opslag Hazard class","Column1","Column2","Column3","Column4",null,null,null,null,null,null,null,null,null,null,null,null,null,null,null,null,null,null,null,null,null,null,null,null,null,"Unique values","Number check","numbers_pull","text_pull","numbers_pull_rated","text_pull_rated","All_sorted","All_sorted_top",null,null,{"$f":"COUNTIF($BG$2:BG32,\"*\"&BG32&\"*\")","v":0},"","",{"$f":"IFERROR(INDEX(BI$2:BI$308,MATCH(ROWS(BJ$2:BJ32),BJ$2:BJ$308,0)),\"\")","v":""},{"$f":"COUNTIF($BK32:$BK$308,\"*\"&BK32&\"*\")","v":277},"","",{"$f":"IFERROR(INDEX($BM$2:$BM$308,MATCH(ROWS(BN$2:BN32),BN$2:BN338,0)),\"\")","v":""},{"$f":"IFERROR(VLOOKUP(Engine!BO32,P_sentences_overview!H31:I160,2),\"\")","v":""}]
[null,null,null,null,null,null,null,null,null,null,null,null,null,null,null,{"$f":"INDEX(H_sentences_overview!$A$1:$A$134,Engine!P38)","v":"(none)"},{"$f":"IFERROR(VLOOKUP(P33,H_sentences_overview!$A$2:$D$161,3),\"\")","v":""},{"$f":"INDEX(BE33:BE54,Engine!R38)","v":""},null,null,{"$f":"IFERROR(INDEX(P_saetn,SMALL(IF(Hazard=Engine!$Q33,ROW(P_saetn)-MIN(ROW(P_saetn))+1),COLUMNS($U33:U33))),\"\")","v":0},{"$f":"IFERROR(INDEX(P_saetn,SMALL(IF(Hazard=Engine!$Q33,ROW(P_saetn)-MIN(ROW(P_saetn))+1),COLUMNS($U33:V33))),\"\")","v":0},{"$f":"IFERROR(INDEX(P_saetn,SMALL(IF(Hazard=Engine!$Q33,ROW(P_saetn)-MIN(ROW(P_saetn))+1),COLUMNS($U33:W33))),\"\")","v":0},{"$f":"IFERROR(INDEX(P_saetn,SMALL(IF(Hazard=Engine!$Q33,ROW(P_saetn)-MIN(ROW(P_saetn))+1),COLUMNS($U33:X33))),\"\")","v":0},{"$f":"IFERROR(INDEX(P_saetn,SMALL(IF(Hazard=Engine!$Q33,ROW(P_saetn)-MIN(ROW(P_saetn))+1),COLUMNS($U33:Y33))),\"\")","v":0},{"$f":"IFERROR(INDEX(P_saetn,SMALL(IF(Hazard=Engine!$Q33,ROW(P_saetn)-MIN(ROW(P_saetn))+1),COLUMNS($U33:Z33))),\"\")","v":0},{"$f":"IFERROR(INDEX(P_saetn,SMALL(IF(Hazard=Engine!$Q33,ROW(P_saetn)-MIN(ROW(P_saetn))+1),COLUMNS($U33:AA33))),\"\")","v":0},{"$f":"IFERROR(INDEX(P_saetn,SMALL(IF(Hazard=Engine!$Q33,ROW(P_saetn)-MIN(ROW(P_saetn))+1),COLUMNS($U33:AB33))),\"\")","v":0},{"$f":"IFERROR(INDEX(P_saetn,SMALL(IF(Hazard=Engine!$Q33,ROW(P_saetn)-MIN(ROW(P_saetn))+1),COLUMNS($U33:AC33))),\"\")","v":0},{"$f":"IFERROR(INDEX(P_saetn,SMALL(IF(Hazard=Engine!$Q33,ROW(P_saetn)-MIN(ROW(P_saetn))+1),COLUMNS($U33:AD33))),\"\")","v":0},{"$f":"IFERROR(INDEX(P_saetn,SMALL(IF(Hazard=Engine!$Q33,ROW(P_saetn)-MIN(ROW(P_saetn))+1),COLUMNS($U33:AE33))),\"\")","v":0},{"$f":"IFERROR(INDEX(P_saetn,SMALL(IF(Hazard=Engine!$Q33,ROW(P_saetn)-MIN(ROW(P_saetn))+1),COLUMNS($U33:AF33))),\"\")","v":0},{"$f":"IFERROR(INDEX(P_saetn,SMALL(IF(Hazard=Engine!$Q33,ROW(P_saetn)-MIN(ROW(P_saetn))+1),COLUMNS($U33:AG33))),\"\")","v":0},{"$f":"IFERROR(INDEX(P_saetn,SMALL(IF(Hazard=Engine!$Q33,ROW(P_saetn)-MIN(ROW(P_saetn))+1),COLUMNS($U33:AH33))),\"\")","v":0},{"$f":"IFERROR(INDEX(P_saetn,SMALL(IF(Hazard=Engine!$Q33,ROW(P_saetn)-MIN(ROW(P_saetn))+1),COLUMNS($U33:AI33))),\"\")","v":0},{"$f":"IFERROR(INDEX(P_saetn,SMALL(IF(Hazard=Engine!$Q33,ROW(P_saetn)-MIN(ROW(P_saetn))+1),COLUMNS($U33:AJ33))),\"\")","v":0},{"$f":"IFERROR(INDEX(P_saetn,SMALL(IF(Hazard=Engine!$Q33,ROW(P_saetn)-MIN(ROW(P_saetn))+1),COLUMNS($U33:AK33))),\"\")","v":0},{"$f":"IFERROR(INDEX(P_saetn,SMALL(IF(Hazard=Engine!$Q33,ROW(P_saetn)-MIN(ROW(P_saetn))+1),COLUMNS($U33:AL33))),\"\")","v":0},{"$f":"IFERROR(INDEX(P_saetn,SMALL(IF(Hazard=Engine!$Q33,ROW(P_saetn)-MIN(ROW(P_saetn))+1),COLUMNS($U33:AM33))),\"\")","v":0},{"$f":"IFERROR(INDEX(P_saetn,SMALL(IF(Hazard=Engine!$Q33,ROW(P_saetn)-MIN(ROW(P_saetn))+1),COLUMNS($U33:AN33))),\"\")","v":0},{"$f":"IFERROR(INDEX(P_saetn,SMALL(IF(Hazard=Engine!$Q33,ROW(P_saetn)-MIN(ROW(P_saetn))+1),COLUMNS($U33:AO33))),\"\")","v":0},{"$f":"IFERROR(INDEX(P_saetn,SMALL(IF(Hazard=Engine!$Q33,ROW(P_saetn)-MIN(ROW(P_saetn))+1),COLUMNS($U33:AP33))),\"\")","v":0},{"$f":"IFERROR(INDEX(P_saetn,SMALL(IF(Hazard=Engine!$Q33,ROW(P_saetn)-MIN(ROW(P_saetn))+1),COLUMNS($U33:AQ33))),\"\")","v":0},{"$f":"IFERROR(INDEX(P_saetn,SMALL(IF(Hazard=Engine!$Q33,ROW(P_saetn)-MIN(ROW(P_saetn))+1),COLUMNS($U33:AR33))),\"\")","v":0},{"$f":"IFERROR(INDEX(P_saetn,SMALL(IF(Hazard=Engine!$Q33,ROW(P_saetn)-MIN(ROW(P_saetn))+1),COLUMNS($U33:AS33))),\"\")","v":0},{"$f":"IFERROR(INDEX(P_saetn,SMALL(IF(Hazard=Engine!$Q33,ROW(P_saetn)-MIN(ROW(P_saetn))+1),COLUMNS($U33:AT33))),\"\")","v":0},{"$f":"IFERROR(INDEX(P_saetn,SMALL(IF(Hazard=Engine!$Q33,ROW(P_saetn)-MIN(ROW(P_saetn))+1),COLUMNS($U33:AU33))),\"\")","v":0},{"$f":"IFERROR(INDEX(P_saetn,SMALL(IF(Hazard=Engine!$Q33,ROW(P_saetn)-MIN(ROW(P_saetn))+1),COLUMNS($U33:AV33))),\"\")","v":0},null,{"$f":"INDIRECT(TEXT(MIN(IF(($U42:$AV47<>\"\")*(COUNTIF($AX32:$AX32,$U42:$AV47)=0),ROW($P42:$BM47)*100+COLUMN($U32:$AV60),7^8)),\"R0C00\"),)&\"\"","v":""},{"$f":"ISNUMBER(AX33*1)","v":false},{"$f":"IF(AY33=TRUE,AX33*1,\"\")","v":""},{"$f":"IF(AY33=FALSE,AX33,\"\")","v":""},{"$f":"COUNTIF(AZ33:AZ43,\"<=\"&AZ33)","v":0},{"$f":"IF(COUNTIF(BA33:BA43,\"<=\"&BA33)=0,\"\",COUNTIF(BA33:BA43,\"<=\"&BA33))","v":""},{"$f":"IFERROR(SMALL(AZ33:AZ43,ROWS(AX33:AX33)),\"\")","v":""},{"$f":"IFERROR(INDEX(BD33:BD54,SMALL(IF(BD33:BD54<>\"\",ROW(BD33:BD54)-MIN(ROW(BD33:BD54))+1),ROWS(AX33:AX33))),\"\")","v":""},null,{"$f":"U51","v":0},{"$f":"COUNTIF($BG$2:BG33,\"*\"&BG33&\"*\")","v":0},"","",{"$f":"IFERROR(INDEX(BI$2:BI$308,MATCH(ROWS(BJ$2:BJ33),BJ$2:BJ$308,0)),\"\")","v":""},{"$f":"COUNTIF($BK33:$BK$308,\"*\"&BK33&\"*\")","v":276},"","",{"$f":"IFERROR(INDEX($BM$2:$BM$308,MATCH(ROWS(BN$2:BN33),BN$2:BN339,0)),\"\")","v":""},{"$f":"IFERROR(VLOOKUP(Engine!BO33,P_sentences_overview!H32:I161,2),\"\")","v":""}]
[null,null,null,null,null,null,null,null,null,null,null,null,null,null,null,null,null,null,null,null,{"$f":"SMALL(IF(Hazard=Engine!$Q33,ROW(P_saetn)-MIN(ROW(P_saetn))+1),COLUMNS($U33:U33)+1)","v":465},{"$f":"SMALL(IF(Hazard=Engine!$Q33,ROW(P_saetn)-MIN(ROW(P_saetn))+1),COLUMNS($U33:V33)+1)","v":466},{"$f":"SMALL(IF(Hazard=Engine!$Q33,ROW(P_saetn)-MIN(ROW(P_saetn))+1),COLUMNS($U33:W33)+1)","v":467},{"$f":"SMALL(IF(Hazard=Engine!$Q33,ROW(P_saetn)-MIN(ROW(P_saetn))+1),COLUMNS($U33:X33)+1)","v":468},{"$f":"SMALL(IF(Hazard=Engine!$Q33,ROW(P_saetn)-MIN(ROW(P_saetn))+1),COLUMNS($U33:Y33)+1)","v":469},{"$f":"SMALL(IF(Hazard=Engine!$Q33,ROW(P_saetn)-MIN(ROW(P_saetn))+1),COLUMNS($U33:Z33)+1)","v":470},{"$f":"SMALL(IF(Hazard=Engine!$Q33,ROW(P_saetn)-MIN(ROW(P_saetn))+1),COLUMNS($U33:AA33)+1)","v":471},{"$f":"SMALL(IF(Hazard=Engine!$Q33,ROW(P_saetn)-MIN(ROW(P_saetn))+1),COLUMNS($U33:AB33)+1)","v":472},{"$f":"SMALL(IF(Hazard=Engine!$Q33,ROW(P_saetn)-MIN(ROW(P_saetn))+1),COLUMNS($U33:AC33)+1)","v":473},{"$f":"SMALL(IF(Hazard=Engine!$Q33,ROW(P_saetn)-MIN(ROW(P_saetn))+1),COLUMNS($U33:AD33)+1)","v":474},{"$f":"SMALL(IF(Hazard=Engine!$Q33,ROW(P_saetn)-MIN(ROW(P_saetn))+1),COLUMNS($U33:AE33)+1)","v":475},{"$f":"SMALL(IF(Hazard=Engine!$Q33,ROW(P_saetn)-MIN(ROW(P_saetn))+1),COLUMNS($U33:AF33)+1)","v":476},{"$f":"SMALL(IF(Hazard=Engine!$Q33,ROW(P_saetn)-MIN(ROW(P_saetn))+1),COLUMNS($U33:AG33)+1)","v":477},{"$f":"SMALL(IF(Hazard=Engine!$Q33,ROW(P_saetn)-MIN(ROW(P_saetn))+1),COLUMNS($U33:AH33)+1)","v":478},{"$f":"SMALL(IF(Hazard=Engine!$Q33,ROW(P_saetn)-MIN(ROW(P_saetn))+1),COLUMNS($U33:AI33)+1)","v":479},{"$f":"SMALL(IF(Hazard=Engine!$Q33,ROW(P_saetn)-MIN(ROW(P_saetn))+1),COLUMNS($U33:AJ33)+1)","v":480},{"$f":"SMALL(IF(Hazard=Engine!$Q33,ROW(P_saetn)-MIN(ROW(P_saetn))+1),COLUMNS($U33:AK33)+1)","v":481},{"$f":"SMALL(IF(Hazard=Engine!$Q33,ROW(P_saetn)-MIN(ROW(P_saetn))+1),COLUMNS($U33:AL33)+1)","v":482},{"$f":"SMALL(IF(Hazard=Engine!$Q33,ROW(P_saetn)-MIN(ROW(P_saetn))+1),COLUMNS($U33:AM33)+1)","v":483},{"$f":"SMALL(IF(Hazard=Engine!$Q33,ROW(P_saetn)-MIN(ROW(P_saetn))+1),COLUMNS($U33:AN33)+1)","v":484},{"$f":"SMALL(IF(Hazard=Engine!$Q33,ROW(P_saetn)-MIN(ROW(P_saetn))+1),COLUMNS($U33:AO33)+1)","v":485},{"$f":"SMALL(IF(Hazard=Engine!$Q33,ROW(P_saetn)-MIN(ROW(P_saetn))+1),COLUMNS($U33:AP33)+1)","v":486},{"$f":"SMALL(IF(Hazard=Engine!$Q33,ROW(P_saetn)-MIN(ROW(P_saetn))+1),COLUMNS($U33:AQ33)+1)","v":487},{"$f":"SMALL(IF(Hazard=Engine!$Q33,ROW(P_saetn)-MIN(ROW(P_saetn))+1),COLUMNS($U33:AR33)+1)","v":488},{"$f":"SMALL(IF(Hazard=Engine!$Q33,ROW(P_saetn)-MIN(ROW(P_saetn))+1),COLUMNS($U33:AS33)+1)","v":489},{"$f":"SMALL(IF(Hazard=Engine!$Q33,ROW(P_saetn)-MIN(ROW(P_saetn))+1),COLUMNS($U33:AT33)+1)","v":490},{"$f":"SMALL(IF(Hazard=Engine!$Q33,ROW(P_saetn)-MIN(ROW(P_saetn))+1),COLUMNS($U33:AU33)+1)","v":491},{"$f":"SMALL(IF(Hazard=Engine!$Q33,ROW(P_saetn)-MIN(ROW(P_saetn))+1),COLUMNS($U33:AV33)+1)","v":492},null,{"$f":"INDIRECT(TEXT(MIN(IF(($U42:$AV47<>\"\")*(COUNTIF($AX32:$AX33,$U42:$AV47)=0),ROW($P42:$BM47)*100+COLUMN($U32:$AV60),7^8)),\"R0C00\"),)&\"\"","v":""},false,"","",{"$f":"COUNTIF(AZ33:AZ43,\"<=\"&AZ34)","v":0},{"$f":"IF(COUNTIF(BA33:BA43,\"<=\"&BA34)=0,\"\",COUNTIF(BA33:BA43,\"<=\"&BA34))","v":""},{"$f":"IFERROR(SMALL(AZ33:AZ43,ROWS(AX33:AX34)),\"\")","v":""},{"$f":"IFERROR(INDEX(BD33:BD54,SMALL(IF(BD33:BD54<>\"\",ROW(BD33:BD54)-MIN(ROW(BD33:BD54))+1),ROWS(AX33:AX34))),\"\")","v":""},null,{"$f":"+V51","v":0},{"$f":"COUNTIF($BG$2:BG34,\"*\"&BG34&\"*\")","v":0},"","",{"$f":"IFERROR(INDEX(BI$2:BI$308,MATCH(ROWS(BJ$2:BJ34),BJ$2:BJ$308,0)),\"\")","v":""},{"$f":"COUNTIF($BK34:$BK$308,\"*\"&BK34&\"*\")","v":275},"","",{"$f":"IFERROR(INDEX($BM$2:$BM$308,MATCH(ROWS(BN$2:BN34),BN$2:BN340,0)),\"\")","v":""},{"$f":"IFERROR(VLOOKUP(Engine!BO34,P_sentences_overview!H33:I162,2),\"\")","v":""}]
[null,null,null,null,null,null,null,null,null,null,null,null,null,null,null,null,null,null,null,null,{"$f":"IFERROR(INDEX(Haz_Cat,SMALL(IF(Hazard=Engine!$Q33,ROW(Haz_Cat)-MIN(ROW(Haz_Cat))+1),COLUMNS($U35:U35)),COLUMNS(Main!D$2:D$2)),\"\")","v":0},{"$f":"IFERROR(INDEX(Haz_Cat,SMALL(IF(Hazard=Engine!$Q33,ROW(Haz_Cat)-MIN(ROW(Haz_Cat))+1),COLUMNS($U35:V35)),COLUMNS(Main!E$2:E$2)),\"\")","v":0},{"$f":"IFERROR(INDEX(Haz_Cat,SMALL(IF(Hazard=Engine!$Q33,ROW(Haz_Cat)-MIN(ROW(Haz_Cat))+1),COLUMNS($U35:W35)),COLUMNS(Main!F$2:F$2)),\"\")","v":0},{"$f":"IFERROR(INDEX(Haz_Cat,SMALL(IF(Hazard=Engine!$Q33,ROW(Haz_Cat)-MIN(ROW(Haz_Cat))+1),COLUMNS($U35:X35)),COLUMNS(Main!G$2:G$2)),\"\")","v":0},{"$f":"IFERROR(INDEX(Haz_Cat,SMALL(IF(Hazard=Engine!$Q33,ROW(Haz_Cat)-MIN(ROW(Haz_Cat))+1),COLUMNS($U35:Y35)),COLUMNS(Main!H$2:H$2)),\"\")","v":0},{"$f":"IFERROR(INDEX(Haz_Cat,SMALL(IF(Hazard=Engine!$Q33,ROW(Haz_Cat)-MIN(ROW(Haz_Cat))+1),COLUMNS($U35:Z35)),COLUMNS(Main!I$2:I$2)),\"\")","v":0},{"$f":"IFERROR(INDEX(Haz_Cat,SMALL(IF(Hazard=Engine!$Q33,ROW(Haz_Cat)-MIN(ROW(Haz_Cat))+1),COLUMNS($U35:AA35)),COLUMNS(Main!J$2:J$2)),\"\")","v":0},{"$f":"IFERROR(INDEX(Haz_Cat,SMALL(IF(Hazard=Engine!$Q33,ROW(Haz_Cat)-MIN(ROW(Haz_Cat))+1),COLUMNS($U35:AB35)),COLUMNS(Main!K$2:K$2)),\"\")","v":0},{"$f":"IFERROR(INDEX(Haz_Cat,SMALL(IF(Hazard=Engine!$Q33,ROW(Haz_Cat)-MIN(ROW(Haz_Cat))+1),COLUMNS($U35:AC35)),COLUMNS(Main!L$2:L$2)),\"\")","v":0},{"$f":"IFERROR(INDEX(Haz_Cat,SMALL(IF(Hazard=Engine!$Q33,ROW(Haz_Cat)-MIN(ROW(Haz_Cat))+1),COLUMNS($U35:AD35)),COLUMNS(Main!M$2:M$2)),\"\")","v":0},{"$f":"IFERROR(INDEX(Haz_Cat,SMALL(IF(Hazard=Engine!$Q33,ROW(Haz_Cat)-MIN(ROW(Haz_Cat))+1),COLUMNS($U35:AE35)),COLUMNS(Main!N$2:N$2)),\"\")","v":0},{"$f":"IFERROR(INDEX(Haz_Cat,SMALL(IF(Hazard=Engine!$Q33,ROW(Haz_Cat)-MIN(ROW(Haz_Cat))+1),COLUMNS($U35:AF35)),COLUMNS(Main!O$2:O$2)),\"\")","v":0},{"$f":"IFERROR(INDEX(Haz_Cat,SMALL(IF(Hazard=Engine!$Q33,ROW(Haz_Cat)-MIN(ROW(Haz_Cat))+1),COLUMNS($U35:AG35)),COLUMNS(Main!P$2:P$2)),\"\")","v":0},{"$f":"IFERROR(INDEX(Haz_Cat,SMALL(IF(Hazard=Engine!$Q33,ROW(Haz_Cat)-MIN(ROW(Haz_Cat))+1),COLUMNS($U35:AH35)),COLUMNS(Main!Q$2:Q$2)),\"\")","v":0},{"$f":"IFERROR(INDEX(Haz_Cat,SMALL(IF(Hazard=Engine!$Q33,ROW(Haz_Cat)-MIN(ROW(Haz_Cat))+1),COLUMNS($U35:AI35)),COLUMNS(Main!R$2:R$2)),\"\")","v":0},{"$f":"IFERROR(INDEX(Haz_Cat,SMALL(IF(Hazard=Engine!$Q33,ROW(Haz_Cat)-MIN(ROW(Haz_Cat))+1),COLUMNS($U35:AJ35)),COLUMNS(Main!S$2:S$2)),\"\")","v":0},{"$f":"IFERROR(INDEX(Haz_Cat,SMALL(IF(Hazard=Engine!$Q33,ROW(Haz_Cat)-MIN(ROW(Haz_Cat))+1),COLUMNS($U35:AK35)),COLUMNS(Main!T$2:T$2)),\"\")","v":0},{"$f":"IFERROR(INDEX(Haz_Cat,SMALL(IF(Hazard=Engine!$Q33,ROW(Haz_Cat)-MIN(ROW(Haz_Cat))+1),COLUMNS($U35:AL35)),COLUMNS(Main!U$2:U$2)),\"\")","v":0},{"$f":"IFERROR(INDEX(Haz_Cat,SMALL(IF(Hazard=Engine!$Q33,ROW(Haz_Cat)-MIN(ROW(Haz_Cat))+1),COLUMNS($U35:AM35)),COLUMNS(Main!V$2:V$2)),\"\")","v":0},{"$f":"IFERROR(INDEX(Haz_Cat,SMALL(IF(Hazard=Engine!$Q33,ROW(Haz_Cat)-MIN(ROW(Haz_Cat))+1),COLUMNS($U35:AN35)),COLUMNS(Main!W$2:W$2)),\"\")","v":0},{"$f":"IFERROR(INDEX(Haz_Cat,SMALL(IF(Hazard=Engine!$Q33,ROW(Haz_Cat)-MIN(ROW(Haz_Cat))+1),COLUMNS($U35:AO35)),COLUMNS(Main!X$2:X$2)),\"\")","v":0},{"$f":"IFERROR(INDEX(Haz_Cat,SMALL(IF(Hazard=Engine!$Q33,ROW(Haz_Cat)-MIN(ROW(Haz_Cat))+1),COLUMNS($U35:AP35)),COLUMNS(Main!Y$2:Y$2)),\"\")","v":0},{"$f":"IFERROR(INDEX(Haz_Cat,SMALL(IF(Hazard=Engine!$Q33,ROW(Haz_Cat)-MIN(ROW(Haz_Cat))+1),COLUMNS($U35:AQ35)),COLUMNS(Main!Z$2:Z$2)),\"\")","v":0},{"$f":"IFERROR(INDEX(Haz_Cat,SMALL(IF(Hazard=Engine!$Q33,ROW(Haz_Cat)-MIN(ROW(Haz_Cat))+1),COLUMNS($U35:AR35)),COLUMNS(Main!AA$2:AA$2)),\"\")","v":0},{"$f":"IFERROR(INDEX(Haz_Cat,SMALL(IF(Hazard=Engine!$Q33,ROW(Haz_Cat)-MIN(ROW(Haz_Cat))+1),COLUMNS($U35:AS35)),COLUMNS(Main!AB$2:AB$2)),\"\")","v":0},{"$f":"IFERROR(INDEX(Haz_Cat,SMALL(IF(Hazard=Engine!$Q33,ROW(Haz_Cat)-MIN(ROW(Haz_Cat))+1),COLUMNS($U35:AT35)),COLUMNS(Main!AC$2:AC$2)),\"\")","v":0},{"$f":"IFERROR(INDEX(Haz_Cat,SMALL(IF(Hazard=Engine!$Q33,ROW(Haz_Cat)-MIN(ROW(Haz_Cat))+1),COLUMNS($U35:AU35)),COLUMNS(Main!AD$2:AD$2)),\"\")","v":0},{"$f":"IFERROR(INDEX(Haz_Cat,SMALL(IF(Hazard=Engine!$Q33,ROW(Haz_Cat)-MIN(ROW(Haz_Cat))+1),COLUMNS($U35:AV35)),COLUMNS(Main!AE$2:AE$2)),\"\")","v":0},null,{"$f":"INDIRECT(TEXT(MIN(IF(($U42:$AV47<>\"\")*(COUNTIF($AX32:$AX34,$U42:$AV47)=0),ROW($P42:$BM47)*100+COLUMN($U32:$AV60),7^8)),\"R0C00\"),)&\"\"","v":""},false,"","",{"$f":"COUNTIF(AZ33:AZ43,\"<=\"&AZ35)","v":0},{"$f":"IF(COUNTIF(BA33:BA43,\"<=\"&BA35)=0,\"\",COUNTIF(BA33:BA43,\"<=\"&BA35))","v":""},{"$f":"IFERROR(SMALL(AZ33:AZ43,ROWS(AX33:AX35)),\"\")","v":""},{"$f":"IFERROR(INDEX(BD33:BD54,SMALL(IF(BD33:BD54<>\"\",ROW(BD33:BD54)-MIN(ROW(BD33:BD54))+1),ROWS(AX33:AX35))),\"\")","v":""},null,{"$f":"+W51","v":0},{"$f":"COUNTIF($BG$2:BG35,\"*\"&BG35&\"*\")","v":0},"","",{"$f":"IFERROR(INDEX(BI$2:BI$308,MATCH(ROWS(BJ$2:BJ35),BJ$2:BJ$308,0)),\"\")","v":""},{"$f":"COUNTIF($BK35:$BK$308,\"*\"&BK35&\"*\")","v":274},"","",{"$f":"IFERROR(INDEX($BM$2:$BM$308,MATCH(ROWS(BN$2:BN35),BN$2:BN341,0)),\"\")","v":""},{"$f":"IFERROR(VLOOKUP(Engine!BO35,P_sentences_overview!H34:I163,2),\"\")","v":""}]
[null,null,null,null,null,null,null,null,null,null,null,null,null,null,null,null,null,null,null,null,{"$f":"IFERROR(INDEX(Haz_Cat,SMALL(IF(Hazard=Engine!$Q33,ROW(Haz_Cat)-MIN(ROW(Haz_Cat))+1),COLUMNS($U35:U35)),COLUMNS(Main!$D33:$E33)),\"\")","v":0},{"$f":"IFERROR(INDEX(Haz_Cat,SMALL(IF(Hazard=Engine!$Q33,ROW(Haz_Cat)-MIN(ROW(Haz_Cat))+1),COLUMNS($U35:V35)),COLUMNS(Main!$D33:$E33)),\"\")","v":0},{"$f":"IFERROR(INDEX(Haz_Cat,SMALL(IF(Hazard=Engine!$Q33,ROW(Haz_Cat)-MIN(ROW(Haz_Cat))+1),COLUMNS($U35:W35)),COLUMNS(Main!$D33:$E33)),\"\")","v":0},{"$f":"IFERROR(INDEX(Haz_Cat,SMALL(IF(Hazard=Engine!$Q33,ROW(Haz_Cat)-MIN(ROW(Haz_Cat))+1),COLUMNS($U35:X35)),COLUMNS(Main!$D33:$E33)),\"\")","v":0},{"$f":"IFERROR(INDEX(Haz_Cat,SMALL(IF(Hazard=Engine!$Q33,ROW(Haz_Cat)-MIN(ROW(Haz_Cat))+1),COLUMNS($U35:Y35)),COLUMNS(Main!$D33:$E33)),\"\")","v":0},{"$f":"IFERROR(INDEX(Haz_Cat,SMALL(IF(Hazard=Engine!$Q33,ROW(Haz_Cat)-MIN(ROW(Haz_Cat))+1),COLUMNS($U35:Z35)),COLUMNS(Main!$D33:$E33)),\"\")","v":0},{"$f":"IFERROR(INDEX(Haz_Cat,SMALL(IF(Hazard=Engine!$Q33,ROW(Haz_Cat)-MIN(ROW(Haz_Cat))+1),COLUMNS($U35:AA35)),COLUMNS(Main!$D33:$E33)),\"\")","v":0},{"$f":"IFERROR(INDEX(Haz_Cat,SMALL(IF(Hazard=Engine!$Q33,ROW(Haz_Cat)-MIN(ROW(Haz_Cat))+1),COLUMNS($U35:AB35)),COLUMNS(Main!$D33:$E33)),\"\")","v":0},{"$f":"IFERROR(INDEX(Haz_Cat,SMALL(IF(Hazard=Engine!$Q33,ROW(Haz_Cat)-MIN(ROW(Haz_Cat))+1),COLUMNS($U35:AC35)),COLUMNS(Main!$D33:$E33)),\"\")","v":0},{"$f":"IFERROR(INDEX(Haz_Cat,SMALL(IF(Hazard=Engine!$Q33,ROW(Haz_Cat)-MIN(ROW(Haz_Cat))+1),COLUMNS($U35:AD35)),COLUMNS(Main!$D33:$E33)),\"\")","v":0},{"$f":"IFERROR(INDEX(Haz_Cat,SMALL(IF(Hazard=Engine!$Q33,ROW(Haz_Cat)-MIN(ROW(Haz_Cat))+1),COLUMNS($U35:AE35)),COLUMNS(Main!$D33:$E33)),\"\")","v":0},{"$f":"IFERROR(INDEX(Haz_Cat,SMALL(IF(Hazard=Engine!$Q33,ROW(Haz_Cat)-MIN(ROW(Haz_Cat))+1),COLUMNS($U35:AF35)),COLUMNS(Main!$D33:$E33)),\"\")","v":0},{"$f":"IFERROR(INDEX(Haz_Cat,SMALL(IF(Hazard=Engine!$Q33,ROW(Haz_Cat)-MIN(ROW(Haz_Cat))+1),COLUMNS($U35:AG35)),COLUMNS(Main!$D33:$E33)),\"\")","v":0},{"$f":"IFERROR(INDEX(Haz_Cat,SMALL(IF(Hazard=Engine!$Q33,ROW(Haz_Cat)-MIN(ROW(Haz_Cat))+1),COLUMNS($U35:AH35)),COLUMNS(Main!$D33:$E33)),\"\")","v":0},{"$f":"IFERROR(INDEX(Haz_Cat,SMALL(IF(Hazard=Engine!$Q33,ROW(Haz_Cat)-MIN(ROW(Haz_Cat))+1),COLUMNS($U35:AI35)),COLUMNS(Main!$D33:$E33)),\"\")","v":0},{"$f":"IFERROR(INDEX(Haz_Cat,SMALL(IF(Hazard=Engine!$Q33,ROW(Haz_Cat)-MIN(ROW(Haz_Cat))+1),COLUMNS($U35:AJ35)),COLUMNS(Main!$D33:$E33)),\"\")","v":0},{"$f":"IFERROR(INDEX(Haz_Cat,SMALL(IF(Hazard=Engine!$Q33,ROW(Haz_Cat)-MIN(ROW(Haz_Cat))+1),COLUMNS($U35:AK35)),COLUMNS(Main!$D33:$E33)),\"\")","v":0},{"$f":"IFERROR(INDEX(Haz_Cat,SMALL(IF(Hazard=Engine!$Q33,ROW(Haz_Cat)-MIN(ROW(Haz_Cat))+1),COLUMNS($U35:AL35)),COLUMNS(Main!$D33:$E33)),\"\")","v":0},{"$f":"IFERROR(INDEX(Haz_Cat,SMALL(IF(Hazard=Engine!$Q33,ROW(Haz_Cat)-MIN(ROW(Haz_Cat))+1),COLUMNS($U35:AM35)),COLUMNS(Main!$D33:$E33)),\"\")","v":0},{"$f":"IFERROR(INDEX(Haz_Cat,SMALL(IF(Hazard=Engine!$Q33,ROW(Haz_Cat)-MIN(ROW(Haz_Cat))+1),COLUMNS($U35:AN35)),COLUMNS(Main!$D33:$E33)),\"\")","v":0},{"$f":"IFERROR(INDEX(Haz_Cat,SMALL(IF(Hazard=Engine!$Q33,ROW(Haz_Cat)-MIN(ROW(Haz_Cat))+1),COLUMNS($U35:AO35)),COLUMNS(Main!$D33:$E33)),\"\")","v":0},{"$f":"IFERROR(INDEX(Haz_Cat,SMALL(IF(Hazard=Engine!$Q33,ROW(Haz_Cat)-MIN(ROW(Haz_Cat))+1),COLUMNS($U35:AP35)),COLUMNS(Main!$D33:$E33)),\"\")","v":0},{"$f":"IFERROR(INDEX(Haz_Cat,SMALL(IF(Hazard=Engine!$Q33,ROW(Haz_Cat)-MIN(ROW(Haz_Cat))+1),COLUMNS($U35:AQ35)),COLUMNS(Main!$D33:$E33)),\"\")","v":0},{"$f":"IFERROR(INDEX(Haz_Cat,SMALL(IF(Hazard=Engine!$Q33,ROW(Haz_Cat)-MIN(ROW(Haz_Cat))+1),COLUMNS($U35:AR35)),COLUMNS(Main!$D33:$E33)),\"\")","v":0},{"$f":"IFERROR(INDEX(Haz_Cat,SMALL(IF(Hazard=Engine!$Q33,ROW(Haz_Cat)-MIN(ROW(Haz_Cat))+1),COLUMNS($U35:AS35)),COLUMNS(Main!$D33:$E33)),\"\")","v":0},{"$f":"IFERROR(INDEX(Haz_Cat,SMALL(IF(Hazard=Engine!$Q33,ROW(Haz_Cat)-MIN(ROW(Haz_Cat))+1),COLUMNS($U35:AT35)),COLUMNS(Main!$D33:$E33)),\"\")","v":0},{"$f":"IFERROR(INDEX(Haz_Cat,SMALL(IF(Hazard=Engine!$Q33,ROW(Haz_Cat)-MIN(ROW(Haz_Cat))+1),COLUMNS($U35:AU35)),COLUMNS(Main!$D33:$E33)),\"\")","v":0},{"$f":"IFERROR(INDEX(Haz_Cat,SMALL(IF(Hazard=Engine!$Q33,ROW(Haz_Cat)-MIN(ROW(Haz_Cat))+1),COLUMNS($U35:AV35)),COLUMNS(Main!$D33:$E33)),\"\")","v":0},null,{"$f":"INDIRECT(TEXT(MIN(IF(($U42:$AV47<>\"\")*(COUNTIF($AX32:$AX35,$U42:$AV47)=0),ROW($P42:$BM47)*100+COLUMN($U32:$AV60),7^8)),\"R0C00\"),)&\"\"","v":""},false,"","",{"$f":"COUNTIF(AZ33:AZ43,\"<=\"&AZ36)","v":0},{"$f":"IF(COUNTIF(BA33:BA43,\"<=\"&BA36)=0,\"\",COUNTIF(BA33:BA43,\"<=\"&BA36))","v":""},{"$f":"IFERROR(SMALL(AZ33:AZ43,ROWS(AX33:AX36)),\"\")","v":""},{"$f":"IFERROR(INDEX(BD33:BD54,SMALL(IF(BD33:BD54<>\"\",ROW(BD33:BD54)-MIN(ROW(BD33:BD54))+1),ROWS(AX33:AX36))),\"\")","v":""},null,{"$f":"+X51","v":0},{"$f":"COUNTIF($BG$2:BG36,\"*\"&BG36&\"*\")","v":0},"","",{"$f":"IFERROR(INDEX(BI$2:BI$308,MATCH(ROWS(BJ$2:BJ36),BJ$2:BJ$308,0)),\"\")","v":""},{"$f":"COUNTIF($BK36:$BK$308,\"*\"&BK36&\"*\")","v":273},"","",{"$f":"IFERROR(INDEX($BM$2:$BM$308,MATCH(ROWS(BN$2:BN36),BN$2:BN342,0)),\"\")","v":""},{"$f":"IFERROR(VLOOKUP(Engine!BO36,P_sentences_overview!H35:I164,2),\"\")","v":""}]
[null,null,null,null,null,null,null,null,null,null,null,null,null,null,null,{"$f":"INDEX(H_sentences_overview!$A$1:$A$134,Engine!P38)","v":"(none)"},null,{"$f":"INDEX(BE33:BE38,Engine!R38)","v":""},null,null,{"$f":"IFERROR(INDEX(Haz_Cat,SMALL(IF(Hazard=Engine!$Q33,ROW(Haz_Cat)-MIN(ROW(Haz_Cat))+1),COLUMNS($U35:U35)),COLUMNS(Main!$D33:$F33)),\"\")","v":0},{"$f":"IFERROR(INDEX(Haz_Cat,SMALL(IF(Hazard=Engine!$Q33,ROW(Haz_Cat)-MIN(ROW(Haz_Cat))+1),COLUMNS($U35:V35)),COLUMNS(Main!$D33:$F33)),\"\")","v":0},{"$f":"IFERROR(INDEX(Haz_Cat,SMALL(IF(Hazard=Engine!$Q33,ROW(Haz_Cat)-MIN(ROW(Haz_Cat))+1),COLUMNS($U35:W35)),COLUMNS(Main!$D33:$F33)),\"\")","v":0},{"$f":"IFERROR(INDEX(Haz_Cat,SMALL(IF(Hazard=Engine!$Q33,ROW(Haz_Cat)-MIN(ROW(Haz_Cat))+1),COLUMNS($U35:X35)),COLUMNS(Main!$D33:$F33)),\"\")","v":0},{"$f":"IFERROR(INDEX(Haz_Cat,SMALL(IF(Hazard=Engine!$Q33,ROW(Haz_Cat)-MIN(ROW(Haz_Cat))+1),COLUMNS($U35:Y35)),COLUMNS(Main!$D33:$F33)),\"\")","v":0},{"$f":"IFERROR(INDEX(Haz_Cat,SMALL(IF(Hazard=Engine!$Q33,ROW(Haz_Cat)-MIN(ROW(Haz_Cat))+1),COLUMNS($U35:Z35)),COLUMNS(Main!$D33:$F33)),\"\")","v":0},{"$f":"IFERROR(INDEX(Haz_Cat,SMALL(IF(Hazard=Engine!$Q33,ROW(Haz_Cat)-MIN(ROW(Haz_Cat))+1),COLUMNS($U35:AA35)),COLUMNS(Main!$D33:$F33)),\"\")","v":0},{"$f":"IFERROR(INDEX(Haz_Cat,SMALL(IF(Hazard=Engine!$Q33,ROW(Haz_Cat)-MIN(ROW(Haz_Cat))+1),COLUMNS($U35:AB35)),COLUMNS(Main!$D33:$F33)),\"\")","v":0},{"$f":"IFERROR(INDEX(Haz_Cat,SMALL(IF(Hazard=Engine!$Q33,ROW(Haz_Cat)-MIN(ROW(Haz_Cat))+1),COLUMNS($U35:AC35)),COLUMNS(Main!$D33:$F33)),\"\")","v":0},{"$f":"IFERROR(INDEX(Haz_Cat,SMALL(IF(Hazard=Engine!$Q33,ROW(Haz_Cat)-MIN(ROW(Haz_Cat))+1),COLUMNS($U35:AD35)),COLUMNS(Main!$D33:$F33)),\"\")","v":0},{"$f":"IFERROR(INDEX(Haz_Cat,SMALL(IF(Hazard=Engine!$Q33,ROW(Haz_Cat)-MIN(ROW(Haz_Cat))+1),COLUMNS($U35:AE35)),COLUMNS(Main!$D33:$F33)),\"\")","v":0},{"$f":"IFERROR(INDEX(Haz_Cat,SMALL(IF(Hazard=Engine!$Q33,ROW(Haz_Cat)-MIN(ROW(Haz_Cat))+1),COLUMNS($U35:AF35)),COLUMNS(Main!$D33:$F33)),\"\")","v":0},{"$f":"IFERROR(INDEX(Haz_Cat,SMALL(IF(Hazard=Engine!$Q33,ROW(Haz_Cat)-MIN(ROW(Haz_Cat))+1),COLUMNS($U35:AG35)),COLUMNS(Main!$D33:$F33)),\"\")","v":0},{"$f":"IFERROR(INDEX(Haz_Cat,SMALL(IF(Hazard=Engine!$Q33,ROW(Haz_Cat)-MIN(ROW(Haz_Cat))+1),COLUMNS($U35:AH35)),COLUMNS(Main!$D33:$F33)),\"\")","v":0},{"$f":"IFERROR(INDEX(Haz_Cat,SMALL(IF(Hazard=Engine!$Q33,ROW(Haz_Cat)-MIN(ROW(Haz_Cat))+1),COLUMNS($U35:AI35)),COLUMNS(Main!$D33:$F33)),\"\")","v":0},{"$f":"IFERROR(INDEX(Haz_Cat,SMALL(IF(Hazard=Engine!$Q33,ROW(Haz_Cat)-MIN(ROW(Haz_Cat))+1),COLUMNS($U35:AJ35)),COLUMNS(Main!$D33:$F33)),\"\")","v":0},{"$f":"IFERROR(INDEX(Haz_Cat,SMALL(IF(Hazard=Engine!$Q33,ROW(Haz_Cat)-MIN(ROW(Haz_Cat))+1),COLUMNS($U35:AK35)),COLUMNS(Main!$D33:$F33)),\"\")","v":0},{"$f":"IFERROR(INDEX(Haz_Cat,SMALL(IF(Hazard=Engine!$Q33,ROW(Haz_Cat)-MIN(ROW(Haz_Cat))+1),COLUMNS($U35:AL35)),COLUMNS(Main!$D33:$F33)),\"\")","v":0},{"$f":"IFERROR(INDEX(Haz_Cat,SMALL(IF(Hazard=Engine!$Q33,ROW(Haz_Cat)-MIN(ROW(Haz_Cat))+1),COLUMNS($U35:AM35)),COLUMNS(Main!$D33:$F33)),\"\")","v":0},{"$f":"IFERROR(INDEX(Haz_Cat,SMALL(IF(Hazard=Engine!$Q33,ROW(Haz_Cat)-MIN(ROW(Haz_Cat))+1),COLUMNS($U35:AN35)),COLUMNS(Main!$D33:$F33)),\"\")","v":0},{"$f":"IFERROR(INDEX(Haz_Cat,SMALL(IF(Hazard=Engine!$Q33,ROW(Haz_Cat)-MIN(ROW(Haz_Cat))+1),COLUMNS($U35:AO35)),COLUMNS(Main!$D33:$F33)),\"\")","v":0},{"$f":"IFERROR(INDEX(Haz_Cat,SMALL(IF(Hazard=Engine!$Q33,ROW(Haz_Cat)-MIN(ROW(Haz_Cat))+1),COLUMNS($U35:AP35)),COLUMNS(Main!$D33:$F33)),\"\")","v":0},{"$f":"IFERROR(INDEX(Haz_Cat,SMALL(IF(Hazard=Engine!$Q33,ROW(Haz_Cat)-MIN(ROW(Haz_Cat))+1),COLUMNS($U35:AQ35)),COLUMNS(Main!$D33:$F33)),\"\")","v":0},{"$f":"IFERROR(INDEX(Haz_Cat,SMALL(IF(Hazard=Engine!$Q33,ROW(Haz_Cat)-MIN(ROW(Haz_Cat))+1),COLUMNS($U35:AR35)),COLUMNS(Main!$D33:$F33)),\"\")","v":0},{"$f":"IFERROR(INDEX(Haz_Cat,SMALL(IF(Hazard=Engine!$Q33,ROW(Haz_Cat)-MIN(ROW(Haz_Cat))+1),COLUMNS($U35:AS35)),COLUMNS(Main!$D33:$F33)),\"\")","v":0},{"$f":"IFERROR(INDEX(Haz_Cat,SMALL(IF(Hazard=Engine!$Q33,ROW(Haz_Cat)-MIN(ROW(Haz_Cat))+1),COLUMNS($U35:AT35)),COLUMNS(Main!$D33:$F33)),\"\")","v":0},{"$f":"IFERROR(INDEX(Haz_Cat,SMALL(IF(Hazard=Engine!$Q33,ROW(Haz_Cat)-MIN(ROW(Haz_Cat))+1),COLUMNS($U35:AU35)),COLUMNS(Main!$D33:$F33)),\"\")","v":0},{"$f":"IFERROR(INDEX(Haz_Cat,SMALL(IF(Hazard=Engine!$Q33,ROW(Haz_Cat)-MIN(ROW(Haz_Cat))+1),COLUMNS($U35:AV35)),COLUMNS(Main!$D33:$F33)),\"\")","v":0},null,{"$f":"INDIRECT(TEXT(MIN(IF(($U42:$AV47<>\"\")*(COUNTIF($AX32:$AX36,$U42:$AV47)=0),ROW($P42:$BM47)*100+COLUMN($U32:$AV60),7^8)),\"R0C00\"),)&\"\"","v":""},false,"","",{"$f":"COUNTIF(AZ33:AZ43,\"<=\"&AZ37)","v":0},{"$f":"IF(COUNTIF(BA33:BA43,\"<=\"&BA37)=0,\"\",COUNTIF(BA33:BA43,\"<=\"&BA37))","v":""},{"$f":"IFERROR(SMALL(AZ33:AZ43,ROWS(AX33:AX37)),\"\")","v":""},{"$f":"IFERROR(INDEX(BD33:BD54,SMALL(IF(BD33:BD54<>\"\",ROW(BD33:BD54)-MIN(ROW(BD33:BD54))+1),ROWS(AX33:AX37))),\"\")","v":""},null,{"$f":"+Y51","v":0},{"$f":"COUNTIF($BG$2:BG37,\"*\"&BG37&\"*\")","v":0},"","",{"$f":"IFERROR(INDEX(BI$2:BI$308,MATCH(ROWS(BJ$2:BJ37),BJ$2:BJ$308,0)),\"\")","v":""},{"$f":"COUNTIF($BK37:$BK$308,\"*\"&BK37&\"*\")","v":272},"","",{"$f":"IFERROR(INDEX($BM$2:$BM$308,MATCH(ROWS(BN$2:BN37),BN$2:BN343,0)),\"\")","v":""},{"$f":"IFERROR(VLOOKUP(Engine!BO37,P_sentences_overview!H36:I165,2),\"\")","v":""}]
[null,null,null,null,null,null,null,null,null,null,null,null,null,null,null,1,null,1,null,null,{"$f":"IFERROR(INDEX(Haz_Cat,SMALL(IF(Hazard=Engine!$Q33,ROW(Haz_Cat)-MIN(ROW(Haz_Cat))+1),COLUMNS($U35:U35)),COLUMNS(Main!$D33:$G33)),\"\")","v":0},{"$f":"IFERROR(INDEX(Haz_Cat,SMALL(IF(Hazard=Engine!$Q33,ROW(Haz_Cat)-MIN(ROW(Haz_Cat))+1),COLUMNS($U35:V35)),COLUMNS(Main!$D33:$G33)),\"\")","v":0},{"$f":"IFERROR(INDEX(Haz_Cat,SMALL(IF(Hazard=Engine!$Q33,ROW(Haz_Cat)-MIN(ROW(Haz_Cat))+1),COLUMNS($U35:W35)),COLUMNS(Main!$D33:$G33)),\"\")","v":0},{"$f":"IFERROR(INDEX(Haz_Cat,SMALL(IF(Hazard=Engine!$Q33,ROW(Haz_Cat)-MIN(ROW(Haz_Cat))+1),COLUMNS($U35:X35)),COLUMNS(Main!$D33:$G33)),\"\")","v":0},{"$f":"IFERROR(INDEX(Haz_Cat,SMALL(IF(Hazard=Engine!$Q33,ROW(Haz_Cat)-MIN(ROW(Haz_Cat))+1),COLUMNS($U35:Y35)),COLUMNS(Main!$D33:$G33)),\"\")","v":0},{"$f":"IFERROR(INDEX(Haz_Cat,SMALL(IF(Hazard=Engine!$Q33,ROW(Haz_Cat)-MIN(ROW(Haz_Cat))+1),COLUMNS($U35:Z35)),COLUMNS(Main!$D33:$G33)),\"\")","v":0},{"$f":"IFERROR(INDEX(Haz_Cat,SMALL(IF(Hazard=Engine!$Q33,ROW(Haz_Cat)-MIN(ROW(Haz_Cat))+1),COLUMNS($U35:AA35)),COLUMNS(Main!$D33:$G33)),\"\")","v":0},{"$f":"IFERROR(INDEX(Haz_Cat,SMALL(IF(Hazard=Engine!$Q33,ROW(Haz_Cat)-MIN(ROW(Haz_Cat))+1),COLUMNS($U35:AB35)),COLUMNS(Main!$D33:$G33)),\"\")","v":0},{"$f":"IFERROR(INDEX(Haz_Cat,SMALL(IF(Hazard=Engine!$Q33,ROW(Haz_Cat)-MIN(ROW(Haz_Cat))+1),COLUMNS($U35:AC35)),COLUMNS(Main!$D33:$G33)),\"\")","v":0},{"$f":"IFERROR(INDEX(Haz_Cat,SMALL(IF(Hazard=Engine!$Q33,ROW(Haz_Cat)-MIN(ROW(Haz_Cat))+1),COLUMNS($U35:AD35)),COLUMNS(Main!$D33:$G33)),\"\")","v":0},{"$f":"IFERROR(INDEX(Haz_Cat,SMALL(IF(Hazard=Engine!$Q33,ROW(Haz_Cat)-MIN(ROW(Haz_Cat))+1),COLUMNS($U35:AE35)),COLUMNS(Main!$D33:$G33)),\"\")","v":0},{"$f":"IFERROR(INDEX(Haz_Cat,SMALL(IF(Hazard=Engine!$Q33,ROW(Haz_Cat)-MIN(ROW(Haz_Cat))+1),COLUMNS($U35:AF35)),COLUMNS(Main!$D33:$G33)),\"\")","v":0},{"$f":"IFERROR(INDEX(Haz_Cat,SMALL(IF(Hazard=Engine!$Q33,ROW(Haz_Cat)-MIN(ROW(Haz_Cat))+1),COLUMNS($U35:AG35)),COLUMNS(Main!$D33:$G33)),\"\")","v":0},{"$f":"IFERROR(INDEX(Haz_Cat,SMALL(IF(Hazard=Engine!$Q33,ROW(Haz_Cat)-MIN(ROW(Haz_Cat))+1),COLUMNS($U35:AH35)),COLUMNS(Main!$D33:$G33)),\"\")","v":0},{"$f":"IFERROR(INDEX(Haz_Cat,SMALL(IF(Hazard=Engine!$Q33,ROW(Haz_Cat)-MIN(ROW(Haz_Cat))+1),COLUMNS($U35:AI35)),COLUMNS(Main!$D33:$G33)),\"\")","v":0},{"$f":"IFERROR(INDEX(Haz_Cat,SMALL(IF(Hazard=Engine!$Q33,ROW(Haz_Cat)-MIN(ROW(Haz_Cat))+1),COLUMNS($U35:AJ35)),COLUMNS(Main!$D33:$G33)),\"\")","v":0},{"$f":"IFERROR(INDEX(Haz_Cat,SMALL(IF(Hazard=Engine!$Q33,ROW(Haz_Cat)-MIN(ROW(Haz_Cat))+1),COLUMNS($U35:AK35)),COLUMNS(Main!$D33:$G33)),\"\")","v":0},{"$f":"IFERROR(INDEX(Haz_Cat,SMALL(IF(Hazard=Engine!$Q33,ROW(Haz_Cat)-MIN(ROW(Haz_Cat))+1),COLUMNS($U35:AL35)),COLUMNS(Main!$D33:$G33)),\"\")","v":0},{"$f":"IFERROR(INDEX(Haz_Cat,SMALL(IF(Hazard=Engine!$Q33,ROW(Haz_Cat)-MIN(ROW(Haz_Cat))+1),COLUMNS($U35:AM35)),COLUMNS(Main!$D33:$G33)),\"\")","v":0},{"$f":"IFERROR(INDEX(Haz_Cat,SMALL(IF(Hazard=Engine!$Q33,ROW(Haz_Cat)-MIN(ROW(Haz_Cat))+1),COLUMNS($U35:AN35)),COLUMNS(Main!$D33:$G33)),\"\")","v":0},{"$f":"IFERROR(INDEX(Haz_Cat,SMALL(IF(Hazard=Engine!$Q33,ROW(Haz_Cat)-MIN(ROW(Haz_Cat))+1),COLUMNS($U35:AO35)),COLUMNS(Main!$D33:$G33)),\"\")","v":0},{"$f":"IFERROR(INDEX(Haz_Cat,SMALL(IF(Hazard=Engine!$Q33,ROW(Haz_Cat)-MIN(ROW(Haz_Cat))+1),COLUMNS($U35:AP35)),COLUMNS(Main!$D33:$G33)),\"\")","v":0},{"$f":"IFERROR(INDEX(Haz_Cat,SMALL(IF(Hazard=Engine!$Q33,ROW(Haz_Cat)-MIN(ROW(Haz_Cat))+1),COLUMNS($U35:AQ35)),COLUMNS(Main!$D33:$G33)),\"\")","v":0},{"$f":"IFERROR(INDEX(Haz_Cat,SMALL(IF(Hazard=Engine!$Q33,ROW(Haz_Cat)-MIN(ROW(Haz_Cat))+1),COLUMNS($U35:AR35)),COLUMNS(Main!$D33:$G33)),\"\")","v":0},{"$f":"IFERROR(INDEX(Haz_Cat,SMALL(IF(Hazard=Engine!$Q33,ROW(Haz_Cat)-MIN(ROW(Haz_Cat))+1),COLUMNS($U35:AS35)),COLUMNS(Main!$D33:$G33)),\"\")","v":0},{"$f":"IFERROR(INDEX(Haz_Cat,SMALL(IF(Hazard=Engine!$Q33,ROW(Haz_Cat)-MIN(ROW(Haz_Cat))+1),COLUMNS($U35:AT35)),COLUMNS(Main!$D33:$G33)),\"\")","v":0},{"$f":"IFERROR(INDEX(Haz_Cat,SMALL(IF(Hazard=Engine!$Q33,ROW(Haz_Cat)-MIN(ROW(Haz_Cat))+1),COLUMNS($U35:AU35)),COLUMNS(Main!$D33:$G33)),\"\")","v":0},{"$f":"IFERROR(INDEX(Haz_Cat,SMALL(IF(Hazard=Engine!$Q33,ROW(Haz_Cat)-MIN(ROW(Haz_Cat))+1),COLUMNS($U35:AV35)),COLUMNS(Main!$D33:$G33)),\"\")","v":0},null,{"$f":"INDIRECT(TEXT(MIN(IF(($U42:$AV47<>\"\")*(COUNTIF($AX32:$AX37,$U42:$AV47)=0),ROW($P42:$BM47)*100+COLUMN($U32:$AV60),7^8)),\"R0C00\"),)&\"\"","v":""},false,"","",{"$f":"COUNTIF(AZ33:AZ43,\"<=\"&AZ38)","v":0},{"$f":"IF(COUNTIF(BA33:BA43,\"<=\"&BA38)=0,\"\",COUNTIF(BA33:BA43,\"<=\"&BA38))","v":""},{"$f":"IFERROR(SMALL(AZ33:AZ43,ROWS(AX33:AX38)),\"\")","v":""},{"$f":"IFERROR(INDEX(BD33:BD54,SMALL(IF(BD33:BD54<>\"\",ROW(BD33:BD54)-MIN(ROW(BD33:BD54))+1),ROWS(AX33:AX38))),\"\")","v":""},null,{"$f":"+Z51","v":0},{"$f":"COUNTIF($BG$2:BG38,\"*\"&BG38&\"*\")","v":0},"","",{"$f":"IFERROR(INDEX(BI$2:BI$308,MATCH(ROWS(BJ$2:BJ38),BJ$2:BJ$308,0)),\"\")","v":""},{"$f":"COUNTIF($BK38:$BK$308,\"*\"&BK38&\"*\")","v":271},"","",{"$f":"IFERROR(INDEX($BM$2:$BM$308,MATCH(ROWS(BN$2:BN38),BN$2:BN344,0)),\"\")","v":""},{"$f":"IFERROR(VLOOKUP(Engine!BO38,P_sentences_overview!H37:I166,2),\"\")","v":""}]
[null,null,null,null,null,null,null,null,null,null,null,null,null,null,null,null,null,null,null,null,{"$f":"IFERROR(INDEX(Haz_Cat,SMALL(IF(Hazard=Engine!$Q33,ROW(Haz_Cat)-MIN(ROW(Haz_Cat))+1),COLUMNS($U35:U35)),COLUMNS(Main!$D33:$H33)),\"\")","v":0},{"$f":"IFERROR(INDEX(Haz_Cat,SMALL(IF(Hazard=Engine!$Q33,ROW(Haz_Cat)-MIN(ROW(Haz_Cat))+1),COLUMNS($U35:V35)),COLUMNS(Main!$D33:$H33)),\"\")","v":0},{"$f":"IFERROR(INDEX(Haz_Cat,SMALL(IF(Hazard=Engine!$Q33,ROW(Haz_Cat)-MIN(ROW(Haz_Cat))+1),COLUMNS($U35:W35)),COLUMNS(Main!$D33:$H33)),\"\")","v":0},{"$f":"IFERROR(INDEX(Haz_Cat,SMALL(IF(Hazard=Engine!$Q33,ROW(Haz_Cat)-MIN(ROW(Haz_Cat))+1),COLUMNS($U35:X35)),COLUMNS(Main!$D33:$H33)),\"\")","v":0},{"$f":"IFERROR(INDEX(Haz_Cat,SMALL(IF(Hazard=Engine!$Q33,ROW(Haz_Cat)-MIN(ROW(Haz_Cat))+1),COLUMNS($U35:Y35)),COLUMNS(Main!$D33:$H33)),\"\")","v":0},{"$f":"IFERROR(INDEX(Haz_Cat,SMALL(IF(Hazard=Engine!$Q33,ROW(Haz_Cat)-MIN(ROW(Haz_Cat))+1),COLUMNS($U35:Z35)),COLUMNS(Main!$D33:$H33)),\"\")","v":0},{"$f":"IFERROR(INDEX(Haz_Cat,SMALL(IF(Hazard=Engine!$Q33,ROW(Haz_Cat)-MIN(ROW(Haz_Cat))+1),COLUMNS($U35:AA35)),COLUMNS(Main!$D33:$H33)),\"\")","v":0},{"$f":"IFERROR(INDEX(Haz_Cat,SMALL(IF(Hazard=Engine!$Q33,ROW(Haz_Cat)-MIN(ROW(Haz_Cat))+1),COLUMNS($U35:AB35)),COLUMNS(Main!$D33:$H33)),\"\")","v":0},{"$f":"IFERROR(INDEX(Haz_Cat,SMALL(IF(Hazard=Engine!$Q33,ROW(Haz_Cat)-MIN(ROW(Haz_Cat))+1),COLUMNS($U35:AC35)),COLUMNS(Main!$D33:$H33)),\"\")","v":0},{"$f":"IFERROR(INDEX(Haz_Cat,SMALL(IF(Hazard=Engine!$Q33,ROW(Haz_Cat)-MIN(ROW(Haz_Cat))+1),COLUMNS($U35:AD35)),COLUMNS(Main!$D33:$H33)),\"\")","v":0},{"$f":"IFERROR(INDEX(Haz_Cat,SMALL(IF(Hazard=Engine!$Q33,ROW(Haz_Cat)-MIN(ROW(Haz_Cat))+1),COLUMNS($U35:AE35)),COLUMNS(Main!$D33:$H33)),\"\")","v":0},{"$f":"IFERROR(INDEX(Haz_Cat,SMALL(IF(Hazard=Engine!$Q33,ROW(Haz_Cat)-MIN(ROW(Haz_Cat))+1),COLUMNS($U35:AF35)),COLUMNS(Main!$D33:$H33)),\"\")","v":0},{"$f":"IFERROR(INDEX(Haz_Cat,SMALL(IF(Hazard=Engine!$Q33,ROW(Haz_Cat)-MIN(ROW(Haz_Cat))+1),COLUMNS($U35:AG35)),COLUMNS(Main!$D33:$H33)),\"\")","v":0},{"$f":"IFERROR(INDEX(Haz_Cat,SMALL(IF(Hazard=Engine!$Q33,ROW(Haz_Cat)-MIN(ROW(Haz_Cat))+1),COLUMNS($U35:AH35)),COLUMNS(Main!$D33:$H33)),\"\")","v":0},{"$f":"IFERROR(INDEX(Haz_Cat,SMALL(IF(Hazard=Engine!$Q33,ROW(Haz_Cat)-MIN(ROW(Haz_Cat))+1),COLUMNS($U35:AI35)),COLUMNS(Main!$D33:$H33)),\"\")","v":0},{"$f":"IFERROR(INDEX(Haz_Cat,SMALL(IF(Hazard=Engine!$Q33,ROW(Haz_Cat)-MIN(ROW(Haz_Cat))+1),COLUMNS($U35:AJ35)),COLUMNS(Main!$D33:$H33)),\"\")","v":0},{"$f":"IFERROR(INDEX(Haz_Cat,SMALL(IF(Hazard=Engine!$Q33,ROW(Haz_Cat)-MIN(ROW(Haz_Cat))+1),COLUMNS($U35:AK35)),COLUMNS(Main!$D33:$H33)),\"\")","v":0},{"$f":"IFERROR(INDEX(Haz_Cat,SMALL(IF(Hazard=Engine!$Q33,ROW(Haz_Cat)-MIN(ROW(Haz_Cat))+1),COLUMNS($U35:AL35)),COLUMNS(Main!$D33:$H33)),\"\")","v":0},{"$f":"IFERROR(INDEX(Haz_Cat,SMALL(IF(Hazard=Engine!$Q33,ROW(Haz_Cat)-MIN(ROW(Haz_Cat))+1),COLUMNS($U35:AM35)),COLUMNS(Main!$D33:$H33)),\"\")","v":0},{"$f":"IFERROR(INDEX(Haz_Cat,SMALL(IF(Hazard=Engine!$Q33,ROW(Haz_Cat)-MIN(ROW(Haz_Cat))+1),COLUMNS($U35:AN35)),COLUMNS(Main!$D33:$H33)),\"\")","v":0},{"$f":"IFERROR(INDEX(Haz_Cat,SMALL(IF(Hazard=Engine!$Q33,ROW(Haz_Cat)-MIN(ROW(Haz_Cat))+1),COLUMNS($U35:AO35)),COLUMNS(Main!$D33:$H33)),\"\")","v":0},{"$f":"IFERROR(INDEX(Haz_Cat,SMALL(IF(Hazard=Engine!$Q33,ROW(Haz_Cat)-MIN(ROW(Haz_Cat))+1),COLUMNS($U35:AP35)),COLUMNS(Main!$D33:$H33)),\"\")","v":0},{"$f":"IFERROR(INDEX(Haz_Cat,SMALL(IF(Hazard=Engine!$Q33,ROW(Haz_Cat)-MIN(ROW(Haz_Cat))+1),COLUMNS($U35:AQ35)),COLUMNS(Main!$D33:$H33)),\"\")","v":0},{"$f":"IFERROR(INDEX(Haz_Cat,SMALL(IF(Hazard=Engine!$Q33,ROW(Haz_Cat)-MIN(ROW(Haz_Cat))+1),COLUMNS($U35:AR35)),COLUMNS(Main!$D33:$H33)),\"\")","v":0},{"$f":"IFERROR(INDEX(Haz_Cat,SMALL(IF(Hazard=Engine!$Q33,ROW(Haz_Cat)-MIN(ROW(Haz_Cat))+1),COLUMNS($U35:AS35)),COLUMNS(Main!$D33:$H33)),\"\")","v":0},{"$f":"IFERROR(INDEX(Haz_Cat,SMALL(IF(Hazard=Engine!$Q33,ROW(Haz_Cat)-MIN(ROW(Haz_Cat))+1),COLUMNS($U35:AT35)),COLUMNS(Main!$D33:$H33)),\"\")","v":0},{"$f":"IFERROR(INDEX(Haz_Cat,SMALL(IF(Hazard=Engine!$Q33,ROW(Haz_Cat)-MIN(ROW(Haz_Cat))+1),COLUMNS($U35:AU35)),COLUMNS(Main!$D33:$H33)),\"\")","v":0},{"$f":"IFERROR(INDEX(Haz_Cat,SMALL(IF(Hazard=Engine!$Q33,ROW(Haz_Cat)-MIN(ROW(Haz_Cat))+1),COLUMNS($U35:AV35)),COLUMNS(Main!$D33:$H33)),\"\")","v":0},null,{"$f":"INDIRECT(TEXT(MIN(IF(($U42:$AV47<>\"\")*(COUNTIF($AX32:$AX38,$U42:$AV47)=0),ROW($P42:$BM47)*100+COLUMN($U32:$AV60),7^8)),\"R0C00\"),)&\"\"","v":""},false,"","",{"$f":"COUNTIF(AZ33:AZ43,\"<=\"&AZ39)","v":0},{"$f":"IF(COUNTIF(BA33:BA43,\"<=\"&BA39)=0,\"\",COUNTIF(BA33:BA43,\"<=\"&BA39))","v":""},{"$f":"IFERROR(SMALL(AZ33:AZ43,ROWS(AX33:AX39)),\"\")","v":""},{"$f":"IFERROR(INDEX(BD33:BD54,SMALL(IF(BD33:BD54<>\"\",ROW(BD33:BD54)-MIN(ROW(BD33:BD54))+1),ROWS(AX33:AX39))),\"\")","v":""},null,{"$f":"+AA51","v":0},{"$f":"COUNTIF($BG$2:BG39,\"*\"&BG39&\"*\")","v":0},"","",{"$f":"IFERROR(INDEX(BI$2:BI$308,MATCH(ROWS(BJ$2:BJ39),BJ$2:BJ$308,0)),\"\")","v":""},{"$f":"COUNTIF($BK39:$BK$308,\"*\"&BK39&\"*\")","v":270},"","",{"$f":"IFERROR(INDEX($BM$2:$BM$308,MATCH(ROWS(BN$2:BN39),BN$2:BN345,0)),\"\")","v":""},{"$f":"IFERROR(VLOOKUP(Engine!BO39,P_sentences_overview!H38:I167,2),\"\")","v":""}]
[null,null,null,null,null,null,null,null,null,null,null,null,null,null,null,null,null,null,null,null,{"$f":"IFERROR(INDEX(Haz_Cat,SMALL(IF(Hazard=Engine!$Q33,ROW(Haz_Cat)-MIN(ROW(Haz_Cat))+1),COLUMNS($U35:U35)),COLUMNS(Main!$D33:$I33)),\"\")","v":0},{"$f":"IFERROR(INDEX(Haz_Cat,SMALL(IF(Hazard=Engine!$Q33,ROW(Haz_Cat)-MIN(ROW(Haz_Cat))+1),COLUMNS($U35:V35)),COLUMNS(Main!$D33:$I33)),\"\")","v":0},{"$f":"IFERROR(INDEX(Haz_Cat,SMALL(IF(Hazard=Engine!$Q33,ROW(Haz_Cat)-MIN(ROW(Haz_Cat))+1),COLUMNS($U35:W35)),COLUMNS(Main!$D33:$I33)),\"\")","v":0},{"$f":"IFERROR(INDEX(Haz_Cat,SMALL(IF(Hazard=Engine!$Q33,ROW(Haz_Cat)-MIN(ROW(Haz_Cat))+1),COLUMNS($U35:X35)),COLUMNS(Main!$D33:$I33)),\"\")","v":0},{"$f":"IFERROR(INDEX(Haz_Cat,SMALL(IF(Hazard=Engine!$Q33,ROW(Haz_Cat)-MIN(ROW(Haz_Cat))+1),COLUMNS($U35:Y35)),COLUMNS(Main!$D33:$I33)),\"\")","v":0},{"$f":"IFERROR(INDEX(Haz_Cat,SMALL(IF(Hazard=Engine!$Q33,ROW(Haz_Cat)-MIN(ROW(Haz_Cat))+1),COLUMNS($U35:Z35)),COLUMNS(Main!$D33:$I33)),\"\")","v":0},{"$f":"IFERROR(INDEX(Haz_Cat,SMALL(IF(Hazard=Engine!$Q33,ROW(Haz_Cat)-MIN(ROW(Haz_Cat))+1),COLUMNS($U35:AA35)),COLUMNS(Main!$D33:$I33)),\"\")","v":0},{"$f":"IFERROR(INDEX(Haz_Cat,SMALL(IF(Hazard=Engine!$Q33,ROW(Haz_Cat)-MIN(ROW(Haz_Cat))+1),COLUMNS($U35:AB35)),COLUMNS(Main!$D33:$I33)),\"\")","v":0},{"$f":"IFERROR(INDEX(Haz_Cat,SMALL(IF(Hazard=Engine!$Q33,ROW(Haz_Cat)-MIN(ROW(Haz_Cat))+1),COLUMNS($U35:AC35)),COLUMNS(Main!$D33:$I33)),\"\")","v":0},{"$f":"IFERROR(INDEX(Haz_Cat,SMALL(IF(Hazard=Engine!$Q33,ROW(Haz_Cat)-MIN(ROW(Haz_Cat))+1),COLUMNS($U35:AD35)),COLUMNS(Main!$D33:$I33)),\"\")","v":0},{"$f":"IFERROR(INDEX(Haz_Cat,SMALL(IF(Hazard=Engine!$Q33,ROW(Haz_Cat)-MIN(ROW(Haz_Cat))+1),COLUMNS($U35:AE35)),COLUMNS(Main!$D33:$I33)),\"\")","v":0},{"$f":"IFERROR(INDEX(Haz_Cat,SMALL(IF(Hazard=Engine!$Q33,ROW(Haz_Cat)-MIN(ROW(Haz_Cat))+1),COLUMNS($U35:AF35)),COLUMNS(Main!$D33:$I33)),\"\")","v":0},{"$f":"IFERROR(INDEX(Haz_Cat,SMALL(IF(Hazard=Engine!$Q33,ROW(Haz_Cat)-MIN(ROW(Haz_Cat))+1),COLUMNS($U35:AG35)),COLUMNS(Main!$D33:$I33)),\"\")","v":0},{"$f":"IFERROR(INDEX(Haz_Cat,SMALL(IF(Hazard=Engine!$Q33,ROW(Haz_Cat)-MIN(ROW(Haz_Cat))+1),COLUMNS($U35:AH35)),COLUMNS(Main!$D33:$I33)),\"\")","v":0},{"$f":"IFERROR(INDEX(Haz_Cat,SMALL(IF(Hazard=Engine!$Q33,ROW(Haz_Cat)-MIN(ROW(Haz_Cat))+1),COLUMNS($U35:AI35)),COLUMNS(Main!$D33:$I33)),\"\")","v":0},{"$f":"IFERROR(INDEX(Haz_Cat,SMALL(IF(Hazard=Engine!$Q33,ROW(Haz_Cat)-MIN(ROW(Haz_Cat))+1),COLUMNS($U35:AJ35)),COLUMNS(Main!$D33:$I33)),\"\")","v":0},{"$f":"IFERROR(INDEX(Haz_Cat,SMALL(IF(Hazard=Engine!$Q33,ROW(Haz_Cat)-MIN(ROW(Haz_Cat))+1),COLUMNS($U35:AK35)),COLUMNS(Main!$D33:$I33)),\"\")","v":0},{"$f":"IFERROR(INDEX(Haz_Cat,SMALL(IF(Hazard=Engine!$Q33,ROW(Haz_Cat)-MIN(ROW(Haz_Cat))+1),COLUMNS($U35:AL35)),COLUMNS(Main!$D33:$I33)),\"\")","v":0},{"$f":"IFERROR(INDEX(Haz_Cat,SMALL(IF(Hazard=Engine!$Q33,ROW(Haz_Cat)-MIN(ROW(Haz_Cat))+1),COLUMNS($U35:AM35)),COLUMNS(Main!$D33:$I33)),\"\")","v":0},{"$f":"IFERROR(INDEX(Haz_Cat,SMALL(IF(Hazard=Engine!$Q33,ROW(Haz_Cat)-MIN(ROW(Haz_Cat))+1),COLUMNS($U35:AN35)),COLUMNS(Main!$D33:$I33)),\"\")","v":0},{"$f":"IFERROR(INDEX(Haz_Cat,SMALL(IF(Hazard=Engine!$Q33,ROW(Haz_Cat)-MIN(ROW(Haz_Cat))+1),COLUMNS($U35:AO35)),COLUMNS(Main!$D33:$I33)),\"\")","v":0},{"$f":"IFERROR(INDEX(Haz_Cat,SMALL(IF(Hazard=Engine!$Q33,ROW(Haz_Cat)-MIN(ROW(Haz_Cat))+1),COLUMNS($U35:AP35)),COLUMNS(Main!$D33:$I33)),\"\")","v":0},{"$f":"IFERROR(INDEX(Haz_Cat,SMALL(IF(Hazard=Engine!$Q33,ROW(Haz_Cat)-MIN(ROW(Haz_Cat))+1),COLUMNS($U35:AQ35)),COLUMNS(Main!$D33:$I33)),\"\")","v":0},{"$f":"IFERROR(INDEX(Haz_Cat,SMALL(IF(Hazard=Engine!$Q33,ROW(Haz_Cat)-MIN(ROW(Haz_Cat))+1),COLUMNS($U35:AR35)),COLUMNS(Main!$D33:$I33)),\"\")","v":0},{"$f":"IFERROR(INDEX(Haz_Cat,SMALL(IF(Hazard=Engine!$Q33,ROW(Haz_Cat)-MIN(ROW(Haz_Cat))+1),COLUMNS($U35:AS35)),COLUMNS(Main!$D33:$I33)),\"\")","v":0},{"$f":"IFERROR(INDEX(Haz_Cat,SMALL(IF(Hazard=Engine!$Q33,ROW(Haz_Cat)-MIN(ROW(Haz_Cat))+1),COLUMNS($U35:AT35)),COLUMNS(Main!$D33:$I33)),\"\")","v":0},{"$f":"IFERROR(INDEX(Haz_Cat,SMALL(IF(Hazard=Engine!$Q33,ROW(Haz_Cat)-MIN(ROW(Haz_Cat))+1),COLUMNS($U35:AU35)),COLUMNS(Main!$D33:$I33)),\"\")","v":0},{"$f":"IFERROR(INDEX(Haz_Cat,SMALL(IF(Hazard=Engine!$Q33,ROW(Haz_Cat)-MIN(ROW(Haz_Cat))+1),COLUMNS($U35:AV35)),COLUMNS(Main!$D33:$I33)),\"\")","v":0},null,{"$f":"INDIRECT(TEXT(MIN(IF(($U42:$AV47<>\"\")*(COUNTIF($AX32:$AX39,$U42:$AV47)=0),ROW($P42:$BM47)*100+COLUMN($U32:$AV60),7^8)),\"R0C00\"),)&\"\"","v":""},false,"","",{"$f":"COUNTIF(AZ33:AZ43,\"<=\"&AZ40)","v":0},{"$f":"IF(COUNTIF(BA33:BA43,\"<=\"&BA40)=0,\"\",COUNTIF(BA33:BA43,\"<=\"&BA40))","v":""},{"$f":"IFERROR(SMALL(AZ33:AZ43,ROWS(AX33:AX40)),\"\")","v":""},{"$f":"IFERROR(INDEX(BD33:BD54,SMALL(IF(BD33:BD54<>\"\",ROW(BD33:BD54)-MIN(ROW(BD33:BD54))+1),ROWS(AX33:AX40))),\"\")","v":""},null,{"$f":"+AB51","v":0},{"$f":"COUNTIF($BG$2:BG40,\"*\"&BG40&\"*\")","v":0},"","",{"$f":"IFERROR(INDEX(BI$2:BI$308,MATCH(ROWS(BJ$2:BJ40),BJ$2:BJ$308,0)),\"\")","v":""},{"$f":"COUNTIF($BK40:$BK$308,\"*\"&BK40&\"*\")","v":269},"","",{"$f":"IFERROR(INDEX($BM$2:$BM$308,MATCH(ROWS(BN$2:BN40),BN$2:BN346,0)),\"\")","v":""},{"$f":"IFERROR(VLOOKUP(Engine!BO40,P_sentences_overview!H39:I168,2),\"\")","v":""}]
[null,null,null,null,null,null,null,null,null,null,null,null,null,null,null,null,null,null,null,null,null,null,null,null,null,null,null,null,null,null,null,null,null,null,null,null,null,null,null,null,null,null,null,null,null,null,null,null,null,{"$f":"INDIRECT(TEXT(MIN(IF(($U42:$AV47<>\"\")*(COUNTIF($AX32:$AX40,$U42:$AV47)=0),ROW($P42:$BM47)*100+COLUMN($U32:$AV60),7^8)),\"R0C00\"),)&\"\"","v":""},false,"","",{"$f":"COUNTIF(AZ33:AZ43,\"<=\"&AZ41)","v":0},{"$f":"IF(COUNTIF(BA33:BA43,\"<=\"&BA41)=0,\"\",COUNTIF(BA33:BA43,\"<=\"&BA41))","v":""},{"$f":"IFERROR(SMALL(AZ33:AZ43,ROWS(AX33:AX41)),\"\")","v":""},{"$f":"IFERROR(INDEX(BD33:BD54,SMALL(IF(BD33:BD54<>\"\",ROW(BD33:BD54)-MIN(ROW(BD33:BD54))+1),ROWS(AX33:AX41))),\"\")","v":""},null,{"$f":"+AC51","v":0},{"$f":"COUNTIF($BG$2:BG41,\"*\"&BG41&\"*\")","v":0},"","",{"$f":"IFERROR(INDEX(BI$2:BI$308,MATCH(ROWS(BJ$2:BJ41),BJ$2:BJ$308,0)),\"\")","v":""},{"$f":"COUNTIF($BK41:$BK$308,\"*\"&BK41&\"*\")","v":268},"","",{"$f":"IFERROR(INDEX($BM$2:$BM$308,MATCH(ROWS(BN$2:BN41),BN$2:BN347,0)),\"\")","v":""},{"$f":"IFERROR(VLOOKUP(Engine!BO41,P_sentences_overview!H40:I169,2),\"\")","v":""}]
[null,null,null,null,null,null,null,null,null,null,null,null,null,null,null,null,null,null,null,null,{"$f":"+IF(U35=0,\"\",U35)","v":""},"","","","","","","","","","","","","","","","","","","","","","","","","","","",null,{"$f":"INDIRECT(TEXT(MIN(IF(($U42:$AV47<>\"\")*(COUNTIF($AX32:$AX41,$U42:$AV47)=0),ROW($P42:$BM47)*100+COLUMN($U32:$AV60),7^8)),\"R0C00\"),)&\"\"","v":""},false,"","",{"$f":"COUNTIF(AZ33:AZ43,\"<=\"&AZ42)","v":0},{"$f":"IF(COUNTIF(BA33:BA43,\"<=\"&BA42)=0,\"\",COUNTIF(BA33:BA43,\"<=\"&BA42))","v":""},{"$f":"IFERROR(SMALL(AZ33:AZ43,ROWS(AX33:AX42)),\"\")","v":""},{"$f":"IFERROR(INDEX(BD33:BD54,SMALL(IF(BD33:BD54<>\"\",ROW(BD33:BD54)-MIN(ROW(BD33:BD54))+1),ROWS(AX33:AX42))),\"\")","v":""},null,{"$f":"+AD51","v":0},{"$f":"COUNTIF($BG$2:BG42,\"*\"&BG42&\"*\")","v":0},"","",{"$f":"IFERROR(INDEX(BI$2:BI$308,MATCH(ROWS(BJ$2:BJ42),BJ$2:BJ$308,0)),\"\")","v":""},{"$f":"COUNTIF($BK42:$BK$308,\"*\"&BK42&\"*\")","v":267},"","",{"$f":"IFERROR(INDEX($BM$2:$BM$308,MATCH(ROWS(BN$2:BN42),BN$2:BN348,0)),\"\")","v":""},{"$f":"IFERROR(VLOOKUP(Engine!BO42,P_sentences_overview!H41:I170,2),\"\")","v":""}]
[null,null,null,null,null,null,null,null,null,null,null,null,null,null,null,null,null,null,null,null,{"$f":"+IF(U36=0,\"\",U36)","v":""},"","","","","","","","","","","","","","","","","","","","","","","","","","","",null,{"$f":"INDIRECT(TEXT(MIN(IF(($U42:$AV47<>\"\")*(COUNTIF($AX32:$AX42,$U42:$AV47)=0),ROW($P42:$BM47)*100+COLUMN($U32:$AV60),7^8)),\"R0C00\"),)&\"\"","v":""},false,"","",{"$f":"COUNTIF(AZ33:AZ43,\"<=\"&AZ43)","v":0},{"$f":"IF(COUNTIF(BA33:BA43,\"<=\"&BA43)=0,\"\",COUNTIF(BA33:BA43,\"<=\"&BA43))","v":""},{"$f":"IFERROR(SMALL(AZ33:AZ43,ROWS(AX33:AX43)),\"\")","v":""},{"$f":"IFERROR(INDEX(BD33:BD54,SMALL(IF(BD33:BD54<>\"\",ROW(BD33:BD54)-MIN(ROW(BD33:BD54))+1),ROWS(AX33:AX43))),\"\")","v":""},null,{"$f":"+AE51","v":0},{"$f":"COUNTIF($BG$2:BG43,\"*\"&BG43&\"*\")","v":0},"","",{"$f":"IFERROR(INDEX(BI$2:BI$308,MATCH(ROWS(BJ$2:BJ43),BJ$2:BJ$308,0)),\"\")","v":""},{"$f":"COUNTIF($BK43:$BK$308,\"*\"&BK43&\"*\")","v":266},"","",{"$f":"IFERROR(INDEX($BM$2:$BM$308,MATCH(ROWS(BN$2:BN43),BN$2:BN349,0)),\"\")","v":""},{"$f":"IFERROR(VLOOKUP(Engine!BO43,P_sentences_overview!H42:I171,2),\"\")","v":""}]
[null,null,null,null,null,null,null,null,null,null,null,null,null,null,null,null,null,null,null,null,{"$f":"+IF(U37=0,\"\",U37)","v":""},"","","","","","","","","","","","","","","","","","","","","","","","","","","",null,null,null,null,null,null,null,{"$f":"IFERROR(INDEX(BA33:BA43,MATCH(SMALL(BC33:BC43,ROWS(BA33:BA33)),BC33:BC43,)),\"\")","v":""},{"$f":"IFERROR(INDEX(BD33:BD54,SMALL(IF(BD33:BD54<>\"\",ROW(BD33:BD54)-MIN(ROW(BD33:BD54))+1),ROWS(AX33:AX44))),\"\")","v":""},null,{"$f":"+AF51","v":0},{"$f":"COUNTIF($BG$2:BG44,\"*\"&BG44&\"*\")","v":0},"","",{"$f":"IFERROR(INDEX(BI$2:BI$308,MATCH(ROWS(BJ$2:BJ44),BJ$2:BJ$308,0)),\"\")","v":""},{"$f":"COUNTIF($BK44:$BK$308,\"*\"&BK44&\"*\")","v":265},"","",{"$f":"IFERROR(INDEX($BM$2:$BM$308,MATCH(ROWS(BN$2:BN44),BN$2:BN350,0)),\"\")","v":""},{"$f":"IFERROR(VLOOKUP(Engine!BO44,P_sentences_overview!H43:I172,2),\"\")","v":""}]
[null,null,null,null,null,null,null,null,null,null,null,null,null,null,null,null,null,null,null,null,{"$f":"+IF(U38=0,\"\",U38)","v":""},"","","","","","","","","","","","","","","","","","","","","","","","","","","",null,null,null,null,null,null,null,{"$f":"IFERROR(INDEX(BA33:BA43,MATCH(SMALL(BC33:BC43,ROWS(BA33:BA34)),BC33:BC43,)),\"\")","v":""},{"$f":"IFERROR(INDEX(BD33:BD54,SMALL(IF(BD33:BD54<>\"\",ROW(BD33:BD54)-MIN(ROW(BD33:BD54))+1),ROWS(AX33:AX45))),\"\")","v":""},null,{"$f":"+AG51","v":0},{"$f":"COUNTIF($BG$2:BG45,\"*\"&BG45&\"*\")","v":0},"","",{"$f":"IFERROR(INDEX(BI$2:BI$308,MATCH(ROWS(BJ$2:BJ45),BJ$2:BJ$308,0)),\"\")","v":""},{"$f":"COUNTIF($BK45:$BK$308,\"*\"&BK45&\"*\")","v":264},"","",{"$f":"IFERROR(INDEX($BM$2:$BM$308,MATCH(ROWS(BN$2:BN45),BN$2:BN351,0)),\"\")","v":""},{"$f":"IFERROR(VLOOKUP(Engine!BO45,P_sentences_overview!H44:I173,2),\"\")","v":""}]
[null,null,null,null,null,null,null,null,null,null,null,null,null,null,null,null,null,null,null,null,{"$f":"+IF(U39=0,\"\",U39)","v":""},"","","","","","","","","","","","","","","","","","","","","","","","","","","",null,null,null,null,null,null,null,{"$f":"IFERROR(INDEX(BA33:BA43,MATCH(SMALL(BC33:BC43,ROWS(BA33:BA35)),BC33:BC43,)),\"\")","v":""},{"$f":"IFERROR(INDEX(BD33:BD54,SMALL(IF(BD33:BD54<>\"\",ROW(BD33:BD54)-MIN(ROW(BD33:BD54))+1),ROWS(AX33:AX46))),\"\")","v":""},null,{"$f":"+AH51","v":0},{"$f":"COUNTIF($BG$2:BG46,\"*\"&BG46&\"*\")","v":0},"","",{"$f":"IFERROR(INDEX(BI$2:BI$308,MATCH(ROWS(BJ$2:BJ46),BJ$2:BJ$308,0)),\"\")","v":""},{"$f":"COUNTIF($BK46:$BK$308,\"*\"&BK46&\"*\")","v":263},"","",{"$f":"IFERROR(INDEX($BM$2:$BM$308,MATCH(ROWS(BN$2:BN46),BN$2:BN352,0)),\"\")","v":""},{"$f":"IFERROR(VLOOKUP(Engine!BO46,P_sentences_overview!H45:I174,2),\"\")","v":""}]
[null,null,null,null,null,null,null,null,null,null,null,null,null,null,null,null,null,null,null,null,{"$f":"+IF(U40=0,\"\",U40)","v":""},"","","","","","","","","","","","","","","","","","","","","","","","","","","",null,null,null,null,null,null,null,{"$f":"IFERROR(INDEX(BA33:BA43,MATCH(SMALL(BC33:BC43,ROWS(BA33:BA36)),BC33:BC43,)),\"\")","v":""},{"$f":"IFERROR(INDEX(BD33:BD54,SMALL(IF(BD33:BD54<>\"\",ROW(BD33:BD54)-MIN(ROW(BD33:BD54))+1),ROWS(AX33:AX47))),\"\")","v":""},null,{"$f":"+AI51","v":0},{"$f":"COUNTIF($BG$2:BG47,\"*\"&BG47&\"*\")","v":0},"","",{"$f":"IFERROR(INDEX(BI$2:BI$308,MATCH(ROWS(BJ$2:BJ47),BJ$2:BJ$308,0)),\"\")","v":""},{"$f":"COUNTIF($BK47:$BK$308,\"*\"&BK47&\"*\")","v":262},"","",{"$f":"IFERROR(INDEX($BM$2:$BM$308,MATCH(ROWS(BN$2:BN47),BN$2:BN353,0)),\"\")","v":""},{"$f":"IFERROR(VLOOKUP(Engine!BO47,P_sentences_overview!H46:I175,2),\"\")","v":""}]
[null,null,null,null,null,null,null,null,null,null,null,null,null,null,null,null,null,null,null,null,null,null,null,null,null,null,null,null,null,null,null,null,null,null,null,null,null,null,null,null,null,null,null,null,null,null,null,null,null,null,null,null,null,null,null,{"$f":"IFERROR(INDEX(BA33:BA43,MATCH(SMALL(BC33:BC43,ROWS(BA33:BA37)),BC33:BC43,)),\"\")","v":""},{"$f":"IFERROR(INDEX(BD33:BD54,SMALL(IF(BD33:BD54<>\"\",ROW(BD33:BD54)-MIN(ROW(BD33:BD54))+1),ROWS(AX33:AX48))),\"\")","v":""},null,{"$f":"+AJ51","v":0},{"$f":"COUNTIF($BG$2:BG48,\"*\"&BG48&\"*\")","v":0},"","",{"$f":"IFERROR(INDEX(BI$2:BI$308,MATCH(ROWS(BJ$2:BJ48),BJ$2:BJ$308,0)),\"\")","v":""},{"$f":"COUNTIF($BK48:$BK$308,\"*\"&BK48&\"*\")","v":261},"","",{"$f":"IFERROR(INDEX($BM$2:$BM$308,MATCH(ROWS(BN$2:BN48),BN$2:BN354,0)),\"\")","v":""},{"$f":"IFERROR(VLOOKUP(Engine!BO48,P_sentences_overview!H47:I176,2),\"\")","v":""}]
[null,null,null,null,null,null,null,null,null,null,null,null,null,null,null,null,null,null,null,null,{"$f":"IF(ISNUMBER(MATCH($R33,U42:U47,0)),U33,\"\")","v":0},{"$f":"IF(ISNUMBER(MATCH($R33,V42:V47,0)),V33,\"\")","v":0},0,0,0,0,0,0,0,0,0,0,0,0,0,0,0,0,0,0,0,0,0,0,0,0,0,0,null,null,null,null,null,null,null,{"$f":"IFERROR(INDEX(BA33:BA43,MATCH(SMALL(BC33:BC43,ROWS(BA33:BA38)),BC33:BC43,)),\"\")","v":""},{"$f":"IFERROR(INDEX(BD33:BD54,SMALL(IF(BD33:BD54<>\"\",ROW(BD33:BD54)-MIN(ROW(BD33:BD54))+1),ROWS(AX33:AX49))),\"\")","v":""},null,{"$f":"+AK51","v":0},{"$f":"COUNTIF($BG$2:BG49,\"*\"&BG49&\"*\")","v":0},"","",{"$f":"IFERROR(INDEX(BI$2:BI$308,MATCH(ROWS(BJ$2:BJ49),BJ$2:BJ$308,0)),\"\")","v":""},{"$f":"COUNTIF($BK49:$BK$308,\"*\"&BK49&\"*\")","v":260},"","",{"$f":"IFERROR(INDEX($BM$2:$BM$308,MATCH(ROWS(BN$2:BN49),BN$2:BN355,0)),\"\")","v":""},{"$f":"IFERROR(VLOOKUP(Engine!BO49,P_sentences_overview!H48:I177,2),\"\")","v":""}]
[null,null,null,null,null,null,null,null,null,null,null,null,null,null,null,null,null,null,null,null,null,null,null,null,null,null,null,null,null,null,null,null,null,null,null,null,null,null,null,null,null,null,null,null,null,null,null,null,null,null,null,null,null,null,null,{"$f":"IFERROR(INDEX(BA33:BA43,MATCH(SMALL(BC33:BC43,ROWS(BA33:BA39)),BC33:BC43,)),\"\")","v":""},{"$f":"IFERROR(INDEX(BD33:BD54,SMALL(IF(BD33:BD54<>\"\",ROW(BD33:BD54)-MIN(ROW(BD33:BD54))+1),ROWS(AX33:AX50))),\"\")","v":""},null,{"$f":"+AL51","v":0},{"$f":"COUNTIF($BG$2:BG50,\"*\"&BG50&\"*\")","v":0},"","",{"$f":"IFERROR(INDEX(BI$2:BI$308,MATCH(ROWS(BJ$2:BJ50),BJ$2:BJ$308,0)),\"\")","v":""},{"$f":"COUNTIF($BK50:$BK$308,\"*\"&BK50&\"*\")","v":259},"","",{"$f":"IFERROR(INDEX($BM$2:$BM$308,MATCH(ROWS(BN$2:BN50),BN$2:BN356,0)),\"\")","v":""},{"$f":"IFERROR(VLOOKUP(Engine!BO50,P_sentences_overview!H49:I178,2),\"\")","v":""}]
[null,null,null,null,null,null,null,null,null,null,null,null,null,null,null,null,null,null,null,null,{"$f":"IFERROR(INDEX(U49:AV49,1,SMALL(IF(U49:AV49<>\"\",COLUMN(U49:AV49)-MIN(COLUMN(U49:AV49))+1),COLUMNS($U$2:U33))),\"\")","v":0},{"$f":"IFERROR(INDEX(U49:AV49,1,SMALL(IF(U49:AV49<>\"\",COLUMN(U49:AV49)-MIN(COLUMN(U49:AV49))+1),COLUMNS($U$2:V33))),\"\")","v":0},{"$f":"IFERROR(INDEX(U49:AV49,1,SMALL(IF(U49:AV49<>\"\",COLUMN(U49:AV49)-MIN(COLUMN(U49:AV49))+1),COLUMNS($U$2:W33))),\"\")","v":0},{"$f":"IFERROR(INDEX(U49:AV49,1,SMALL(IF(U49:AV49<>\"\",COLUMN(U49:AV49)-MIN(COLUMN(U49:AV49))+1),COLUMNS($U$2:X33))),\"\")","v":0},{"$f":"IFERROR(INDEX(U49:AV49,1,SMALL(IF(U49:AV49<>\"\",COLUMN(U49:AV49)-MIN(COLUMN(U49:AV49))+1),COLUMNS($U$2:Y33))),\"\")","v":0},{"$f":"IFERROR(INDEX(U49:AV49,1,SMALL(IF(U49:AV49<>\"\",COLUMN(U49:AV49)-MIN(COLUMN(U49:AV49))+1),COLUMNS($U$2:Z33))),\"\")","v":0},{"$f":"IFERROR(INDEX(U49:AV49,1,SMALL(IF(U49:AV49<>\"\",COLUMN(U49:AV49)-MIN(COLUMN(U49:AV49))+1),COLUMNS($U$2:AA33))),\"\")","v":0},{"$f":"IFERROR(INDEX(U49:AV49,1,SMALL(IF(U49:AV49<>\"\",COLUMN(U49:AV49)-MIN(COLUMN(U49:AV49))+1),COLUMNS($U$2:AB33))),\"\")","v":0},{"$f":"IFERROR(INDEX(U49:AV49,1,SMALL(IF(U49:AV49<>\"\",COLUMN(U49:AV49)-MIN(COLUMN(U49:AV49))+1),COLUMNS($U$2:AC33))),\"\")","v":0},{"$f":"IFERROR(INDEX(U49:AV49,1,SMALL(IF(U49:AV49<>\"\",COLUMN(U49:AV49)-MIN(COLUMN(U49:AV49))+1),COLUMNS($U$2:AD33))),\"\")","v":0},{"$f":"IFERROR(INDEX(U49:AV49,1,SMALL(IF(U49:AV49<>\"\",COLUMN(U49:AV49)-MIN(COLUMN(U49:AV49))+1),COLUMNS($U$2:AE33))),\"\")","v":0},{"$f":"IFERROR(INDEX(U49:AV49,1,SMALL(IF(U49:AV49<>\"\",COLUMN(U49:AV49)-MIN(COLUMN(U49:AV49))+1),COLUMNS($U$2:AF33))),\"\")","v":0},{"$f":"IFERROR(INDEX(U49:AV49,1,SMALL(IF(U49:AV49<>\"\",COLUMN(U49:AV49)-MIN(COLUMN(U49:AV49))+1),COLUMNS($U$2:AG33))),\"\")","v":0},{"$f":"IFERROR(INDEX(U49:AV49,1,SMALL(IF(U49:AV49<>\"\",COLUMN(U49:AV49)-MIN(COLUMN(U49:AV49))+1),COLUMNS($U$2:AH33))),\"\")","v":0},{"$f":"IFERROR(INDEX(U49:AV49,1,SMALL(IF(U49:AV49<>\"\",COLUMN(U49:AV49)-MIN(COLUMN(U49:AV49))+1),COLUMNS($U$2:AI33))),\"\")","v":0},{"$f":"IFERROR(INDEX(U49:AV49,1,SMALL(IF(U49:AV49<>\"\",COLUMN(U49:AV49)-MIN(COLUMN(U49:AV49))+1),COLUMNS($U$2:AJ33))),\"\")","v":0},{"$f":"IFERROR(INDEX(U49:AV49,1,SMALL(IF(U49:AV49<>\"\",COLUMN(U49:AV49)-MIN(COLUMN(U49:AV49))+1),COLUMNS($U$2:AK33))),\"\")","v":0},{"$f":"IFERROR(INDEX(U49:AV49,1,SMALL(IF(U49:AV49<>\"\",COLUMN(U49:AV49)-MIN(COLUMN(U49:AV49))+1),COLUMNS($U$2:AL33))),\"\")","v":0},{"$f":"IFERROR(INDEX(U49:AV49,1,SMALL(IF(U49:AV49<>\"\",COLUMN(U49:AV49)-MIN(COLUMN(U49:AV49))+1),COLUMNS($U$2:AM33))),\"\")","v":0},{"$f":"IFERROR(INDEX(U49:AV49,1,SMALL(IF(U49:AV49<>\"\",COLUMN(U49:AV49)-MIN(COLUMN(U49:AV49))+1),COLUMNS($U$2:AN33))),\"\")","v":0},{"$f":"IFERROR(INDEX(U49:AV49,1,SMALL(IF(U49:AV49<>\"\",COLUMN(U49:AV49)-MIN(COLUMN(U49:AV49))+1),COLUMNS($U$2:AO33))),\"\")","v":0},{"$f":"IFERROR(INDEX(U49:AV49,1,SMALL(IF(U49:AV49<>\"\",COLUMN(U49:AV49)-MIN(COLUMN(U49:AV49))+1),COLUMNS($U$2:AP33))),\"\")","v":0},{"$f":"IFERROR(INDEX(U49:AV49,1,SMALL(IF(U49:AV49<>\"\",COLUMN(U49:AV49)-MIN(COLUMN(U49:AV49))+1),COLUMNS($U$2:AQ33))),\"\")","v":0},{"$f":"IFERROR(INDEX(U49:AV49,1,SMALL(IF(U49:AV49<>\"\",COLUMN(U49:AV49)-MIN(COLUMN(U49:AV49))+1),COLUMNS($U$2:AR33))),\"\")","v":0},{"$f":"IFERROR(INDEX(U49:AV49,1,SMALL(IF(U49:AV49<>\"\",COLUMN(U49:AV49)-MIN(COLUMN(U49:AV49))+1),COLUMNS($U$2:AS33))),\"\")","v":0},{"$f":"IFERROR(INDEX(U49:AV49,1,SMALL(IF(U49:AV49<>\"\",COLUMN(U49:AV49)-MIN(COLUMN(U49:AV49))+1),COLUMNS($U$2:AT33))),\"\")","v":0},{"$f":"IFERROR(INDEX(U49:AV49,1,SMALL(IF(U49:AV49<>\"\",COLUMN(U49:AV49)-MIN(COLUMN(U49:AV49))+1),COLUMNS($U$2:AU33))),\"\")","v":0},{"$f":"IFERROR(INDEX(U49:AV49,1,SMALL(IF(U49:AV49<>\"\",COLUMN(U49:AV49)-MIN(COLUMN(U49:AV49))+1),COLUMNS($U$2:AV33))),\"\")","v":0},null,null,null,null,null,null,null,{"$f":"IFERROR(INDEX(BA33:BA43,MATCH(SMALL(BC33:BC43,ROWS(BA33:BA40)),BC33:BC43,)),\"\")","v":""},{"$f":"IFERROR(INDEX(BD33:BD54,SMALL(IF(BD33:BD54<>\"\",ROW(BD33:BD54)-MIN(ROW(BD33:BD54))+1),ROWS(AX33:AX51))),\"\")","v":""},null,{"$f":"+AM51","v":0},{"$f":"COUNTIF($BG$2:BG51,\"*\"&BG51&\"*\")","v":0},"","",{"$f":"IFERROR(INDEX(BI$2:BI$308,MATCH(ROWS(BJ$2:BJ51),BJ$2:BJ$308,0)),\"\")","v":""},{"$f":"COUNTIF($BK51:$BK$308,\"*\"&BK51&\"*\")","v":258},"","",{"$f":"IFERROR(INDEX($BM$2:$BM$308,MATCH(ROWS(BN$2:BN51),BN$2:BN357,0)),\"\")","v":""},{"$f":"IFERROR(VLOOKUP(Engine!BO51,P_sentences_overview!H50:I179,2),\"\")","v":""}]
[null,null,null,null,null,null,null,null,null,null,null,null,null,null,null,null,null,null,null,null,null,null,null,null,null,null,null,null,null,null,null,null,null,null,null,null,null,null,null,null,null,null,null,null,null,null,null,null,null,null,null,null,null,null,null,{"$f":"IFERROR(INDEX(BA33:BA43,MATCH(SMALL(BC33:BC43,ROWS(BA33:BA41)),BC33:BC43,)),\"\")","v":""},{"$f":"IFERROR(INDEX(BD33:BD54,SMALL(IF(BD33:BD54<>\"\",ROW(BD33:BD54)-MIN(ROW(BD33:BD54))+1),ROWS(AX33:AX52))),\"\")","v":""},null,{"$f":"+AN51","v":0},{"$f":"COUNTIF($BG$2:BG52,\"*\"&BG52&\"*\")","v":0},"","",{"$f":"IFERROR(INDEX(BI$2:BI$308,MATCH(ROWS(BJ$2:BJ52),BJ$2:BJ$308,0)),\"\")","v":""},{"$f":"COUNTIF($BK52:$BK$308,\"*\"&BK52&\"*\")","v":257},"","",{"$f":"IFERROR(INDEX($BM$2:$BM$308,MATCH(ROWS(BN$2:BN52),BN$2:BN358,0)),\"\")","v":""},{"$f":"IFERROR(VLOOKUP(Engine!BO52,P_sentences_overview!H51:I180,2),\"\")","v":""}]
[null,null,null,null,null,null,null,null,null,null,null,null,null,null,null,null,null,null,null,null,null,null,null,null,null,null,null,null,null,null,null,null,null,null,null,null,null,null,null,null,null,null,null,null,null,null,null,null,null,null,null,null,null,null,null,{"$f":"IFERROR(INDEX(BA33:BA43,MATCH(SMALL(BC33:BC43,ROWS(BA33:BA42)),BC33:BC43,)),\"\")","v":""},{"$f":"IFERROR(INDEX(BD33:BD54,SMALL(IF(BD33:BD54<>\"\",ROW(BD33:BD54)-MIN(ROW(BD33:BD54))+1),ROWS(AX33:AX53))),\"\")","v":""},null,{"$f":"+AO51","v":0},{"$f":"COUNTIF($BG$2:BG53,\"*\"&BG53&\"*\")","v":0},"","",{"$f":"IFERROR(INDEX(BI$2:BI$308,MATCH(ROWS(BJ$2:BJ53),BJ$2:BJ$308,0)),\"\")","v":""},{"$f":"COUNTIF($BK53:$BK$308,\"*\"&BK53&\"*\")","v":256},"","",{"$f":"IFERROR(INDEX($BM$2:$BM$308,MATCH(ROWS(BN$2:BN53),BN$2:BN359,0)),\"\")","v":""},{"$f":"IFERROR(VLOOKUP(Engine!BO53,P_sentences_overview!H52:I181,2),\"\")","v":""}]
[null,null,null,null,null,null,null,null,null,null,null,null,null,null,null,null,null,null,null,null,null,null,null,null,null,null,null,null,null,null,null,null,null,null,null,null,null,null,null,null,null,null,null,null,null,null,null,null,null,null,null,null,null,null,null,{"$f":"IFERROR(INDEX(BA33:BA43,MATCH(SMALL(BC33:BC43,ROWS(BA33:BA43)),BC33:BC43,)),\"\")","v":""},{"$f":"IFERROR(INDEX(BD33:BD54,SMALL(IF(BD33:BD54<>\"\",ROW(BD33:BD54)-MIN(ROW(BD33:BD54))+1),ROWS(AX33:AX54))),\"\")","v":""},null,{"$f":"+AP51","v":0},{"$f":"COUNTIF($BG$2:BG54,\"*\"&BG54&\"*\")","v":0},"","",{"$f":"IFERROR(INDEX(BI$2:BI$308,MATCH(ROWS(BJ$2:BJ54),BJ$2:BJ$308,0)),\"\")","v":""},{"$f":"COUNTIF($BK54:$BK$308,\"*\"&BK54&\"*\")","v":255},"","",{"$f":"IFERROR(INDEX($BM$2:$BM$308,MATCH(ROWS(BN$2:BN54),BN$2:BN360,0)),\"\")","v":""},{"$f":"IFERROR(VLOOKUP(Engine!BO54,P_sentences_overview!H53:I182,2),\"\")","v":""}]
[null,null,null,null,null,null,null,null,null,null,null,null,null,null,null,null,null,null,null,null,null,null,null,null,null,null,null,null,null,null,null,null,null,null,null,null,null,null,null,null,null,null,null,null,null,null,null,null,null,null,null,null,null,null,null,null,null,null,{"$f":"+AQ51","v":0},{"$f":"COUNTIF($BG$2:BG55,\"*\"&BG55&\"*\")","v":0},"","",{"$f":"IFERROR(INDEX(BI$2:BI$308,MATCH(ROWS(BJ$2:BJ55),BJ$2:BJ$308,0)),\"\")","v":""},{"$f":"COUNTIF($BK55:$BK$308,\"*\"&BK55&\"*\")","v":254},"","",{"$f":"IFERROR(INDEX($BM$2:$BM$308,MATCH(ROWS(BN$2:BN55),BN$2:BN361,0)),\"\")","v":""},{"$f":"IFERROR(VLOOKUP(Engine!BO55,P_sentences_overview!H54:I183,2),\"\")","v":""}]
[null,null,null,null,null,null,null,null,null,null,null,null,null,null,null,null,null,null,null,null,null,null,null,null,null,null,null,null,null,null,null,null,null,null,null,null,null,null,null,null,null,null,null,null,null,null,null,null,null,null,null,null,null,null,null,null,null,null,{"$f":"+AR51","v":0},{"$f":"COUNTIF($BG$2:BG56,\"*\"&BG56&\"*\")","v":0},"","",{"$f":"IFERROR(INDEX(BI$2:BI$308,MATCH(ROWS(BJ$2:BJ56),BJ$2:BJ$308,0)),\"\")","v":""},{"$f":"COUNTIF($BK56:$BK$308,\"*\"&BK56&\"*\")","v":253},"","",{"$f":"IFERROR(INDEX($BM$2:$BM$308,MATCH(ROWS(BN$2:BN56),BN$2:BN362,0)),\"\")","v":""},{"$f":"IFERROR(VLOOKUP(Engine!BO56,P_sentences_overview!H55:I184,2),\"\")","v":""}]
[null,null,null,null,null,null,null,null,null,null,null,null,null,null,null,null,null,null,null,null,null,null,null,null,null,null,null,null,null,null,null,null,null,null,null,null,null,null,null,null,null,null,null,null,null,null,null,null,null,null,null,null,null,null,null,null,null,null,{"$f":"+AS51","v":0},{"$f":"COUNTIF($BG$2:BG57,\"*\"&BG57&\"*\")","v":0},"","",{"$f":"IFERROR(INDEX(BI$2:BI$308,MATCH(ROWS(BJ$2:BJ57),BJ$2:BJ$308,0)),\"\")","v":""},{"$f":"COUNTIF($BK57:$BK$308,\"*\"&BK57&\"*\")","v":252},"","",{"$f":"IFERROR(INDEX($BM$2:$BM$308,MATCH(ROWS(BN$2:BN57),BN$2:BN363,0)),\"\")","v":""},{"$f":"IFERROR(VLOOKUP(Engine!BO57,P_sentences_overview!H56:I185,2),\"\")","v":""}]
[null,null,null,null,null,null,null,null,null,null,null,null,null,null,null,null,null,null,null,null,null,null,null,null,null,null,null,null,null,null,null,null,null,null,null,null,null,null,null,null,null,null,null,null,null,null,null,null,null,null,null,null,null,null,null,null,null,null,{"$f":"+AT51","v":0},{"$f":"COUNTIF($BG$2:BG58,\"*\"&BG58&\"*\")","v":0},"","",{"$f":"IFERROR(INDEX(BI$2:BI$308,MATCH(ROWS(BJ$2:BJ58),BJ$2:BJ$308,0)),\"\")","v":""},{"$f":"COUNTIF($BK58:$BK$308,\"*\"&BK58&\"*\")","v":251},"","",{"$f":"IFERROR(INDEX($BM$2:$BM$308,MATCH(ROWS(BN$2:BN58),BN$2:BN364,0)),\"\")","v":""},{"$f":"IFERROR(VLOOKUP(Engine!BO58,P_sentences_overview!H57:I186,2),\"\")","v":""}]
[null,null,null,null,null,null,null,null,null,null,null,null,null,null,null,null,null,null,null,null,null,null,null,null,null,null,null,null,null,null,null,null,null,null,null,null,null,null,null,null,null,null,null,null,null,null,null,null,null,null,null,null,null,null,null,null,null,null,{"$f":"+AU51","v":0},{"$f":"COUNTIF($BG$2:BG59,\"*\"&BG59&\"*\")","v":0},"","",{"$f":"IFERROR(INDEX(BI$2:BI$308,MATCH(ROWS(BJ$2:BJ59),BJ$2:BJ$308,0)),\"\")","v":""},{"$f":"COUNTIF($BK59:$BK$308,\"*\"&BK59&\"*\")","v":250},"","",{"$f":"IFERROR(INDEX($BM$2:$BM$308,MATCH(ROWS(BN$2:BN59),BN$2:BN365,0)),\"\")","v":""},{"$f":"IFERROR(VLOOKUP(Engine!BO59,P_sentences_overview!H58:I187,2),\"\")","v":""}]
[null,null,null,null,null,null,null,null,null,null,null,null,null,null,null,null,null,null,null,null,null,null,null,null,null,null,null,null,null,null,null,null,null,null,null,null,null,null,null,null,null,null,null,null,null,null,null,null,null,null,null,null,null,null,null,null,null,null,{"$f":"+AV51","v":0},{"$f":"COUNTIF($BG$2:BG60,\"*\"&BG60&\"*\")","v":0},"","",{"$f":"IFERROR(INDEX(BI$2:BI$308,MATCH(ROWS(BJ$2:BJ60),BJ$2:BJ$308,0)),\"\")","v":""},{"$f":"COUNTIF($BK60:$BK$308,\"*\"&BK60&\"*\")","v":249},"","",{"$f":"IFERROR(INDEX($BM$2:$BM$308,MATCH(ROWS(BN$2:BN60),BN$2:BN366,0)),\"\")","v":""},{"$f":"IFERROR(VLOOKUP(Engine!BO60,P_sentences_overview!H59:I188,2),\"\")","v":""}]
[null,null,null,null,null,null,null,null,null,null,null,null,null,null,null,null,null,null,null,null,null,null,null,null,null,null,null,null,null,null,null,null,null,null,null,null,null,null,null,null,null,null,null,null,null,null,null,null,null,null,null,null,null,null,null,null,null,null,null,{"$f":"COUNTIF($BG$2:BG61,\"*\"&BG61&\"*\")","v":0},"","",{"$f":"IFERROR(INDEX(BI$2:BI$308,MATCH(ROWS(BJ$2:BJ61),BJ$2:BJ$308,0)),\"\")","v":""},{"$f":"COUNTIF($BK61:$BK$308,\"*\"&BK61&\"*\")","v":248},"","",{"$f":"IFERROR(INDEX($BM$2:$BM$308,MATCH(ROWS(BN$2:BN61),BN$2:BN367,0)),\"\")","v":""},{"$f":"IFERROR(VLOOKUP(Engine!BO61,P_sentences_overview!H60:I189,2),\"\")","v":""}]
[null,null,null,null,null,null,null,null,null,null,null,null,null,null,null,null,null,null,null,null,null,null,null,null,null,null,null,null,null,null,null,null,null,null,null,null,null,null,null,null,null,null,null,null,null,null,null,null,null,null,null,null,null,null,null,null,null,null,null,{"$f":"COUNTIF($BG$2:BG62,\"*\"&BG62&\"*\")","v":0},"","",{"$f":"IFERROR(INDEX(BI$2:BI$308,MATCH(ROWS(BJ$2:BJ62),BJ$2:BJ$308,0)),\"\")","v":""},{"$f":"COUNTIF($BK62:$BK$308,\"*\"&BK62&\"*\")","v":247},"","",{"$f":"IFERROR(INDEX($BM$2:$BM$308,MATCH(ROWS(BN$2:BN62),BN$2:BN368,0)),\"\")","v":""},{"$f":"IFERROR(VLOOKUP(Engine!BO62,P_sentences_overview!H61:I190,2),\"\")","v":""}]
[null,null,null,null,null,null,null,null,null,null,null,null,null,null,null,"Vælg  Hazard code","Opslag Hazard category","Vælg Hazard class","Opslag Hazard category","Opslag Hazard class","Column1","Column2","Column3","Column4",null,null,null,null,null,null,null,null,null,null,null,null,null,null,null,null,null,null,null,null,null,null,null,null,null,"Unique values","Number check","numbers_pull","text_pull","numbers_pull_rated","text_pull_rated","All_sorted","All_sorted_top",null,null,{"$f":"COUNTIF($BG$2:BG63,\"*\"&BG63&\"*\")","v":0},"","",{"$f":"IFERROR(INDEX(BI$2:BI$308,MATCH(ROWS(BJ$2:BJ63),BJ$2:BJ$308,0)),\"\")","v":""},{"$f":"COUNTIF($BK63:$BK$308,\"*\"&BK63&\"*\")","v":246},"","",{"$f":"IFERROR(INDEX($BM$2:$BM$308,MATCH(ROWS(BN$2:BN63),BN$2:BN369,0)),\"\")","v":""},{"$f":"IFERROR(VLOOKUP(Engine!BO63,P_sentences_overview!H62:I191,2),\"\")","v":""}]
[null,null,null,null,null,null,null,null,null,null,null,null,null,null,null,{"$f":"INDEX(H_sentences_overview!$A$1:$A$134,Engine!P69)","v":"(none)"},{"$f":"IFERROR(VLOOKUP(P64,H_sentences_overview!$A$2:$D$161,3),\"\")","v":""},{"$f":"INDEX(BE64:BE85,Engine!R69)","v":""},null,null,{"$f":"IFERROR(INDEX(P_saetn,SMALL(IF(Hazard=Engine!$Q64,ROW(P_saetn)-MIN(ROW(P_saetn))+1),COLUMNS($U64:U64))),\"\")","v":0},{"$f":"IFERROR(INDEX(P_saetn,SMALL(IF(Hazard=Engine!$Q64,ROW(P_saetn)-MIN(ROW(P_saetn))+1),COLUMNS($U64:V64))),\"\")","v":0},{"$f":"IFERROR(INDEX(P_saetn,SMALL(IF(Hazard=Engine!$Q64,ROW(P_saetn)-MIN(ROW(P_saetn))+1),COLUMNS($U64:W64))),\"\")","v":0},{"$f":"IFERROR(INDEX(P_saetn,SMALL(IF(Hazard=Engine!$Q64,ROW(P_saetn)-MIN(ROW(P_saetn))+1),COLUMNS($U64:X64))),\"\")","v":0},{"$f":"IFERROR(INDEX(P_saetn,SMALL(IF(Hazard=Engine!$Q64,ROW(P_saetn)-MIN(ROW(P_saetn))+1),COLUMNS($U64:Y64))),\"\")","v":0},{"$f":"IFERROR(INDEX(P_saetn,SMALL(IF(Hazard=Engine!$Q64,ROW(P_saetn)-MIN(ROW(P_saetn))+1),COLUMNS($U64:Z64))),\"\")","v":0},{"$f":"IFERROR(INDEX(P_saetn,SMALL(IF(Hazard=Engine!$Q64,ROW(P_saetn)-MIN(ROW(P_saetn))+1),COLUMNS($U64:AA64))),\"\")","v":0},{"$f":"IFERROR(INDEX(P_saetn,SMALL(IF(Hazard=Engine!$Q64,ROW(P_saetn)-MIN(ROW(P_saetn))+1),COLUMNS($U64:AB64))),\"\")","v":0},{"$f":"IFERROR(INDEX(P_saetn,SMALL(IF(Hazard=Engine!$Q64,ROW(P_saetn)-MIN(ROW(P_saetn))+1),COLUMNS($U64:AC64))),\"\")","v":0},{"$f":"IFERROR(INDEX(P_saetn,SMALL(IF(Hazard=Engine!$Q64,ROW(P_saetn)-MIN(ROW(P_saetn))+1),COLUMNS($U64:AD64))),\"\")","v":0},{"$f":"IFERROR(INDEX(P_saetn,SMALL(IF(Hazard=Engine!$Q64,ROW(P_saetn)-MIN(ROW(P_saetn))+1),COLUMNS($U64:AE64))),\"\")","v":0},{"$f":"IFERROR(INDEX(P_saetn,SMALL(IF(Hazard=Engine!$Q64,ROW(P_saetn)-MIN(ROW(P_saetn))+1),COLUMNS($U64:AF64))),\"\")","v":0},{"$f":"IFERROR(INDEX(P_saetn,SMALL(IF(Hazard=Engine!$Q64,ROW(P_saetn)-MIN(ROW(P_saetn))+1),COLUMNS($U64:AG64))),\"\")","v":0},{"$f":"IFERROR(INDEX(P_saetn,SMALL(IF(Hazard=Engine!$Q64,ROW(P_saetn)-MIN(ROW(P_saetn))+1),COLUMNS($U64:AH64))),\"\")","v":0},{"$f":"IFERROR(INDEX(P_saetn,SMALL(IF(Hazard=Engine!$Q64,ROW(P_saetn)-MIN(ROW(P_saetn))+1),COLUMNS($U64:AI64))),\"\")","v":0},{"$f":"IFERROR(INDEX(P_saetn,SMALL(IF(Hazard=Engine!$Q64,ROW(P_saetn)-MIN(ROW(P_saetn))+1),COLUMNS($U64:AJ64))),\"\")","v":0},{"$f":"IFERROR(INDEX(P_saetn,SMALL(IF(Hazard=Engine!$Q64,ROW(P_saetn)-MIN(ROW(P_saetn))+1),COLUMNS($U64:AK64))),\"\")","v":0},{"$f":"IFERROR(INDEX(P_saetn,SMALL(IF(Hazard=Engine!$Q64,ROW(P_saetn)-MIN(ROW(P_saetn))+1),COLUMNS($U64:AL64))),\"\")","v":0},{"$f":"IFERROR(INDEX(P_saetn,SMALL(IF(Hazard=Engine!$Q64,ROW(P_saetn)-MIN(ROW(P_saetn))+1),COLUMNS($U64:AM64))),\"\")","v":0},{"$f":"IFERROR(INDEX(P_saetn,SMALL(IF(Hazard=Engine!$Q64,ROW(P_saetn)-MIN(ROW(P_saetn))+1),COLUMNS($U64:AN64))),\"\")","v":0},{"$f":"IFERROR(INDEX(P_saetn,SMALL(IF(Hazard=Engine!$Q64,ROW(P_saetn)-MIN(ROW(P_saetn))+1),COLUMNS($U64:AO64))),\"\")","v":0},{"$f":"IFERROR(INDEX(P_saetn,SMALL(IF(Hazard=Engine!$Q64,ROW(P_saetn)-MIN(ROW(P_saetn))+1),COLUMNS($U64:AP64))),\"\")","v":0},{"$f":"IFERROR(INDEX(P_saetn,SMALL(IF(Hazard=Engine!$Q64,ROW(P_saetn)-MIN(ROW(P_saetn))+1),COLUMNS($U64:AQ64))),\"\")","v":0},{"$f":"IFERROR(INDEX(P_saetn,SMALL(IF(Hazard=Engine!$Q64,ROW(P_saetn)-MIN(ROW(P_saetn))+1),COLUMNS($U64:AR64))),\"\")","v":0},{"$f":"IFERROR(INDEX(P_saetn,SMALL(IF(Hazard=Engine!$Q64,ROW(P_saetn)-MIN(ROW(P_saetn))+1),COLUMNS($U64:AS64))),\"\")","v":0},{"$f":"IFERROR(INDEX(P_saetn,SMALL(IF(Hazard=Engine!$Q64,ROW(P_saetn)-MIN(ROW(P_saetn))+1),COLUMNS($U64:AT64))),\"\")","v":0},{"$f":"IFERROR(INDEX(P_saetn,SMALL(IF(Hazard=Engine!$Q64,ROW(P_saetn)-MIN(ROW(P_saetn))+1),COLUMNS($U64:AU64))),\"\")","v":0},{"$f":"IFERROR(INDEX(P_saetn,SMALL(IF(Hazard=Engine!$Q64,ROW(P_saetn)-MIN(ROW(P_saetn))+1),COLUMNS($U64:AV64))),\"\")","v":0},null,{"$f":"INDIRECT(TEXT(MIN(IF(($U73:$AV78<>\"\")*(COUNTIF($AX63:$AX63,$U73:$AV78)=0),ROW($P73:$BM78)*100+COLUMN($U63:$AV91),7^8)),\"R0C00\"),)&\"\"","v":""},{"$f":"ISNUMBER(AX64*1)","v":false},{"$f":"IF(AY64=TRUE,AX64*1,\"\")","v":""},{"$f":"IF(AY64=FALSE,AX64,\"\")","v":""},{"$f":"COUNTIF(AZ64:AZ74,\"<=\"&AZ64)","v":0},{"$f":"IF(COUNTIF(BA64:BA74,\"<=\"&BA64)=0,\"\",COUNTIF(BA64:BA74,\"<=\"&BA64))","v":""},{"$f":"IFERROR(SMALL(AZ64:AZ74,ROWS(AX64:AX64)),\"\")","v":""},{"$f":"IFERROR(INDEX(BD64:BD85,SMALL(IF(BD64:BD85<>\"\",ROW(BD64:BD85)-MIN(ROW(BD64:BD85))+1),ROWS(AX64:AX64))),\"\")","v":""},null,{"$f":"U82","v":0},{"$f":"COUNTIF($BG$2:BG64,\"*\"&BG64&\"*\")","v":0},"","",{"$f":"IFERROR(INDEX(BI$2:BI$308,MATCH(ROWS(BJ$2:BJ64),BJ$2:BJ$308,0)),\"\")","v":""},{"$f":"COUNTIF($BK64:$BK$308,\"*\"&BK64&\"*\")","v":245},"","",{"$f":"IFERROR(INDEX($BM$2:$BM$308,MATCH(ROWS(BN$2:BN64),BN$2:BN370,0)),\"\")","v":""},{"$f":"IFERROR(VLOOKUP(Engine!BO64,P_sentences_overview!H63:I192,2),\"\")","v":""}]
[null,null,null,null,null,null,null,null,null,null,null,null,null,null,null,null,null,null,null,null,{"$f":"SMALL(IF(Hazard=Engine!$Q64,ROW(P_saetn)-MIN(ROW(P_saetn))+1),COLUMNS($U64:U64)+1)","v":465},{"$f":"SMALL(IF(Hazard=Engine!$Q64,ROW(P_saetn)-MIN(ROW(P_saetn))+1),COLUMNS($U64:V64)+1)","v":466},{"$f":"SMALL(IF(Hazard=Engine!$Q64,ROW(P_saetn)-MIN(ROW(P_saetn))+1),COLUMNS($U64:W64)+1)","v":467},{"$f":"SMALL(IF(Hazard=Engine!$Q64,ROW(P_saetn)-MIN(ROW(P_saetn))+1),COLUMNS($U64:X64)+1)","v":468},{"$f":"SMALL(IF(Hazard=Engine!$Q64,ROW(P_saetn)-MIN(ROW(P_saetn))+1),COLUMNS($U64:Y64)+1)","v":469},{"$f":"SMALL(IF(Hazard=Engine!$Q64,ROW(P_saetn)-MIN(ROW(P_saetn))+1),COLUMNS($U64:Z64)+1)","v":470},{"$f":"SMALL(IF(Hazard=Engine!$Q64,ROW(P_saetn)-MIN(ROW(P_saetn))+1),COLUMNS($U64:AA64)+1)","v":471},{"$f":"SMALL(IF(Hazard=Engine!$Q64,ROW(P_saetn)-MIN(ROW(P_saetn))+1),COLUMNS($U64:AB64)+1)","v":472},{"$f":"SMALL(IF(Hazard=Engine!$Q64,ROW(P_saetn)-MIN(ROW(P_saetn))+1),COLUMNS($U64:AC64)+1)","v":473},{"$f":"SMALL(IF(Hazard=Engine!$Q64,ROW(P_saetn)-MIN(ROW(P_saetn))+1),COLUMNS($U64:AD64)+1)","v":474},{"$f":"SMALL(IF(Hazard=Engine!$Q64,ROW(P_saetn)-MIN(ROW(P_saetn))+1),COLUMNS($U64:AE64)+1)","v":475},{"$f":"SMALL(IF(Hazard=Engine!$Q64,ROW(P_saetn)-MIN(ROW(P_saetn))+1),COLUMNS($U64:AF64)+1)","v":476},{"$f":"SMALL(IF(Hazard=Engine!$Q64,ROW(P_saetn)-MIN(ROW(P_saetn))+1),COLUMNS($U64:AG64)+1)","v":477},{"$f":"SMALL(IF(Hazard=Engine!$Q64,ROW(P_saetn)-MIN(ROW(P_saetn))+1),COLUMNS($U64:AH64)+1)","v":478},{"$f":"SMALL(IF(Hazard=Engine!$Q64,ROW(P_saetn)-MIN(ROW(P_saetn))+1),COLUMNS($U64:AI64)+1)","v":479},{"$f":"SMALL(IF(Hazard=Engine!$Q64,ROW(P_saetn)-MIN(ROW(P_saetn))+1),COLUMNS($U64:AJ64)+1)","v":480},{"$f":"SMALL(IF(Hazard=Engine!$Q64,ROW(P_saetn)-MIN(ROW(P_saetn))+1),COLUMNS($U64:AK64)+1)","v":481},{"$f":"SMALL(IF(Hazard=Engine!$Q64,ROW(P_saetn)-MIN(ROW(P_saetn))+1),COLUMNS($U64:AL64)+1)","v":482},{"$f":"SMALL(IF(Hazard=Engine!$Q64,ROW(P_saetn)-MIN(ROW(P_saetn))+1),COLUMNS($U64:AM64)+1)","v":483},{"$f":"SMALL(IF(Hazard=Engine!$Q64,ROW(P_saetn)-MIN(ROW(P_saetn))+1),COLUMNS($U64:AN64)+1)","v":484},{"$f":"SMALL(IF(Hazard=Engine!$Q64,ROW(P_saetn)-MIN(ROW(P_saetn))+1),COLUMNS($U64:AO64)+1)","v":485},{"$f":"SMALL(IF(Hazard=Engine!$Q64,ROW(P_saetn)-MIN(ROW(P_saetn))+1),COLUMNS($U64:AP64)+1)","v":486},{"$f":"SMALL(IF(Hazard=Engine!$Q64,ROW(P_saetn)-MIN(ROW(P_saetn))+1),COLUMNS($U64:AQ64)+1)","v":487},{"$f":"SMALL(IF(Hazard=Engine!$Q64,ROW(P_saetn)-MIN(ROW(P_saetn))+1),COLUMNS($U64:AR64)+1)","v":488},{"$f":"SMALL(IF(Hazard=Engine!$Q64,ROW(P_saetn)-MIN(ROW(P_saetn))+1),COLUMNS($U64:AS64)+1)","v":489},{"$f":"SMALL(IF(Hazard=Engine!$Q64,ROW(P_saetn)-MIN(ROW(P_saetn))+1),COLUMNS($U64:AT64)+1)","v":490},{"$f":"SMALL(IF(Hazard=Engine!$Q64,ROW(P_saetn)-MIN(ROW(P_saetn))+1),COLUMNS($U64:AU64)+1)","v":491},{"$f":"SMALL(IF(Hazard=Engine!$Q64,ROW(P_saetn)-MIN(ROW(P_saetn))+1),COLUMNS($U64:AV64)+1)","v":492},null,{"$f":"INDIRECT(TEXT(MIN(IF(($U73:$AV78<>\"\")*(COUNTIF($AX63:$AX64,$U73:$AV78)=0),ROW($P73:$BM78)*100+COLUMN($U63:$AV91),7^8)),\"R0C00\"),)&\"\"","v":""},false,"","",{"$f":"COUNTIF(AZ64:AZ74,\"<=\"&AZ65)","v":0},{"$f":"IF(COUNTIF(BA64:BA74,\"<=\"&BA65)=0,\"\",COUNTIF(BA64:BA74,\"<=\"&BA65))","v":""},{"$f":"IFERROR(SMALL(AZ64:AZ74,ROWS(AX64:AX65)),\"\")","v":""},{"$f":"IFERROR(INDEX(BD64:BD85,SMALL(IF(BD64:BD85<>\"\",ROW(BD64:BD85)-MIN(ROW(BD64:BD85))+1),ROWS(AX64:AX65))),\"\")","v":""},null,{"$f":"+V82","v":0},{"$f":"COUNTIF($BG$2:BG65,\"*\"&BG65&\"*\")","v":0},"","",{"$f":"IFERROR(INDEX(BI$2:BI$308,MATCH(ROWS(BJ$2:BJ65),BJ$2:BJ$308,0)),\"\")","v":""},{"$f":"COUNTIF($BK65:$BK$308,\"*\"&BK65&\"*\")","v":244},"","",{"$f":"IFERROR(INDEX($BM$2:$BM$308,MATCH(ROWS(BN$2:BN65),BN$2:BN371,0)),\"\")","v":""},{"$f":"IFERROR(VLOOKUP(Engine!BO65,P_sentences_overview!H64:I193,2),\"\")","v":""}]
[null,null,null,null,null,null,null,null,null,null,null,null,null,null,null,null,null,null,null,null,{"$f":"IFERROR(INDEX(Haz_Cat,SMALL(IF(Hazard=Engine!$Q64,ROW(Haz_Cat)-MIN(ROW(Haz_Cat))+1),COLUMNS($U66:U66)),COLUMNS(Main!D$2:D$2)),\"\")","v":0},{"$f":"IFERROR(INDEX(Haz_Cat,SMALL(IF(Hazard=Engine!$Q64,ROW(Haz_Cat)-MIN(ROW(Haz_Cat))+1),COLUMNS($U66:V66)),COLUMNS(Main!E$2:E$2)),\"\")","v":0},{"$f":"IFERROR(INDEX(Haz_Cat,SMALL(IF(Hazard=Engine!$Q64,ROW(Haz_Cat)-MIN(ROW(Haz_Cat))+1),COLUMNS($U66:W66)),COLUMNS(Main!F$2:F$2)),\"\")","v":0},{"$f":"IFERROR(INDEX(Haz_Cat,SMALL(IF(Hazard=Engine!$Q64,ROW(Haz_Cat)-MIN(ROW(Haz_Cat))+1),COLUMNS($U66:X66)),COLUMNS(Main!G$2:G$2)),\"\")","v":0},{"$f":"IFERROR(INDEX(Haz_Cat,SMALL(IF(Hazard=Engine!$Q64,ROW(Haz_Cat)-MIN(ROW(Haz_Cat))+1),COLUMNS($U66:Y66)),COLUMNS(Main!H$2:H$2)),\"\")","v":0},{"$f":"IFERROR(INDEX(Haz_Cat,SMALL(IF(Hazard=Engine!$Q64,ROW(Haz_Cat)-MIN(ROW(Haz_Cat))+1),COLUMNS($U66:Z66)),COLUMNS(Main!I$2:I$2)),\"\")","v":0},{"$f":"IFERROR(INDEX(Haz_Cat,SMALL(IF(Hazard=Engine!$Q64,ROW(Haz_Cat)-MIN(ROW(Haz_Cat))+1),COLUMNS($U66:AA66)),COLUMNS(Main!J$2:J$2)),\"\")","v":0},{"$f":"IFERROR(INDEX(Haz_Cat,SMALL(IF(Hazard=Engine!$Q64,ROW(Haz_Cat)-MIN(ROW(Haz_Cat))+1),COLUMNS($U66:AB66)),COLUMNS(Main!K$2:K$2)),\"\")","v":0},{"$f":"IFERROR(INDEX(Haz_Cat,SMALL(IF(Hazard=Engine!$Q64,ROW(Haz_Cat)-MIN(ROW(Haz_Cat))+1),COLUMNS($U66:AC66)),COLUMNS(Main!L$2:L$2)),\"\")","v":0},{"$f":"IFERROR(INDEX(Haz_Cat,SMALL(IF(Hazard=Engine!$Q64,ROW(Haz_Cat)-MIN(ROW(Haz_Cat))+1),COLUMNS($U66:AD66)),COLUMNS(Main!M$2:M$2)),\"\")","v":0},{"$f":"IFERROR(INDEX(Haz_Cat,SMALL(IF(Hazard=Engine!$Q64,ROW(Haz_Cat)-MIN(ROW(Haz_Cat))+1),COLUMNS($U66:AE66)),COLUMNS(Main!N$2:N$2)),\"\")","v":0},{"$f":"IFERROR(INDEX(Haz_Cat,SMALL(IF(Hazard=Engine!$Q64,ROW(Haz_Cat)-MIN(ROW(Haz_Cat))+1),COLUMNS($U66:AF66)),COLUMNS(Main!O$2:O$2)),\"\")","v":0},{"$f":"IFERROR(INDEX(Haz_Cat,SMALL(IF(Hazard=Engine!$Q64,ROW(Haz_Cat)-MIN(ROW(Haz_Cat))+1),COLUMNS($U66:AG66)),COLUMNS(Main!P$2:P$2)),\"\")","v":0},{"$f":"IFERROR(INDEX(Haz_Cat,SMALL(IF(Hazard=Engine!$Q64,ROW(Haz_Cat)-MIN(ROW(Haz_Cat))+1),COLUMNS($U66:AH66)),COLUMNS(Main!Q$2:Q$2)),\"\")","v":0},{"$f":"IFERROR(INDEX(Haz_Cat,SMALL(IF(Hazard=Engine!$Q64,ROW(Haz_Cat)-MIN(ROW(Haz_Cat))+1),COLUMNS($U66:AI66)),COLUMNS(Main!R$2:R$2)),\"\")","v":0},{"$f":"IFERROR(INDEX(Haz_Cat,SMALL(IF(Hazard=Engine!$Q64,ROW(Haz_Cat)-MIN(ROW(Haz_Cat))+1),COLUMNS($U66:AJ66)),COLUMNS(Main!S$2:S$2)),\"\")","v":0},{"$f":"IFERROR(INDEX(Haz_Cat,SMALL(IF(Hazard=Engine!$Q64,ROW(Haz_Cat)-MIN(ROW(Haz_Cat))+1),COLUMNS($U66:AK66)),COLUMNS(Main!T$2:T$2)),\"\")","v":0},{"$f":"IFERROR(INDEX(Haz_Cat,SMALL(IF(Hazard=Engine!$Q64,ROW(Haz_Cat)-MIN(ROW(Haz_Cat))+1),COLUMNS($U66:AL66)),COLUMNS(Main!U$2:U$2)),\"\")","v":0},{"$f":"IFERROR(INDEX(Haz_Cat,SMALL(IF(Hazard=Engine!$Q64,ROW(Haz_Cat)-MIN(ROW(Haz_Cat))+1),COLUMNS($U66:AM66)),COLUMNS(Main!V$2:V$2)),\"\")","v":0},{"$f":"IFERROR(INDEX(Haz_Cat,SMALL(IF(Hazard=Engine!$Q64,ROW(Haz_Cat)-MIN(ROW(Haz_Cat))+1),COLUMNS($U66:AN66)),COLUMNS(Main!W$2:W$2)),\"\")","v":0},{"$f":"IFERROR(INDEX(Haz_Cat,SMALL(IF(Hazard=Engine!$Q64,ROW(Haz_Cat)-MIN(ROW(Haz_Cat))+1),COLUMNS($U66:AO66)),COLUMNS(Main!X$2:X$2)),\"\")","v":0},{"$f":"IFERROR(INDEX(Haz_Cat,SMALL(IF(Hazard=Engine!$Q64,ROW(Haz_Cat)-MIN(ROW(Haz_Cat))+1),COLUMNS($U66:AP66)),COLUMNS(Main!Y$2:Y$2)),\"\")","v":0},{"$f":"IFERROR(INDEX(Haz_Cat,SMALL(IF(Hazard=Engine!$Q64,ROW(Haz_Cat)-MIN(ROW(Haz_Cat))+1),COLUMNS($U66:AQ66)),COLUMNS(Main!Z$2:Z$2)),\"\")","v":0},{"$f":"IFERROR(INDEX(Haz_Cat,SMALL(IF(Hazard=Engine!$Q64,ROW(Haz_Cat)-MIN(ROW(Haz_Cat))+1),COLUMNS($U66:AR66)),COLUMNS(Main!AA$2:AA$2)),\"\")","v":0},{"$f":"IFERROR(INDEX(Haz_Cat,SMALL(IF(Hazard=Engine!$Q64,ROW(Haz_Cat)-MIN(ROW(Haz_Cat))+1),COLUMNS($U66:AS66)),COLUMNS(Main!AB$2:AB$2)),\"\")","v":0},{"$f":"IFERROR(INDEX(Haz_Cat,SMALL(IF(Hazard=Engine!$Q64,ROW(Haz_Cat)-MIN(ROW(Haz_Cat))+1),COLUMNS($U66:AT66)),COLUMNS(Main!AC$2:AC$2)),\"\")","v":0},{"$f":"IFERROR(INDEX(Haz_Cat,SMALL(IF(Hazard=Engine!$Q64,ROW(Haz_Cat)-MIN(ROW(Haz_Cat))+1),COLUMNS($U66:AU66)),COLUMNS(Main!AD$2:AD$2)),\"\")","v":0},{"$f":"IFERROR(INDEX(Haz_Cat,SMALL(IF(Hazard=Engine!$Q64,ROW(Haz_Cat)-MIN(ROW(Haz_Cat))+1),COLUMNS($U66:AV66)),COLUMNS(Main!AE$2:AE$2)),\"\")","v":0},null,{"$f":"INDIRECT(TEXT(MIN(IF(($U73:$AV78<>\"\")*(COUNTIF($AX63:$AX65,$U73:$AV78)=0),ROW($P73:$BM78)*100+COLUMN($U63:$AV91),7^8)),\"R0C00\"),)&\"\"","v":""},false,"","",{"$f":"COUNTIF(AZ64:AZ74,\"<=\"&AZ66)","v":0},{"$f":"IF(COUNTIF(BA64:BA74,\"<=\"&BA66)=0,\"\",COUNTIF(BA64:BA74,\"<=\"&BA66))","v":""},{"$f":"IFERROR(SMALL(AZ64:AZ74,ROWS(AX64:AX66)),\"\")","v":""},{"$f":"IFERROR(INDEX(BD64:BD85,SMALL(IF(BD64:BD85<>\"\",ROW(BD64:BD85)-MIN(ROW(BD64:BD85))+1),ROWS(AX64:AX66))),\"\")","v":""},null,{"$f":"+W82","v":0},{"$f":"COUNTIF($BG$2:BG66,\"*\"&BG66&\"*\")","v":0},"","",{"$f":"IFERROR(INDEX(BI$2:BI$308,MATCH(ROWS(BJ$2:BJ66),BJ$2:BJ$308,0)),\"\")","v":""},{"$f":"COUNTIF($BK66:$BK$308,\"*\"&BK66&\"*\")","v":243},"","",{"$f":"IFERROR(INDEX($BM$2:$BM$308,MATCH(ROWS(BN$2:BN66),BN$2:BN372,0)),\"\")","v":""},{"$f":"IFERROR(VLOOKUP(Engine!BO66,P_sentences_overview!H65:I194,2),\"\")","v":""}]
[null,null,null,null,null,null,null,null,null,null,null,null,null,null,null,null,null,null,null,null,{"$f":"IFERROR(INDEX(Haz_Cat,SMALL(IF(Hazard=Engine!$Q64,ROW(Haz_Cat)-MIN(ROW(Haz_Cat))+1),COLUMNS($U66:U66)),COLUMNS(Main!$D64:$E64)),\"\")","v":0},{"$f":"IFERROR(INDEX(Haz_Cat,SMALL(IF(Hazard=Engine!$Q64,ROW(Haz_Cat)-MIN(ROW(Haz_Cat))+1),COLUMNS($U66:V66)),COLUMNS(Main!$D64:$E64)),\"\")","v":0},{"$f":"IFERROR(INDEX(Haz_Cat,SMALL(IF(Hazard=Engine!$Q64,ROW(Haz_Cat)-MIN(ROW(Haz_Cat))+1),COLUMNS($U66:W66)),COLUMNS(Main!$D64:$E64)),\"\")","v":0},{"$f":"IFERROR(INDEX(Haz_Cat,SMALL(IF(Hazard=Engine!$Q64,ROW(Haz_Cat)-MIN(ROW(Haz_Cat))+1),COLUMNS($U66:X66)),COLUMNS(Main!$D64:$E64)),\"\")","v":0},{"$f":"IFERROR(INDEX(Haz_Cat,SMALL(IF(Hazard=Engine!$Q64,ROW(Haz_Cat)-MIN(ROW(Haz_Cat))+1),COLUMNS($U66:Y66)),COLUMNS(Main!$D64:$E64)),\"\")","v":0},{"$f":"IFERROR(INDEX(Haz_Cat,SMALL(IF(Hazard=Engine!$Q64,ROW(Haz_Cat)-MIN(ROW(Haz_Cat))+1),COLUMNS($U66:Z66)),COLUMNS(Main!$D64:$E64)),\"\")","v":0},{"$f":"IFERROR(INDEX(Haz_Cat,SMALL(IF(Hazard=Engine!$Q64,ROW(Haz_Cat)-MIN(ROW(Haz_Cat))+1),COLUMNS($U66:AA66)),COLUMNS(Main!$D64:$E64)),\"\")","v":0},{"$f":"IFERROR(INDEX(Haz_Cat,SMALL(IF(Hazard=Engine!$Q64,ROW(Haz_Cat)-MIN(ROW(Haz_Cat))+1),COLUMNS($U66:AB66)),COLUMNS(Main!$D64:$E64)),\"\")","v":0},{"$f":"IFERROR(INDEX(Haz_Cat,SMALL(IF(Hazard=Engine!$Q64,ROW(Haz_Cat)-MIN(ROW(Haz_Cat))+1),COLUMNS($U66:AC66)),COLUMNS(Main!$D64:$E64)),\"\")","v":0},{"$f":"IFERROR(INDEX(Haz_Cat,SMALL(IF(Hazard=Engine!$Q64,ROW(Haz_Cat)-MIN(ROW(Haz_Cat))+1),COLUMNS($U66:AD66)),COLUMNS(Main!$D64:$E64)),\"\")","v":0},{"$f":"IFERROR(INDEX(Haz_Cat,SMALL(IF(Hazard=Engine!$Q64,ROW(Haz_Cat)-MIN(ROW(Haz_Cat))+1),COLUMNS($U66:AE66)),COLUMNS(Main!$D64:$E64)),\"\")","v":0},{"$f":"IFERROR(INDEX(Haz_Cat,SMALL(IF(Hazard=Engine!$Q64,ROW(Haz_Cat)-MIN(ROW(Haz_Cat))+1),COLUMNS($U66:AF66)),COLUMNS(Main!$D64:$E64)),\"\")","v":0},{"$f":"IFERROR(INDEX(Haz_Cat,SMALL(IF(Hazard=Engine!$Q64,ROW(Haz_Cat)-MIN(ROW(Haz_Cat))+1),COLUMNS($U66:AG66)),COLUMNS(Main!$D64:$E64)),\"\")","v":0},{"$f":"IFERROR(INDEX(Haz_Cat,SMALL(IF(Hazard=Engine!$Q64,ROW(Haz_Cat)-MIN(ROW(Haz_Cat))+1),COLUMNS($U66:AH66)),COLUMNS(Main!$D64:$E64)),\"\")","v":0},{"$f":"IFERROR(INDEX(Haz_Cat,SMALL(IF(Hazard=Engine!$Q64,ROW(Haz_Cat)-MIN(ROW(Haz_Cat))+1),COLUMNS($U66:AI66)),COLUMNS(Main!$D64:$E64)),\"\")","v":0},{"$f":"IFERROR(INDEX(Haz_Cat,SMALL(IF(Hazard=Engine!$Q64,ROW(Haz_Cat)-MIN(ROW(Haz_Cat))+1),COLUMNS($U66:AJ66)),COLUMNS(Main!$D64:$E64)),\"\")","v":0},{"$f":"IFERROR(INDEX(Haz_Cat,SMALL(IF(Hazard=Engine!$Q64,ROW(Haz_Cat)-MIN(ROW(Haz_Cat))+1),COLUMNS($U66:AK66)),COLUMNS(Main!$D64:$E64)),\"\")","v":0},{"$f":"IFERROR(INDEX(Haz_Cat,SMALL(IF(Hazard=Engine!$Q64,ROW(Haz_Cat)-MIN(ROW(Haz_Cat))+1),COLUMNS($U66:AL66)),COLUMNS(Main!$D64:$E64)),\"\")","v":0},{"$f":"IFERROR(INDEX(Haz_Cat,SMALL(IF(Hazard=Engine!$Q64,ROW(Haz_Cat)-MIN(ROW(Haz_Cat))+1),COLUMNS($U66:AM66)),COLUMNS(Main!$D64:$E64)),\"\")","v":0},{"$f":"IFERROR(INDEX(Haz_Cat,SMALL(IF(Hazard=Engine!$Q64,ROW(Haz_Cat)-MIN(ROW(Haz_Cat))+1),COLUMNS($U66:AN66)),COLUMNS(Main!$D64:$E64)),\"\")","v":0},{"$f":"IFERROR(INDEX(Haz_Cat,SMALL(IF(Hazard=Engine!$Q64,ROW(Haz_Cat)-MIN(ROW(Haz_Cat))+1),COLUMNS($U66:AO66)),COLUMNS(Main!$D64:$E64)),\"\")","v":0},{"$f":"IFERROR(INDEX(Haz_Cat,SMALL(IF(Hazard=Engine!$Q64,ROW(Haz_Cat)-MIN(ROW(Haz_Cat))+1),COLUMNS($U66:AP66)),COLUMNS(Main!$D64:$E64)),\"\")","v":0},{"$f":"IFERROR(INDEX(Haz_Cat,SMALL(IF(Hazard=Engine!$Q64,ROW(Haz_Cat)-MIN(ROW(Haz_Cat))+1),COLUMNS($U66:AQ66)),COLUMNS(Main!$D64:$E64)),\"\")","v":0},{"$f":"IFERROR(INDEX(Haz_Cat,SMALL(IF(Hazard=Engine!$Q64,ROW(Haz_Cat)-MIN(ROW(Haz_Cat))+1),COLUMNS($U66:AR66)),COLUMNS(Main!$D64:$E64)),\"\")","v":0},{"$f":"IFERROR(INDEX(Haz_Cat,SMALL(IF(Hazard=Engine!$Q64,ROW(Haz_Cat)-MIN(ROW(Haz_Cat))+1),COLUMNS($U66:AS66)),COLUMNS(Main!$D64:$E64)),\"\")","v":0},{"$f":"IFERROR(INDEX(Haz_Cat,SMALL(IF(Hazard=Engine!$Q64,ROW(Haz_Cat)-MIN(ROW(Haz_Cat))+1),COLUMNS($U66:AT66)),COLUMNS(Main!$D64:$E64)),\"\")","v":0},{"$f":"IFERROR(INDEX(Haz_Cat,SMALL(IF(Hazard=Engine!$Q64,ROW(Haz_Cat)-MIN(ROW(Haz_Cat))+1),COLUMNS($U66:AU66)),COLUMNS(Main!$D64:$E64)),\"\")","v":0},{"$f":"IFERROR(INDEX(Haz_Cat,SMALL(IF(Hazard=Engine!$Q64,ROW(Haz_Cat)-MIN(ROW(Haz_Cat))+1),COLUMNS($U66:AV66)),COLUMNS(Main!$D64:$E64)),\"\")","v":0},null,{"$f":"INDIRECT(TEXT(MIN(IF(($U73:$AV78<>\"\")*(COUNTIF($AX63:$AX66,$U73:$AV78)=0),ROW($P73:$BM78)*100+COLUMN($U63:$AV91),7^8)),\"R0C00\"),)&\"\"","v":""},false,"","",{"$f":"COUNTIF(AZ64:AZ74,\"<=\"&AZ67)","v":0},{"$f":"IF(COUNTIF(BA64:BA74,\"<=\"&BA67)=0,\"\",COUNTIF(BA64:BA74,\"<=\"&BA67))","v":""},{"$f":"IFERROR(SMALL(AZ64:AZ74,ROWS(AX64:AX67)),\"\")","v":""},{"$f":"IFERROR(INDEX(BD64:BD85,SMALL(IF(BD64:BD85<>\"\",ROW(BD64:BD85)-MIN(ROW(BD64:BD85))+1),ROWS(AX64:AX67))),\"\")","v":""},null,{"$f":"+X82","v":0},{"$f":"COUNTIF($BG$2:BG67,\"*\"&BG67&\"*\")","v":0},"",{"$f":"IF(COUNTIF($BI$2:$BI$308,\"<=\"&BI67)=0,\"\",COUNTIF($BI$2:$BI$308,\"<=\"&BI67)-COUNTBLANK($BI$2:$BI$308))","v":""},{"$f":"IFERROR(INDEX(BI$2:BI$308,MATCH(ROWS(BJ$2:BJ67),BJ$2:BJ$308,0)),\"\")","v":""},{"$f":"COUNTIF($BK67:$BK$308,\"*\"&BK67&\"*\")","v":242},{"$f":"IF(BL67=1,BK67,\"\")","v":""},{"$f":"IF(COUNTIF(BM$2:BM$308,\"<=\"&BM67)=0,\"\",COUNTIF(BM$2:BM$308,\"<=\"&BM67)-COUNTBLANK(BM$2:BM$308))","v":""},{"$f":"IFERROR(INDEX($BM$2:$BM$308,MATCH(ROWS(BN$2:BN67),BN$2:BN373,0)),\"\")","v":""},{"$f":"IFERROR(VLOOKUP(Engine!BO67,P_sentences_overview!H66:I195,2),\"\")","v":""}]
[null,null,null,null,null,null,null,null,null,null,null,null,null,null,null,{"$f":"INDEX(H_sentences_overview!$A$1:$A$134,Engine!P69)","v":"(none)"},null,{"$f":"INDEX(BE64:BE69,Engine!R69)","v":""},null,null,{"$f":"IFERROR(INDEX(Haz_Cat,SMALL(IF(Hazard=Engine!$Q64,ROW(Haz_Cat)-MIN(ROW(Haz_Cat))+1),COLUMNS($U66:U66)),COLUMNS(Main!$D64:$F64)),\"\")","v":0},{"$f":"IFERROR(INDEX(Haz_Cat,SMALL(IF(Hazard=Engine!$Q64,ROW(Haz_Cat)-MIN(ROW(Haz_Cat))+1),COLUMNS($U66:V66)),COLUMNS(Main!$D64:$F64)),\"\")","v":0},{"$f":"IFERROR(INDEX(Haz_Cat,SMALL(IF(Hazard=Engine!$Q64,ROW(Haz_Cat)-MIN(ROW(Haz_Cat))+1),COLUMNS($U66:W66)),COLUMNS(Main!$D64:$F64)),\"\")","v":0},{"$f":"IFERROR(INDEX(Haz_Cat,SMALL(IF(Hazard=Engine!$Q64,ROW(Haz_Cat)-MIN(ROW(Haz_Cat))+1),COLUMNS($U66:X66)),COLUMNS(Main!$D64:$F64)),\"\")","v":0},{"$f":"IFERROR(INDEX(Haz_Cat,SMALL(IF(Hazard=Engine!$Q64,ROW(Haz_Cat)-MIN(ROW(Haz_Cat))+1),COLUMNS($U66:Y66)),COLUMNS(Main!$D64:$F64)),\"\")","v":0},{"$f":"IFERROR(INDEX(Haz_Cat,SMALL(IF(Hazard=Engine!$Q64,ROW(Haz_Cat)-MIN(ROW(Haz_Cat))+1),COLUMNS($U66:Z66)),COLUMNS(Main!$D64:$F64)),\"\")","v":0},{"$f":"IFERROR(INDEX(Haz_Cat,SMALL(IF(Hazard=Engine!$Q64,ROW(Haz_Cat)-MIN(ROW(Haz_Cat))+1),COLUMNS($U66:AA66)),COLUMNS(Main!$D64:$F64)),\"\")","v":0},{"$f":"IFERROR(INDEX(Haz_Cat,SMALL(IF(Hazard=Engine!$Q64,ROW(Haz_Cat)-MIN(ROW(Haz_Cat))+1),COLUMNS($U66:AB66)),COLUMNS(Main!$D64:$F64)),\"\")","v":0},{"$f":"IFERROR(INDEX(Haz_Cat,SMALL(IF(Hazard=Engine!$Q64,ROW(Haz_Cat)-MIN(ROW(Haz_Cat))+1),COLUMNS($U66:AC66)),COLUMNS(Main!$D64:$F64)),\"\")","v":0},{"$f":"IFERROR(INDEX(Haz_Cat,SMALL(IF(Hazard=Engine!$Q64,ROW(Haz_Cat)-MIN(ROW(Haz_Cat))+1),COLUMNS($U66:AD66)),COLUMNS(Main!$D64:$F64)),\"\")","v":0},{"$f":"IFERROR(INDEX(Haz_Cat,SMALL(IF(Hazard=Engine!$Q64,ROW(Haz_Cat)-MIN(ROW(Haz_Cat))+1),COLUMNS($U66:AE66)),COLUMNS(Main!$D64:$F64)),\"\")","v":0},{"$f":"IFERROR(INDEX(Haz_Cat,SMALL(IF(Hazard=Engine!$Q64,ROW(Haz_Cat)-MIN(ROW(Haz_Cat))+1),COLUMNS($U66:AF66)),COLUMNS(Main!$D64:$F64)),\"\")","v":0},{"$f":"IFERROR(INDEX(Haz_Cat,SMALL(IF(Hazard=Engine!$Q64,ROW(Haz_Cat)-MIN(ROW(Haz_Cat))+1),COLUMNS($U66:AG66)),COLUMNS(Main!$D64:$F64)),\"\")","v":0},{"$f":"IFERROR(INDEX(Haz_Cat,SMALL(IF(Hazard=Engine!$Q64,ROW(Haz_Cat)-MIN(ROW(Haz_Cat))+1),COLUMNS($U66:AH66)),COLUMNS(Main!$D64:$F64)),\"\")","v":0},{"$f":"IFERROR(INDEX(Haz_Cat,SMALL(IF(Hazard=Engine!$Q64,ROW(Haz_Cat)-MIN(ROW(Haz_Cat))+1),COLUMNS($U66:AI66)),COLUMNS(Main!$D64:$F64)),\"\")","v":0},{"$f":"IFERROR(INDEX(Haz_Cat,SMALL(IF(Hazard=Engine!$Q64,ROW(Haz_Cat)-MIN(ROW(Haz_Cat))+1),COLUMNS($U66:AJ66)),COLUMNS(Main!$D64:$F64)),\"\")","v":0},{"$f":"IFERROR(INDEX(Haz_Cat,SMALL(IF(Hazard=Engine!$Q64,ROW(Haz_Cat)-MIN(ROW(Haz_Cat))+1),COLUMNS($U66:AK66)),COLUMNS(Main!$D64:$F64)),\"\")","v":0},{"$f":"IFERROR(INDEX(Haz_Cat,SMALL(IF(Hazard=Engine!$Q64,ROW(Haz_Cat)-MIN(ROW(Haz_Cat))+1),COLUMNS($U66:AL66)),COLUMNS(Main!$D64:$F64)),\"\")","v":0},{"$f":"IFERROR(INDEX(Haz_Cat,SMALL(IF(Hazard=Engine!$Q64,ROW(Haz_Cat)-MIN(ROW(Haz_Cat))+1),COLUMNS($U66:AM66)),COLUMNS(Main!$D64:$F64)),\"\")","v":0},{"$f":"IFERROR(INDEX(Haz_Cat,SMALL(IF(Hazard=Engine!$Q64,ROW(Haz_Cat)-MIN(ROW(Haz_Cat))+1),COLUMNS($U66:AN66)),COLUMNS(Main!$D64:$F64)),\"\")","v":0},{"$f":"IFERROR(INDEX(Haz_Cat,SMALL(IF(Hazard=Engine!$Q64,ROW(Haz_Cat)-MIN(ROW(Haz_Cat))+1),COLUMNS($U66:AO66)),COLUMNS(Main!$D64:$F64)),\"\")","v":0},{"$f":"IFERROR(INDEX(Haz_Cat,SMALL(IF(Hazard=Engine!$Q64,ROW(Haz_Cat)-MIN(ROW(Haz_Cat))+1),COLUMNS($U66:AP66)),COLUMNS(Main!$D64:$F64)),\"\")","v":0},{"$f":"IFERROR(INDEX(Haz_Cat,SMALL(IF(Hazard=Engine!$Q64,ROW(Haz_Cat)-MIN(ROW(Haz_Cat))+1),COLUMNS($U66:AQ66)),COLUMNS(Main!$D64:$F64)),\"\")","v":0},{"$f":"IFERROR(INDEX(Haz_Cat,SMALL(IF(Hazard=Engine!$Q64,ROW(Haz_Cat)-MIN(ROW(Haz_Cat))+1),COLUMNS($U66:AR66)),COLUMNS(Main!$D64:$F64)),\"\")","v":0},{"$f":"IFERROR(INDEX(Haz_Cat,SMALL(IF(Hazard=Engine!$Q64,ROW(Haz_Cat)-MIN(ROW(Haz_Cat))+1),COLUMNS($U66:AS66)),COLUMNS(Main!$D64:$F64)),\"\")","v":0},{"$f":"IFERROR(INDEX(Haz_Cat,SMALL(IF(Hazard=Engine!$Q64,ROW(Haz_Cat)-MIN(ROW(Haz_Cat))+1),COLUMNS($U66:AT66)),COLUMNS(Main!$D64:$F64)),\"\")","v":0},{"$f":"IFERROR(INDEX(Haz_Cat,SMALL(IF(Hazard=Engine!$Q64,ROW(Haz_Cat)-MIN(ROW(Haz_Cat))+1),COLUMNS($U66:AU66)),COLUMNS(Main!$D64:$F64)),\"\")","v":0},{"$f":"IFERROR(INDEX(Haz_Cat,SMALL(IF(Hazard=Engine!$Q64,ROW(Haz_Cat)-MIN(ROW(Haz_Cat))+1),COLUMNS($U66:AV66)),COLUMNS(Main!$D64:$F64)),\"\")","v":0},null,{"$f":"INDIRECT(TEXT(MIN(IF(($U73:$AV78<>\"\")*(COUNTIF($AX63:$AX67,$U73:$AV78)=0),ROW($P73:$BM78)*100+COLUMN($U63:$AV91),7^8)),\"R0C00\"),)&\"\"","v":""},false,"","",{"$f":"COUNTIF(AZ64:AZ74,\"<=\"&AZ68)","v":0},{"$f":"IF(COUNTIF(BA64:BA74,\"<=\"&BA68)=0,\"\",COUNTIF(BA64:BA74,\"<=\"&BA68))","v":""},{"$f":"IFERROR(SMALL(AZ64:AZ74,ROWS(AX64:AX68)),\"\")","v":""},{"$f":"IFERROR(INDEX(BD64:BD85,SMALL(IF(BD64:BD85<>\"\",ROW(BD64:BD85)-MIN(ROW(BD64:BD85))+1),ROWS(AX64:AX68))),\"\")","v":""},null,{"$f":"+Y82","v":0},{"$f":"COUNTIF($BG$2:BG68,\"*\"&BG68&\"*\")","v":0},"","",{"$f":"IFERROR(INDEX(BI$2:BI$308,MATCH(ROWS(BJ$2:BJ68),BJ$2:BJ$308,0)),\"\")","v":""},{"$f":"COUNTIF($BK68:$BK$308,\"*\"&BK68&\"*\")","v":241},"","",{"$f":"IFERROR(INDEX($BM$2:$BM$308,MATCH(ROWS(BN$2:BN68),BN$2:BN374,0)),\"\")","v":""},{"$f":"IFERROR(VLOOKUP(Engine!BO68,P_sentences_overview!H67:I196,2),\"\")","v":""}]
[null,null,null,null,null,null,null,null,null,null,null,null,null,null,null,1,null,1,null,null,{"$f":"IFERROR(INDEX(Haz_Cat,SMALL(IF(Hazard=Engine!$Q64,ROW(Haz_Cat)-MIN(ROW(Haz_Cat))+1),COLUMNS($U66:U66)),COLUMNS(Main!$D64:$G64)),\"\")","v":0},{"$f":"IFERROR(INDEX(Haz_Cat,SMALL(IF(Hazard=Engine!$Q64,ROW(Haz_Cat)-MIN(ROW(Haz_Cat))+1),COLUMNS($U66:V66)),COLUMNS(Main!$D64:$G64)),\"\")","v":0},{"$f":"IFERROR(INDEX(Haz_Cat,SMALL(IF(Hazard=Engine!$Q64,ROW(Haz_Cat)-MIN(ROW(Haz_Cat))+1),COLUMNS($U66:W66)),COLUMNS(Main!$D64:$G64)),\"\")","v":0},{"$f":"IFERROR(INDEX(Haz_Cat,SMALL(IF(Hazard=Engine!$Q64,ROW(Haz_Cat)-MIN(ROW(Haz_Cat))+1),COLUMNS($U66:X66)),COLUMNS(Main!$D64:$G64)),\"\")","v":0},{"$f":"IFERROR(INDEX(Haz_Cat,SMALL(IF(Hazard=Engine!$Q64,ROW(Haz_Cat)-MIN(ROW(Haz_Cat))+1),COLUMNS($U66:Y66)),COLUMNS(Main!$D64:$G64)),\"\")","v":0},{"$f":"IFERROR(INDEX(Haz_Cat,SMALL(IF(Hazard=Engine!$Q64,ROW(Haz_Cat)-MIN(ROW(Haz_Cat))+1),COLUMNS($U66:Z66)),COLUMNS(Main!$D64:$G64)),\"\")","v":0},{"$f":"IFERROR(INDEX(Haz_Cat,SMALL(IF(Hazard=Engine!$Q64,ROW(Haz_Cat)-MIN(ROW(Haz_Cat))+1),COLUMNS($U66:AA66)),COLUMNS(Main!$D64:$G64)),\"\")","v":0},{"$f":"IFERROR(INDEX(Haz_Cat,SMALL(IF(Hazard=Engine!$Q64,ROW(Haz_Cat)-MIN(ROW(Haz_Cat))+1),COLUMNS($U66:AB66)),COLUMNS(Main!$D64:$G64)),\"\")","v":0},{"$f":"IFERROR(INDEX(Haz_Cat,SMALL(IF(Hazard=Engine!$Q64,ROW(Haz_Cat)-MIN(ROW(Haz_Cat))+1),COLUMNS($U66:AC66)),COLUMNS(Main!$D64:$G64)),\"\")","v":0},{"$f":"IFERROR(INDEX(Haz_Cat,SMALL(IF(Hazard=Engine!$Q64,ROW(Haz_Cat)-MIN(ROW(Haz_Cat))+1),COLUMNS($U66:AD66)),COLUMNS(Main!$D64:$G64)),\"\")","v":0},{"$f":"IFERROR(INDEX(Haz_Cat,SMALL(IF(Hazard=Engine!$Q64,ROW(Haz_Cat)-MIN(ROW(Haz_Cat))+1),COLUMNS($U66:AE66)),COLUMNS(Main!$D64:$G64)),\"\")","v":0},{"$f":"IFERROR(INDEX(Haz_Cat,SMALL(IF(Hazard=Engine!$Q64,ROW(Haz_Cat)-MIN(ROW(Haz_Cat))+1),COLUMNS($U66:AF66)),COLUMNS(Main!$D64:$G64)),\"\")","v":0},{"$f":"IFERROR(INDEX(Haz_Cat,SMALL(IF(Hazard=Engine!$Q64,ROW(Haz_Cat)-MIN(ROW(Haz_Cat))+1),COLUMNS($U66:AG66)),COLUMNS(Main!$D64:$G64)),\"\")","v":0},{"$f":"IFERROR(INDEX(Haz_Cat,SMALL(IF(Hazard=Engine!$Q64,ROW(Haz_Cat)-MIN(ROW(Haz_Cat))+1),COLUMNS($U66:AH66)),COLUMNS(Main!$D64:$G64)),\"\")","v":0},{"$f":"IFERROR(INDEX(Haz_Cat,SMALL(IF(Hazard=Engine!$Q64,ROW(Haz_Cat)-MIN(ROW(Haz_Cat))+1),COLUMNS($U66:AI66)),COLUMNS(Main!$D64:$G64)),\"\")","v":0},{"$f":"IFERROR(INDEX(Haz_Cat,SMALL(IF(Hazard=Engine!$Q64,ROW(Haz_Cat)-MIN(ROW(Haz_Cat))+1),COLUMNS($U66:AJ66)),COLUMNS(Main!$D64:$G64)),\"\")","v":0},{"$f":"IFERROR(INDEX(Haz_Cat,SMALL(IF(Hazard=Engine!$Q64,ROW(Haz_Cat)-MIN(ROW(Haz_Cat))+1),COLUMNS($U66:AK66)),COLUMNS(Main!$D64:$G64)),\"\")","v":0},{"$f":"IFERROR(INDEX(Haz_Cat,SMALL(IF(Hazard=Engine!$Q64,ROW(Haz_Cat)-MIN(ROW(Haz_Cat))+1),COLUMNS($U66:AL66)),COLUMNS(Main!$D64:$G64)),\"\")","v":0},{"$f":"IFERROR(INDEX(Haz_Cat,SMALL(IF(Hazard=Engine!$Q64,ROW(Haz_Cat)-MIN(ROW(Haz_Cat))+1),COLUMNS($U66:AM66)),COLUMNS(Main!$D64:$G64)),\"\")","v":0},{"$f":"IFERROR(INDEX(Haz_Cat,SMALL(IF(Hazard=Engine!$Q64,ROW(Haz_Cat)-MIN(ROW(Haz_Cat))+1),COLUMNS($U66:AN66)),COLUMNS(Main!$D64:$G64)),\"\")","v":0},{"$f":"IFERROR(INDEX(Haz_Cat,SMALL(IF(Hazard=Engine!$Q64,ROW(Haz_Cat)-MIN(ROW(Haz_Cat))+1),COLUMNS($U66:AO66)),COLUMNS(Main!$D64:$G64)),\"\")","v":0},{"$f":"IFERROR(INDEX(Haz_Cat,SMALL(IF(Hazard=Engine!$Q64,ROW(Haz_Cat)-MIN(ROW(Haz_Cat))+1),COLUMNS($U66:AP66)),COLUMNS(Main!$D64:$G64)),\"\")","v":0},{"$f":"IFERROR(INDEX(Haz_Cat,SMALL(IF(Hazard=Engine!$Q64,ROW(Haz_Cat)-MIN(ROW(Haz_Cat))+1),COLUMNS($U66:AQ66)),COLUMNS(Main!$D64:$G64)),\"\")","v":0},{"$f":"IFERROR(INDEX(Haz_Cat,SMALL(IF(Hazard=Engine!$Q64,ROW(Haz_Cat)-MIN(ROW(Haz_Cat))+1),COLUMNS($U66:AR66)),COLUMNS(Main!$D64:$G64)),\"\")","v":0},{"$f":"IFERROR(INDEX(Haz_Cat,SMALL(IF(Hazard=Engine!$Q64,ROW(Haz_Cat)-MIN(ROW(Haz_Cat))+1),COLUMNS($U66:AS66)),COLUMNS(Main!$D64:$G64)),\"\")","v":0},{"$f":"IFERROR(INDEX(Haz_Cat,SMALL(IF(Hazard=Engine!$Q64,ROW(Haz_Cat)-MIN(ROW(Haz_Cat))+1),COLUMNS($U66:AT66)),COLUMNS(Main!$D64:$G64)),\"\")","v":0},{"$f":"IFERROR(INDEX(Haz_Cat,SMALL(IF(Hazard=Engine!$Q64,ROW(Haz_Cat)-MIN(ROW(Haz_Cat))+1),COLUMNS($U66:AU66)),COLUMNS(Main!$D64:$G64)),\"\")","v":0},{"$f":"IFERROR(INDEX(Haz_Cat,SMALL(IF(Hazard=Engine!$Q64,ROW(Haz_Cat)-MIN(ROW(Haz_Cat))+1),COLUMNS($U66:AV66)),COLUMNS(Main!$D64:$G64)),\"\")","v":0},null,{"$f":"INDIRECT(TEXT(MIN(IF(($U73:$AV78<>\"\")*(COUNTIF($AX63:$AX68,$U73:$AV78)=0),ROW($P73:$BM78)*100+COLUMN($U63:$AV91),7^8)),\"R0C00\"),)&\"\"","v":""},false,"","",{"$f":"COUNTIF(AZ64:AZ74,\"<=\"&AZ69)","v":0},{"$f":"IF(COUNTIF(BA64:BA74,\"<=\"&BA69)=0,\"\",COUNTIF(BA64:BA74,\"<=\"&BA69))","v":""},{"$f":"IFERROR(SMALL(AZ64:AZ74,ROWS(AX64:AX69)),\"\")","v":""},{"$f":"IFERROR(INDEX(BD64:BD85,SMALL(IF(BD64:BD85<>\"\",ROW(BD64:BD85)-MIN(ROW(BD64:BD85))+1),ROWS(AX64:AX69))),\"\")","v":""},null,{"$f":"+Z82","v":0},{"$f":"COUNTIF($BG$2:BG69,\"*\"&BG69&\"*\")","v":0},"","",{"$f":"IFERROR(INDEX(BI$2:BI$308,MATCH(ROWS(BJ$2:BJ69),BJ$2:BJ$308,0)),\"\")","v":""},{"$f":"COUNTIF($BK69:$BK$308,\"*\"&BK69&\"*\")","v":240},"","",{"$f":"IFERROR(INDEX($BM$2:$BM$308,MATCH(ROWS(BN$2:BN69),BN$2:BN375,0)),\"\")","v":""},{"$f":"IFERROR(VLOOKUP(Engine!BO69,P_sentences_overview!H68:I197,2),\"\")","v":""}]
[null,null,null,null,null,null,null,null,null,null,null,null,null,null,null,null,null,null,null,null,{"$f":"IFERROR(INDEX(Haz_Cat,SMALL(IF(Hazard=Engine!$Q64,ROW(Haz_Cat)-MIN(ROW(Haz_Cat))+1),COLUMNS($U66:U66)),COLUMNS(Main!$D64:$H64)),\"\")","v":0},{"$f":"IFERROR(INDEX(Haz_Cat,SMALL(IF(Hazard=Engine!$Q64,ROW(Haz_Cat)-MIN(ROW(Haz_Cat))+1),COLUMNS($U66:V66)),COLUMNS(Main!$D64:$H64)),\"\")","v":0},{"$f":"IFERROR(INDEX(Haz_Cat,SMALL(IF(Hazard=Engine!$Q64,ROW(Haz_Cat)-MIN(ROW(Haz_Cat))+1),COLUMNS($U66:W66)),COLUMNS(Main!$D64:$H64)),\"\")","v":0},{"$f":"IFERROR(INDEX(Haz_Cat,SMALL(IF(Hazard=Engine!$Q64,ROW(Haz_Cat)-MIN(ROW(Haz_Cat))+1),COLUMNS($U66:X66)),COLUMNS(Main!$D64:$H64)),\"\")","v":0},{"$f":"IFERROR(INDEX(Haz_Cat,SMALL(IF(Hazard=Engine!$Q64,ROW(Haz_Cat)-MIN(ROW(Haz_Cat))+1),COLUMNS($U66:Y66)),COLUMNS(Main!$D64:$H64)),\"\")","v":0},{"$f":"IFERROR(INDEX(Haz_Cat,SMALL(IF(Hazard=Engine!$Q64,ROW(Haz_Cat)-MIN(ROW(Haz_Cat))+1),COLUMNS($U66:Z66)),COLUMNS(Main!$D64:$H64)),\"\")","v":0},{"$f":"IFERROR(INDEX(Haz_Cat,SMALL(IF(Hazard=Engine!$Q64,ROW(Haz_Cat)-MIN(ROW(Haz_Cat))+1),COLUMNS($U66:AA66)),COLUMNS(Main!$D64:$H64)),\"\")","v":0},{"$f":"IFERROR(INDEX(Haz_Cat,SMALL(IF(Hazard=Engine!$Q64,ROW(Haz_Cat)-MIN(ROW(Haz_Cat))+1),COLUMNS($U66:AB66)),COLUMNS(Main!$D64:$H64)),\"\")","v":0},{"$f":"IFERROR(INDEX(Haz_Cat,SMALL(IF(Hazard=Engine!$Q64,ROW(Haz_Cat)-MIN(ROW(Haz_Cat))+1),COLUMNS($U66:AC66)),COLUMNS(Main!$D64:$H64)),\"\")","v":0},{"$f":"IFERROR(INDEX(Haz_Cat,SMALL(IF(Hazard=Engine!$Q64,ROW(Haz_Cat)-MIN(ROW(Haz_Cat))+1),COLUMNS($U66:AD66)),COLUMNS(Main!$D64:$H64)),\"\")","v":0},{"$f":"IFERROR(INDEX(Haz_Cat,SMALL(IF(Hazard=Engine!$Q64,ROW(Haz_Cat)-MIN(ROW(Haz_Cat))+1),COLUMNS($U66:AE66)),COLUMNS(Main!$D64:$H64)),\"\")","v":0},{"$f":"IFERROR(INDEX(Haz_Cat,SMALL(IF(Hazard=Engine!$Q64,ROW(Haz_Cat)-MIN(ROW(Haz_Cat))+1),COLUMNS($U66:AF66)),COLUMNS(Main!$D64:$H64)),\"\")","v":0},{"$f":"IFERROR(INDEX(Haz_Cat,SMALL(IF(Hazard=Engine!$Q64,ROW(Haz_Cat)-MIN(ROW(Haz_Cat))+1),COLUMNS($U66:AG66)),COLUMNS(Main!$D64:$H64)),\"\")","v":0},{"$f":"IFERROR(INDEX(Haz_Cat,SMALL(IF(Hazard=Engine!$Q64,ROW(Haz_Cat)-MIN(ROW(Haz_Cat))+1),COLUMNS($U66:AH66)),COLUMNS(Main!$D64:$H64)),\"\")","v":0},{"$f":"IFERROR(INDEX(Haz_Cat,SMALL(IF(Hazard=Engine!$Q64,ROW(Haz_Cat)-MIN(ROW(Haz_Cat))+1),COLUMNS($U66:AI66)),COLUMNS(Main!$D64:$H64)),\"\")","v":0},{"$f":"IFERROR(INDEX(Haz_Cat,SMALL(IF(Hazard=Engine!$Q64,ROW(Haz_Cat)-MIN(ROW(Haz_Cat))+1),COLUMNS($U66:AJ66)),COLUMNS(Main!$D64:$H64)),\"\")","v":0},{"$f":"IFERROR(INDEX(Haz_Cat,SMALL(IF(Hazard=Engine!$Q64,ROW(Haz_Cat)-MIN(ROW(Haz_Cat))+1),COLUMNS($U66:AK66)),COLUMNS(Main!$D64:$H64)),\"\")","v":0},{"$f":"IFERROR(INDEX(Haz_Cat,SMALL(IF(Hazard=Engine!$Q64,ROW(Haz_Cat)-MIN(ROW(Haz_Cat))+1),COLUMNS($U66:AL66)),COLUMNS(Main!$D64:$H64)),\"\")","v":0},{"$f":"IFERROR(INDEX(Haz_Cat,SMALL(IF(Hazard=Engine!$Q64,ROW(Haz_Cat)-MIN(ROW(Haz_Cat))+1),COLUMNS($U66:AM66)),COLUMNS(Main!$D64:$H64)),\"\")","v":0},{"$f":"IFERROR(INDEX(Haz_Cat,SMALL(IF(Hazard=Engine!$Q64,ROW(Haz_Cat)-MIN(ROW(Haz_Cat))+1),COLUMNS($U66:AN66)),COLUMNS(Main!$D64:$H64)),\"\")","v":0},{"$f":"IFERROR(INDEX(Haz_Cat,SMALL(IF(Hazard=Engine!$Q64,ROW(Haz_Cat)-MIN(ROW(Haz_Cat))+1),COLUMNS($U66:AO66)),COLUMNS(Main!$D64:$H64)),\"\")","v":0},{"$f":"IFERROR(INDEX(Haz_Cat,SMALL(IF(Hazard=Engine!$Q64,ROW(Haz_Cat)-MIN(ROW(Haz_Cat))+1),COLUMNS($U66:AP66)),COLUMNS(Main!$D64:$H64)),\"\")","v":0},{"$f":"IFERROR(INDEX(Haz_Cat,SMALL(IF(Hazard=Engine!$Q64,ROW(Haz_Cat)-MIN(ROW(Haz_Cat))+1),COLUMNS($U66:AQ66)),COLUMNS(Main!$D64:$H64)),\"\")","v":0},{"$f":"IFERROR(INDEX(Haz_Cat,SMALL(IF(Hazard=Engine!$Q64,ROW(Haz_Cat)-MIN(ROW(Haz_Cat))+1),COLUMNS($U66:AR66)),COLUMNS(Main!$D64:$H64)),\"\")","v":0},{"$f":"IFERROR(INDEX(Haz_Cat,SMALL(IF(Hazard=Engine!$Q64,ROW(Haz_Cat)-MIN(ROW(Haz_Cat))+1),COLUMNS($U66:AS66)),COLUMNS(Main!$D64:$H64)),\"\")","v":0},{"$f":"IFERROR(INDEX(Haz_Cat,SMALL(IF(Hazard=Engine!$Q64,ROW(Haz_Cat)-MIN(ROW(Haz_Cat))+1),COLUMNS($U66:AT66)),COLUMNS(Main!$D64:$H64)),\"\")","v":0},{"$f":"IFERROR(INDEX(Haz_Cat,SMALL(IF(Hazard=Engine!$Q64,ROW(Haz_Cat)-MIN(ROW(Haz_Cat))+1),COLUMNS($U66:AU66)),COLUMNS(Main!$D64:$H64)),\"\")","v":0},{"$f":"IFERROR(INDEX(Haz_Cat,SMALL(IF(Hazard=Engine!$Q64,ROW(Haz_Cat)-MIN(ROW(Haz_Cat))+1),COLUMNS($U66:AV66)),COLUMNS(Main!$D64:$H64)),\"\")","v":0},null,{"$f":"INDIRECT(TEXT(MIN(IF(($U73:$AV78<>\"\")*(COUNTIF($AX63:$AX69,$U73:$AV78)=0),ROW($P73:$BM78)*100+COLUMN($U63:$AV91),7^8)),\"R0C00\"),)&\"\"","v":""},false,"","",{"$f":"COUNTIF(AZ64:AZ74,\"<=\"&AZ70)","v":0},{"$f":"IF(COUNTIF(BA64:BA74,\"<=\"&BA70)=0,\"\",COUNTIF(BA64:BA74,\"<=\"&BA70))","v":""},{"$f":"IFERROR(SMALL(AZ64:AZ74,ROWS(AX64:AX70)),\"\")","v":""},{"$f":"IFERROR(INDEX(BD64:BD85,SMALL(IF(BD64:BD85<>\"\",ROW(BD64:BD85)-MIN(ROW(BD64:BD85))+1),ROWS(AX64:AX70))),\"\")","v":""},null,{"$f":"+AA82","v":0},{"$f":"COUNTIF($BG$2:BG70,\"*\"&BG70&\"*\")","v":0},"","",{"$f":"IFERROR(INDEX(BI$2:BI$308,MATCH(ROWS(BJ$2:BJ70),BJ$2:BJ$308,0)),\"\")","v":""},{"$f":"COUNTIF($BK70:$BK$308,\"*\"&BK70&\"*\")","v":239},"","",{"$f":"IFERROR(INDEX($BM$2:$BM$308,MATCH(ROWS(BN$2:BN70),BN$2:BN376,0)),\"\")","v":""},{"$f":"IFERROR(VLOOKUP(Engine!BO70,P_sentences_overview!H69:I198,2),\"\")","v":""}]
[null,null,null,null,null,null,null,null,null,null,null,null,null,null,null,null,null,null,null,null,{"$f":"IFERROR(INDEX(Haz_Cat,SMALL(IF(Hazard=Engine!$Q64,ROW(Haz_Cat)-MIN(ROW(Haz_Cat))+1),COLUMNS($U66:U66)),COLUMNS(Main!$D64:$I64)),\"\")","v":0},{"$f":"IFERROR(INDEX(Haz_Cat,SMALL(IF(Hazard=Engine!$Q64,ROW(Haz_Cat)-MIN(ROW(Haz_Cat))+1),COLUMNS($U66:V66)),COLUMNS(Main!$D64:$I64)),\"\")","v":0},{"$f":"IFERROR(INDEX(Haz_Cat,SMALL(IF(Hazard=Engine!$Q64,ROW(Haz_Cat)-MIN(ROW(Haz_Cat))+1),COLUMNS($U66:W66)),COLUMNS(Main!$D64:$I64)),\"\")","v":0},{"$f":"IFERROR(INDEX(Haz_Cat,SMALL(IF(Hazard=Engine!$Q64,ROW(Haz_Cat)-MIN(ROW(Haz_Cat))+1),COLUMNS($U66:X66)),COLUMNS(Main!$D64:$I64)),\"\")","v":0},{"$f":"IFERROR(INDEX(Haz_Cat,SMALL(IF(Hazard=Engine!$Q64,ROW(Haz_Cat)-MIN(ROW(Haz_Cat))+1),COLUMNS($U66:Y66)),COLUMNS(Main!$D64:$I64)),\"\")","v":0},{"$f":"IFERROR(INDEX(Haz_Cat,SMALL(IF(Hazard=Engine!$Q64,ROW(Haz_Cat)-MIN(ROW(Haz_Cat))+1),COLUMNS($U66:Z66)),COLUMNS(Main!$D64:$I64)),\"\")","v":0},{"$f":"IFERROR(INDEX(Haz_Cat,SMALL(IF(Hazard=Engine!$Q64,ROW(Haz_Cat)-MIN(ROW(Haz_Cat))+1),COLUMNS($U66:AA66)),COLUMNS(Main!$D64:$I64)),\"\")","v":0},{"$f":"IFERROR(INDEX(Haz_Cat,SMALL(IF(Hazard=Engine!$Q64,ROW(Haz_Cat)-MIN(ROW(Haz_Cat))+1),COLUMNS($U66:AB66)),COLUMNS(Main!$D64:$I64)),\"\")","v":0},{"$f":"IFERROR(INDEX(Haz_Cat,SMALL(IF(Hazard=Engine!$Q64,ROW(Haz_Cat)-MIN(ROW(Haz_Cat))+1),COLUMNS($U66:AC66)),COLUMNS(Main!$D64:$I64)),\"\")","v":0},{"$f":"IFERROR(INDEX(Haz_Cat,SMALL(IF(Hazard=Engine!$Q64,ROW(Haz_Cat)-MIN(ROW(Haz_Cat))+1),COLUMNS($U66:AD66)),COLUMNS(Main!$D64:$I64)),\"\")","v":0},{"$f":"IFERROR(INDEX(Haz_Cat,SMALL(IF(Hazard=Engine!$Q64,ROW(Haz_Cat)-MIN(ROW(Haz_Cat))+1),COLUMNS($U66:AE66)),COLUMNS(Main!$D64:$I64)),\"\")","v":0},{"$f":"IFERROR(INDEX(Haz_Cat,SMALL(IF(Hazard=Engine!$Q64,ROW(Haz_Cat)-MIN(ROW(Haz_Cat))+1),COLUMNS($U66:AF66)),COLUMNS(Main!$D64:$I64)),\"\")","v":0},{"$f":"IFERROR(INDEX(Haz_Cat,SMALL(IF(Hazard=Engine!$Q64,ROW(Haz_Cat)-MIN(ROW(Haz_Cat))+1),COLUMNS($U66:AG66)),COLUMNS(Main!$D64:$I64)),\"\")","v":0},{"$f":"IFERROR(INDEX(Haz_Cat,SMALL(IF(Hazard=Engine!$Q64,ROW(Haz_Cat)-MIN(ROW(Haz_Cat))+1),COLUMNS($U66:AH66)),COLUMNS(Main!$D64:$I64)),\"\")","v":0},{"$f":"IFERROR(INDEX(Haz_Cat,SMALL(IF(Hazard=Engine!$Q64,ROW(Haz_Cat)-MIN(ROW(Haz_Cat))+1),COLUMNS($U66:AI66)),COLUMNS(Main!$D64:$I64)),\"\")","v":0},{"$f":"IFERROR(INDEX(Haz_Cat,SMALL(IF(Hazard=Engine!$Q64,ROW(Haz_Cat)-MIN(ROW(Haz_Cat))+1),COLUMNS($U66:AJ66)),COLUMNS(Main!$D64:$I64)),\"\")","v":0},{"$f":"IFERROR(INDEX(Haz_Cat,SMALL(IF(Hazard=Engine!$Q64,ROW(Haz_Cat)-MIN(ROW(Haz_Cat))+1),COLUMNS($U66:AK66)),COLUMNS(Main!$D64:$I64)),\"\")","v":0},{"$f":"IFERROR(INDEX(Haz_Cat,SMALL(IF(Hazard=Engine!$Q64,ROW(Haz_Cat)-MIN(ROW(Haz_Cat))+1),COLUMNS($U66:AL66)),COLUMNS(Main!$D64:$I64)),\"\")","v":0},{"$f":"IFERROR(INDEX(Haz_Cat,SMALL(IF(Hazard=Engine!$Q64,ROW(Haz_Cat)-MIN(ROW(Haz_Cat))+1),COLUMNS($U66:AM66)),COLUMNS(Main!$D64:$I64)),\"\")","v":0},{"$f":"IFERROR(INDEX(Haz_Cat,SMALL(IF(Hazard=Engine!$Q64,ROW(Haz_Cat)-MIN(ROW(Haz_Cat))+1),COLUMNS($U66:AN66)),COLUMNS(Main!$D64:$I64)),\"\")","v":0},{"$f":"IFERROR(INDEX(Haz_Cat,SMALL(IF(Hazard=Engine!$Q64,ROW(Haz_Cat)-MIN(ROW(Haz_Cat))+1),COLUMNS($U66:AO66)),COLUMNS(Main!$D64:$I64)),\"\")","v":0},{"$f":"IFERROR(INDEX(Haz_Cat,SMALL(IF(Hazard=Engine!$Q64,ROW(Haz_Cat)-MIN(ROW(Haz_Cat))+1),COLUMNS($U66:AP66)),COLUMNS(Main!$D64:$I64)),\"\")","v":0},{"$f":"IFERROR(INDEX(Haz_Cat,SMALL(IF(Hazard=Engine!$Q64,ROW(Haz_Cat)-MIN(ROW(Haz_Cat))+1),COLUMNS($U66:AQ66)),COLUMNS(Main!$D64:$I64)),\"\")","v":0},{"$f":"IFERROR(INDEX(Haz_Cat,SMALL(IF(Hazard=Engine!$Q64,ROW(Haz_Cat)-MIN(ROW(Haz_Cat))+1),COLUMNS($U66:AR66)),COLUMNS(Main!$D64:$I64)),\"\")","v":0},{"$f":"IFERROR(INDEX(Haz_Cat,SMALL(IF(Hazard=Engine!$Q64,ROW(Haz_Cat)-MIN(ROW(Haz_Cat))+1),COLUMNS($U66:AS66)),COLUMNS(Main!$D64:$I64)),\"\")","v":0},{"$f":"IFERROR(INDEX(Haz_Cat,SMALL(IF(Hazard=Engine!$Q64,ROW(Haz_Cat)-MIN(ROW(Haz_Cat))+1),COLUMNS($U66:AT66)),COLUMNS(Main!$D64:$I64)),\"\")","v":0},{"$f":"IFERROR(INDEX(Haz_Cat,SMALL(IF(Hazard=Engine!$Q64,ROW(Haz_Cat)-MIN(ROW(Haz_Cat))+1),COLUMNS($U66:AU66)),COLUMNS(Main!$D64:$I64)),\"\")","v":0},{"$f":"IFERROR(INDEX(Haz_Cat,SMALL(IF(Hazard=Engine!$Q64,ROW(Haz_Cat)-MIN(ROW(Haz_Cat))+1),COLUMNS($U66:AV66)),COLUMNS(Main!$D64:$I64)),\"\")","v":0},null,{"$f":"INDIRECT(TEXT(MIN(IF(($U73:$AV78<>\"\")*(COUNTIF($AX63:$AX70,$U73:$AV78)=0),ROW($P73:$BM78)*100+COLUMN($U63:$AV91),7^8)),\"R0C00\"),)&\"\"","v":""},false,"","",{"$f":"COUNTIF(AZ64:AZ74,\"<=\"&AZ71)","v":0},{"$f":"IF(COUNTIF(BA64:BA74,\"<=\"&BA71)=0,\"\",COUNTIF(BA64:BA74,\"<=\"&BA71))","v":""},{"$f":"IFERROR(SMALL(AZ64:AZ74,ROWS(AX64:AX71)),\"\")","v":""},{"$f":"IFERROR(INDEX(BD64:BD85,SMALL(IF(BD64:BD85<>\"\",ROW(BD64:BD85)-MIN(ROW(BD64:BD85))+1),ROWS(AX64:AX71))),\"\")","v":""},null,{"$f":"+AB82","v":0},{"$f":"COUNTIF($BG$2:BG71,\"*\"&BG71&\"*\")","v":0},"","",{"$f":"IFERROR(INDEX(BI$2:BI$308,MATCH(ROWS(BJ$2:BJ71),BJ$2:BJ$308,0)),\"\")","v":""},{"$f":"COUNTIF($BK71:$BK$308,\"*\"&BK71&\"*\")","v":238},"","",{"$f":"IFERROR(INDEX($BM$2:$BM$308,MATCH(ROWS(BN$2:BN71),BN$2:BN377,0)),\"\")","v":""},{"$f":"IFERROR(VLOOKUP(Engine!BO71,P_sentences_overview!H70:I199,2),\"\")","v":""}]
[null,null,null,null,null,null,null,null,null,null,null,null,null,null,null,null,null,null,null,null,null,null,null,null,null,null,null,null,null,null,null,null,null,null,null,null,null,null,null,null,null,null,null,null,null,null,null,null,null,{"$f":"INDIRECT(TEXT(MIN(IF(($U73:$AV78<>\"\")*(COUNTIF($AX63:$AX71,$U73:$AV78)=0),ROW($P73:$BM78)*100+COLUMN($U63:$AV91),7^8)),\"R0C00\"),)&\"\"","v":""},false,"","",{"$f":"COUNTIF(AZ64:AZ74,\"<=\"&AZ72)","v":0},{"$f":"IF(COUNTIF(BA64:BA74,\"<=\"&BA72)=0,\"\",COUNTIF(BA64:BA74,\"<=\"&BA72))","v":""},{"$f":"IFERROR(SMALL(AZ64:AZ74,ROWS(AX64:AX72)),\"\")","v":""},{"$f":"IFERROR(INDEX(BD64:BD85,SMALL(IF(BD64:BD85<>\"\",ROW(BD64:BD85)-MIN(ROW(BD64:BD85))+1),ROWS(AX64:AX72))),\"\")","v":""},null,{"$f":"+AC82","v":0},{"$f":"COUNTIF($BG$2:BG72,\"*\"&BG72&\"*\")","v":0},"","",{"$f":"IFERROR(INDEX(BI$2:BI$308,MATCH(ROWS(BJ$2:BJ72),BJ$2:BJ$308,0)),\"\")","v":""},{"$f":"COUNTIF($BK72:$BK$308,\"*\"&BK72&\"*\")","v":237},"","",{"$f":"IFERROR(INDEX($BM$2:$BM$308,MATCH(ROWS(BN$2:BN72),BN$2:BN378,0)),\"\")","v":""},{"$f":"IFERROR(VLOOKUP(Engine!BO72,P_sentences_overview!H71:I200,2),\"\")","v":""}]
[null,null,null,null,null,null,null,null,null,null,null,null,null,null,null,null,null,null,null,null,{"$f":"+IF(U66=0,\"\",U66)","v":""},"","","","","","","","","","","","","","","","","","","","","","","","","","","",null,{"$f":"INDIRECT(TEXT(MIN(IF(($U73:$AV78<>\"\")*(COUNTIF($AX63:$AX72,$U73:$AV78)=0),ROW($P73:$BM78)*100+COLUMN($U63:$AV91),7^8)),\"R0C00\"),)&\"\"","v":""},false,"","",{"$f":"COUNTIF(AZ64:AZ74,\"<=\"&AZ73)","v":0},{"$f":"IF(COUNTIF(BA64:BA74,\"<=\"&BA73)=0,\"\",COUNTIF(BA64:BA74,\"<=\"&BA73))","v":""},{"$f":"IFERROR(SMALL(AZ64:AZ74,ROWS(AX64:AX73)),\"\")","v":""},{"$f":"IFERROR(INDEX(BD64:BD85,SMALL(IF(BD64:BD85<>\"\",ROW(BD64:BD85)-MIN(ROW(BD64:BD85))+1),ROWS(AX64:AX73))),\"\")","v":""},null,{"$f":"+AD82","v":0},{"$f":"COUNTIF($BG$2:BG73,\"*\"&BG73&\"*\")","v":0},"","",{"$f":"IFERROR(INDEX(BI$2:BI$308,MATCH(ROWS(BJ$2:BJ73),BJ$2:BJ$308,0)),\"\")","v":""},{"$f":"COUNTIF($BK73:$BK$308,\"*\"&BK73&\"*\")","v":236},"","",{"$f":"IFERROR(INDEX($BM$2:$BM$308,MATCH(ROWS(BN$2:BN73),BN$2:BN379,0)),\"\")","v":""},{"$f":"IFERROR(VLOOKUP(Engine!BO73,P_sentences_overview!H72:I201,2),\"\")","v":""}]
[null,null,null,null,null,null,null,null,null,null,null,null,null,null,null,null,null,null,null,null,{"$f":"+IF(U67=0,\"\",U67)","v":""},"","","","","","","","","","","","","","","","","","","","","","","","","","","",null,{"$f":"INDIRECT(TEXT(MIN(IF(($U73:$AV78<>\"\")*(COUNTIF($AX63:$AX73,$U73:$AV78)=0),ROW($P73:$BM78)*100+COLUMN($U63:$AV91),7^8)),\"R0C00\"),)&\"\"","v":""},false,"","",{"$f":"COUNTIF(AZ64:AZ74,\"<=\"&AZ74)","v":0},{"$f":"IF(COUNTIF(BA64:BA74,\"<=\"&BA74)=0,\"\",COUNTIF(BA64:BA74,\"<=\"&BA74))","v":""},{"$f":"IFERROR(SMALL(AZ64:AZ74,ROWS(AX64:AX74)),\"\")","v":""},{"$f":"IFERROR(INDEX(BD64:BD85,SMALL(IF(BD64:BD85<>\"\",ROW(BD64:BD85)-MIN(ROW(BD64:BD85))+1),ROWS(AX64:AX74))),\"\")","v":""},null,{"$f":"+AE82","v":0},{"$f":"COUNTIF($BG$2:BG74,\"*\"&BG74&\"*\")","v":0},"","",{"$f":"IFERROR(INDEX(BI$2:BI$308,MATCH(ROWS(BJ$2:BJ74),BJ$2:BJ$308,0)),\"\")","v":""},{"$f":"COUNTIF($BK74:$BK$308,\"*\"&BK74&\"*\")","v":235},"","",{"$f":"IFERROR(INDEX($BM$2:$BM$308,MATCH(ROWS(BN$2:BN74),BN$2:BN380,0)),\"\")","v":""},{"$f":"IFERROR(VLOOKUP(Engine!BO74,P_sentences_overview!H73:I202,2),\"\")","v":""}]
[null,null,null,null,null,null,null,null,null,null,null,null,null,null,null,null,null,null,null,null,{"$f":"+IF(U68=0,\"\",U68)","v":""},"","","","","","","","","","","","","","","","","","","","","","","","","","","",null,null,null,null,null,null,null,{"$f":"IFERROR(INDEX(BA64:BA74,MATCH(SMALL(BC64:BC74,ROWS(BA64:BA64)),BC64:BC74,)),\"\")","v":""},{"$f":"IFERROR(INDEX(BD64:BD85,SMALL(IF(BD64:BD85<>\"\",ROW(BD64:BD85)-MIN(ROW(BD64:BD85))+1),ROWS(AX64:AX75))),\"\")","v":""},null,{"$f":"+AF82","v":0},{"$f":"COUNTIF($BG$2:BG75,\"*\"&BG75&\"*\")","v":0},"","",{"$f":"IFERROR(INDEX(BI$2:BI$308,MATCH(ROWS(BJ$2:BJ75),BJ$2:BJ$308,0)),\"\")","v":""},{"$f":"COUNTIF($BK75:$BK$308,\"*\"&BK75&\"*\")","v":234},"","",{"$f":"IFERROR(INDEX($BM$2:$BM$308,MATCH(ROWS(BN$2:BN75),BN$2:BN381,0)),\"\")","v":""},{"$f":"IFERROR(VLOOKUP(Engine!BO75,P_sentences_overview!H74:I203,2),\"\")","v":""}]
[null,null,null,null,null,null,null,null,null,null,null,null,null,null,null,null,null,null,null,null,{"$f":"+IF(U69=0,\"\",U69)","v":""},"","","","","","","","","","","","","","","","","","","","","","","","","","","",null,null,null,null,null,null,null,{"$f":"IFERROR(INDEX(BA64:BA74,MATCH(SMALL(BC64:BC74,ROWS(BA64:BA65)),BC64:BC74,)),\"\")","v":""},{"$f":"IFERROR(INDEX(BD64:BD85,SMALL(IF(BD64:BD85<>\"\",ROW(BD64:BD85)-MIN(ROW(BD64:BD85))+1),ROWS(AX64:AX76))),\"\")","v":""},null,{"$f":"+AG82","v":0},{"$f":"COUNTIF($BG$2:BG76,\"*\"&BG76&\"*\")","v":0},"","",{"$f":"IFERROR(INDEX(BI$2:BI$308,MATCH(ROWS(BJ$2:BJ76),BJ$2:BJ$308,0)),\"\")","v":""},{"$f":"COUNTIF($BK76:$BK$308,\"*\"&BK76&\"*\")","v":233},"","",{"$f":"IFERROR(INDEX($BM$2:$BM$308,MATCH(ROWS(BN$2:BN76),BN$2:BN382,0)),\"\")","v":""},{"$f":"IFERROR(VLOOKUP(Engine!BO76,P_sentences_overview!H75:I204,2),\"\")","v":""}]
[null,null,null,null,null,null,null,null,null,null,null,null,null,null,null,null,null,null,null,null,{"$f":"+IF(U70=0,\"\",U70)","v":""},"","","","","","","","","","","","","","","","","","","","","","","","","","","",null,null,null,null,null,null,null,{"$f":"IFERROR(INDEX(BA64:BA74,MATCH(SMALL(BC64:BC74,ROWS(BA64:BA66)),BC64:BC74,)),\"\")","v":""},{"$f":"IFERROR(INDEX(BD64:BD85,SMALL(IF(BD64:BD85<>\"\",ROW(BD64:BD85)-MIN(ROW(BD64:BD85))+1),ROWS(AX64:AX77))),\"\")","v":""},null,{"$f":"+AH82","v":0},{"$f":"COUNTIF($BG$2:BG77,\"*\"&BG77&\"*\")","v":0},"","",{"$f":"IFERROR(INDEX(BI$2:BI$308,MATCH(ROWS(BJ$2:BJ77),BJ$2:BJ$308,0)),\"\")","v":""},{"$f":"COUNTIF($BK77:$BK$308,\"*\"&BK77&\"*\")","v":232},"","",{"$f":"IFERROR(INDEX($BM$2:$BM$308,MATCH(ROWS(BN$2:BN77),BN$2:BN383,0)),\"\")","v":""},{"$f":"IFERROR(VLOOKUP(Engine!BO77,P_sentences_overview!H76:I205,2),\"\")","v":""}]
[null,null,null,null,null,null,null,null,null,null,null,null,null,null,null,null,null,null,null,null,{"$f":"+IF(U71=0,\"\",U71)","v":""},"","","","","","","","","","","","","","","","","","","","","","","","","","","",null,null,null,null,null,null,null,{"$f":"IFERROR(INDEX(BA64:BA74,MATCH(SMALL(BC64:BC74,ROWS(BA64:BA67)),BC64:BC74,)),\"\")","v":""},{"$f":"IFERROR(INDEX(BD64:BD85,SMALL(IF(BD64:BD85<>\"\",ROW(BD64:BD85)-MIN(ROW(BD64:BD85))+1),ROWS(AX64:AX78))),\"\")","v":""},null,{"$f":"+AI82","v":0},{"$f":"COUNTIF($BG$2:BG78,\"*\"&BG78&\"*\")","v":0},"","",{"$f":"IFERROR(INDEX(BI$2:BI$308,MATCH(ROWS(BJ$2:BJ78),BJ$2:BJ$308,0)),\"\")","v":""},{"$f":"COUNTIF($BK78:$BK$308,\"*\"&BK78&\"*\")","v":231},"","",{"$f":"IFERROR(INDEX($BM$2:$BM$308,MATCH(ROWS(BN$2:BN78),BN$2:BN384,0)),\"\")","v":""},{"$f":"IFERROR(VLOOKUP(Engine!BO78,P_sentences_overview!H77:I206,2),\"\")","v":""}]
[null,null,null,null,null,null,null,null,null,null,null,null,null,null,null,null,null,null,null,null,null,null,null,null,null,null,null,null,null,null,null,null,null,null,null,null,null,null,null,null,null,null,null,null,null,null,null,null,null,null,null,null,null,null,null,{"$f":"IFERROR(INDEX(BA64:BA74,MATCH(SMALL(BC64:BC74,ROWS(BA64:BA68)),BC64:BC74,)),\"\")","v":""},{"$f":"IFERROR(INDEX(BD64:BD85,SMALL(IF(BD64:BD85<>\"\",ROW(BD64:BD85)-MIN(ROW(BD64:BD85))+1),ROWS(AX64:AX79))),\"\")","v":""},null,{"$f":"+AJ82","v":0},{"$f":"COUNTIF($BG$2:BG79,\"*\"&BG79&\"*\")","v":0},"","",{"$f":"IFERROR(INDEX(BI$2:BI$308,MATCH(ROWS(BJ$2:BJ79),BJ$2:BJ$308,0)),\"\")","v":""},{"$f":"COUNTIF($BK79:$BK$308,\"*\"&BK79&\"*\")","v":230},"","",{"$f":"IFERROR(INDEX($BM$2:$BM$308,MATCH(ROWS(BN$2:BN79),BN$2:BN385,0)),\"\")","v":""},{"$f":"IFERROR(VLOOKUP(Engine!BO79,P_sentences_overview!H78:I207,2),\"\")","v":""}]
[null,null,null,null,null,null,null,null,null,null,null,null,null,null,null,null,null,null,null,null,{"$f":"IF(ISNUMBER(MATCH($R64,U73:U78,0)),U64,\"\")","v":0},{"$f":"IF(ISNUMBER(MATCH($R64,V73:V78,0)),V64,\"\")","v":0},0,0,0,0,0,0,0,0,0,0,0,0,0,0,0,0,0,0,0,0,0,0,0,0,0,0,null,null,null,null,null,null,null,{"$f":"IFERROR(INDEX(BA64:BA74,MATCH(SMALL(BC64:BC74,ROWS(BA64:BA69)),BC64:BC74,)),\"\")","v":""},{"$f":"IFERROR(INDEX(BD64:BD85,SMALL(IF(BD64:BD85<>\"\",ROW(BD64:BD85)-MIN(ROW(BD64:BD85))+1),ROWS(AX64:AX80))),\"\")","v":""},null,{"$f":"+AK82","v":0},{"$f":"COUNTIF($BG$2:BG80,\"*\"&BG80&\"*\")","v":0},"","",{"$f":"IFERROR(INDEX(BI$2:BI$308,MATCH(ROWS(BJ$2:BJ80),BJ$2:BJ$308,0)),\"\")","v":""},{"$f":"COUNTIF($BK80:$BK$308,\"*\"&BK80&\"*\")","v":229},"","",{"$f":"IFERROR(INDEX($BM$2:$BM$308,MATCH(ROWS(BN$2:BN80),BN$2:BN386,0)),\"\")","v":""},{"$f":"IFERROR(VLOOKUP(Engine!BO80,P_sentences_overview!H79:I208,2),\"\")","v":""}]
[null,null,null,null,null,null,null,null,null,null,null,null,null,null,null,null,null,null,null,null,null,null,null,null,null,null,null,null,null,null,null,null,null,null,null,null,null,null,null,null,null,null,null,null,null,null,null,null,null,null,null,null,null,null,null,{"$f":"IFERROR(INDEX(BA64:BA74,MATCH(SMALL(BC64:BC74,ROWS(BA64:BA70)),BC64:BC74,)),\"\")","v":""},{"$f":"IFERROR(INDEX(BD64:BD85,SMALL(IF(BD64:BD85<>\"\",ROW(BD64:BD85)-MIN(ROW(BD64:BD85))+1),ROWS(AX64:AX81))),\"\")","v":""},null,{"$f":"+AL82","v":0},{"$f":"COUNTIF($BG$2:BG81,\"*\"&BG81&\"*\")","v":0},"","",{"$f":"IFERROR(INDEX(BI$2:BI$308,MATCH(ROWS(BJ$2:BJ81),BJ$2:BJ$308,0)),\"\")","v":""},{"$f":"COUNTIF($BK81:$BK$308,\"*\"&BK81&\"*\")","v":228},"","",{"$f":"IFERROR(INDEX($BM$2:$BM$308,MATCH(ROWS(BN$2:BN81),BN$2:BN387,0)),\"\")","v":""},{"$f":"IFERROR(VLOOKUP(Engine!BO81,P_sentences_overview!H80:I209,2),\"\")","v":""}]
[null,null,null,null,null,null,null,null,null,null,null,null,null,null,null,null,null,null,null,null,{"$f":"IFERROR(INDEX(U80:AV80,1,SMALL(IF(U80:AV80<>\"\",COLUMN(U80:AV80)-MIN(COLUMN(U80:AV80))+1),COLUMNS($U$2:U64))),\"\")","v":0},{"$f":"IFERROR(INDEX(U80:AV80,1,SMALL(IF(U80:AV80<>\"\",COLUMN(U80:AV80)-MIN(COLUMN(U80:AV80))+1),COLUMNS($U$2:V64))),\"\")","v":0},{"$f":"IFERROR(INDEX(U80:AV80,1,SMALL(IF(U80:AV80<>\"\",COLUMN(U80:AV80)-MIN(COLUMN(U80:AV80))+1),COLUMNS($U$2:W64))),\"\")","v":0},{"$f":"IFERROR(INDEX(U80:AV80,1,SMALL(IF(U80:AV80<>\"\",COLUMN(U80:AV80)-MIN(COLUMN(U80:AV80))+1),COLUMNS($U$2:X64))),\"\")","v":0},{"$f":"IFERROR(INDEX(U80:AV80,1,SMALL(IF(U80:AV80<>\"\",COLUMN(U80:AV80)-MIN(COLUMN(U80:AV80))+1),COLUMNS($U$2:Y64))),\"\")","v":0},{"$f":"IFERROR(INDEX(U80:AV80,1,SMALL(IF(U80:AV80<>\"\",COLUMN(U80:AV80)-MIN(COLUMN(U80:AV80))+1),COLUMNS($U$2:Z64))),\"\")","v":0},{"$f":"IFERROR(INDEX(U80:AV80,1,SMALL(IF(U80:AV80<>\"\",COLUMN(U80:AV80)-MIN(COLUMN(U80:AV80))+1),COLUMNS($U$2:AA64))),\"\")","v":0},{"$f":"IFERROR(INDEX(U80:AV80,1,SMALL(IF(U80:AV80<>\"\",COLUMN(U80:AV80)-MIN(COLUMN(U80:AV80))+1),COLUMNS($U$2:AB64))),\"\")","v":0},{"$f":"IFERROR(INDEX(U80:AV80,1,SMALL(IF(U80:AV80<>\"\",COLUMN(U80:AV80)-MIN(COLUMN(U80:AV80))+1),COLUMNS($U$2:AC64))),\"\")","v":0},{"$f":"IFERROR(INDEX(U80:AV80,1,SMALL(IF(U80:AV80<>\"\",COLUMN(U80:AV80)-MIN(COLUMN(U80:AV80))+1),COLUMNS($U$2:AD64))),\"\")","v":0},{"$f":"IFERROR(INDEX(U80:AV80,1,SMALL(IF(U80:AV80<>\"\",COLUMN(U80:AV80)-MIN(COLUMN(U80:AV80))+1),COLUMNS($U$2:AE64))),\"\")","v":0},{"$f":"IFERROR(INDEX(U80:AV80,1,SMALL(IF(U80:AV80<>\"\",COLUMN(U80:AV80)-MIN(COLUMN(U80:AV80))+1),COLUMNS($U$2:AF64))),\"\")","v":0},{"$f":"IFERROR(INDEX(U80:AV80,1,SMALL(IF(U80:AV80<>\"\",COLUMN(U80:AV80)-MIN(COLUMN(U80:AV80))+1),COLUMNS($U$2:AG64))),\"\")","v":0},{"$f":"IFERROR(INDEX(U80:AV80,1,SMALL(IF(U80:AV80<>\"\",COLUMN(U80:AV80)-MIN(COLUMN(U80:AV80))+1),COLUMNS($U$2:AH64))),\"\")","v":0},{"$f":"IFERROR(INDEX(U80:AV80,1,SMALL(IF(U80:AV80<>\"\",COLUMN(U80:AV80)-MIN(COLUMN(U80:AV80))+1),COLUMNS($U$2:AI64))),\"\")","v":0},{"$f":"IFERROR(INDEX(U80:AV80,1,SMALL(IF(U80:AV80<>\"\",COLUMN(U80:AV80)-MIN(COLUMN(U80:AV80))+1),COLUMNS($U$2:AJ64))),\"\")","v":0},{"$f":"IFERROR(INDEX(U80:AV80,1,SMALL(IF(U80:AV80<>\"\",COLUMN(U80:AV80)-MIN(COLUMN(U80:AV80))+1),COLUMNS($U$2:AK64))),\"\")","v":0},{"$f":"IFERROR(INDEX(U80:AV80,1,SMALL(IF(U80:AV80<>\"\",COLUMN(U80:AV80)-MIN(COLUMN(U80:AV80))+1),COLUMNS($U$2:AL64))),\"\")","v":0},{"$f":"IFERROR(INDEX(U80:AV80,1,SMALL(IF(U80:AV80<>\"\",COLUMN(U80:AV80)-MIN(COLUMN(U80:AV80))+1),COLUMNS($U$2:AM64))),\"\")","v":0},{"$f":"IFERROR(INDEX(U80:AV80,1,SMALL(IF(U80:AV80<>\"\",COLUMN(U80:AV80)-MIN(COLUMN(U80:AV80))+1),COLUMNS($U$2:AN64))),\"\")","v":0},{"$f":"IFERROR(INDEX(U80:AV80,1,SMALL(IF(U80:AV80<>\"\",COLUMN(U80:AV80)-MIN(COLUMN(U80:AV80))+1),COLUMNS($U$2:AO64))),\"\")","v":0},{"$f":"IFERROR(INDEX(U80:AV80,1,SMALL(IF(U80:AV80<>\"\",COLUMN(U80:AV80)-MIN(COLUMN(U80:AV80))+1),COLUMNS($U$2:AP64))),\"\")","v":0},{"$f":"IFERROR(INDEX(U80:AV80,1,SMALL(IF(U80:AV80<>\"\",COLUMN(U80:AV80)-MIN(COLUMN(U80:AV80))+1),COLUMNS($U$2:AQ64))),\"\")","v":0},{"$f":"IFERROR(INDEX(U80:AV80,1,SMALL(IF(U80:AV80<>\"\",COLUMN(U80:AV80)-MIN(COLUMN(U80:AV80))+1),COLUMNS($U$2:AR64))),\"\")","v":0},{"$f":"IFERROR(INDEX(U80:AV80,1,SMALL(IF(U80:AV80<>\"\",COLUMN(U80:AV80)-MIN(COLUMN(U80:AV80))+1),COLUMNS($U$2:AS64))),\"\")","v":0},{"$f":"IFERROR(INDEX(U80:AV80,1,SMALL(IF(U80:AV80<>\"\",COLUMN(U80:AV80)-MIN(COLUMN(U80:AV80))+1),COLUMNS($U$2:AT64))),\"\")","v":0},{"$f":"IFERROR(INDEX(U80:AV80,1,SMALL(IF(U80:AV80<>\"\",COLUMN(U80:AV80)-MIN(COLUMN(U80:AV80))+1),COLUMNS($U$2:AU64))),\"\")","v":0},{"$f":"IFERROR(INDEX(U80:AV80,1,SMALL(IF(U80:AV80<>\"\",COLUMN(U80:AV80)-MIN(COLUMN(U80:AV80))+1),COLUMNS($U$2:AV64))),\"\")","v":0},null,null,null,null,null,null,null,{"$f":"IFERROR(INDEX(BA64:BA74,MATCH(SMALL(BC64:BC74,ROWS(BA64:BA71)),BC64:BC74,)),\"\")","v":""},{"$f":"IFERROR(INDEX(BD64:BD85,SMALL(IF(BD64:BD85<>\"\",ROW(BD64:BD85)-MIN(ROW(BD64:BD85))+1),ROWS(AX64:AX82))),\"\")","v":""},null,{"$f":"+AM82","v":0},{"$f":"COUNTIF($BG$2:BG82,\"*\"&BG82&\"*\")","v":0},"","",{"$f":"IFERROR(INDEX(BI$2:BI$308,MATCH(ROWS(BJ$2:BJ82),BJ$2:BJ$308,0)),\"\")","v":""},{"$f":"COUNTIF($BK82:$BK$308,\"*\"&BK82&\"*\")","v":227},"","",{"$f":"IFERROR(INDEX($BM$2:$BM$308,MATCH(ROWS(BN$2:BN82),BN$2:BN388,0)),\"\")","v":""},{"$f":"IFERROR(VLOOKUP(Engine!BO82,P_sentences_overview!H81:I210,2),\"\")","v":""}]
[null,null,null,null,null,null,null,null,null,null,null,null,null,null,null,null,null,null,null,null,null,null,null,null,null,null,null,null,null,null,null,null,null,null,null,null,null,null,null,null,null,null,null,null,null,null,null,null,null,null,null,null,null,null,null,{"$f":"IFERROR(INDEX(BA64:BA74,MATCH(SMALL(BC64:BC74,ROWS(BA64:BA72)),BC64:BC74,)),\"\")","v":""},{"$f":"IFERROR(INDEX(BD64:BD85,SMALL(IF(BD64:BD85<>\"\",ROW(BD64:BD85)-MIN(ROW(BD64:BD85))+1),ROWS(AX64:AX83))),\"\")","v":""},null,{"$f":"+AN82","v":0},{"$f":"COUNTIF($BG$2:BG83,\"*\"&BG83&\"*\")","v":0},"","",{"$f":"IFERROR(INDEX(BI$2:BI$308,MATCH(ROWS(BJ$2:BJ83),BJ$2:BJ$308,0)),\"\")","v":""},{"$f":"COUNTIF($BK83:$BK$308,\"*\"&BK83&\"*\")","v":226},"","",{"$f":"IFERROR(INDEX($BM$2:$BM$308,MATCH(ROWS(BN$2:BN83),BN$2:BN389,0)),\"\")","v":""},{"$f":"IFERROR(VLOOKUP(Engine!BO83,P_sentences_overview!H82:I211,2),\"\")","v":""}]
[null,null,null,null,null,null,null,null,null,null,null,null,null,null,null,null,null,null,null,null,null,null,null,null,null,null,null,null,null,null,null,null,null,null,null,null,null,null,null,null,null,null,null,null,null,null,null,null,null,null,null,null,null,null,null,{"$f":"IFERROR(INDEX(BA64:BA74,MATCH(SMALL(BC64:BC74,ROWS(BA64:BA73)),BC64:BC74,)),\"\")","v":""},{"$f":"IFERROR(INDEX(BD64:BD85,SMALL(IF(BD64:BD85<>\"\",ROW(BD64:BD85)-MIN(ROW(BD64:BD85))+1),ROWS(AX64:AX84))),\"\")","v":""},null,{"$f":"+AO82","v":0},{"$f":"COUNTIF($BG$2:BG84,\"*\"&BG84&\"*\")","v":0},"","",{"$f":"IFERROR(INDEX(BI$2:BI$308,MATCH(ROWS(BJ$2:BJ84),BJ$2:BJ$308,0)),\"\")","v":""},{"$f":"COUNTIF($BK84:$BK$308,\"*\"&BK84&\"*\")","v":225},"","",{"$f":"IFERROR(INDEX($BM$2:$BM$308,MATCH(ROWS(BN$2:BN84),BN$2:BN390,0)),\"\")","v":""},{"$f":"IFERROR(VLOOKUP(Engine!BO84,P_sentences_overview!H83:I212,2),\"\")","v":""}]
[null,null,null,null,null,null,null,null,null,null,null,null,null,null,null,null,null,null,null,null,null,null,null,null,null,null,null,null,null,null,null,null,null,null,null,null,null,null,null,null,null,null,null,null,null,null,null,null,null,null,null,null,null,null,null,{"$f":"IFERROR(INDEX(BA64:BA74,MATCH(SMALL(BC64:BC74,ROWS(BA64:BA74)),BC64:BC74,)),\"\")","v":""},{"$f":"IFERROR(INDEX(BD64:BD85,SMALL(IF(BD64:BD85<>\"\",ROW(BD64:BD85)-MIN(ROW(BD64:BD85))+1),ROWS(AX64:AX85))),\"\")","v":""},null,{"$f":"+AP82","v":0},{"$f":"COUNTIF($BG$2:BG85,\"*\"&BG85&\"*\")","v":0},"","",{"$f":"IFERROR(INDEX(BI$2:BI$308,MATCH(ROWS(BJ$2:BJ85),BJ$2:BJ$308,0)),\"\")","v":""},{"$f":"COUNTIF($BK85:$BK$308,\"*\"&BK85&\"*\")","v":224},"","",{"$f":"IFERROR(INDEX($BM$2:$BM$308,MATCH(ROWS(BN$2:BN85),BN$2:BN391,0)),\"\")","v":""},{"$f":"IFERROR(VLOOKUP(Engine!BO85,P_sentences_overview!H84:I213,2),\"\")","v":""}]
[null,null,null,null,null,null,null,null,null,null,null,null,null,null,null,null,null,null,null,null,null,null,null,null,null,null,null,null,null,null,null,null,null,null,null,null,null,null,null,null,null,null,null,null,null,null,null,null,null,null,null,null,null,null,null,null,null,null,{"$f":"+AQ82","v":0},{"$f":"COUNTIF($BG$2:BG86,\"*\"&BG86&\"*\")","v":0},"","",{"$f":"IFERROR(INDEX(BI$2:BI$308,MATCH(ROWS(BJ$2:BJ86),BJ$2:BJ$308,0)),\"\")","v":""},{"$f":"COUNTIF($BK86:$BK$308,\"*\"&BK86&\"*\")","v":223},"","",{"$f":"IFERROR(INDEX($BM$2:$BM$308,MATCH(ROWS(BN$2:BN86),BN$2:BN392,0)),\"\")","v":""},{"$f":"IFERROR(VLOOKUP(Engine!BO86,P_sentences_overview!H85:I214,2),\"\")","v":""}]
[null,null,null,null,null,null,null,null,null,null,null,null,null,null,null,null,null,null,null,null,null,null,null,null,null,null,null,null,null,null,null,null,null,null,null,null,null,null,null,null,null,null,null,null,null,null,null,null,null,null,null,null,null,null,null,null,null,null,{"$f":"+AR82","v":0},{"$f":"COUNTIF($BG$2:BG87,\"*\"&BG87&\"*\")","v":0},"","",{"$f":"IFERROR(INDEX(BI$2:BI$308,MATCH(ROWS(BJ$2:BJ87),BJ$2:BJ$308,0)),\"\")","v":""},{"$f":"COUNTIF($BK87:$BK$308,\"*\"&BK87&\"*\")","v":222},"","",{"$f":"IFERROR(INDEX($BM$2:$BM$308,MATCH(ROWS(BN$2:BN87),BN$2:BN393,0)),\"\")","v":""},{"$f":"IFERROR(VLOOKUP(Engine!BO87,P_sentences_overview!H86:I215,2),\"\")","v":""}]
[null,null,null,null,null,null,null,null,null,null,null,null,null,null,null,null,null,null,null,null,null,null,null,null,null,null,null,null,null,null,null,null,null,null,null,null,null,null,null,null,null,null,null,null,null,null,null,null,null,null,null,null,null,null,null,null,null,null,{"$f":"+AS82","v":0},{"$f":"COUNTIF($BG$2:BG88,\"*\"&BG88&\"*\")","v":0},"","",{"$f":"IFERROR(INDEX(BI$2:BI$308,MATCH(ROWS(BJ$2:BJ88),BJ$2:BJ$308,0)),\"\")","v":""},{"$f":"COUNTIF($BK88:$BK$308,\"*\"&BK88&\"*\")","v":221},"","",{"$f":"IFERROR(INDEX($BM$2:$BM$308,MATCH(ROWS(BN$2:BN88),BN$2:BN394,0)),\"\")","v":""},{"$f":"IFERROR(VLOOKUP(Engine!BO88,P_sentences_overview!H87:I216,2),\"\")","v":""}]
[null,null,null,null,null,null,null,null,null,null,null,null,null,null,null,null,null,null,null,null,null,null,null,null,null,null,null,null,null,null,null,null,null,null,null,null,null,null,null,null,null,null,null,null,null,null,null,null,null,null,null,null,null,null,null,null,null,null,{"$f":"+AT82","v":0},{"$f":"COUNTIF($BG$2:BG89,\"*\"&BG89&\"*\")","v":0},"","",{"$f":"IFERROR(INDEX(BI$2:BI$308,MATCH(ROWS(BJ$2:BJ89),BJ$2:BJ$308,0)),\"\")","v":""},{"$f":"COUNTIF($BK89:$BK$308,\"*\"&BK89&\"*\")","v":220},"","",{"$f":"IFERROR(INDEX($BM$2:$BM$308,MATCH(ROWS(BN$2:BN89),BN$2:BN395,0)),\"\")","v":""},{"$f":"IFERROR(VLOOKUP(Engine!BO89,P_sentences_overview!H88:I217,2),\"\")","v":""}]
[null,null,null,null,null,null,null,null,null,null,null,null,null,null,null,null,null,null,null,null,null,null,null,null,null,null,null,null,null,null,null,null,null,null,null,null,null,null,null,null,null,null,null,null,null,null,null,null,null,null,null,null,null,null,null,null,null,null,{"$f":"+AU82","v":0},{"$f":"COUNTIF($BG$2:BG90,\"*\"&BG90&\"*\")","v":0},"","",{"$f":"IFERROR(INDEX(BI$2:BI$308,MATCH(ROWS(BJ$2:BJ90),BJ$2:BJ$308,0)),\"\")","v":""},{"$f":"COUNTIF($BK90:$BK$308,\"*\"&BK90&\"*\")","v":219},"","",{"$f":"IFERROR(INDEX($BM$2:$BM$308,MATCH(ROWS(BN$2:BN90),BN$2:BN396,0)),\"\")","v":""},{"$f":"IFERROR(VLOOKUP(Engine!BO90,P_sentences_overview!H89:I218,2),\"\")","v":""}]
[null,null,null,null,null,null,null,null,null,null,null,null,null,null,null,null,null,null,null,null,null,null,null,null,null,null,null,null,null,null,null,null,null,null,null,null,null,null,null,null,null,null,null,null,null,null,null,null,null,null,null,null,null,null,null,null,null,null,{"$f":"+AV82","v":0},{"$f":"COUNTIF($BG$2:BG91,\"*\"&BG91&\"*\")","v":0},"","",{"$f":"IFERROR(INDEX(BI$2:BI$308,MATCH(ROWS(BJ$2:BJ91),BJ$2:BJ$308,0)),\"\")","v":""},{"$f":"COUNTIF($BK91:$BK$308,\"*\"&BK91&\"*\")","v":218},"","",{"$f":"IFERROR(INDEX($BM$2:$BM$308,MATCH(ROWS(BN$2:BN91),BN$2:BN397,0)),\"\")","v":""},{"$f":"IFERROR(VLOOKUP(Engine!BO91,P_sentences_overview!H90:I221,2),\"\")","v":""}]
[null,null,null,null,null,null,null,null,null,null,null,null,null,null,null,null,null,null,null,null,null,null,null,null,null,null,null,null,null,null,null,null,null,null,null,null,null,null,null,null,null,null,null,null,null,null,null,null,null,null,null,null,null,null,null,null,null,null,null,{"$f":"COUNTIF($BG$2:BG92,\"*\"&BG92&\"*\")","v":0},"","",{"$f":"IFERROR(INDEX(BI$2:BI$308,MATCH(ROWS(BJ$2:BJ92),BJ$2:BJ$308,0)),\"\")","v":""},{"$f":"COUNTIF($BK92:$BK$308,\"*\"&BK92&\"*\")","v":217},"","",{"$f":"IFERROR(INDEX($BM$2:$BM$308,MATCH(ROWS(BN$2:BN92),BN$2:BN398,0)),\"\")","v":""},{"$f":"IFERROR(VLOOKUP(Engine!BO92,P_sentences_overview!H91:I222,2),\"\")","v":""}]
[null,null,null,null,null,null,null,null,null,null,null,null,null,null,null,null,null,null,null,null,null,null,null,null,null,null,null,null,null,null,null,null,null,null,null,null,null,null,null,null,null,null,null,null,null,null,null,null,null,null,null,null,null,null,null,null,null,null,null,{"$f":"COUNTIF($BG$2:BG93,\"*\"&BG93&\"*\")","v":0},"","",{"$f":"IFERROR(INDEX(BI$2:BI$308,MATCH(ROWS(BJ$2:BJ93),BJ$2:BJ$308,0)),\"\")","v":""},{"$f":"COUNTIF($BK93:$BK$308,\"*\"&BK93&\"*\")","v":216},"","",{"$f":"IFERROR(INDEX($BM$2:$BM$308,MATCH(ROWS(BN$2:BN93),BN$2:BN399,0)),\"\")","v":""},{"$f":"IFERROR(VLOOKUP(Engine!BO93,P_sentences_overview!H92:I223,2),\"\")","v":""}]
[null,null,null,null,null,null,null,null,null,null,null,null,null,null,null,"Vælg  Hazard code","Opslag Hazard category","Vælg Hazard class","Opslag Hazard category","Opslag Hazard class","Column1","Column2","Column3","Column4",null,null,null,null,null,null,null,null,null,null,null,null,null,null,null,null,null,null,null,null,null,null,null,null,null,"Unique values","Number check","numbers_pull","text_pull","numbers_pull_rated","text_pull_rated","All_sorted","All_sorted_top",null,null,{"$f":"COUNTIF($BG$2:BG94,\"*\"&BG94&\"*\")","v":0},"","",{"$f":"IFERROR(INDEX(BI$2:BI$308,MATCH(ROWS(BJ$2:BJ94),BJ$2:BJ$308,0)),\"\")","v":""},{"$f":"COUNTIF($BK94:$BK$308,\"*\"&BK94&\"*\")","v":215},"","",{"$f":"IFERROR(INDEX($BM$2:$BM$308,MATCH(ROWS(BN$2:BN94),BN$2:BN400,0)),\"\")","v":""},{"$f":"IFERROR(VLOOKUP(Engine!BO94,P_sentences_overview!H93:I224,2),\"\")","v":""}]
[null,null,null,null,null,null,null,null,null,null,null,null,null,null,null,{"$f":"INDEX(H_sentences_overview!$A$1:$A$134,Engine!P100)","v":"(none)"},{"$f":"IFERROR(VLOOKUP(P95,H_sentences_overview!$A$2:$D$161,3),\"\")","v":""},{"$f":"INDEX(BE95:BE116,Engine!R100)","v":""},null,null,{"$f":"IFERROR(INDEX(P_saetn,SMALL(IF(Hazard=Engine!$Q95,ROW(P_saetn)-MIN(ROW(P_saetn))+1),COLUMNS($U95:U95))),\"\")","v":0},{"$f":"IFERROR(INDEX(P_saetn,SMALL(IF(Hazard=Engine!$Q95,ROW(P_saetn)-MIN(ROW(P_saetn))+1),COLUMNS($U95:V95))),\"\")","v":0},{"$f":"IFERROR(INDEX(P_saetn,SMALL(IF(Hazard=Engine!$Q95,ROW(P_saetn)-MIN(ROW(P_saetn))+1),COLUMNS($U95:W95))),\"\")","v":0},{"$f":"IFERROR(INDEX(P_saetn,SMALL(IF(Hazard=Engine!$Q95,ROW(P_saetn)-MIN(ROW(P_saetn))+1),COLUMNS($U95:X95))),\"\")","v":0},{"$f":"IFERROR(INDEX(P_saetn,SMALL(IF(Hazard=Engine!$Q95,ROW(P_saetn)-MIN(ROW(P_saetn))+1),COLUMNS($U95:Y95))),\"\")","v":0},{"$f":"IFERROR(INDEX(P_saetn,SMALL(IF(Hazard=Engine!$Q95,ROW(P_saetn)-MIN(ROW(P_saetn))+1),COLUMNS($U95:Z95))),\"\")","v":0},{"$f":"IFERROR(INDEX(P_saetn,SMALL(IF(Hazard=Engine!$Q95,ROW(P_saetn)-MIN(ROW(P_saetn))+1),COLUMNS($U95:AA95))),\"\")","v":0},{"$f":"IFERROR(INDEX(P_saetn,SMALL(IF(Hazard=Engine!$Q95,ROW(P_saetn)-MIN(ROW(P_saetn))+1),COLUMNS($U95:AB95))),\"\")","v":0},{"$f":"IFERROR(INDEX(P_saetn,SMALL(IF(Hazard=Engine!$Q95,ROW(P_saetn)-MIN(ROW(P_saetn))+1),COLUMNS($U95:AC95))),\"\")","v":0},{"$f":"IFERROR(INDEX(P_saetn,SMALL(IF(Hazard=Engine!$Q95,ROW(P_saetn)-MIN(ROW(P_saetn))+1),COLUMNS($U95:AD95))),\"\")","v":0},{"$f":"IFERROR(INDEX(P_saetn,SMALL(IF(Hazard=Engine!$Q95,ROW(P_saetn)-MIN(ROW(P_saetn))+1),COLUMNS($U95:AE95))),\"\")","v":0},{"$f":"IFERROR(INDEX(P_saetn,SMALL(IF(Hazard=Engine!$Q95,ROW(P_saetn)-MIN(ROW(P_saetn))+1),COLUMNS($U95:AF95))),\"\")","v":0},{"$f":"IFERROR(INDEX(P_saetn,SMALL(IF(Hazard=Engine!$Q95,ROW(P_saetn)-MIN(ROW(P_saetn))+1),COLUMNS($U95:AG95))),\"\")","v":0},{"$f":"IFERROR(INDEX(P_saetn,SMALL(IF(Hazard=Engine!$Q95,ROW(P_saetn)-MIN(ROW(P_saetn))+1),COLUMNS($U95:AH95))),\"\")","v":0},{"$f":"IFERROR(INDEX(P_saetn,SMALL(IF(Hazard=Engine!$Q95,ROW(P_saetn)-MIN(ROW(P_saetn))+1),COLUMNS($U95:AI95))),\"\")","v":0},{"$f":"IFERROR(INDEX(P_saetn,SMALL(IF(Hazard=Engine!$Q95,ROW(P_saetn)-MIN(ROW(P_saetn))+1),COLUMNS($U95:AJ95))),\"\")","v":0},{"$f":"IFERROR(INDEX(P_saetn,SMALL(IF(Hazard=Engine!$Q95,ROW(P_saetn)-MIN(ROW(P_saetn))+1),COLUMNS($U95:AK95))),\"\")","v":0},{"$f":"IFERROR(INDEX(P_saetn,SMALL(IF(Hazard=Engine!$Q95,ROW(P_saetn)-MIN(ROW(P_saetn))+1),COLUMNS($U95:AL95))),\"\")","v":0},{"$f":"IFERROR(INDEX(P_saetn,SMALL(IF(Hazard=Engine!$Q95,ROW(P_saetn)-MIN(ROW(P_saetn))+1),COLUMNS($U95:AM95))),\"\")","v":0},{"$f":"IFERROR(INDEX(P_saetn,SMALL(IF(Hazard=Engine!$Q95,ROW(P_saetn)-MIN(ROW(P_saetn))+1),COLUMNS($U95:AN95))),\"\")","v":0},{"$f":"IFERROR(INDEX(P_saetn,SMALL(IF(Hazard=Engine!$Q95,ROW(P_saetn)-MIN(ROW(P_saetn))+1),COLUMNS($U95:AO95))),\"\")","v":0},{"$f":"IFERROR(INDEX(P_saetn,SMALL(IF(Hazard=Engine!$Q95,ROW(P_saetn)-MIN(ROW(P_saetn))+1),COLUMNS($U95:AP95))),\"\")","v":0},{"$f":"IFERROR(INDEX(P_saetn,SMALL(IF(Hazard=Engine!$Q95,ROW(P_saetn)-MIN(ROW(P_saetn))+1),COLUMNS($U95:AQ95))),\"\")","v":0},{"$f":"IFERROR(INDEX(P_saetn,SMALL(IF(Hazard=Engine!$Q95,ROW(P_saetn)-MIN(ROW(P_saetn))+1),COLUMNS($U95:AR95))),\"\")","v":0},{"$f":"IFERROR(INDEX(P_saetn,SMALL(IF(Hazard=Engine!$Q95,ROW(P_saetn)-MIN(ROW(P_saetn))+1),COLUMNS($U95:AS95))),\"\")","v":0},{"$f":"IFERROR(INDEX(P_saetn,SMALL(IF(Hazard=Engine!$Q95,ROW(P_saetn)-MIN(ROW(P_saetn))+1),COLUMNS($U95:AT95))),\"\")","v":0},{"$f":"IFERROR(INDEX(P_saetn,SMALL(IF(Hazard=Engine!$Q95,ROW(P_saetn)-MIN(ROW(P_saetn))+1),COLUMNS($U95:AU95))),\"\")","v":0},{"$f":"IFERROR(INDEX(P_saetn,SMALL(IF(Hazard=Engine!$Q95,ROW(P_saetn)-MIN(ROW(P_saetn))+1),COLUMNS($U95:AV95))),\"\")","v":0},null,{"$f":"INDIRECT(TEXT(MIN(IF(($U104:$AV109<>\"\")*(COUNTIF($AX94:$AX94,$U104:$AV109)=0),ROW($P104:$BM109)*100+COLUMN($U94:$AV122),7^8)),\"R0C00\"),)&\"\"","v":""},{"$f":"ISNUMBER(AX95*1)","v":false},{"$f":"IF(AY95=TRUE,AX95*1,\"\")","v":""},{"$f":"IF(AY95=FALSE,AX95,\"\")","v":""},{"$f":"COUNTIF(AZ95:AZ105,\"<=\"&AZ95)","v":0},{"$f":"IF(COUNTIF(BA95:BA105,\"<=\"&BA95)=0,\"\",COUNTIF(BA95:BA105,\"<=\"&BA95))","v":""},{"$f":"IFERROR(SMALL(AZ95:AZ105,ROWS(AX95:AX95)),\"\")","v":""},{"$f":"IFERROR(INDEX(BD95:BD116,SMALL(IF(BD95:BD116<>\"\",ROW(BD95:BD116)-MIN(ROW(BD95:BD116))+1),ROWS(AX95:AX95))),\"\")","v":""},null,{"$f":"U113","v":0},{"$f":"COUNTIF($BG$2:BG95,\"*\"&BG95&\"*\")","v":0},{"$f":"IF(BH95=1,BG95,\"\")","v":""},"",{"$f":"IFERROR(INDEX(BI$2:BI$308,MATCH(ROWS(BJ$2:BJ95),BJ$2:BJ$308,0)),\"\")","v":""},{"$f":"COUNTIF($BK95:$BK$308,\"*\"&BK95&\"*\")","v":214},"","",{"$f":"IFERROR(INDEX($BM$2:$BM$308,MATCH(ROWS(BN$2:BN95),BN$2:BN401,0)),\"\")","v":""},{"$f":"IFERROR(VLOOKUP(Engine!BO95,P_sentences_overview!H94:I225,2),\"\")","v":""}]
[null,null,null,null,null,null,null,null,null,null,null,null,null,null,null,null,null,null,null,null,{"$f":"SMALL(IF(Hazard=Engine!$Q95,ROW(P_saetn)-MIN(ROW(P_saetn))+1),COLUMNS($U95:U95)+1)","v":465},{"$f":"SMALL(IF(Hazard=Engine!$Q95,ROW(P_saetn)-MIN(ROW(P_saetn))+1),COLUMNS($U95:V95)+1)","v":466},{"$f":"SMALL(IF(Hazard=Engine!$Q95,ROW(P_saetn)-MIN(ROW(P_saetn))+1),COLUMNS($U95:W95)+1)","v":467},{"$f":"SMALL(IF(Hazard=Engine!$Q95,ROW(P_saetn)-MIN(ROW(P_saetn))+1),COLUMNS($U95:X95)+1)","v":468},{"$f":"SMALL(IF(Hazard=Engine!$Q95,ROW(P_saetn)-MIN(ROW(P_saetn))+1),COLUMNS($U95:Y95)+1)","v":469},{"$f":"SMALL(IF(Hazard=Engine!$Q95,ROW(P_saetn)-MIN(ROW(P_saetn))+1),COLUMNS($U95:Z95)+1)","v":470},{"$f":"SMALL(IF(Hazard=Engine!$Q95,ROW(P_saetn)-MIN(ROW(P_saetn))+1),COLUMNS($U95:AA95)+1)","v":471},{"$f":"SMALL(IF(Hazard=Engine!$Q95,ROW(P_saetn)-MIN(ROW(P_saetn))+1),COLUMNS($U95:AB95)+1)","v":472},{"$f":"SMALL(IF(Hazard=Engine!$Q95,ROW(P_saetn)-MIN(ROW(P_saetn))+1),COLUMNS($U95:AC95)+1)","v":473},{"$f":"SMALL(IF(Hazard=Engine!$Q95,ROW(P_saetn)-MIN(ROW(P_saetn))+1),COLUMNS($U95:AD95)+1)","v":474},{"$f":"SMALL(IF(Hazard=Engine!$Q95,ROW(P_saetn)-MIN(ROW(P_saetn))+1),COLUMNS($U95:AE95)+1)","v":475},{"$f":"SMALL(IF(Hazard=Engine!$Q95,ROW(P_saetn)-MIN(ROW(P_saetn))+1),COLUMNS($U95:AF95)+1)","v":476},{"$f":"SMALL(IF(Hazard=Engine!$Q95,ROW(P_saetn)-MIN(ROW(P_saetn))+1),COLUMNS($U95:AG95)+1)","v":477},{"$f":"SMALL(IF(Hazard=Engine!$Q95,ROW(P_saetn)-MIN(ROW(P_saetn))+1),COLUMNS($U95:AH95)+1)","v":478},{"$f":"SMALL(IF(Hazard=Engine!$Q95,ROW(P_saetn)-MIN(ROW(P_saetn))+1),COLUMNS($U95:AI95)+1)","v":479},{"$f":"SMALL(IF(Hazard=Engine!$Q95,ROW(P_saetn)-MIN(ROW(P_saetn))+1),COLUMNS($U95:AJ95)+1)","v":480},{"$f":"SMALL(IF(Hazard=Engine!$Q95,ROW(P_saetn)-MIN(ROW(P_saetn))+1),COLUMNS($U95:AK95)+1)","v":481},{"$f":"SMALL(IF(Hazard=Engine!$Q95,ROW(P_saetn)-MIN(ROW(P_saetn))+1),COLUMNS($U95:AL95)+1)","v":482},{"$f":"SMALL(IF(Hazard=Engine!$Q95,ROW(P_saetn)-MIN(ROW(P_saetn))+1),COLUMNS($U95:AM95)+1)","v":483},{"$f":"SMALL(IF(Hazard=Engine!$Q95,ROW(P_saetn)-MIN(ROW(P_saetn))+1),COLUMNS($U95:AN95)+1)","v":484},{"$f":"SMALL(IF(Hazard=Engine!$Q95,ROW(P_saetn)-MIN(ROW(P_saetn))+1),COLUMNS($U95:AO95)+1)","v":485},{"$f":"SMALL(IF(Hazard=Engine!$Q95,ROW(P_saetn)-MIN(ROW(P_saetn))+1),COLUMNS($U95:AP95)+1)","v":486},{"$f":"SMALL(IF(Hazard=Engine!$Q95,ROW(P_saetn)-MIN(ROW(P_saetn))+1),COLUMNS($U95:AQ95)+1)","v":487},{"$f":"SMALL(IF(Hazard=Engine!$Q95,ROW(P_saetn)-MIN(ROW(P_saetn))+1),COLUMNS($U95:AR95)+1)","v":488},{"$f":"SMALL(IF(Hazard=Engine!$Q95,ROW(P_saetn)-MIN(ROW(P_saetn))+1),COLUMNS($U95:AS95)+1)","v":489},{"$f":"SMALL(IF(Hazard=Engine!$Q95,ROW(P_saetn)-MIN(ROW(P_saetn))+1),COLUMNS($U95:AT95)+1)","v":490},{"$f":"SMALL(IF(Hazard=Engine!$Q95,ROW(P_saetn)-MIN(ROW(P_saetn))+1),COLUMNS($U95:AU95)+1)","v":491},{"$f":"SMALL(IF(Hazard=Engine!$Q95,ROW(P_saetn)-MIN(ROW(P_saetn))+1),COLUMNS($U95:AV95)+1)","v":492},null,{"$f":"INDIRECT(TEXT(MIN(IF(($U104:$AV109<>\"\")*(COUNTIF($AX94:$AX95,$U104:$AV109)=0),ROW($P104:$BM109)*100+COLUMN($U94:$AV122),7^8)),\"R0C00\"),)&\"\"","v":""},false,"","",{"$f":"COUNTIF(AZ95:AZ105,\"<=\"&AZ96)","v":0},{"$f":"IF(COUNTIF(BA95:BA105,\"<=\"&BA96)=0,\"\",COUNTIF(BA95:BA105,\"<=\"&BA96))","v":""},{"$f":"IFERROR(SMALL(AZ95:AZ105,ROWS(AX95:AX96)),\"\")","v":""},{"$f":"IFERROR(INDEX(BD95:BD116,SMALL(IF(BD95:BD116<>\"\",ROW(BD95:BD116)-MIN(ROW(BD95:BD116))+1),ROWS(AX95:AX96))),\"\")","v":""},null,{"$f":"+V113","v":0},{"$f":"COUNTIF($BG$2:BG96,\"*\"&BG96&\"*\")","v":0},"","",{"$f":"IFERROR(INDEX(BI$2:BI$308,MATCH(ROWS(BJ$2:BJ96),BJ$2:BJ$308,0)),\"\")","v":""},{"$f":"COUNTIF($BK96:$BK$308,\"*\"&BK96&\"*\")","v":213},"","",{"$f":"IFERROR(INDEX($BM$2:$BM$308,MATCH(ROWS(BN$2:BN96),BN$2:BN402,0)),\"\")","v":""},{"$f":"IFERROR(VLOOKUP(Engine!BO96,P_sentences_overview!H95:I226,2),\"\")","v":""}]
[null,null,null,null,null,null,null,null,null,null,null,null,null,null,null,null,null,null,null,null,{"$f":"IFERROR(INDEX(Haz_Cat,SMALL(IF(Hazard=Engine!$Q95,ROW(Haz_Cat)-MIN(ROW(Haz_Cat))+1),COLUMNS($U97:U97)),COLUMNS(Main!D$2:D$2)),\"\")","v":0},{"$f":"IFERROR(INDEX(Haz_Cat,SMALL(IF(Hazard=Engine!$Q95,ROW(Haz_Cat)-MIN(ROW(Haz_Cat))+1),COLUMNS($U97:V97)),COLUMNS(Main!E$2:E$2)),\"\")","v":0},{"$f":"IFERROR(INDEX(Haz_Cat,SMALL(IF(Hazard=Engine!$Q95,ROW(Haz_Cat)-MIN(ROW(Haz_Cat))+1),COLUMNS($U97:W97)),COLUMNS(Main!F$2:F$2)),\"\")","v":0},{"$f":"IFERROR(INDEX(Haz_Cat,SMALL(IF(Hazard=Engine!$Q95,ROW(Haz_Cat)-MIN(ROW(Haz_Cat))+1),COLUMNS($U97:X97)),COLUMNS(Main!G$2:G$2)),\"\")","v":0},{"$f":"IFERROR(INDEX(Haz_Cat,SMALL(IF(Hazard=Engine!$Q95,ROW(Haz_Cat)-MIN(ROW(Haz_Cat))+1),COLUMNS($U97:Y97)),COLUMNS(Main!H$2:H$2)),\"\")","v":0},{"$f":"IFERROR(INDEX(Haz_Cat,SMALL(IF(Hazard=Engine!$Q95,ROW(Haz_Cat)-MIN(ROW(Haz_Cat))+1),COLUMNS($U97:Z97)),COLUMNS(Main!I$2:I$2)),\"\")","v":0},{"$f":"IFERROR(INDEX(Haz_Cat,SMALL(IF(Hazard=Engine!$Q95,ROW(Haz_Cat)-MIN(ROW(Haz_Cat))+1),COLUMNS($U97:AA97)),COLUMNS(Main!J$2:J$2)),\"\")","v":0},{"$f":"IFERROR(INDEX(Haz_Cat,SMALL(IF(Hazard=Engine!$Q95,ROW(Haz_Cat)-MIN(ROW(Haz_Cat))+1),COLUMNS($U97:AB97)),COLUMNS(Main!K$2:K$2)),\"\")","v":0},{"$f":"IFERROR(INDEX(Haz_Cat,SMALL(IF(Hazard=Engine!$Q95,ROW(Haz_Cat)-MIN(ROW(Haz_Cat))+1),COLUMNS($U97:AC97)),COLUMNS(Main!L$2:L$2)),\"\")","v":0},{"$f":"IFERROR(INDEX(Haz_Cat,SMALL(IF(Hazard=Engine!$Q95,ROW(Haz_Cat)-MIN(ROW(Haz_Cat))+1),COLUMNS($U97:AD97)),COLUMNS(Main!M$2:M$2)),\"\")","v":0},{"$f":"IFERROR(INDEX(Haz_Cat,SMALL(IF(Hazard=Engine!$Q95,ROW(Haz_Cat)-MIN(ROW(Haz_Cat))+1),COLUMNS($U97:AE97)),COLUMNS(Main!N$2:N$2)),\"\")","v":0},{"$f":"IFERROR(INDEX(Haz_Cat,SMALL(IF(Hazard=Engine!$Q95,ROW(Haz_Cat)-MIN(ROW(Haz_Cat))+1),COLUMNS($U97:AF97)),COLUMNS(Main!O$2:O$2)),\"\")","v":0},{"$f":"IFERROR(INDEX(Haz_Cat,SMALL(IF(Hazard=Engine!$Q95,ROW(Haz_Cat)-MIN(ROW(Haz_Cat))+1),COLUMNS($U97:AG97)),COLUMNS(Main!P$2:P$2)),\"\")","v":0},{"$f":"IFERROR(INDEX(Haz_Cat,SMALL(IF(Hazard=Engine!$Q95,ROW(Haz_Cat)-MIN(ROW(Haz_Cat))+1),COLUMNS($U97:AH97)),COLUMNS(Main!Q$2:Q$2)),\"\")","v":0},{"$f":"IFERROR(INDEX(Haz_Cat,SMALL(IF(Hazard=Engine!$Q95,ROW(Haz_Cat)-MIN(ROW(Haz_Cat))+1),COLUMNS($U97:AI97)),COLUMNS(Main!R$2:R$2)),\"\")","v":0},{"$f":"IFERROR(INDEX(Haz_Cat,SMALL(IF(Hazard=Engine!$Q95,ROW(Haz_Cat)-MIN(ROW(Haz_Cat))+1),COLUMNS($U97:AJ97)),COLUMNS(Main!S$2:S$2)),\"\")","v":0},{"$f":"IFERROR(INDEX(Haz_Cat,SMALL(IF(Hazard=Engine!$Q95,ROW(Haz_Cat)-MIN(ROW(Haz_Cat))+1),COLUMNS($U97:AK97)),COLUMNS(Main!T$2:T$2)),\"\")","v":0},{"$f":"IFERROR(INDEX(Haz_Cat,SMALL(IF(Hazard=Engine!$Q95,ROW(Haz_Cat)-MIN(ROW(Haz_Cat))+1),COLUMNS($U97:AL97)),COLUMNS(Main!U$2:U$2)),\"\")","v":0},{"$f":"IFERROR(INDEX(Haz_Cat,SMALL(IF(Hazard=Engine!$Q95,ROW(Haz_Cat)-MIN(ROW(Haz_Cat))+1),COLUMNS($U97:AM97)),COLUMNS(Main!V$2:V$2)),\"\")","v":0},{"$f":"IFERROR(INDEX(Haz_Cat,SMALL(IF(Hazard=Engine!$Q95,ROW(Haz_Cat)-MIN(ROW(Haz_Cat))+1),COLUMNS($U97:AN97)),COLUMNS(Main!W$2:W$2)),\"\")","v":0},{"$f":"IFERROR(INDEX(Haz_Cat,SMALL(IF(Hazard=Engine!$Q95,ROW(Haz_Cat)-MIN(ROW(Haz_Cat))+1),COLUMNS($U97:AO97)),COLUMNS(Main!X$2:X$2)),\"\")","v":0},{"$f":"IFERROR(INDEX(Haz_Cat,SMALL(IF(Hazard=Engine!$Q95,ROW(Haz_Cat)-MIN(ROW(Haz_Cat))+1),COLUMNS($U97:AP97)),COLUMNS(Main!Y$2:Y$2)),\"\")","v":0},{"$f":"IFERROR(INDEX(Haz_Cat,SMALL(IF(Hazard=Engine!$Q95,ROW(Haz_Cat)-MIN(ROW(Haz_Cat))+1),COLUMNS($U97:AQ97)),COLUMNS(Main!Z$2:Z$2)),\"\")","v":0},{"$f":"IFERROR(INDEX(Haz_Cat,SMALL(IF(Hazard=Engine!$Q95,ROW(Haz_Cat)-MIN(ROW(Haz_Cat))+1),COLUMNS($U97:AR97)),COLUMNS(Main!AA$2:AA$2)),\"\")","v":0},{"$f":"IFERROR(INDEX(Haz_Cat,SMALL(IF(Hazard=Engine!$Q95,ROW(Haz_Cat)-MIN(ROW(Haz_Cat))+1),COLUMNS($U97:AS97)),COLUMNS(Main!AB$2:AB$2)),\"\")","v":0},{"$f":"IFERROR(INDEX(Haz_Cat,SMALL(IF(Hazard=Engine!$Q95,ROW(Haz_Cat)-MIN(ROW(Haz_Cat))+1),COLUMNS($U97:AT97)),COLUMNS(Main!AC$2:AC$2)),\"\")","v":0},{"$f":"IFERROR(INDEX(Haz_Cat,SMALL(IF(Hazard=Engine!$Q95,ROW(Haz_Cat)-MIN(ROW(Haz_Cat))+1),COLUMNS($U97:AU97)),COLUMNS(Main!AD$2:AD$2)),\"\")","v":0},{"$f":"IFERROR(INDEX(Haz_Cat,SMALL(IF(Hazard=Engine!$Q95,ROW(Haz_Cat)-MIN(ROW(Haz_Cat))+1),COLUMNS($U97:AV97)),COLUMNS(Main!AE$2:AE$2)),\"\")","v":0},null,{"$f":"INDIRECT(TEXT(MIN(IF(($U104:$AV109<>\"\")*(COUNTIF($AX94:$AX96,$U104:$AV109)=0),ROW($P104:$BM109)*100+COLUMN($U94:$AV122),7^8)),\"R0C00\"),)&\"\"","v":""},false,"","",{"$f":"COUNTIF(AZ95:AZ105,\"<=\"&AZ97)","v":0},{"$f":"IF(COUNTIF(BA95:BA105,\"<=\"&BA97)=0,\"\",COUNTIF(BA95:BA105,\"<=\"&BA97))","v":""},{"$f":"IFERROR(SMALL(AZ95:AZ105,ROWS(AX95:AX97)),\"\")","v":""},{"$f":"IFERROR(INDEX(BD95:BD116,SMALL(IF(BD95:BD116<>\"\",ROW(BD95:BD116)-MIN(ROW(BD95:BD116))+1),ROWS(AX95:AX97))),\"\")","v":""},null,{"$f":"+W113","v":0},{"$f":"COUNTIF($BG$2:BG97,\"*\"&BG97&\"*\")","v":0},"","",{"$f":"IFERROR(INDEX(BI$2:BI$308,MATCH(ROWS(BJ$2:BJ97),BJ$2:BJ$308,0)),\"\")","v":""},{"$f":"COUNTIF($BK97:$BK$308,\"*\"&BK97&\"*\")","v":212},"","",{"$f":"IFERROR(INDEX($BM$2:$BM$308,MATCH(ROWS(BN$2:BN97),BN$2:BN403,0)),\"\")","v":""},{"$f":"IFERROR(VLOOKUP(Engine!BO97,P_sentences_overview!H96:I227,2),\"\")","v":""}]
[null,null,null,null,null,null,null,null,null,null,null,null,null,null,null,null,null,null,null,null,{"$f":"IFERROR(INDEX(Haz_Cat,SMALL(IF(Hazard=Engine!$Q95,ROW(Haz_Cat)-MIN(ROW(Haz_Cat))+1),COLUMNS($U97:U97)),COLUMNS(Main!$D95:$E95)),\"\")","v":0},{"$f":"IFERROR(INDEX(Haz_Cat,SMALL(IF(Hazard=Engine!$Q95,ROW(Haz_Cat)-MIN(ROW(Haz_Cat))+1),COLUMNS($U97:V97)),COLUMNS(Main!$D95:$E95)),\"\")","v":0},{"$f":"IFERROR(INDEX(Haz_Cat,SMALL(IF(Hazard=Engine!$Q95,ROW(Haz_Cat)-MIN(ROW(Haz_Cat))+1),COLUMNS($U97:W97)),COLUMNS(Main!$D95:$E95)),\"\")","v":0},{"$f":"IFERROR(INDEX(Haz_Cat,SMALL(IF(Hazard=Engine!$Q95,ROW(Haz_Cat)-MIN(ROW(Haz_Cat))+1),COLUMNS($U97:X97)),COLUMNS(Main!$D95:$E95)),\"\")","v":0},{"$f":"IFERROR(INDEX(Haz_Cat,SMALL(IF(Hazard=Engine!$Q95,ROW(Haz_Cat)-MIN(ROW(Haz_Cat))+1),COLUMNS($U97:Y97)),COLUMNS(Main!$D95:$E95)),\"\")","v":0},{"$f":"IFERROR(INDEX(Haz_Cat,SMALL(IF(Hazard=Engine!$Q95,ROW(Haz_Cat)-MIN(ROW(Haz_Cat))+1),COLUMNS($U97:Z97)),COLUMNS(Main!$D95:$E95)),\"\")","v":0},{"$f":"IFERROR(INDEX(Haz_Cat,SMALL(IF(Hazard=Engine!$Q95,ROW(Haz_Cat)-MIN(ROW(Haz_Cat))+1),COLUMNS($U97:AA97)),COLUMNS(Main!$D95:$E95)),\"\")","v":0},{"$f":"IFERROR(INDEX(Haz_Cat,SMALL(IF(Hazard=Engine!$Q95,ROW(Haz_Cat)-MIN(ROW(Haz_Cat))+1),COLUMNS($U97:AB97)),COLUMNS(Main!$D95:$E95)),\"\")","v":0},{"$f":"IFERROR(INDEX(Haz_Cat,SMALL(IF(Hazard=Engine!$Q95,ROW(Haz_Cat)-MIN(ROW(Haz_Cat))+1),COLUMNS($U97:AC97)),COLUMNS(Main!$D95:$E95)),\"\")","v":0},{"$f":"IFERROR(INDEX(Haz_Cat,SMALL(IF(Hazard=Engine!$Q95,ROW(Haz_Cat)-MIN(ROW(Haz_Cat))+1),COLUMNS($U97:AD97)),COLUMNS(Main!$D95:$E95)),\"\")","v":0},{"$f":"IFERROR(INDEX(Haz_Cat,SMALL(IF(Hazard=Engine!$Q95,ROW(Haz_Cat)-MIN(ROW(Haz_Cat))+1),COLUMNS($U97:AE97)),COLUMNS(Main!$D95:$E95)),\"\")","v":0},{"$f":"IFERROR(INDEX(Haz_Cat,SMALL(IF(Hazard=Engine!$Q95,ROW(Haz_Cat)-MIN(ROW(Haz_Cat))+1),COLUMNS($U97:AF97)),COLUMNS(Main!$D95:$E95)),\"\")","v":0},{"$f":"IFERROR(INDEX(Haz_Cat,SMALL(IF(Hazard=Engine!$Q95,ROW(Haz_Cat)-MIN(ROW(Haz_Cat))+1),COLUMNS($U97:AG97)),COLUMNS(Main!$D95:$E95)),\"\")","v":0},{"$f":"IFERROR(INDEX(Haz_Cat,SMALL(IF(Hazard=Engine!$Q95,ROW(Haz_Cat)-MIN(ROW(Haz_Cat))+1),COLUMNS($U97:AH97)),COLUMNS(Main!$D95:$E95)),\"\")","v":0},{"$f":"IFERROR(INDEX(Haz_Cat,SMALL(IF(Hazard=Engine!$Q95,ROW(Haz_Cat)-MIN(ROW(Haz_Cat))+1),COLUMNS($U97:AI97)),COLUMNS(Main!$D95:$E95)),\"\")","v":0},{"$f":"IFERROR(INDEX(Haz_Cat,SMALL(IF(Hazard=Engine!$Q95,ROW(Haz_Cat)-MIN(ROW(Haz_Cat))+1),COLUMNS($U97:AJ97)),COLUMNS(Main!$D95:$E95)),\"\")","v":0},{"$f":"IFERROR(INDEX(Haz_Cat,SMALL(IF(Hazard=Engine!$Q95,ROW(Haz_Cat)-MIN(ROW(Haz_Cat))+1),COLUMNS($U97:AK97)),COLUMNS(Main!$D95:$E95)),\"\")","v":0},{"$f":"IFERROR(INDEX(Haz_Cat,SMALL(IF(Hazard=Engine!$Q95,ROW(Haz_Cat)-MIN(ROW(Haz_Cat))+1),COLUMNS($U97:AL97)),COLUMNS(Main!$D95:$E95)),\"\")","v":0},{"$f":"IFERROR(INDEX(Haz_Cat,SMALL(IF(Hazard=Engine!$Q95,ROW(Haz_Cat)-MIN(ROW(Haz_Cat))+1),COLUMNS($U97:AM97)),COLUMNS(Main!$D95:$E95)),\"\")","v":0},{"$f":"IFERROR(INDEX(Haz_Cat,SMALL(IF(Hazard=Engine!$Q95,ROW(Haz_Cat)-MIN(ROW(Haz_Cat))+1),COLUMNS($U97:AN97)),COLUMNS(Main!$D95:$E95)),\"\")","v":0},{"$f":"IFERROR(INDEX(Haz_Cat,SMALL(IF(Hazard=Engine!$Q95,ROW(Haz_Cat)-MIN(ROW(Haz_Cat))+1),COLUMNS($U97:AO97)),COLUMNS(Main!$D95:$E95)),\"\")","v":0},{"$f":"IFERROR(INDEX(Haz_Cat,SMALL(IF(Hazard=Engine!$Q95,ROW(Haz_Cat)-MIN(ROW(Haz_Cat))+1),COLUMNS($U97:AP97)),COLUMNS(Main!$D95:$E95)),\"\")","v":0},{"$f":"IFERROR(INDEX(Haz_Cat,SMALL(IF(Hazard=Engine!$Q95,ROW(Haz_Cat)-MIN(ROW(Haz_Cat))+1),COLUMNS($U97:AQ97)),COLUMNS(Main!$D95:$E95)),\"\")","v":0},{"$f":"IFERROR(INDEX(Haz_Cat,SMALL(IF(Hazard=Engine!$Q95,ROW(Haz_Cat)-MIN(ROW(Haz_Cat))+1),COLUMNS($U97:AR97)),COLUMNS(Main!$D95:$E95)),\"\")","v":0},{"$f":"IFERROR(INDEX(Haz_Cat,SMALL(IF(Hazard=Engine!$Q95,ROW(Haz_Cat)-MIN(ROW(Haz_Cat))+1),COLUMNS($U97:AS97)),COLUMNS(Main!$D95:$E95)),\"\")","v":0},{"$f":"IFERROR(INDEX(Haz_Cat,SMALL(IF(Hazard=Engine!$Q95,ROW(Haz_Cat)-MIN(ROW(Haz_Cat))+1),COLUMNS($U97:AT97)),COLUMNS(Main!$D95:$E95)),\"\")","v":0},{"$f":"IFERROR(INDEX(Haz_Cat,SMALL(IF(Hazard=Engine!$Q95,ROW(Haz_Cat)-MIN(ROW(Haz_Cat))+1),COLUMNS($U97:AU97)),COLUMNS(Main!$D95:$E95)),\"\")","v":0},{"$f":"IFERROR(INDEX(Haz_Cat,SMALL(IF(Hazard=Engine!$Q95,ROW(Haz_Cat)-MIN(ROW(Haz_Cat))+1),COLUMNS($U97:AV97)),COLUMNS(Main!$D95:$E95)),\"\")","v":0},null,{"$f":"INDIRECT(TEXT(MIN(IF(($U104:$AV109<>\"\")*(COUNTIF($AX94:$AX97,$U104:$AV109)=0),ROW($P104:$BM109)*100+COLUMN($U94:$AV122),7^8)),\"R0C00\"),)&\"\"","v":""},false,"","",{"$f":"COUNTIF(AZ95:AZ105,\"<=\"&AZ98)","v":0},{"$f":"IF(COUNTIF(BA95:BA105,\"<=\"&BA98)=0,\"\",COUNTIF(BA95:BA105,\"<=\"&BA98))","v":""},{"$f":"IFERROR(SMALL(AZ95:AZ105,ROWS(AX95:AX98)),\"\")","v":""},{"$f":"IFERROR(INDEX(BD95:BD116,SMALL(IF(BD95:BD116<>\"\",ROW(BD95:BD116)-MIN(ROW(BD95:BD116))+1),ROWS(AX95:AX98))),\"\")","v":""},null,{"$f":"+X113","v":0},{"$f":"COUNTIF($BG$2:BG98,\"*\"&BG98&\"*\")","v":0},"","",{"$f":"IFERROR(INDEX(BI$2:BI$308,MATCH(ROWS(BJ$2:BJ98),BJ$2:BJ$308,0)),\"\")","v":""},{"$f":"COUNTIF($BK98:$BK$308,\"*\"&BK98&\"*\")","v":211},"","",{"$f":"IFERROR(INDEX($BM$2:$BM$308,MATCH(ROWS(BN$2:BN98),BN$2:BN404,0)),\"\")","v":""},{"$f":"IFERROR(VLOOKUP(Engine!BO98,P_sentences_overview!H97:I228,2),\"\")","v":""}]
[null,null,null,null,null,null,null,null,null,null,null,null,null,null,null,{"$f":"INDEX(H_sentences_overview!$A$1:$A$134,Engine!P100)","v":"(none)"},null,{"$f":"INDEX(BE95:BE100,Engine!R100)","v":""},null,null,{"$f":"IFERROR(INDEX(Haz_Cat,SMALL(IF(Hazard=Engine!$Q95,ROW(Haz_Cat)-MIN(ROW(Haz_Cat))+1),COLUMNS($U97:U97)),COLUMNS(Main!$D95:$F95)),\"\")","v":0},{"$f":"IFERROR(INDEX(Haz_Cat,SMALL(IF(Hazard=Engine!$Q95,ROW(Haz_Cat)-MIN(ROW(Haz_Cat))+1),COLUMNS($U97:V97)),COLUMNS(Main!$D95:$F95)),\"\")","v":0},{"$f":"IFERROR(INDEX(Haz_Cat,SMALL(IF(Hazard=Engine!$Q95,ROW(Haz_Cat)-MIN(ROW(Haz_Cat))+1),COLUMNS($U97:W97)),COLUMNS(Main!$D95:$F95)),\"\")","v":0},{"$f":"IFERROR(INDEX(Haz_Cat,SMALL(IF(Hazard=Engine!$Q95,ROW(Haz_Cat)-MIN(ROW(Haz_Cat))+1),COLUMNS($U97:X97)),COLUMNS(Main!$D95:$F95)),\"\")","v":0},{"$f":"IFERROR(INDEX(Haz_Cat,SMALL(IF(Hazard=Engine!$Q95,ROW(Haz_Cat)-MIN(ROW(Haz_Cat))+1),COLUMNS($U97:Y97)),COLUMNS(Main!$D95:$F95)),\"\")","v":0},{"$f":"IFERROR(INDEX(Haz_Cat,SMALL(IF(Hazard=Engine!$Q95,ROW(Haz_Cat)-MIN(ROW(Haz_Cat))+1),COLUMNS($U97:Z97)),COLUMNS(Main!$D95:$F95)),\"\")","v":0},{"$f":"IFERROR(INDEX(Haz_Cat,SMALL(IF(Hazard=Engine!$Q95,ROW(Haz_Cat)-MIN(ROW(Haz_Cat))+1),COLUMNS($U97:AA97)),COLUMNS(Main!$D95:$F95)),\"\")","v":0},{"$f":"IFERROR(INDEX(Haz_Cat,SMALL(IF(Hazard=Engine!$Q95,ROW(Haz_Cat)-MIN(ROW(Haz_Cat))+1),COLUMNS($U97:AB97)),COLUMNS(Main!$D95:$F95)),\"\")","v":0},{"$f":"IFERROR(INDEX(Haz_Cat,SMALL(IF(Hazard=Engine!$Q95,ROW(Haz_Cat)-MIN(ROW(Haz_Cat))+1),COLUMNS($U97:AC97)),COLUMNS(Main!$D95:$F95)),\"\")","v":0},{"$f":"IFERROR(INDEX(Haz_Cat,SMALL(IF(Hazard=Engine!$Q95,ROW(Haz_Cat)-MIN(ROW(Haz_Cat))+1),COLUMNS($U97:AD97)),COLUMNS(Main!$D95:$F95)),\"\")","v":0},{"$f":"IFERROR(INDEX(Haz_Cat,SMALL(IF(Hazard=Engine!$Q95,ROW(Haz_Cat)-MIN(ROW(Haz_Cat))+1),COLUMNS($U97:AE97)),COLUMNS(Main!$D95:$F95)),\"\")","v":0},{"$f":"IFERROR(INDEX(Haz_Cat,SMALL(IF(Hazard=Engine!$Q95,ROW(Haz_Cat)-MIN(ROW(Haz_Cat))+1),COLUMNS($U97:AF97)),COLUMNS(Main!$D95:$F95)),\"\")","v":0},{"$f":"IFERROR(INDEX(Haz_Cat,SMALL(IF(Hazard=Engine!$Q95,ROW(Haz_Cat)-MIN(ROW(Haz_Cat))+1),COLUMNS($U97:AG97)),COLUMNS(Main!$D95:$F95)),\"\")","v":0},{"$f":"IFERROR(INDEX(Haz_Cat,SMALL(IF(Hazard=Engine!$Q95,ROW(Haz_Cat)-MIN(ROW(Haz_Cat))+1),COLUMNS($U97:AH97)),COLUMNS(Main!$D95:$F95)),\"\")","v":0},{"$f":"IFERROR(INDEX(Haz_Cat,SMALL(IF(Hazard=Engine!$Q95,ROW(Haz_Cat)-MIN(ROW(Haz_Cat))+1),COLUMNS($U97:AI97)),COLUMNS(Main!$D95:$F95)),\"\")","v":0},{"$f":"IFERROR(INDEX(Haz_Cat,SMALL(IF(Hazard=Engine!$Q95,ROW(Haz_Cat)-MIN(ROW(Haz_Cat))+1),COLUMNS($U97:AJ97)),COLUMNS(Main!$D95:$F95)),\"\")","v":0},{"$f":"IFERROR(INDEX(Haz_Cat,SMALL(IF(Hazard=Engine!$Q95,ROW(Haz_Cat)-MIN(ROW(Haz_Cat))+1),COLUMNS($U97:AK97)),COLUMNS(Main!$D95:$F95)),\"\")","v":0},{"$f":"IFERROR(INDEX(Haz_Cat,SMALL(IF(Hazard=Engine!$Q95,ROW(Haz_Cat)-MIN(ROW(Haz_Cat))+1),COLUMNS($U97:AL97)),COLUMNS(Main!$D95:$F95)),\"\")","v":0},{"$f":"IFERROR(INDEX(Haz_Cat,SMALL(IF(Hazard=Engine!$Q95,ROW(Haz_Cat)-MIN(ROW(Haz_Cat))+1),COLUMNS($U97:AM97)),COLUMNS(Main!$D95:$F95)),\"\")","v":0},{"$f":"IFERROR(INDEX(Haz_Cat,SMALL(IF(Hazard=Engine!$Q95,ROW(Haz_Cat)-MIN(ROW(Haz_Cat))+1),COLUMNS($U97:AN97)),COLUMNS(Main!$D95:$F95)),\"\")","v":0},{"$f":"IFERROR(INDEX(Haz_Cat,SMALL(IF(Hazard=Engine!$Q95,ROW(Haz_Cat)-MIN(ROW(Haz_Cat))+1),COLUMNS($U97:AO97)),COLUMNS(Main!$D95:$F95)),\"\")","v":0},{"$f":"IFERROR(INDEX(Haz_Cat,SMALL(IF(Hazard=Engine!$Q95,ROW(Haz_Cat)-MIN(ROW(Haz_Cat))+1),COLUMNS($U97:AP97)),COLUMNS(Main!$D95:$F95)),\"\")","v":0},{"$f":"IFERROR(INDEX(Haz_Cat,SMALL(IF(Hazard=Engine!$Q95,ROW(Haz_Cat)-MIN(ROW(Haz_Cat))+1),COLUMNS($U97:AQ97)),COLUMNS(Main!$D95:$F95)),\"\")","v":0},{"$f":"IFERROR(INDEX(Haz_Cat,SMALL(IF(Hazard=Engine!$Q95,ROW(Haz_Cat)-MIN(ROW(Haz_Cat))+1),COLUMNS($U97:AR97)),COLUMNS(Main!$D95:$F95)),\"\")","v":0},{"$f":"IFERROR(INDEX(Haz_Cat,SMALL(IF(Hazard=Engine!$Q95,ROW(Haz_Cat)-MIN(ROW(Haz_Cat))+1),COLUMNS($U97:AS97)),COLUMNS(Main!$D95:$F95)),\"\")","v":0},{"$f":"IFERROR(INDEX(Haz_Cat,SMALL(IF(Hazard=Engine!$Q95,ROW(Haz_Cat)-MIN(ROW(Haz_Cat))+1),COLUMNS($U97:AT97)),COLUMNS(Main!$D95:$F95)),\"\")","v":0},{"$f":"IFERROR(INDEX(Haz_Cat,SMALL(IF(Hazard=Engine!$Q95,ROW(Haz_Cat)-MIN(ROW(Haz_Cat))+1),COLUMNS($U97:AU97)),COLUMNS(Main!$D95:$F95)),\"\")","v":0},{"$f":"IFERROR(INDEX(Haz_Cat,SMALL(IF(Hazard=Engine!$Q95,ROW(Haz_Cat)-MIN(ROW(Haz_Cat))+1),COLUMNS($U97:AV97)),COLUMNS(Main!$D95:$F95)),\"\")","v":0},null,{"$f":"INDIRECT(TEXT(MIN(IF(($U104:$AV109<>\"\")*(COUNTIF($AX94:$AX98,$U104:$AV109)=0),ROW($P104:$BM109)*100+COLUMN($U94:$AV122),7^8)),\"R0C00\"),)&\"\"","v":""},false,"","",{"$f":"COUNTIF(AZ95:AZ105,\"<=\"&AZ99)","v":0},{"$f":"IF(COUNTIF(BA95:BA105,\"<=\"&BA99)=0,\"\",COUNTIF(BA95:BA105,\"<=\"&BA99))","v":""},{"$f":"IFERROR(SMALL(AZ95:AZ105,ROWS(AX95:AX99)),\"\")","v":""},{"$f":"IFERROR(INDEX(BD95:BD116,SMALL(IF(BD95:BD116<>\"\",ROW(BD95:BD116)-MIN(ROW(BD95:BD116))+1),ROWS(AX95:AX99))),\"\")","v":""},null,{"$f":"+Y113","v":0},{"$f":"COUNTIF($BG$2:BG99,\"*\"&BG99&\"*\")","v":0},"","",{"$f":"IFERROR(INDEX(BI$2:BI$308,MATCH(ROWS(BJ$2:BJ99),BJ$2:BJ$308,0)),\"\")","v":""},{"$f":"COUNTIF($BK99:$BK$308,\"*\"&BK99&\"*\")","v":210},"","",{"$f":"IFERROR(INDEX($BM$2:$BM$308,MATCH(ROWS(BN$2:BN99),BN$2:BN405,0)),\"\")","v":""},{"$f":"IFERROR(VLOOKUP(Engine!BO99,P_sentences_overview!H98:I229,2),\"\")","v":""}]
[null,null,null,null,null,null,null,null,null,null,null,null,null,null,null,1,null,1,null,null,{"$f":"IFERROR(INDEX(Haz_Cat,SMALL(IF(Hazard=Engine!$Q95,ROW(Haz_Cat)-MIN(ROW(Haz_Cat))+1),COLUMNS($U97:U97)),COLUMNS(Main!$D95:$G95)),\"\")","v":0},{"$f":"IFERROR(INDEX(Haz_Cat,SMALL(IF(Hazard=Engine!$Q95,ROW(Haz_Cat)-MIN(ROW(Haz_Cat))+1),COLUMNS($U97:V97)),COLUMNS(Main!$D95:$G95)),\"\")","v":0},{"$f":"IFERROR(INDEX(Haz_Cat,SMALL(IF(Hazard=Engine!$Q95,ROW(Haz_Cat)-MIN(ROW(Haz_Cat))+1),COLUMNS($U97:W97)),COLUMNS(Main!$D95:$G95)),\"\")","v":0},{"$f":"IFERROR(INDEX(Haz_Cat,SMALL(IF(Hazard=Engine!$Q95,ROW(Haz_Cat)-MIN(ROW(Haz_Cat))+1),COLUMNS($U97:X97)),COLUMNS(Main!$D95:$G95)),\"\")","v":0},{"$f":"IFERROR(INDEX(Haz_Cat,SMALL(IF(Hazard=Engine!$Q95,ROW(Haz_Cat)-MIN(ROW(Haz_Cat))+1),COLUMNS($U97:Y97)),COLUMNS(Main!$D95:$G95)),\"\")","v":0},{"$f":"IFERROR(INDEX(Haz_Cat,SMALL(IF(Hazard=Engine!$Q95,ROW(Haz_Cat)-MIN(ROW(Haz_Cat))+1),COLUMNS($U97:Z97)),COLUMNS(Main!$D95:$G95)),\"\")","v":0},{"$f":"IFERROR(INDEX(Haz_Cat,SMALL(IF(Hazard=Engine!$Q95,ROW(Haz_Cat)-MIN(ROW(Haz_Cat))+1),COLUMNS($U97:AA97)),COLUMNS(Main!$D95:$G95)),\"\")","v":0},{"$f":"IFERROR(INDEX(Haz_Cat,SMALL(IF(Hazard=Engine!$Q95,ROW(Haz_Cat)-MIN(ROW(Haz_Cat))+1),COLUMNS($U97:AB97)),COLUMNS(Main!$D95:$G95)),\"\")","v":0},{"$f":"IFERROR(INDEX(Haz_Cat,SMALL(IF(Hazard=Engine!$Q95,ROW(Haz_Cat)-MIN(ROW(Haz_Cat))+1),COLUMNS($U97:AC97)),COLUMNS(Main!$D95:$G95)),\"\")","v":0},{"$f":"IFERROR(INDEX(Haz_Cat,SMALL(IF(Hazard=Engine!$Q95,ROW(Haz_Cat)-MIN(ROW(Haz_Cat))+1),COLUMNS($U97:AD97)),COLUMNS(Main!$D95:$G95)),\"\")","v":0},{"$f":"IFERROR(INDEX(Haz_Cat,SMALL(IF(Hazard=Engine!$Q95,ROW(Haz_Cat)-MIN(ROW(Haz_Cat))+1),COLUMNS($U97:AE97)),COLUMNS(Main!$D95:$G95)),\"\")","v":0},{"$f":"IFERROR(INDEX(Haz_Cat,SMALL(IF(Hazard=Engine!$Q95,ROW(Haz_Cat)-MIN(ROW(Haz_Cat))+1),COLUMNS($U97:AF97)),COLUMNS(Main!$D95:$G95)),\"\")","v":0},{"$f":"IFERROR(INDEX(Haz_Cat,SMALL(IF(Hazard=Engine!$Q95,ROW(Haz_Cat)-MIN(ROW(Haz_Cat))+1),COLUMNS($U97:AG97)),COLUMNS(Main!$D95:$G95)),\"\")","v":0},{"$f":"IFERROR(INDEX(Haz_Cat,SMALL(IF(Hazard=Engine!$Q95,ROW(Haz_Cat)-MIN(ROW(Haz_Cat))+1),COLUMNS($U97:AH97)),COLUMNS(Main!$D95:$G95)),\"\")","v":0},{"$f":"IFERROR(INDEX(Haz_Cat,SMALL(IF(Hazard=Engine!$Q95,ROW(Haz_Cat)-MIN(ROW(Haz_Cat))+1),COLUMNS($U97:AI97)),COLUMNS(Main!$D95:$G95)),\"\")","v":0},{"$f":"IFERROR(INDEX(Haz_Cat,SMALL(IF(Hazard=Engine!$Q95,ROW(Haz_Cat)-MIN(ROW(Haz_Cat))+1),COLUMNS($U97:AJ97)),COLUMNS(Main!$D95:$G95)),\"\")","v":0},{"$f":"IFERROR(INDEX(Haz_Cat,SMALL(IF(Hazard=Engine!$Q95,ROW(Haz_Cat)-MIN(ROW(Haz_Cat))+1),COLUMNS($U97:AK97)),COLUMNS(Main!$D95:$G95)),\"\")","v":0},{"$f":"IFERROR(INDEX(Haz_Cat,SMALL(IF(Hazard=Engine!$Q95,ROW(Haz_Cat)-MIN(ROW(Haz_Cat))+1),COLUMNS($U97:AL97)),COLUMNS(Main!$D95:$G95)),\"\")","v":0},{"$f":"IFERROR(INDEX(Haz_Cat,SMALL(IF(Hazard=Engine!$Q95,ROW(Haz_Cat)-MIN(ROW(Haz_Cat))+1),COLUMNS($U97:AM97)),COLUMNS(Main!$D95:$G95)),\"\")","v":0},{"$f":"IFERROR(INDEX(Haz_Cat,SMALL(IF(Hazard=Engine!$Q95,ROW(Haz_Cat)-MIN(ROW(Haz_Cat))+1),COLUMNS($U97:AN97)),COLUMNS(Main!$D95:$G95)),\"\")","v":0},{"$f":"IFERROR(INDEX(Haz_Cat,SMALL(IF(Hazard=Engine!$Q95,ROW(Haz_Cat)-MIN(ROW(Haz_Cat))+1),COLUMNS($U97:AO97)),COLUMNS(Main!$D95:$G95)),\"\")","v":0},{"$f":"IFERROR(INDEX(Haz_Cat,SMALL(IF(Hazard=Engine!$Q95,ROW(Haz_Cat)-MIN(ROW(Haz_Cat))+1),COLUMNS($U97:AP97)),COLUMNS(Main!$D95:$G95)),\"\")","v":0},{"$f":"IFERROR(INDEX(Haz_Cat,SMALL(IF(Hazard=Engine!$Q95,ROW(Haz_Cat)-MIN(ROW(Haz_Cat))+1),COLUMNS($U97:AQ97)),COLUMNS(Main!$D95:$G95)),\"\")","v":0},{"$f":"IFERROR(INDEX(Haz_Cat,SMALL(IF(Hazard=Engine!$Q95,ROW(Haz_Cat)-MIN(ROW(Haz_Cat))+1),COLUMNS($U97:AR97)),COLUMNS(Main!$D95:$G95)),\"\")","v":0},{"$f":"IFERROR(INDEX(Haz_Cat,SMALL(IF(Hazard=Engine!$Q95,ROW(Haz_Cat)-MIN(ROW(Haz_Cat))+1),COLUMNS($U97:AS97)),COLUMNS(Main!$D95:$G95)),\"\")","v":0},{"$f":"IFERROR(INDEX(Haz_Cat,SMALL(IF(Hazard=Engine!$Q95,ROW(Haz_Cat)-MIN(ROW(Haz_Cat))+1),COLUMNS($U97:AT97)),COLUMNS(Main!$D95:$G95)),\"\")","v":0},{"$f":"IFERROR(INDEX(Haz_Cat,SMALL(IF(Hazard=Engine!$Q95,ROW(Haz_Cat)-MIN(ROW(Haz_Cat))+1),COLUMNS($U97:AU97)),COLUMNS(Main!$D95:$G95)),\"\")","v":0},{"$f":"IFERROR(INDEX(Haz_Cat,SMALL(IF(Hazard=Engine!$Q95,ROW(Haz_Cat)-MIN(ROW(Haz_Cat))+1),COLUMNS($U97:AV97)),COLUMNS(Main!$D95:$G95)),\"\")","v":0},null,{"$f":"INDIRECT(TEXT(MIN(IF(($U104:$AV109<>\"\")*(COUNTIF($AX94:$AX99,$U104:$AV109)=0),ROW($P104:$BM109)*100+COLUMN($U94:$AV122),7^8)),\"R0C00\"),)&\"\"","v":""},false,"","",{"$f":"COUNTIF(AZ95:AZ105,\"<=\"&AZ100)","v":0},{"$f":"IF(COUNTIF(BA95:BA105,\"<=\"&BA100)=0,\"\",COUNTIF(BA95:BA105,\"<=\"&BA100))","v":""},{"$f":"IFERROR(SMALL(AZ95:AZ105,ROWS(AX95:AX100)),\"\")","v":""},{"$f":"IFERROR(INDEX(BD95:BD116,SMALL(IF(BD95:BD116<>\"\",ROW(BD95:BD116)-MIN(ROW(BD95:BD116))+1),ROWS(AX95:AX100))),\"\")","v":""},null,{"$f":"+Z113","v":0},{"$f":"COUNTIF($BG$2:BG100,\"*\"&BG100&\"*\")","v":0},"","",{"$f":"IFERROR(INDEX(BI$2:BI$308,MATCH(ROWS(BJ$2:BJ100),BJ$2:BJ$308,0)),\"\")","v":""},{"$f":"COUNTIF($BK100:$BK$308,\"*\"&BK100&\"*\")","v":209},"","",{"$f":"IFERROR(INDEX($BM$2:$BM$308,MATCH(ROWS(BN$2:BN100),BN$2:BN406,0)),\"\")","v":""},{"$f":"IFERROR(VLOOKUP(Engine!BO100,P_sentences_overview!H99:I230,2),\"\")","v":""}]
[null,null,null,null,null,null,null,null,null,null,null,null,null,null,null,null,null,null,null,null,{"$f":"IFERROR(INDEX(Haz_Cat,SMALL(IF(Hazard=Engine!$Q95,ROW(Haz_Cat)-MIN(ROW(Haz_Cat))+1),COLUMNS($U97:U97)),COLUMNS(Main!$D95:$H95)),\"\")","v":0},{"$f":"IFERROR(INDEX(Haz_Cat,SMALL(IF(Hazard=Engine!$Q95,ROW(Haz_Cat)-MIN(ROW(Haz_Cat))+1),COLUMNS($U97:V97)),COLUMNS(Main!$D95:$H95)),\"\")","v":0},{"$f":"IFERROR(INDEX(Haz_Cat,SMALL(IF(Hazard=Engine!$Q95,ROW(Haz_Cat)-MIN(ROW(Haz_Cat))+1),COLUMNS($U97:W97)),COLUMNS(Main!$D95:$H95)),\"\")","v":0},{"$f":"IFERROR(INDEX(Haz_Cat,SMALL(IF(Hazard=Engine!$Q95,ROW(Haz_Cat)-MIN(ROW(Haz_Cat))+1),COLUMNS($U97:X97)),COLUMNS(Main!$D95:$H95)),\"\")","v":0},{"$f":"IFERROR(INDEX(Haz_Cat,SMALL(IF(Hazard=Engine!$Q95,ROW(Haz_Cat)-MIN(ROW(Haz_Cat))+1),COLUMNS($U97:Y97)),COLUMNS(Main!$D95:$H95)),\"\")","v":0},{"$f":"IFERROR(INDEX(Haz_Cat,SMALL(IF(Hazard=Engine!$Q95,ROW(Haz_Cat)-MIN(ROW(Haz_Cat))+1),COLUMNS($U97:Z97)),COLUMNS(Main!$D95:$H95)),\"\")","v":0},{"$f":"IFERROR(INDEX(Haz_Cat,SMALL(IF(Hazard=Engine!$Q95,ROW(Haz_Cat)-MIN(ROW(Haz_Cat))+1),COLUMNS($U97:AA97)),COLUMNS(Main!$D95:$H95)),\"\")","v":0},{"$f":"IFERROR(INDEX(Haz_Cat,SMALL(IF(Hazard=Engine!$Q95,ROW(Haz_Cat)-MIN(ROW(Haz_Cat))+1),COLUMNS($U97:AB97)),COLUMNS(Main!$D95:$H95)),\"\")","v":0},{"$f":"IFERROR(INDEX(Haz_Cat,SMALL(IF(Hazard=Engine!$Q95,ROW(Haz_Cat)-MIN(ROW(Haz_Cat))+1),COLUMNS($U97:AC97)),COLUMNS(Main!$D95:$H95)),\"\")","v":0},{"$f":"IFERROR(INDEX(Haz_Cat,SMALL(IF(Hazard=Engine!$Q95,ROW(Haz_Cat)-MIN(ROW(Haz_Cat))+1),COLUMNS($U97:AD97)),COLUMNS(Main!$D95:$H95)),\"\")","v":0},{"$f":"IFERROR(INDEX(Haz_Cat,SMALL(IF(Hazard=Engine!$Q95,ROW(Haz_Cat)-MIN(ROW(Haz_Cat))+1),COLUMNS($U97:AE97)),COLUMNS(Main!$D95:$H95)),\"\")","v":0},{"$f":"IFERROR(INDEX(Haz_Cat,SMALL(IF(Hazard=Engine!$Q95,ROW(Haz_Cat)-MIN(ROW(Haz_Cat))+1),COLUMNS($U97:AF97)),COLUMNS(Main!$D95:$H95)),\"\")","v":0},{"$f":"IFERROR(INDEX(Haz_Cat,SMALL(IF(Hazard=Engine!$Q95,ROW(Haz_Cat)-MIN(ROW(Haz_Cat))+1),COLUMNS($U97:AG97)),COLUMNS(Main!$D95:$H95)),\"\")","v":0},{"$f":"IFERROR(INDEX(Haz_Cat,SMALL(IF(Hazard=Engine!$Q95,ROW(Haz_Cat)-MIN(ROW(Haz_Cat))+1),COLUMNS($U97:AH97)),COLUMNS(Main!$D95:$H95)),\"\")","v":0},{"$f":"IFERROR(INDEX(Haz_Cat,SMALL(IF(Hazard=Engine!$Q95,ROW(Haz_Cat)-MIN(ROW(Haz_Cat))+1),COLUMNS($U97:AI97)),COLUMNS(Main!$D95:$H95)),\"\")","v":0},{"$f":"IFERROR(INDEX(Haz_Cat,SMALL(IF(Hazard=Engine!$Q95,ROW(Haz_Cat)-MIN(ROW(Haz_Cat))+1),COLUMNS($U97:AJ97)),COLUMNS(Main!$D95:$H95)),\"\")","v":0},{"$f":"IFERROR(INDEX(Haz_Cat,SMALL(IF(Hazard=Engine!$Q95,ROW(Haz_Cat)-MIN(ROW(Haz_Cat))+1),COLUMNS($U97:AK97)),COLUMNS(Main!$D95:$H95)),\"\")","v":0},{"$f":"IFERROR(INDEX(Haz_Cat,SMALL(IF(Hazard=Engine!$Q95,ROW(Haz_Cat)-MIN(ROW(Haz_Cat))+1),COLUMNS($U97:AL97)),COLUMNS(Main!$D95:$H95)),\"\")","v":0},{"$f":"IFERROR(INDEX(Haz_Cat,SMALL(IF(Hazard=Engine!$Q95,ROW(Haz_Cat)-MIN(ROW(Haz_Cat))+1),COLUMNS($U97:AM97)),COLUMNS(Main!$D95:$H95)),\"\")","v":0},{"$f":"IFERROR(INDEX(Haz_Cat,SMALL(IF(Hazard=Engine!$Q95,ROW(Haz_Cat)-MIN(ROW(Haz_Cat))+1),COLUMNS($U97:AN97)),COLUMNS(Main!$D95:$H95)),\"\")","v":0},{"$f":"IFERROR(INDEX(Haz_Cat,SMALL(IF(Hazard=Engine!$Q95,ROW(Haz_Cat)-MIN(ROW(Haz_Cat))+1),COLUMNS($U97:AO97)),COLUMNS(Main!$D95:$H95)),\"\")","v":0},{"$f":"IFERROR(INDEX(Haz_Cat,SMALL(IF(Hazard=Engine!$Q95,ROW(Haz_Cat)-MIN(ROW(Haz_Cat))+1),COLUMNS($U97:AP97)),COLUMNS(Main!$D95:$H95)),\"\")","v":0},{"$f":"IFERROR(INDEX(Haz_Cat,SMALL(IF(Hazard=Engine!$Q95,ROW(Haz_Cat)-MIN(ROW(Haz_Cat))+1),COLUMNS($U97:AQ97)),COLUMNS(Main!$D95:$H95)),\"\")","v":0},{"$f":"IFERROR(INDEX(Haz_Cat,SMALL(IF(Hazard=Engine!$Q95,ROW(Haz_Cat)-MIN(ROW(Haz_Cat))+1),COLUMNS($U97:AR97)),COLUMNS(Main!$D95:$H95)),\"\")","v":0},{"$f":"IFERROR(INDEX(Haz_Cat,SMALL(IF(Hazard=Engine!$Q95,ROW(Haz_Cat)-MIN(ROW(Haz_Cat))+1),COLUMNS($U97:AS97)),COLUMNS(Main!$D95:$H95)),\"\")","v":0},{"$f":"IFERROR(INDEX(Haz_Cat,SMALL(IF(Hazard=Engine!$Q95,ROW(Haz_Cat)-MIN(ROW(Haz_Cat))+1),COLUMNS($U97:AT97)),COLUMNS(Main!$D95:$H95)),\"\")","v":0},{"$f":"IFERROR(INDEX(Haz_Cat,SMALL(IF(Hazard=Engine!$Q95,ROW(Haz_Cat)-MIN(ROW(Haz_Cat))+1),COLUMNS($U97:AU97)),COLUMNS(Main!$D95:$H95)),\"\")","v":0},{"$f":"IFERROR(INDEX(Haz_Cat,SMALL(IF(Hazard=Engine!$Q95,ROW(Haz_Cat)-MIN(ROW(Haz_Cat))+1),COLUMNS($U97:AV97)),COLUMNS(Main!$D95:$H95)),\"\")","v":0},null,{"$f":"INDIRECT(TEXT(MIN(IF(($U104:$AV109<>\"\")*(COUNTIF($AX94:$AX100,$U104:$AV109)=0),ROW($P104:$BM109)*100+COLUMN($U94:$AV122),7^8)),\"R0C00\"),)&\"\"","v":""},false,"","",{"$f":"COUNTIF(AZ95:AZ105,\"<=\"&AZ101)","v":0},{"$f":"IF(COUNTIF(BA95:BA105,\"<=\"&BA101)=0,\"\",COUNTIF(BA95:BA105,\"<=\"&BA101))","v":""},{"$f":"IFERROR(SMALL(AZ95:AZ105,ROWS(AX95:AX101)),\"\")","v":""},{"$f":"IFERROR(INDEX(BD95:BD116,SMALL(IF(BD95:BD116<>\"\",ROW(BD95:BD116)-MIN(ROW(BD95:BD116))+1),ROWS(AX95:AX101))),\"\")","v":""},null,{"$f":"+AA113","v":0},{"$f":"COUNTIF($BG$2:BG101,\"*\"&BG101&\"*\")","v":0},"","",{"$f":"IFERROR(INDEX(BI$2:BI$308,MATCH(ROWS(BJ$2:BJ101),BJ$2:BJ$308,0)),\"\")","v":""},{"$f":"COUNTIF($BK101:$BK$308,\"*\"&BK101&\"*\")","v":208},"","",{"$f":"IFERROR(INDEX($BM$2:$BM$308,MATCH(ROWS(BN$2:BN101),BN$2:BN407,0)),\"\")","v":""},{"$f":"IFERROR(VLOOKUP(Engine!BO101,P_sentences_overview!H100:I231,2),\"\")","v":""}]
[null,null,null,null,null,null,null,null,null,null,null,null,null,null,null,null,null,null,null,null,{"$f":"IFERROR(INDEX(Haz_Cat,SMALL(IF(Hazard=Engine!$Q95,ROW(Haz_Cat)-MIN(ROW(Haz_Cat))+1),COLUMNS($U97:U97)),COLUMNS(Main!$D95:$I95)),\"\")","v":0},{"$f":"IFERROR(INDEX(Haz_Cat,SMALL(IF(Hazard=Engine!$Q95,ROW(Haz_Cat)-MIN(ROW(Haz_Cat))+1),COLUMNS($U97:V97)),COLUMNS(Main!$D95:$I95)),\"\")","v":0},{"$f":"IFERROR(INDEX(Haz_Cat,SMALL(IF(Hazard=Engine!$Q95,ROW(Haz_Cat)-MIN(ROW(Haz_Cat))+1),COLUMNS($U97:W97)),COLUMNS(Main!$D95:$I95)),\"\")","v":0},{"$f":"IFERROR(INDEX(Haz_Cat,SMALL(IF(Hazard=Engine!$Q95,ROW(Haz_Cat)-MIN(ROW(Haz_Cat))+1),COLUMNS($U97:X97)),COLUMNS(Main!$D95:$I95)),\"\")","v":0},{"$f":"IFERROR(INDEX(Haz_Cat,SMALL(IF(Hazard=Engine!$Q95,ROW(Haz_Cat)-MIN(ROW(Haz_Cat))+1),COLUMNS($U97:Y97)),COLUMNS(Main!$D95:$I95)),\"\")","v":0},{"$f":"IFERROR(INDEX(Haz_Cat,SMALL(IF(Hazard=Engine!$Q95,ROW(Haz_Cat)-MIN(ROW(Haz_Cat))+1),COLUMNS($U97:Z97)),COLUMNS(Main!$D95:$I95)),\"\")","v":0},{"$f":"IFERROR(INDEX(Haz_Cat,SMALL(IF(Hazard=Engine!$Q95,ROW(Haz_Cat)-MIN(ROW(Haz_Cat))+1),COLUMNS($U97:AA97)),COLUMNS(Main!$D95:$I95)),\"\")","v":0},{"$f":"IFERROR(INDEX(Haz_Cat,SMALL(IF(Hazard=Engine!$Q95,ROW(Haz_Cat)-MIN(ROW(Haz_Cat))+1),COLUMNS($U97:AB97)),COLUMNS(Main!$D95:$I95)),\"\")","v":0},{"$f":"IFERROR(INDEX(Haz_Cat,SMALL(IF(Hazard=Engine!$Q95,ROW(Haz_Cat)-MIN(ROW(Haz_Cat))+1),COLUMNS($U97:AC97)),COLUMNS(Main!$D95:$I95)),\"\")","v":0},{"$f":"IFERROR(INDEX(Haz_Cat,SMALL(IF(Hazard=Engine!$Q95,ROW(Haz_Cat)-MIN(ROW(Haz_Cat))+1),COLUMNS($U97:AD97)),COLUMNS(Main!$D95:$I95)),\"\")","v":0},{"$f":"IFERROR(INDEX(Haz_Cat,SMALL(IF(Hazard=Engine!$Q95,ROW(Haz_Cat)-MIN(ROW(Haz_Cat))+1),COLUMNS($U97:AE97)),COLUMNS(Main!$D95:$I95)),\"\")","v":0},{"$f":"IFERROR(INDEX(Haz_Cat,SMALL(IF(Hazard=Engine!$Q95,ROW(Haz_Cat)-MIN(ROW(Haz_Cat))+1),COLUMNS($U97:AF97)),COLUMNS(Main!$D95:$I95)),\"\")","v":0},{"$f":"IFERROR(INDEX(Haz_Cat,SMALL(IF(Hazard=Engine!$Q95,ROW(Haz_Cat)-MIN(ROW(Haz_Cat))+1),COLUMNS($U97:AG97)),COLUMNS(Main!$D95:$I95)),\"\")","v":0},{"$f":"IFERROR(INDEX(Haz_Cat,SMALL(IF(Hazard=Engine!$Q95,ROW(Haz_Cat)-MIN(ROW(Haz_Cat))+1),COLUMNS($U97:AH97)),COLUMNS(Main!$D95:$I95)),\"\")","v":0},{"$f":"IFERROR(INDEX(Haz_Cat,SMALL(IF(Hazard=Engine!$Q95,ROW(Haz_Cat)-MIN(ROW(Haz_Cat))+1),COLUMNS($U97:AI97)),COLUMNS(Main!$D95:$I95)),\"\")","v":0},{"$f":"IFERROR(INDEX(Haz_Cat,SMALL(IF(Hazard=Engine!$Q95,ROW(Haz_Cat)-MIN(ROW(Haz_Cat))+1),COLUMNS($U97:AJ97)),COLUMNS(Main!$D95:$I95)),\"\")","v":0},{"$f":"IFERROR(INDEX(Haz_Cat,SMALL(IF(Hazard=Engine!$Q95,ROW(Haz_Cat)-MIN(ROW(Haz_Cat))+1),COLUMNS($U97:AK97)),COLUMNS(Main!$D95:$I95)),\"\")","v":0},{"$f":"IFERROR(INDEX(Haz_Cat,SMALL(IF(Hazard=Engine!$Q95,ROW(Haz_Cat)-MIN(ROW(Haz_Cat))+1),COLUMNS($U97:AL97)),COLUMNS(Main!$D95:$I95)),\"\")","v":0},{"$f":"IFERROR(INDEX(Haz_Cat,SMALL(IF(Hazard=Engine!$Q95,ROW(Haz_Cat)-MIN(ROW(Haz_Cat))+1),COLUMNS($U97:AM97)),COLUMNS(Main!$D95:$I95)),\"\")","v":0},{"$f":"IFERROR(INDEX(Haz_Cat,SMALL(IF(Hazard=Engine!$Q95,ROW(Haz_Cat)-MIN(ROW(Haz_Cat))+1),COLUMNS($U97:AN97)),COLUMNS(Main!$D95:$I95)),\"\")","v":0},{"$f":"IFERROR(INDEX(Haz_Cat,SMALL(IF(Hazard=Engine!$Q95,ROW(Haz_Cat)-MIN(ROW(Haz_Cat))+1),COLUMNS($U97:AO97)),COLUMNS(Main!$D95:$I95)),\"\")","v":0},{"$f":"IFERROR(INDEX(Haz_Cat,SMALL(IF(Hazard=Engine!$Q95,ROW(Haz_Cat)-MIN(ROW(Haz_Cat))+1),COLUMNS($U97:AP97)),COLUMNS(Main!$D95:$I95)),\"\")","v":0},{"$f":"IFERROR(INDEX(Haz_Cat,SMALL(IF(Hazard=Engine!$Q95,ROW(Haz_Cat)-MIN(ROW(Haz_Cat))+1),COLUMNS($U97:AQ97)),COLUMNS(Main!$D95:$I95)),\"\")","v":0},{"$f":"IFERROR(INDEX(Haz_Cat,SMALL(IF(Hazard=Engine!$Q95,ROW(Haz_Cat)-MIN(ROW(Haz_Cat))+1),COLUMNS($U97:AR97)),COLUMNS(Main!$D95:$I95)),\"\")","v":0},{"$f":"IFERROR(INDEX(Haz_Cat,SMALL(IF(Hazard=Engine!$Q95,ROW(Haz_Cat)-MIN(ROW(Haz_Cat))+1),COLUMNS($U97:AS97)),COLUMNS(Main!$D95:$I95)),\"\")","v":0},{"$f":"IFERROR(INDEX(Haz_Cat,SMALL(IF(Hazard=Engine!$Q95,ROW(Haz_Cat)-MIN(ROW(Haz_Cat))+1),COLUMNS($U97:AT97)),COLUMNS(Main!$D95:$I95)),\"\")","v":0},{"$f":"IFERROR(INDEX(Haz_Cat,SMALL(IF(Hazard=Engine!$Q95,ROW(Haz_Cat)-MIN(ROW(Haz_Cat))+1),COLUMNS($U97:AU97)),COLUMNS(Main!$D95:$I95)),\"\")","v":0},{"$f":"IFERROR(INDEX(Haz_Cat,SMALL(IF(Hazard=Engine!$Q95,ROW(Haz_Cat)-MIN(ROW(Haz_Cat))+1),COLUMNS($U97:AV97)),COLUMNS(Main!$D95:$I95)),\"\")","v":0},null,{"$f":"INDIRECT(TEXT(MIN(IF(($U104:$AV109<>\"\")*(COUNTIF($AX94:$AX101,$U104:$AV109)=0),ROW($P104:$BM109)*100+COLUMN($U94:$AV122),7^8)),\"R0C00\"),)&\"\"","v":""},false,"","",{"$f":"COUNTIF(AZ95:AZ105,\"<=\"&AZ102)","v":0},{"$f":"IF(COUNTIF(BA95:BA105,\"<=\"&BA102)=0,\"\",COUNTIF(BA95:BA105,\"<=\"&BA102))","v":""},{"$f":"IFERROR(SMALL(AZ95:AZ105,ROWS(AX95:AX102)),\"\")","v":""},{"$f":"IFERROR(INDEX(BD95:BD116,SMALL(IF(BD95:BD116<>\"\",ROW(BD95:BD116)-MIN(ROW(BD95:BD116))+1),ROWS(AX95:AX102))),\"\")","v":""},null,{"$f":"+AB113","v":0},{"$f":"COUNTIF($BG$2:BG102,\"*\"&BG102&\"*\")","v":0},"","",{"$f":"IFERROR(INDEX(BI$2:BI$308,MATCH(ROWS(BJ$2:BJ102),BJ$2:BJ$308,0)),\"\")","v":""},{"$f":"COUNTIF($BK102:$BK$308,\"*\"&BK102&\"*\")","v":207},"","",{"$f":"IFERROR(INDEX($BM$2:$BM$308,MATCH(ROWS(BN$2:BN102),BN$2:BN408,0)),\"\")","v":""},{"$f":"IFERROR(VLOOKUP(Engine!BO102,P_sentences_overview!H101:I232,2),\"\")","v":""}]
[null,null,null,null,null,null,null,null,null,null,null,null,null,null,null,null,null,null,null,null,null,null,null,null,null,null,null,null,null,null,null,null,null,null,null,null,null,null,null,null,null,null,null,null,null,null,null,null,null,{"$f":"INDIRECT(TEXT(MIN(IF(($U104:$AV109<>\"\")*(COUNTIF($AX94:$AX102,$U104:$AV109)=0),ROW($P104:$BM109)*100+COLUMN($U94:$AV122),7^8)),\"R0C00\"),)&\"\"","v":""},false,"","",{"$f":"COUNTIF(AZ95:AZ105,\"<=\"&AZ103)","v":0},{"$f":"IF(COUNTIF(BA95:BA105,\"<=\"&BA103)=0,\"\",COUNTIF(BA95:BA105,\"<=\"&BA103))","v":""},{"$f":"IFERROR(SMALL(AZ95:AZ105,ROWS(AX95:AX103)),\"\")","v":""},{"$f":"IFERROR(INDEX(BD95:BD116,SMALL(IF(BD95:BD116<>\"\",ROW(BD95:BD116)-MIN(ROW(BD95:BD116))+1),ROWS(AX95:AX103))),\"\")","v":""},null,{"$f":"+AC113","v":0},{"$f":"COUNTIF($BG$2:BG103,\"*\"&BG103&\"*\")","v":0},"","",{"$f":"IFERROR(INDEX(BI$2:BI$308,MATCH(ROWS(BJ$2:BJ103),BJ$2:BJ$308,0)),\"\")","v":""},{"$f":"COUNTIF($BK103:$BK$308,\"*\"&BK103&\"*\")","v":206},"","",{"$f":"IFERROR(INDEX($BM$2:$BM$308,MATCH(ROWS(BN$2:BN103),BN$2:BN409,0)),\"\")","v":""},{"$f":"IFERROR(VLOOKUP(Engine!BO103,P_sentences_overview!H102:I233,2),\"\")","v":""}]
[null,null,null,null,null,null,null,null,null,null,null,null,null,null,null,null,null,null,null,null,{"$f":"+IF(U97=0,\"\",U97)","v":""},"","","","","","","","","","","","","","","","","","","","","","","","","","","",null,{"$f":"INDIRECT(TEXT(MIN(IF(($U104:$AV109<>\"\")*(COUNTIF($AX94:$AX103,$U104:$AV109)=0),ROW($P104:$BM109)*100+COLUMN($U94:$AV122),7^8)),\"R0C00\"),)&\"\"","v":""},false,"","",{"$f":"COUNTIF(AZ95:AZ105,\"<=\"&AZ104)","v":0},{"$f":"IF(COUNTIF(BA95:BA105,\"<=\"&BA104)=0,\"\",COUNTIF(BA95:BA105,\"<=\"&BA104))","v":""},{"$f":"IFERROR(SMALL(AZ95:AZ105,ROWS(AX95:AX104)),\"\")","v":""},{"$f":"IFERROR(INDEX(BD95:BD116,SMALL(IF(BD95:BD116<>\"\",ROW(BD95:BD116)-MIN(ROW(BD95:BD116))+1),ROWS(AX95:AX104))),\"\")","v":""},null,{"$f":"+AD113","v":0},{"$f":"COUNTIF($BG$2:BG104,\"*\"&BG104&\"*\")","v":0},"","",{"$f":"IFERROR(INDEX(BI$2:BI$308,MATCH(ROWS(BJ$2:BJ104),BJ$2:BJ$308,0)),\"\")","v":""},{"$f":"COUNTIF($BK104:$BK$308,\"*\"&BK104&\"*\")","v":205},"","",{"$f":"IFERROR(INDEX($BM$2:$BM$308,MATCH(ROWS(BN$2:BN104),BN$2:BN410,0)),\"\")","v":""},{"$f":"IFERROR(VLOOKUP(Engine!BO104,P_sentences_overview!H103:I234,2),\"\")","v":""}]
[null,null,null,null,null,null,null,null,null,null,null,null,null,null,null,null,null,null,null,null,{"$f":"+IF(U98=0,\"\",U98)","v":""},"","","","","","","","","","","","","","","","","","","","","","","","","","","",null,{"$f":"INDIRECT(TEXT(MIN(IF(($U104:$AV109<>\"\")*(COUNTIF($AX94:$AX104,$U104:$AV109)=0),ROW($P104:$BM109)*100+COLUMN($U94:$AV122),7^8)),\"R0C00\"),)&\"\"","v":""},false,"","",{"$f":"COUNTIF(AZ95:AZ105,\"<=\"&AZ105)","v":0},{"$f":"IF(COUNTIF(BA95:BA105,\"<=\"&BA105)=0,\"\",COUNTIF(BA95:BA105,\"<=\"&BA105))","v":""},{"$f":"IFERROR(SMALL(AZ95:AZ105,ROWS(AX95:AX105)),\"\")","v":""},{"$f":"IFERROR(INDEX(BD95:BD116,SMALL(IF(BD95:BD116<>\"\",ROW(BD95:BD116)-MIN(ROW(BD95:BD116))+1),ROWS(AX95:AX105))),\"\")","v":""},null,{"$f":"+AE113","v":0},{"$f":"COUNTIF($BG$2:BG105,\"*\"&BG105&\"*\")","v":0},"","",{"$f":"IFERROR(INDEX(BI$2:BI$308,MATCH(ROWS(BJ$2:BJ105),BJ$2:BJ$308,0)),\"\")","v":""},{"$f":"COUNTIF($BK105:$BK$308,\"*\"&BK105&\"*\")","v":204},"","",{"$f":"IFERROR(INDEX($BM$2:$BM$308,MATCH(ROWS(BN$2:BN105),BN$2:BN411,0)),\"\")","v":""},{"$f":"IFERROR(VLOOKUP(Engine!BO105,P_sentences_overview!H104:I235,2),\"\")","v":""}]
[null,null,null,null,null,null,null,null,null,null,null,null,null,null,null,null,null,null,null,null,{"$f":"+IF(U99=0,\"\",U99)","v":""},"","","","","","","","","","","","","","","","","","","","","","","","","","","",null,null,null,null,null,null,null,{"$f":"IFERROR(INDEX(BA95:BA105,MATCH(SMALL(BC95:BC105,ROWS(BA95:BA95)),BC95:BC105,)),\"\")","v":""},{"$f":"IFERROR(INDEX(BD95:BD116,SMALL(IF(BD95:BD116<>\"\",ROW(BD95:BD116)-MIN(ROW(BD95:BD116))+1),ROWS(AX95:AX106))),\"\")","v":""},null,{"$f":"+AF113","v":0},{"$f":"COUNTIF($BG$2:BG106,\"*\"&BG106&\"*\")","v":0},"","",{"$f":"IFERROR(INDEX(BI$2:BI$308,MATCH(ROWS(BJ$2:BJ106),BJ$2:BJ$308,0)),\"\")","v":""},{"$f":"COUNTIF($BK106:$BK$308,\"*\"&BK106&\"*\")","v":203},"","",{"$f":"IFERROR(INDEX($BM$2:$BM$308,MATCH(ROWS(BN$2:BN106),BN$2:BN412,0)),\"\")","v":""},{"$f":"IFERROR(VLOOKUP(Engine!BO106,P_sentences_overview!H105:I236,2),\"\")","v":""}]
[null,null,null,null,null,null,null,null,null,null,null,null,null,null,null,null,null,null,null,null,{"$f":"+IF(U100=0,\"\",U100)","v":""},"","","","","","","","","","","","","","","","","","","","","","","","","","","",null,null,null,null,null,null,null,{"$f":"IFERROR(INDEX(BA95:BA105,MATCH(SMALL(BC95:BC105,ROWS(BA95:BA96)),BC95:BC105,)),\"\")","v":""},{"$f":"IFERROR(INDEX(BD95:BD116,SMALL(IF(BD95:BD116<>\"\",ROW(BD95:BD116)-MIN(ROW(BD95:BD116))+1),ROWS(AX95:AX107))),\"\")","v":""},null,{"$f":"+AG113","v":0},{"$f":"COUNTIF($BG$2:BG107,\"*\"&BG107&\"*\")","v":0},"","",{"$f":"IFERROR(INDEX(BI$2:BI$308,MATCH(ROWS(BJ$2:BJ107),BJ$2:BJ$308,0)),\"\")","v":""},{"$f":"COUNTIF($BK107:$BK$308,\"*\"&BK107&\"*\")","v":202},"","",{"$f":"IFERROR(INDEX($BM$2:$BM$308,MATCH(ROWS(BN$2:BN107),BN$2:BN413,0)),\"\")","v":""},{"$f":"IFERROR(VLOOKUP(Engine!BO107,P_sentences_overview!H106:I237,2),\"\")","v":""}]
[null,null,null,null,null,null,null,null,null,null,null,null,null,null,null,null,null,null,null,null,{"$f":"+IF(U101=0,\"\",U101)","v":""},"","","","","","","","","","","","","","","","","","","","","","","","","","","",null,null,null,null,null,null,null,{"$f":"IFERROR(INDEX(BA95:BA105,MATCH(SMALL(BC95:BC105,ROWS(BA95:BA97)),BC95:BC105,)),\"\")","v":""},{"$f":"IFERROR(INDEX(BD95:BD116,SMALL(IF(BD95:BD116<>\"\",ROW(BD95:BD116)-MIN(ROW(BD95:BD116))+1),ROWS(AX95:AX108))),\"\")","v":""},null,{"$f":"+AH113","v":0},{"$f":"COUNTIF($BG$2:BG108,\"*\"&BG108&\"*\")","v":0},"","",{"$f":"IFERROR(INDEX(BI$2:BI$308,MATCH(ROWS(BJ$2:BJ108),BJ$2:BJ$308,0)),\"\")","v":""},{"$f":"COUNTIF($BK108:$BK$308,\"*\"&BK108&\"*\")","v":201},"","",{"$f":"IFERROR(INDEX($BM$2:$BM$308,MATCH(ROWS(BN$2:BN108),BN$2:BN414,0)),\"\")","v":""},{"$f":"IFERROR(VLOOKUP(Engine!BO108,P_sentences_overview!H107:I238,2),\"\")","v":""}]
[null,null,null,null,null,null,null,null,null,null,null,null,null,null,null,null,null,null,null,null,{"$f":"+IF(U102=0,\"\",U102)","v":""},"","","","","","","","","","","","","","","","","","","","","","","","","","","",null,null,null,null,null,null,null,{"$f":"IFERROR(INDEX(BA95:BA105,MATCH(SMALL(BC95:BC105,ROWS(BA95:BA98)),BC95:BC105,)),\"\")","v":""},{"$f":"IFERROR(INDEX(BD95:BD116,SMALL(IF(BD95:BD116<>\"\",ROW(BD95:BD116)-MIN(ROW(BD95:BD116))+1),ROWS(AX95:AX109))),\"\")","v":""},null,{"$f":"+AI113","v":0},{"$f":"COUNTIF($BG$2:BG109,\"*\"&BG109&\"*\")","v":0},"","",{"$f":"IFERROR(INDEX(BI$2:BI$308,MATCH(ROWS(BJ$2:BJ109),BJ$2:BJ$308,0)),\"\")","v":""},{"$f":"COUNTIF($BK109:$BK$308,\"*\"&BK109&\"*\")","v":200},"","",{"$f":"IFERROR(INDEX($BM$2:$BM$308,MATCH(ROWS(BN$2:BN109),BN$2:BN415,0)),\"\")","v":""},{"$f":"IFERROR(VLOOKUP(Engine!BO109,P_sentences_overview!H108:I239,2),\"\")","v":""}]
[null,null,null,null,null,null,null,null,null,null,null,null,null,null,null,null,null,null,null,null,null,null,null,null,null,null,null,null,null,null,null,null,null,null,null,null,null,null,null,null,null,null,null,null,null,null,null,null,null,null,null,null,null,null,null,{"$f":"IFERROR(INDEX(BA95:BA105,MATCH(SMALL(BC95:BC105,ROWS(BA95:BA99)),BC95:BC105,)),\"\")","v":""},{"$f":"IFERROR(INDEX(BD95:BD116,SMALL(IF(BD95:BD116<>\"\",ROW(BD95:BD116)-MIN(ROW(BD95:BD116))+1),ROWS(AX95:AX110))),\"\")","v":""},null,{"$f":"+AJ113","v":0},{"$f":"COUNTIF($BG$2:BG110,\"*\"&BG110&\"*\")","v":0},"","",{"$f":"IFERROR(INDEX(BI$2:BI$308,MATCH(ROWS(BJ$2:BJ110),BJ$2:BJ$308,0)),\"\")","v":""},{"$f":"COUNTIF($BK110:$BK$308,\"*\"&BK110&\"*\")","v":199},"","",{"$f":"IFERROR(INDEX($BM$2:$BM$308,MATCH(ROWS(BN$2:BN110),BN$2:BN416,0)),\"\")","v":""},{"$f":"IFERROR(VLOOKUP(Engine!BO110,P_sentences_overview!H109:I240,2),\"\")","v":""}]
[null,null,null,null,null,null,null,null,null,null,null,null,null,null,null,null,null,null,null,null,{"$f":"IF(ISNUMBER(MATCH($R95,U104:U109,0)),U95,\"\")","v":0},{"$f":"IF(ISNUMBER(MATCH($R95,V104:V109,0)),V95,\"\")","v":0},0,0,0,0,0,0,0,0,0,0,0,0,0,0,0,0,0,0,0,0,0,0,0,0,0,0,null,null,null,null,null,null,null,{"$f":"IFERROR(INDEX(BA95:BA105,MATCH(SMALL(BC95:BC105,ROWS(BA95:BA100)),BC95:BC105,)),\"\")","v":""},{"$f":"IFERROR(INDEX(BD95:BD116,SMALL(IF(BD95:BD116<>\"\",ROW(BD95:BD116)-MIN(ROW(BD95:BD116))+1),ROWS(AX95:AX111))),\"\")","v":""},null,{"$f":"+AK113","v":0},{"$f":"COUNTIF($BG$2:BG111,\"*\"&BG111&\"*\")","v":0},"","",{"$f":"IFERROR(INDEX(BI$2:BI$308,MATCH(ROWS(BJ$2:BJ111),BJ$2:BJ$308,0)),\"\")","v":""},{"$f":"COUNTIF($BK111:$BK$308,\"*\"&BK111&\"*\")","v":198},"","",{"$f":"IFERROR(INDEX($BM$2:$BM$308,MATCH(ROWS(BN$2:BN111),BN$2:BN417,0)),\"\")","v":""},{"$f":"IFERROR(VLOOKUP(Engine!BO111,P_sentences_overview!H110:I241,2),\"\")","v":""}]
[null,null,null,null,null,null,null,null,null,null,null,null,null,null,null,null,null,null,null,null,null,null,null,null,null,null,null,null,null,null,null,null,null,null,null,null,null,null,null,null,null,null,null,null,null,null,null,null,null,null,null,null,null,null,null,{"$f":"IFERROR(INDEX(BA95:BA105,MATCH(SMALL(BC95:BC105,ROWS(BA95:BA101)),BC95:BC105,)),\"\")","v":""},{"$f":"IFERROR(INDEX(BD95:BD116,SMALL(IF(BD95:BD116<>\"\",ROW(BD95:BD116)-MIN(ROW(BD95:BD116))+1),ROWS(AX95:AX112))),\"\")","v":""},null,{"$f":"+AL113","v":0},{"$f":"COUNTIF($BG$2:BG112,\"*\"&BG112&\"*\")","v":0},"","",{"$f":"IFERROR(INDEX(BI$2:BI$308,MATCH(ROWS(BJ$2:BJ112),BJ$2:BJ$308,0)),\"\")","v":""},{"$f":"COUNTIF($BK112:$BK$308,\"*\"&BK112&\"*\")","v":197},"","",{"$f":"IFERROR(INDEX($BM$2:$BM$308,MATCH(ROWS(BN$2:BN112),BN$2:BN418,0)),\"\")","v":""},{"$f":"IFERROR(VLOOKUP(Engine!BO112,P_sentences_overview!H111:I242,2),\"\")","v":""}]
[null,null,null,null,null,null,null,null,null,null,null,null,null,null,null,null,null,null,null,null,{"$f":"IFERROR(INDEX(U111:AV111,1,SMALL(IF(U111:AV111<>\"\",COLUMN(U111:AV111)-MIN(COLUMN(U111:AV111))+1),COLUMNS($U$2:U95))),\"\")","v":0},{"$f":"IFERROR(INDEX(U111:AV111,1,SMALL(IF(U111:AV111<>\"\",COLUMN(U111:AV111)-MIN(COLUMN(U111:AV111))+1),COLUMNS($U$2:V95))),\"\")","v":0},{"$f":"IFERROR(INDEX(U111:AV111,1,SMALL(IF(U111:AV111<>\"\",COLUMN(U111:AV111)-MIN(COLUMN(U111:AV111))+1),COLUMNS($U$2:W95))),\"\")","v":0},{"$f":"IFERROR(INDEX(U111:AV111,1,SMALL(IF(U111:AV111<>\"\",COLUMN(U111:AV111)-MIN(COLUMN(U111:AV111))+1),COLUMNS($U$2:X95))),\"\")","v":0},{"$f":"IFERROR(INDEX(U111:AV111,1,SMALL(IF(U111:AV111<>\"\",COLUMN(U111:AV111)-MIN(COLUMN(U111:AV111))+1),COLUMNS($U$2:Y95))),\"\")","v":0},{"$f":"IFERROR(INDEX(U111:AV111,1,SMALL(IF(U111:AV111<>\"\",COLUMN(U111:AV111)-MIN(COLUMN(U111:AV111))+1),COLUMNS($U$2:Z95))),\"\")","v":0},{"$f":"IFERROR(INDEX(U111:AV111,1,SMALL(IF(U111:AV111<>\"\",COLUMN(U111:AV111)-MIN(COLUMN(U111:AV111))+1),COLUMNS($U$2:AA95))),\"\")","v":0},{"$f":"IFERROR(INDEX(U111:AV111,1,SMALL(IF(U111:AV111<>\"\",COLUMN(U111:AV111)-MIN(COLUMN(U111:AV111))+1),COLUMNS($U$2:AB95))),\"\")","v":0},{"$f":"IFERROR(INDEX(U111:AV111,1,SMALL(IF(U111:AV111<>\"\",COLUMN(U111:AV111)-MIN(COLUMN(U111:AV111))+1),COLUMNS($U$2:AC95))),\"\")","v":0},{"$f":"IFERROR(INDEX(U111:AV111,1,SMALL(IF(U111:AV111<>\"\",COLUMN(U111:AV111)-MIN(COLUMN(U111:AV111))+1),COLUMNS($U$2:AD95))),\"\")","v":0},{"$f":"IFERROR(INDEX(U111:AV111,1,SMALL(IF(U111:AV111<>\"\",COLUMN(U111:AV111)-MIN(COLUMN(U111:AV111))+1),COLUMNS($U$2:AE95))),\"\")","v":0},{"$f":"IFERROR(INDEX(U111:AV111,1,SMALL(IF(U111:AV111<>\"\",COLUMN(U111:AV111)-MIN(COLUMN(U111:AV111))+1),COLUMNS($U$2:AF95))),\"\")","v":0},{"$f":"IFERROR(INDEX(U111:AV111,1,SMALL(IF(U111:AV111<>\"\",COLUMN(U111:AV111)-MIN(COLUMN(U111:AV111))+1),COLUMNS($U$2:AG95))),\"\")","v":0},{"$f":"IFERROR(INDEX(U111:AV111,1,SMALL(IF(U111:AV111<>\"\",COLUMN(U111:AV111)-MIN(COLUMN(U111:AV111))+1),COLUMNS($U$2:AH95))),\"\")","v":0},{"$f":"IFERROR(INDEX(U111:AV111,1,SMALL(IF(U111:AV111<>\"\",COLUMN(U111:AV111)-MIN(COLUMN(U111:AV111))+1),COLUMNS($U$2:AI95))),\"\")","v":0},{"$f":"IFERROR(INDEX(U111:AV111,1,SMALL(IF(U111:AV111<>\"\",COLUMN(U111:AV111)-MIN(COLUMN(U111:AV111))+1),COLUMNS($U$2:AJ95))),\"\")","v":0},{"$f":"IFERROR(INDEX(U111:AV111,1,SMALL(IF(U111:AV111<>\"\",COLUMN(U111:AV111)-MIN(COLUMN(U111:AV111))+1),COLUMNS($U$2:AK95))),\"\")","v":0},{"$f":"IFERROR(INDEX(U111:AV111,1,SMALL(IF(U111:AV111<>\"\",COLUMN(U111:AV111)-MIN(COLUMN(U111:AV111))+1),COLUMNS($U$2:AL95))),\"\")","v":0},{"$f":"IFERROR(INDEX(U111:AV111,1,SMALL(IF(U111:AV111<>\"\",COLUMN(U111:AV111)-MIN(COLUMN(U111:AV111))+1),COLUMNS($U$2:AM95))),\"\")","v":0},{"$f":"IFERROR(INDEX(U111:AV111,1,SMALL(IF(U111:AV111<>\"\",COLUMN(U111:AV111)-MIN(COLUMN(U111:AV111))+1),COLUMNS($U$2:AN95))),\"\")","v":0},{"$f":"IFERROR(INDEX(U111:AV111,1,SMALL(IF(U111:AV111<>\"\",COLUMN(U111:AV111)-MIN(COLUMN(U111:AV111))+1),COLUMNS($U$2:AO95))),\"\")","v":0},{"$f":"IFERROR(INDEX(U111:AV111,1,SMALL(IF(U111:AV111<>\"\",COLUMN(U111:AV111)-MIN(COLUMN(U111:AV111))+1),COLUMNS($U$2:AP95))),\"\")","v":0},{"$f":"IFERROR(INDEX(U111:AV111,1,SMALL(IF(U111:AV111<>\"\",COLUMN(U111:AV111)-MIN(COLUMN(U111:AV111))+1),COLUMNS($U$2:AQ95))),\"\")","v":0},{"$f":"IFERROR(INDEX(U111:AV111,1,SMALL(IF(U111:AV111<>\"\",COLUMN(U111:AV111)-MIN(COLUMN(U111:AV111))+1),COLUMNS($U$2:AR95))),\"\")","v":0},{"$f":"IFERROR(INDEX(U111:AV111,1,SMALL(IF(U111:AV111<>\"\",COLUMN(U111:AV111)-MIN(COLUMN(U111:AV111))+1),COLUMNS($U$2:AS95))),\"\")","v":0},{"$f":"IFERROR(INDEX(U111:AV111,1,SMALL(IF(U111:AV111<>\"\",COLUMN(U111:AV111)-MIN(COLUMN(U111:AV111))+1),COLUMNS($U$2:AT95))),\"\")","v":0},{"$f":"IFERROR(INDEX(U111:AV111,1,SMALL(IF(U111:AV111<>\"\",COLUMN(U111:AV111)-MIN(COLUMN(U111:AV111))+1),COLUMNS($U$2:AU95))),\"\")","v":0},{"$f":"IFERROR(INDEX(U111:AV111,1,SMALL(IF(U111:AV111<>\"\",COLUMN(U111:AV111)-MIN(COLUMN(U111:AV111))+1),COLUMNS($U$2:AV95))),\"\")","v":0},null,null,null,null,null,null,null,{"$f":"IFERROR(INDEX(BA95:BA105,MATCH(SMALL(BC95:BC105,ROWS(BA95:BA102)),BC95:BC105,)),\"\")","v":""},{"$f":"IFERROR(INDEX(BD95:BD116,SMALL(IF(BD95:BD116<>\"\",ROW(BD95:BD116)-MIN(ROW(BD95:BD116))+1),ROWS(AX95:AX113))),\"\")","v":""},null,{"$f":"+AM113","v":0},{"$f":"COUNTIF($BG$2:BG113,\"*\"&BG113&\"*\")","v":0},"","",{"$f":"IFERROR(INDEX(BI$2:BI$308,MATCH(ROWS(BJ$2:BJ113),BJ$2:BJ$308,0)),\"\")","v":""},{"$f":"COUNTIF($BK113:$BK$308,\"*\"&BK113&\"*\")","v":196},"","",{"$f":"IFERROR(INDEX($BM$2:$BM$308,MATCH(ROWS(BN$2:BN113),BN$2:BN419,0)),\"\")","v":""},{"$f":"IFERROR(VLOOKUP(Engine!BO113,P_sentences_overview!H112:I243,2),\"\")","v":""}]
[null,null,null,null,null,null,null,null,null,null,null,null,null,null,null,null,null,null,null,null,null,null,null,null,null,null,null,null,null,null,null,null,null,null,null,null,null,null,null,null,null,null,null,null,null,null,null,null,null,null,null,null,null,null,null,{"$f":"IFERROR(INDEX(BA95:BA105,MATCH(SMALL(BC95:BC105,ROWS(BA95:BA103)),BC95:BC105,)),\"\")","v":""},{"$f":"IFERROR(INDEX(BD95:BD116,SMALL(IF(BD95:BD116<>\"\",ROW(BD95:BD116)-MIN(ROW(BD95:BD116))+1),ROWS(AX95:AX114))),\"\")","v":""},null,{"$f":"+AN113","v":0},{"$f":"COUNTIF($BG$2:BG114,\"*\"&BG114&\"*\")","v":0},"","",{"$f":"IFERROR(INDEX(BI$2:BI$308,MATCH(ROWS(BJ$2:BJ114),BJ$2:BJ$308,0)),\"\")","v":""},{"$f":"COUNTIF($BK114:$BK$308,\"*\"&BK114&\"*\")","v":195},"","",{"$f":"IFERROR(INDEX($BM$2:$BM$308,MATCH(ROWS(BN$2:BN114),BN$2:BN420,0)),\"\")","v":""},{"$f":"IFERROR(VLOOKUP(Engine!BO114,P_sentences_overview!H113:I244,2),\"\")","v":""}]
[null,null,null,null,null,null,null,null,null,null,null,null,null,null,null,null,null,null,null,null,null,null,null,null,null,null,null,null,null,null,null,null,null,null,null,null,null,null,null,null,null,null,null,null,null,null,null,null,null,null,null,null,null,null,null,{"$f":"IFERROR(INDEX(BA95:BA105,MATCH(SMALL(BC95:BC105,ROWS(BA95:BA104)),BC95:BC105,)),\"\")","v":""},{"$f":"IFERROR(INDEX(BD95:BD116,SMALL(IF(BD95:BD116<>\"\",ROW(BD95:BD116)-MIN(ROW(BD95:BD116))+1),ROWS(AX95:AX115))),\"\")","v":""},null,{"$f":"+AO113","v":0},{"$f":"COUNTIF($BG$2:BG115,\"*\"&BG115&\"*\")","v":0},"","",{"$f":"IFERROR(INDEX(BI$2:BI$308,MATCH(ROWS(BJ$2:BJ115),BJ$2:BJ$308,0)),\"\")","v":""},{"$f":"COUNTIF($BK115:$BK$308,\"*\"&BK115&\"*\")","v":194},"","",{"$f":"IFERROR(INDEX($BM$2:$BM$308,MATCH(ROWS(BN$2:BN115),BN$2:BN421,0)),\"\")","v":""},{"$f":"IFERROR(VLOOKUP(Engine!BO115,P_sentences_overview!H114:I245,2),\"\")","v":""}]
[null,null,null,null,null,null,null,null,null,null,null,null,null,null,null,null,null,null,null,null,null,null,null,null,null,null,null,null,null,null,null,null,null,null,null,null,null,null,null,null,null,null,null,null,null,null,null,null,null,null,null,null,null,null,null,{"$f":"IFERROR(INDEX(BA95:BA105,MATCH(SMALL(BC95:BC105,ROWS(BA95:BA105)),BC95:BC105,)),\"\")","v":""},{"$f":"IFERROR(INDEX(BD95:BD116,SMALL(IF(BD95:BD116<>\"\",ROW(BD95:BD116)-MIN(ROW(BD95:BD116))+1),ROWS(AX95:AX116))),\"\")","v":""},null,{"$f":"+AP113","v":0},{"$f":"COUNTIF($BG$2:BG116,\"*\"&BG116&\"*\")","v":0},"","",{"$f":"IFERROR(INDEX(BI$2:BI$308,MATCH(ROWS(BJ$2:BJ116),BJ$2:BJ$308,0)),\"\")","v":""},{"$f":"COUNTIF($BK116:$BK$308,\"*\"&BK116&\"*\")","v":193},"","",{"$f":"IFERROR(INDEX($BM$2:$BM$308,MATCH(ROWS(BN$2:BN116),BN$2:BN422,0)),\"\")","v":""},{"$f":"IFERROR(VLOOKUP(Engine!BO116,P_sentences_overview!H115:I246,2),\"\")","v":""}]
[null,null,null,null,null,null,null,null,null,null,null,null,null,null,null,null,null,null,null,null,null,null,null,null,null,null,null,null,null,null,null,null,null,null,null,null,null,null,null,null,null,null,null,null,null,null,null,null,null,null,null,null,null,null,null,null,null,null,{"$f":"+AQ113","v":0},{"$f":"COUNTIF($BG$2:BG117,\"*\"&BG117&\"*\")","v":0},"","",{"$f":"IFERROR(INDEX(BI$2:BI$308,MATCH(ROWS(BJ$2:BJ117),BJ$2:BJ$308,0)),\"\")","v":""},{"$f":"COUNTIF($BK117:$BK$308,\"*\"&BK117&\"*\")","v":192},"","",{"$f":"IFERROR(INDEX($BM$2:$BM$308,MATCH(ROWS(BN$2:BN117),BN$2:BN423,0)),\"\")","v":""},{"$f":"IFERROR(VLOOKUP(Engine!BO117,P_sentences_overview!H116:I247,2),\"\")","v":""}]
[null,null,null,null,null,null,null,null,null,null,null,null,null,null,null,null,null,null,null,null,null,null,null,null,null,null,null,null,null,null,null,null,null,null,null,null,null,null,null,null,null,null,null,null,null,null,null,null,null,null,null,null,null,null,null,null,null,null,{"$f":"+AR113","v":0},{"$f":"COUNTIF($BG$2:BG118,\"*\"&BG118&\"*\")","v":0},"","",{"$f":"IFERROR(INDEX(BI$2:BI$308,MATCH(ROWS(BJ$2:BJ118),BJ$2:BJ$308,0)),\"\")","v":""},{"$f":"COUNTIF($BK118:$BK$308,\"*\"&BK118&\"*\")","v":191},"","",{"$f":"IFERROR(INDEX($BM$2:$BM$308,MATCH(ROWS(BN$2:BN118),BN$2:BN424,0)),\"\")","v":""},{"$f":"IFERROR(VLOOKUP(Engine!BO118,P_sentences_overview!H117:I248,2),\"\")","v":""}]
[null,null,null,null,null,null,null,null,null,null,null,null,null,null,null,null,null,null,null,null,null,null,null,null,null,null,null,null,null,null,null,null,null,null,null,null,null,null,null,null,null,null,null,null,null,null,null,null,null,null,null,null,null,null,null,null,null,null,{"$f":"+AS113","v":0},{"$f":"COUNTIF($BG$2:BG119,\"*\"&BG119&\"*\")","v":0},"","",{"$f":"IFERROR(INDEX(BI$2:BI$308,MATCH(ROWS(BJ$2:BJ119),BJ$2:BJ$308,0)),\"\")","v":""},{"$f":"COUNTIF($BK119:$BK$308,\"*\"&BK119&\"*\")","v":190},"","",{"$f":"IFERROR(INDEX($BM$2:$BM$308,MATCH(ROWS(BN$2:BN119),BN$2:BN425,0)),\"\")","v":""},{"$f":"IFERROR(VLOOKUP(Engine!BO119,P_sentences_overview!H118:I249,2),\"\")","v":""}]
[null,null,null,null,null,null,null,null,null,null,null,null,null,null,null,null,null,null,null,null,null,null,null,null,null,null,null,null,null,null,null,null,null,null,null,null,null,null,null,null,null,null,null,null,null,null,null,null,null,null,null,null,null,null,null,null,null,null,{"$f":"+AT113","v":0},{"$f":"COUNTIF($BG$2:BG120,\"*\"&BG120&\"*\")","v":0},"","",{"$f":"IFERROR(INDEX(BI$2:BI$308,MATCH(ROWS(BJ$2:BJ120),BJ$2:BJ$308,0)),\"\")","v":""},{"$f":"COUNTIF($BK120:$BK$308,\"*\"&BK120&\"*\")","v":189},"","",{"$f":"IFERROR(INDEX($BM$2:$BM$308,MATCH(ROWS(BN$2:BN120),BN$2:BN426,0)),\"\")","v":""},{"$f":"IFERROR(VLOOKUP(Engine!BO120,P_sentences_overview!H119:I250,2),\"\")","v":""}]
[null,null,null,null,null,null,null,null,null,null,null,null,null,null,null,null,null,null,null,null,null,null,null,null,null,null,null,null,null,null,null,null,null,null,null,null,null,null,null,null,null,null,null,null,null,null,null,null,null,null,null,null,null,null,null,null,null,null,{"$f":"+AU113","v":0},{"$f":"COUNTIF($BG$2:BG121,\"*\"&BG121&\"*\")","v":0},"","",{"$f":"IFERROR(INDEX(BI$2:BI$308,MATCH(ROWS(BJ$2:BJ121),BJ$2:BJ$308,0)),\"\")","v":""},{"$f":"COUNTIF($BK121:$BK$308,\"*\"&BK121&\"*\")","v":188},"","",{"$f":"IFERROR(INDEX($BM$2:$BM$308,MATCH(ROWS(BN$2:BN121),BN$2:BN427,0)),\"\")","v":""},{"$f":"IFERROR(VLOOKUP(Engine!BO121,P_sentences_overview!H120:I251,2),\"\")","v":""}]
[null,null,null,null,null,null,null,null,null,null,null,null,null,null,null,null,null,null,null,null,null,null,null,null,null,null,null,null,null,null,null,null,null,null,null,null,null,null,null,null,null,null,null,null,null,null,null,null,null,null,null,null,null,null,null,null,null,null,{"$f":"+AV113","v":0},{"$f":"COUNTIF($BG$2:BG122,\"*\"&BG122&\"*\")","v":0},"","",{"$f":"IFERROR(INDEX(BI$2:BI$308,MATCH(ROWS(BJ$2:BJ122),BJ$2:BJ$308,0)),\"\")","v":""},{"$f":"COUNTIF($BK122:$BK$308,\"*\"&BK122&\"*\")","v":187},"","",{"$f":"IFERROR(INDEX($BM$2:$BM$308,MATCH(ROWS(BN$2:BN122),BN$2:BN428,0)),\"\")","v":""},{"$f":"IFERROR(VLOOKUP(Engine!BO122,P_sentences_overview!H121:I252,2),\"\")","v":""}]
[null,null,null,null,null,null,null,null,null,null,null,null,null,null,null,null,null,null,null,null,null,null,null,null,null,null,null,null,null,null,null,null,null,null,null,null,null,null,null,null,null,null,null,null,null,null,null,null,null,null,null,null,null,null,null,null,null,null,null,{"$f":"COUNTIF($BG$2:BG123,\"*\"&BG123&\"*\")","v":0},"","",{"$f":"IFERROR(INDEX(BI$2:BI$308,MATCH(ROWS(BJ$2:BJ123),BJ$2:BJ$308,0)),\"\")","v":""},{"$f":"COUNTIF($BK123:$BK$308,\"*\"&BK123&\"*\")","v":186},"","",{"$f":"IFERROR(INDEX($BM$2:$BM$308,MATCH(ROWS(BN$2:BN123),BN$2:BN429,0)),\"\")","v":""},{"$f":"IFERROR(VLOOKUP(Engine!BO123,P_sentences_overview!H122:I253,2),\"\")","v":""}]
[null,null,null,null,null,null,null,null,null,null,null,null,null,null,null,null,null,null,null,null,null,null,null,null,null,null,null,null,null,null,null,null,null,null,null,null,null,null,null,null,null,null,null,null,null,null,null,null,null,null,null,null,null,null,null,null,null,null,null,{"$f":"COUNTIF($BG$2:BG124,\"*\"&BG124&\"*\")","v":0},"","",{"$f":"IFERROR(INDEX(BI$2:BI$308,MATCH(ROWS(BJ$2:BJ124),BJ$2:BJ$308,0)),\"\")","v":""},{"$f":"COUNTIF($BK124:$BK$308,\"*\"&BK124&\"*\")","v":185},"","",{"$f":"IFERROR(INDEX($BM$2:$BM$308,MATCH(ROWS(BN$2:BN124),BN$2:BN430,0)),\"\")","v":""},{"$f":"IFERROR(VLOOKUP(Engine!BO124,P_sentences_overview!H123:I254,2),\"\")","v":""}]
[null,null,null,null,null,null,null,null,null,null,null,null,null,null,null,"Vælg  Hazard code","Opslag Hazard category","Vælg Hazard class","Opslag Hazard category","Opslag Hazard class","Column1","Column2","Column3","Column4",null,null,null,null,null,null,null,null,null,null,null,null,null,null,null,null,null,null,null,null,null,null,null,null,null,"Unique values","Number check","numbers_pull","text_pull","numbers_pull_rated","text_pull_rated","All_sorted","All_sorted_top",null,null,{"$f":"COUNTIF($BG$2:BG125,\"*\"&BG125&\"*\")","v":0},"","",{"$f":"IFERROR(INDEX(BI$2:BI$308,MATCH(ROWS(BJ$2:BJ125),BJ$2:BJ$308,0)),\"\")","v":""},{"$f":"COUNTIF($BK125:$BK$308,\"*\"&BK125&\"*\")","v":184},"","",{"$f":"IFERROR(INDEX($BM$2:$BM$308,MATCH(ROWS(BN$2:BN125),BN$2:BN431,0)),\"\")","v":""},{"$f":"IFERROR(VLOOKUP(Engine!BO125,P_sentences_overview!H124:I255,2),\"\")","v":""}]
[null,null,null,null,null,null,null,null,null,null,null,null,null,null,null,{"$f":"INDEX(H_sentences_overview!$A$1:$A$134,Engine!P131)","v":"(none)"},{"$f":"IFERROR(VLOOKUP(P126,H_sentences_overview!$A$2:$D$161,3),\"\")","v":""},{"$f":"INDEX(BE126:BE147,Engine!R131)","v":""},null,null,{"$f":"IFERROR(INDEX(P_saetn,SMALL(IF(Hazard=Engine!$Q126,ROW(P_saetn)-MIN(ROW(P_saetn))+1),COLUMNS($U126:U126))),\"\")","v":0},{"$f":"IFERROR(INDEX(P_saetn,SMALL(IF(Hazard=Engine!$Q126,ROW(P_saetn)-MIN(ROW(P_saetn))+1),COLUMNS($U126:V126))),\"\")","v":0},{"$f":"IFERROR(INDEX(P_saetn,SMALL(IF(Hazard=Engine!$Q126,ROW(P_saetn)-MIN(ROW(P_saetn))+1),COLUMNS($U126:W126))),\"\")","v":0},{"$f":"IFERROR(INDEX(P_saetn,SMALL(IF(Hazard=Engine!$Q126,ROW(P_saetn)-MIN(ROW(P_saetn))+1),COLUMNS($U126:X126))),\"\")","v":0},{"$f":"IFERROR(INDEX(P_saetn,SMALL(IF(Hazard=Engine!$Q126,ROW(P_saetn)-MIN(ROW(P_saetn))+1),COLUMNS($U126:Y126))),\"\")","v":0},{"$f":"IFERROR(INDEX(P_saetn,SMALL(IF(Hazard=Engine!$Q126,ROW(P_saetn)-MIN(ROW(P_saetn))+1),COLUMNS($U126:Z126))),\"\")","v":0},{"$f":"IFERROR(INDEX(P_saetn,SMALL(IF(Hazard=Engine!$Q126,ROW(P_saetn)-MIN(ROW(P_saetn))+1),COLUMNS($U126:AA126))),\"\")","v":0},{"$f":"IFERROR(INDEX(P_saetn,SMALL(IF(Hazard=Engine!$Q126,ROW(P_saetn)-MIN(ROW(P_saetn))+1),COLUMNS($U126:AB126))),\"\")","v":0},{"$f":"IFERROR(INDEX(P_saetn,SMALL(IF(Hazard=Engine!$Q126,ROW(P_saetn)-MIN(ROW(P_saetn))+1),COLUMNS($U126:AC126))),\"\")","v":0},{"$f":"IFERROR(INDEX(P_saetn,SMALL(IF(Hazard=Engine!$Q126,ROW(P_saetn)-MIN(ROW(P_saetn))+1),COLUMNS($U126:AD126))),\"\")","v":0},{"$f":"IFERROR(INDEX(P_saetn,SMALL(IF(Hazard=Engine!$Q126,ROW(P_saetn)-MIN(ROW(P_saetn))+1),COLUMNS($U126:AE126))),\"\")","v":0},{"$f":"IFERROR(INDEX(P_saetn,SMALL(IF(Hazard=Engine!$Q126,ROW(P_saetn)-MIN(ROW(P_saetn))+1),COLUMNS($U126:AF126))),\"\")","v":0},{"$f":"IFERROR(INDEX(P_saetn,SMALL(IF(Hazard=Engine!$Q126,ROW(P_saetn)-MIN(ROW(P_saetn))+1),COLUMNS($U126:AG126))),\"\")","v":0},{"$f":"IFERROR(INDEX(P_saetn,SMALL(IF(Hazard=Engine!$Q126,ROW(P_saetn)-MIN(ROW(P_saetn))+1),COLUMNS($U126:AH126))),\"\")","v":0},{"$f":"IFERROR(INDEX(P_saetn,SMALL(IF(Hazard=Engine!$Q126,ROW(P_saetn)-MIN(ROW(P_saetn))+1),COLUMNS($U126:AI126))),\"\")","v":0},{"$f":"IFERROR(INDEX(P_saetn,SMALL(IF(Hazard=Engine!$Q126,ROW(P_saetn)-MIN(ROW(P_saetn))+1),COLUMNS($U126:AJ126))),\"\")","v":0},{"$f":"IFERROR(INDEX(P_saetn,SMALL(IF(Hazard=Engine!$Q126,ROW(P_saetn)-MIN(ROW(P_saetn))+1),COLUMNS($U126:AK126))),\"\")","v":0},{"$f":"IFERROR(INDEX(P_saetn,SMALL(IF(Hazard=Engine!$Q126,ROW(P_saetn)-MIN(ROW(P_saetn))+1),COLUMNS($U126:AL126))),\"\")","v":0},{"$f":"IFERROR(INDEX(P_saetn,SMALL(IF(Hazard=Engine!$Q126,ROW(P_saetn)-MIN(ROW(P_saetn))+1),COLUMNS($U126:AM126))),\"\")","v":0},{"$f":"IFERROR(INDEX(P_saetn,SMALL(IF(Hazard=Engine!$Q126,ROW(P_saetn)-MIN(ROW(P_saetn))+1),COLUMNS($U126:AN126))),\"\")","v":0},{"$f":"IFERROR(INDEX(P_saetn,SMALL(IF(Hazard=Engine!$Q126,ROW(P_saetn)-MIN(ROW(P_saetn))+1),COLUMNS($U126:AO126))),\"\")","v":0},{"$f":"IFERROR(INDEX(P_saetn,SMALL(IF(Hazard=Engine!$Q126,ROW(P_saetn)-MIN(ROW(P_saetn))+1),COLUMNS($U126:AP126))),\"\")","v":0},{"$f":"IFERROR(INDEX(P_saetn,SMALL(IF(Hazard=Engine!$Q126,ROW(P_saetn)-MIN(ROW(P_saetn))+1),COLUMNS($U126:AQ126))),\"\")","v":0},{"$f":"IFERROR(INDEX(P_saetn,SMALL(IF(Hazard=Engine!$Q126,ROW(P_saetn)-MIN(ROW(P_saetn))+1),COLUMNS($U126:AR126))),\"\")","v":0},{"$f":"IFERROR(INDEX(P_saetn,SMALL(IF(Hazard=Engine!$Q126,ROW(P_saetn)-MIN(ROW(P_saetn))+1),COLUMNS($U126:AS126))),\"\")","v":0},{"$f":"IFERROR(INDEX(P_saetn,SMALL(IF(Hazard=Engine!$Q126,ROW(P_saetn)-MIN(ROW(P_saetn))+1),COLUMNS($U126:AT126))),\"\")","v":0},{"$f":"IFERROR(INDEX(P_saetn,SMALL(IF(Hazard=Engine!$Q126,ROW(P_saetn)-MIN(ROW(P_saetn))+1),COLUMNS($U126:AU126))),\"\")","v":0},{"$f":"IFERROR(INDEX(P_saetn,SMALL(IF(Hazard=Engine!$Q126,ROW(P_saetn)-MIN(ROW(P_saetn))+1),COLUMNS($U126:AV126))),\"\")","v":0},null,{"$f":"INDIRECT(TEXT(MIN(IF(($U135:$AV140<>\"\")*(COUNTIF($AX125:$AX125,$U135:$AV140)=0),ROW($P135:$BM140)*100+COLUMN($U125:$AV153),7^8)),\"R0C00\"),)&\"\"","v":""},{"$f":"ISNUMBER(AX126*1)","v":false},{"$f":"IF(AY126=TRUE,AX126*1,\"\")","v":""},{"$f":"IF(AY126=FALSE,AX126,\"\")","v":""},{"$f":"COUNTIF(AZ126:AZ136,\"<=\"&AZ126)","v":0},{"$f":"IF(COUNTIF(BA126:BA136,\"<=\"&BA126)=0,\"\",COUNTIF(BA126:BA136,\"<=\"&BA126))","v":""},{"$f":"IFERROR(SMALL(AZ126:AZ136,ROWS(AX126:AX126)),\"\")","v":""},{"$f":"IFERROR(INDEX(BD126:BD147,SMALL(IF(BD126:BD147<>\"\",ROW(BD126:BD147)-MIN(ROW(BD126:BD147))+1),ROWS(AX126:AX126))),\"\")","v":""},null,{"$f":"U144","v":0},{"$f":"COUNTIF($BG$2:BG126,\"*\"&BG126&\"*\")","v":0},"","",{"$f":"IFERROR(INDEX(BI$2:BI$308,MATCH(ROWS(BJ$2:BJ126),BJ$2:BJ$308,0)),\"\")","v":""},{"$f":"COUNTIF($BK126:$BK$308,\"*\"&BK126&\"*\")","v":183},"","",{"$f":"IFERROR(INDEX($BM$2:$BM$308,MATCH(ROWS(BN$2:BN126),BN$2:BN432,0)),\"\")","v":""},{"$f":"IFERROR(VLOOKUP(Engine!BO126,P_sentences_overview!H125:I256,2),\"\")","v":""}]
[null,null,null,null,null,null,null,null,null,null,null,null,null,null,null,null,null,null,null,null,{"$f":"SMALL(IF(Hazard=Engine!$Q126,ROW(P_saetn)-MIN(ROW(P_saetn))+1),COLUMNS($U126:U126)+1)","v":465},{"$f":"SMALL(IF(Hazard=Engine!$Q126,ROW(P_saetn)-MIN(ROW(P_saetn))+1),COLUMNS($U126:V126)+1)","v":466},{"$f":"SMALL(IF(Hazard=Engine!$Q126,ROW(P_saetn)-MIN(ROW(P_saetn))+1),COLUMNS($U126:W126)+1)","v":467},{"$f":"SMALL(IF(Hazard=Engine!$Q126,ROW(P_saetn)-MIN(ROW(P_saetn))+1),COLUMNS($U126:X126)+1)","v":468},{"$f":"SMALL(IF(Hazard=Engine!$Q126,ROW(P_saetn)-MIN(ROW(P_saetn))+1),COLUMNS($U126:Y126)+1)","v":469},{"$f":"SMALL(IF(Hazard=Engine!$Q126,ROW(P_saetn)-MIN(ROW(P_saetn))+1),COLUMNS($U126:Z126)+1)","v":470},{"$f":"SMALL(IF(Hazard=Engine!$Q126,ROW(P_saetn)-MIN(ROW(P_saetn))+1),COLUMNS($U126:AA126)+1)","v":471},{"$f":"SMALL(IF(Hazard=Engine!$Q126,ROW(P_saetn)-MIN(ROW(P_saetn))+1),COLUMNS($U126:AB126)+1)","v":472},{"$f":"SMALL(IF(Hazard=Engine!$Q126,ROW(P_saetn)-MIN(ROW(P_saetn))+1),COLUMNS($U126:AC126)+1)","v":473},{"$f":"SMALL(IF(Hazard=Engine!$Q126,ROW(P_saetn)-MIN(ROW(P_saetn))+1),COLUMNS($U126:AD126)+1)","v":474},{"$f":"SMALL(IF(Hazard=Engine!$Q126,ROW(P_saetn)-MIN(ROW(P_saetn))+1),COLUMNS($U126:AE126)+1)","v":475},{"$f":"SMALL(IF(Hazard=Engine!$Q126,ROW(P_saetn)-MIN(ROW(P_saetn))+1),COLUMNS($U126:AF126)+1)","v":476},{"$f":"SMALL(IF(Hazard=Engine!$Q126,ROW(P_saetn)-MIN(ROW(P_saetn))+1),COLUMNS($U126:AG126)+1)","v":477},{"$f":"SMALL(IF(Hazard=Engine!$Q126,ROW(P_saetn)-MIN(ROW(P_saetn))+1),COLUMNS($U126:AH126)+1)","v":478},{"$f":"SMALL(IF(Hazard=Engine!$Q126,ROW(P_saetn)-MIN(ROW(P_saetn))+1),COLUMNS($U126:AI126)+1)","v":479},{"$f":"SMALL(IF(Hazard=Engine!$Q126,ROW(P_saetn)-MIN(ROW(P_saetn))+1),COLUMNS($U126:AJ126)+1)","v":480},{"$f":"SMALL(IF(Hazard=Engine!$Q126,ROW(P_saetn)-MIN(ROW(P_saetn))+1),COLUMNS($U126:AK126)+1)","v":481},{"$f":"SMALL(IF(Hazard=Engine!$Q126,ROW(P_saetn)-MIN(ROW(P_saetn))+1),COLUMNS($U126:AL126)+1)","v":482},{"$f":"SMALL(IF(Hazard=Engine!$Q126,ROW(P_saetn)-MIN(ROW(P_saetn))+1),COLUMNS($U126:AM126)+1)","v":483},{"$f":"SMALL(IF(Hazard=Engine!$Q126,ROW(P_saetn)-MIN(ROW(P_saetn))+1),COLUMNS($U126:AN126)+1)","v":484},{"$f":"SMALL(IF(Hazard=Engine!$Q126,ROW(P_saetn)-MIN(ROW(P_saetn))+1),COLUMNS($U126:AO126)+1)","v":485},{"$f":"SMALL(IF(Hazard=Engine!$Q126,ROW(P_saetn)-MIN(ROW(P_saetn))+1),COLUMNS($U126:AP126)+1)","v":486},{"$f":"SMALL(IF(Hazard=Engine!$Q126,ROW(P_saetn)-MIN(ROW(P_saetn))+1),COLUMNS($U126:AQ126)+1)","v":487},{"$f":"SMALL(IF(Hazard=Engine!$Q126,ROW(P_saetn)-MIN(ROW(P_saetn))+1),COLUMNS($U126:AR126)+1)","v":488},{"$f":"SMALL(IF(Hazard=Engine!$Q126,ROW(P_saetn)-MIN(ROW(P_saetn))+1),COLUMNS($U126:AS126)+1)","v":489},{"$f":"SMALL(IF(Hazard=Engine!$Q126,ROW(P_saetn)-MIN(ROW(P_saetn))+1),COLUMNS($U126:AT126)+1)","v":490},{"$f":"SMALL(IF(Hazard=Engine!$Q126,ROW(P_saetn)-MIN(ROW(P_saetn))+1),COLUMNS($U126:AU126)+1)","v":491},{"$f":"SMALL(IF(Hazard=Engine!$Q126,ROW(P_saetn)-MIN(ROW(P_saetn))+1),COLUMNS($U126:AV126)+1)","v":492},null,{"$f":"INDIRECT(TEXT(MIN(IF(($U135:$AV140<>\"\")*(COUNTIF($AX125:$AX126,$U135:$AV140)=0),ROW($P135:$BM140)*100+COLUMN($U125:$AV153),7^8)),\"R0C00\"),)&\"\"","v":""},false,"","",{"$f":"COUNTIF(AZ126:AZ136,\"<=\"&AZ127)","v":0},{"$f":"IF(COUNTIF(BA126:BA136,\"<=\"&BA127)=0,\"\",COUNTIF(BA126:BA136,\"<=\"&BA127))","v":""},{"$f":"IFERROR(SMALL(AZ126:AZ136,ROWS(AX126:AX127)),\"\")","v":""},{"$f":"IFERROR(INDEX(BD126:BD147,SMALL(IF(BD126:BD147<>\"\",ROW(BD126:BD147)-MIN(ROW(BD126:BD147))+1),ROWS(AX126:AX127))),\"\")","v":""},null,{"$f":"+V144","v":0},{"$f":"COUNTIF($BG$2:BG127,\"*\"&BG127&\"*\")","v":0},"","",{"$f":"IFERROR(INDEX(BI$2:BI$308,MATCH(ROWS(BJ$2:BJ127),BJ$2:BJ$308,0)),\"\")","v":""},{"$f":"COUNTIF($BK127:$BK$308,\"*\"&BK127&\"*\")","v":182},"","",{"$f":"IFERROR(INDEX($BM$2:$BM$308,MATCH(ROWS(BN$2:BN127),BN$2:BN433,0)),\"\")","v":""},{"$f":"IFERROR(VLOOKUP(Engine!BO127,P_sentences_overview!H126:I257,2),\"\")","v":""}]
[null,null,null,null,null,null,null,null,null,null,null,null,null,null,null,null,null,null,null,null,{"$f":"IFERROR(INDEX(Haz_Cat,SMALL(IF(Hazard=Engine!$Q126,ROW(Haz_Cat)-MIN(ROW(Haz_Cat))+1),COLUMNS($U128:U128)),COLUMNS(Main!D$2:D$2)),\"\")","v":0},{"$f":"IFERROR(INDEX(Haz_Cat,SMALL(IF(Hazard=Engine!$Q126,ROW(Haz_Cat)-MIN(ROW(Haz_Cat))+1),COLUMNS($U128:V128)),COLUMNS(Main!E$2:E$2)),\"\")","v":0},{"$f":"IFERROR(INDEX(Haz_Cat,SMALL(IF(Hazard=Engine!$Q126,ROW(Haz_Cat)-MIN(ROW(Haz_Cat))+1),COLUMNS($U128:W128)),COLUMNS(Main!F$2:F$2)),\"\")","v":0},{"$f":"IFERROR(INDEX(Haz_Cat,SMALL(IF(Hazard=Engine!$Q126,ROW(Haz_Cat)-MIN(ROW(Haz_Cat))+1),COLUMNS($U128:X128)),COLUMNS(Main!G$2:G$2)),\"\")","v":0},{"$f":"IFERROR(INDEX(Haz_Cat,SMALL(IF(Hazard=Engine!$Q126,ROW(Haz_Cat)-MIN(ROW(Haz_Cat))+1),COLUMNS($U128:Y128)),COLUMNS(Main!H$2:H$2)),\"\")","v":0},{"$f":"IFERROR(INDEX(Haz_Cat,SMALL(IF(Hazard=Engine!$Q126,ROW(Haz_Cat)-MIN(ROW(Haz_Cat))+1),COLUMNS($U128:Z128)),COLUMNS(Main!I$2:I$2)),\"\")","v":0},{"$f":"IFERROR(INDEX(Haz_Cat,SMALL(IF(Hazard=Engine!$Q126,ROW(Haz_Cat)-MIN(ROW(Haz_Cat))+1),COLUMNS($U128:AA128)),COLUMNS(Main!J$2:J$2)),\"\")","v":0},{"$f":"IFERROR(INDEX(Haz_Cat,SMALL(IF(Hazard=Engine!$Q126,ROW(Haz_Cat)-MIN(ROW(Haz_Cat))+1),COLUMNS($U128:AB128)),COLUMNS(Main!K$2:K$2)),\"\")","v":0},{"$f":"IFERROR(INDEX(Haz_Cat,SMALL(IF(Hazard=Engine!$Q126,ROW(Haz_Cat)-MIN(ROW(Haz_Cat))+1),COLUMNS($U128:AC128)),COLUMNS(Main!L$2:L$2)),\"\")","v":0},{"$f":"IFERROR(INDEX(Haz_Cat,SMALL(IF(Hazard=Engine!$Q126,ROW(Haz_Cat)-MIN(ROW(Haz_Cat))+1),COLUMNS($U128:AD128)),COLUMNS(Main!M$2:M$2)),\"\")","v":0},{"$f":"IFERROR(INDEX(Haz_Cat,SMALL(IF(Hazard=Engine!$Q126,ROW(Haz_Cat)-MIN(ROW(Haz_Cat))+1),COLUMNS($U128:AE128)),COLUMNS(Main!N$2:N$2)),\"\")","v":0},{"$f":"IFERROR(INDEX(Haz_Cat,SMALL(IF(Hazard=Engine!$Q126,ROW(Haz_Cat)-MIN(ROW(Haz_Cat))+1),COLUMNS($U128:AF128)),COLUMNS(Main!O$2:O$2)),\"\")","v":0},{"$f":"IFERROR(INDEX(Haz_Cat,SMALL(IF(Hazard=Engine!$Q126,ROW(Haz_Cat)-MIN(ROW(Haz_Cat))+1),COLUMNS($U128:AG128)),COLUMNS(Main!P$2:P$2)),\"\")","v":0},{"$f":"IFERROR(INDEX(Haz_Cat,SMALL(IF(Hazard=Engine!$Q126,ROW(Haz_Cat)-MIN(ROW(Haz_Cat))+1),COLUMNS($U128:AH128)),COLUMNS(Main!Q$2:Q$2)),\"\")","v":0},{"$f":"IFERROR(INDEX(Haz_Cat,SMALL(IF(Hazard=Engine!$Q126,ROW(Haz_Cat)-MIN(ROW(Haz_Cat))+1),COLUMNS($U128:AI128)),COLUMNS(Main!R$2:R$2)),\"\")","v":0},{"$f":"IFERROR(INDEX(Haz_Cat,SMALL(IF(Hazard=Engine!$Q126,ROW(Haz_Cat)-MIN(ROW(Haz_Cat))+1),COLUMNS($U128:AJ128)),COLUMNS(Main!S$2:S$2)),\"\")","v":0},{"$f":"IFERROR(INDEX(Haz_Cat,SMALL(IF(Hazard=Engine!$Q126,ROW(Haz_Cat)-MIN(ROW(Haz_Cat))+1),COLUMNS($U128:AK128)),COLUMNS(Main!T$2:T$2)),\"\")","v":0},{"$f":"IFERROR(INDEX(Haz_Cat,SMALL(IF(Hazard=Engine!$Q126,ROW(Haz_Cat)-MIN(ROW(Haz_Cat))+1),COLUMNS($U128:AL128)),COLUMNS(Main!U$2:U$2)),\"\")","v":0},{"$f":"IFERROR(INDEX(Haz_Cat,SMALL(IF(Hazard=Engine!$Q126,ROW(Haz_Cat)-MIN(ROW(Haz_Cat))+1),COLUMNS($U128:AM128)),COLUMNS(Main!V$2:V$2)),\"\")","v":0},{"$f":"IFERROR(INDEX(Haz_Cat,SMALL(IF(Hazard=Engine!$Q126,ROW(Haz_Cat)-MIN(ROW(Haz_Cat))+1),COLUMNS($U128:AN128)),COLUMNS(Main!W$2:W$2)),\"\")","v":0},{"$f":"IFERROR(INDEX(Haz_Cat,SMALL(IF(Hazard=Engine!$Q126,ROW(Haz_Cat)-MIN(ROW(Haz_Cat))+1),COLUMNS($U128:AO128)),COLUMNS(Main!X$2:X$2)),\"\")","v":0},{"$f":"IFERROR(INDEX(Haz_Cat,SMALL(IF(Hazard=Engine!$Q126,ROW(Haz_Cat)-MIN(ROW(Haz_Cat))+1),COLUMNS($U128:AP128)),COLUMNS(Main!Y$2:Y$2)),\"\")","v":0},{"$f":"IFERROR(INDEX(Haz_Cat,SMALL(IF(Hazard=Engine!$Q126,ROW(Haz_Cat)-MIN(ROW(Haz_Cat))+1),COLUMNS($U128:AQ128)),COLUMNS(Main!Z$2:Z$2)),\"\")","v":0},{"$f":"IFERROR(INDEX(Haz_Cat,SMALL(IF(Hazard=Engine!$Q126,ROW(Haz_Cat)-MIN(ROW(Haz_Cat))+1),COLUMNS($U128:AR128)),COLUMNS(Main!AA$2:AA$2)),\"\")","v":0},{"$f":"IFERROR(INDEX(Haz_Cat,SMALL(IF(Hazard=Engine!$Q126,ROW(Haz_Cat)-MIN(ROW(Haz_Cat))+1),COLUMNS($U128:AS128)),COLUMNS(Main!AB$2:AB$2)),\"\")","v":0},{"$f":"IFERROR(INDEX(Haz_Cat,SMALL(IF(Hazard=Engine!$Q126,ROW(Haz_Cat)-MIN(ROW(Haz_Cat))+1),COLUMNS($U128:AT128)),COLUMNS(Main!AC$2:AC$2)),\"\")","v":0},{"$f":"IFERROR(INDEX(Haz_Cat,SMALL(IF(Hazard=Engine!$Q126,ROW(Haz_Cat)-MIN(ROW(Haz_Cat))+1),COLUMNS($U128:AU128)),COLUMNS(Main!AD$2:AD$2)),\"\")","v":0},{"$f":"IFERROR(INDEX(Haz_Cat,SMALL(IF(Hazard=Engine!$Q126,ROW(Haz_Cat)-MIN(ROW(Haz_Cat))+1),COLUMNS($U128:AV128)),COLUMNS(Main!AE$2:AE$2)),\"\")","v":0},null,{"$f":"INDIRECT(TEXT(MIN(IF(($U135:$AV140<>\"\")*(COUNTIF($AX125:$AX127,$U135:$AV140)=0),ROW($P135:$BM140)*100+COLUMN($U125:$AV153),7^8)),\"R0C00\"),)&\"\"","v":""},false,"","",{"$f":"COUNTIF(AZ126:AZ136,\"<=\"&AZ128)","v":0},{"$f":"IF(COUNTIF(BA126:BA136,\"<=\"&BA128)=0,\"\",COUNTIF(BA126:BA136,\"<=\"&BA128))","v":""},{"$f":"IFERROR(SMALL(AZ126:AZ136,ROWS(AX126:AX128)),\"\")","v":""},{"$f":"IFERROR(INDEX(BD126:BD147,SMALL(IF(BD126:BD147<>\"\",ROW(BD126:BD147)-MIN(ROW(BD126:BD147))+1),ROWS(AX126:AX128))),\"\")","v":""},null,{"$f":"+W144","v":0},{"$f":"COUNTIF($BG$2:BG128,\"*\"&BG128&\"*\")","v":0},"","",{"$f":"IFERROR(INDEX(BI$2:BI$308,MATCH(ROWS(BJ$2:BJ128),BJ$2:BJ$308,0)),\"\")","v":""},{"$f":"COUNTIF($BK128:$BK$308,\"*\"&BK128&\"*\")","v":181},"","",{"$f":"IFERROR(INDEX($BM$2:$BM$308,MATCH(ROWS(BN$2:BN128),BN$2:BN434,0)),\"\")","v":""},{"$f":"IFERROR(VLOOKUP(Engine!BO128,P_sentences_overview!H127:I258,2),\"\")","v":""}]
[null,null,null,null,null,null,null,null,null,null,null,null,null,null,null,null,null,null,null,null,{"$f":"IFERROR(INDEX(Haz_Cat,SMALL(IF(Hazard=Engine!$Q126,ROW(Haz_Cat)-MIN(ROW(Haz_Cat))+1),COLUMNS($U128:U128)),COLUMNS(Main!$D126:$E126)),\"\")","v":0},{"$f":"IFERROR(INDEX(Haz_Cat,SMALL(IF(Hazard=Engine!$Q126,ROW(Haz_Cat)-MIN(ROW(Haz_Cat))+1),COLUMNS($U128:V128)),COLUMNS(Main!$D126:$E126)),\"\")","v":0},{"$f":"IFERROR(INDEX(Haz_Cat,SMALL(IF(Hazard=Engine!$Q126,ROW(Haz_Cat)-MIN(ROW(Haz_Cat))+1),COLUMNS($U128:W128)),COLUMNS(Main!$D126:$E126)),\"\")","v":0},{"$f":"IFERROR(INDEX(Haz_Cat,SMALL(IF(Hazard=Engine!$Q126,ROW(Haz_Cat)-MIN(ROW(Haz_Cat))+1),COLUMNS($U128:X128)),COLUMNS(Main!$D126:$E126)),\"\")","v":0},{"$f":"IFERROR(INDEX(Haz_Cat,SMALL(IF(Hazard=Engine!$Q126,ROW(Haz_Cat)-MIN(ROW(Haz_Cat))+1),COLUMNS($U128:Y128)),COLUMNS(Main!$D126:$E126)),\"\")","v":0},{"$f":"IFERROR(INDEX(Haz_Cat,SMALL(IF(Hazard=Engine!$Q126,ROW(Haz_Cat)-MIN(ROW(Haz_Cat))+1),COLUMNS($U128:Z128)),COLUMNS(Main!$D126:$E126)),\"\")","v":0},{"$f":"IFERROR(INDEX(Haz_Cat,SMALL(IF(Hazard=Engine!$Q126,ROW(Haz_Cat)-MIN(ROW(Haz_Cat))+1),COLUMNS($U128:AA128)),COLUMNS(Main!$D126:$E126)),\"\")","v":0},{"$f":"IFERROR(INDEX(Haz_Cat,SMALL(IF(Hazard=Engine!$Q126,ROW(Haz_Cat)-MIN(ROW(Haz_Cat))+1),COLUMNS($U128:AB128)),COLUMNS(Main!$D126:$E126)),\"\")","v":0},{"$f":"IFERROR(INDEX(Haz_Cat,SMALL(IF(Hazard=Engine!$Q126,ROW(Haz_Cat)-MIN(ROW(Haz_Cat))+1),COLUMNS($U128:AC128)),COLUMNS(Main!$D126:$E126)),\"\")","v":0},{"$f":"IFERROR(INDEX(Haz_Cat,SMALL(IF(Hazard=Engine!$Q126,ROW(Haz_Cat)-MIN(ROW(Haz_Cat))+1),COLUMNS($U128:AD128)),COLUMNS(Main!$D126:$E126)),\"\")","v":0},{"$f":"IFERROR(INDEX(Haz_Cat,SMALL(IF(Hazard=Engine!$Q126,ROW(Haz_Cat)-MIN(ROW(Haz_Cat))+1),COLUMNS($U128:AE128)),COLUMNS(Main!$D126:$E126)),\"\")","v":0},{"$f":"IFERROR(INDEX(Haz_Cat,SMALL(IF(Hazard=Engine!$Q126,ROW(Haz_Cat)-MIN(ROW(Haz_Cat))+1),COLUMNS($U128:AF128)),COLUMNS(Main!$D126:$E126)),\"\")","v":0},{"$f":"IFERROR(INDEX(Haz_Cat,SMALL(IF(Hazard=Engine!$Q126,ROW(Haz_Cat)-MIN(ROW(Haz_Cat))+1),COLUMNS($U128:AG128)),COLUMNS(Main!$D126:$E126)),\"\")","v":0},{"$f":"IFERROR(INDEX(Haz_Cat,SMALL(IF(Hazard=Engine!$Q126,ROW(Haz_Cat)-MIN(ROW(Haz_Cat))+1),COLUMNS($U128:AH128)),COLUMNS(Main!$D126:$E126)),\"\")","v":0},{"$f":"IFERROR(INDEX(Haz_Cat,SMALL(IF(Hazard=Engine!$Q126,ROW(Haz_Cat)-MIN(ROW(Haz_Cat))+1),COLUMNS($U128:AI128)),COLUMNS(Main!$D126:$E126)),\"\")","v":0},{"$f":"IFERROR(INDEX(Haz_Cat,SMALL(IF(Hazard=Engine!$Q126,ROW(Haz_Cat)-MIN(ROW(Haz_Cat))+1),COLUMNS($U128:AJ128)),COLUMNS(Main!$D126:$E126)),\"\")","v":0},{"$f":"IFERROR(INDEX(Haz_Cat,SMALL(IF(Hazard=Engine!$Q126,ROW(Haz_Cat)-MIN(ROW(Haz_Cat))+1),COLUMNS($U128:AK128)),COLUMNS(Main!$D126:$E126)),\"\")","v":0},{"$f":"IFERROR(INDEX(Haz_Cat,SMALL(IF(Hazard=Engine!$Q126,ROW(Haz_Cat)-MIN(ROW(Haz_Cat))+1),COLUMNS($U128:AL128)),COLUMNS(Main!$D126:$E126)),\"\")","v":0},{"$f":"IFERROR(INDEX(Haz_Cat,SMALL(IF(Hazard=Engine!$Q126,ROW(Haz_Cat)-MIN(ROW(Haz_Cat))+1),COLUMNS($U128:AM128)),COLUMNS(Main!$D126:$E126)),\"\")","v":0},{"$f":"IFERROR(INDEX(Haz_Cat,SMALL(IF(Hazard=Engine!$Q126,ROW(Haz_Cat)-MIN(ROW(Haz_Cat))+1),COLUMNS($U128:AN128)),COLUMNS(Main!$D126:$E126)),\"\")","v":0},{"$f":"IFERROR(INDEX(Haz_Cat,SMALL(IF(Hazard=Engine!$Q126,ROW(Haz_Cat)-MIN(ROW(Haz_Cat))+1),COLUMNS($U128:AO128)),COLUMNS(Main!$D126:$E126)),\"\")","v":0},{"$f":"IFERROR(INDEX(Haz_Cat,SMALL(IF(Hazard=Engine!$Q126,ROW(Haz_Cat)-MIN(ROW(Haz_Cat))+1),COLUMNS($U128:AP128)),COLUMNS(Main!$D126:$E126)),\"\")","v":0},{"$f":"IFERROR(INDEX(Haz_Cat,SMALL(IF(Hazard=Engine!$Q126,ROW(Haz_Cat)-MIN(ROW(Haz_Cat))+1),COLUMNS($U128:AQ128)),COLUMNS(Main!$D126:$E126)),\"\")","v":0},{"$f":"IFERROR(INDEX(Haz_Cat,SMALL(IF(Hazard=Engine!$Q126,ROW(Haz_Cat)-MIN(ROW(Haz_Cat))+1),COLUMNS($U128:AR128)),COLUMNS(Main!$D126:$E126)),\"\")","v":0},{"$f":"IFERROR(INDEX(Haz_Cat,SMALL(IF(Hazard=Engine!$Q126,ROW(Haz_Cat)-MIN(ROW(Haz_Cat))+1),COLUMNS($U128:AS128)),COLUMNS(Main!$D126:$E126)),\"\")","v":0},{"$f":"IFERROR(INDEX(Haz_Cat,SMALL(IF(Hazard=Engine!$Q126,ROW(Haz_Cat)-MIN(ROW(Haz_Cat))+1),COLUMNS($U128:AT128)),COLUMNS(Main!$D126:$E126)),\"\")","v":0},{"$f":"IFERROR(INDEX(Haz_Cat,SMALL(IF(Hazard=Engine!$Q126,ROW(Haz_Cat)-MIN(ROW(Haz_Cat))+1),COLUMNS($U128:AU128)),COLUMNS(Main!$D126:$E126)),\"\")","v":0},{"$f":"IFERROR(INDEX(Haz_Cat,SMALL(IF(Hazard=Engine!$Q126,ROW(Haz_Cat)-MIN(ROW(Haz_Cat))+1),COLUMNS($U128:AV128)),COLUMNS(Main!$D126:$E126)),\"\")","v":0},null,{"$f":"INDIRECT(TEXT(MIN(IF(($U135:$AV140<>\"\")*(COUNTIF($AX125:$AX128,$U135:$AV140)=0),ROW($P135:$BM140)*100+COLUMN($U125:$AV153),7^8)),\"R0C00\"),)&\"\"","v":""},false,"","",{"$f":"COUNTIF(AZ126:AZ136,\"<=\"&AZ129)","v":0},{"$f":"IF(COUNTIF(BA126:BA136,\"<=\"&BA129)=0,\"\",COUNTIF(BA126:BA136,\"<=\"&BA129))","v":""},{"$f":"IFERROR(SMALL(AZ126:AZ136,ROWS(AX126:AX129)),\"\")","v":""},{"$f":"IFERROR(INDEX(BD126:BD147,SMALL(IF(BD126:BD147<>\"\",ROW(BD126:BD147)-MIN(ROW(BD126:BD147))+1),ROWS(AX126:AX129))),\"\")","v":""},null,{"$f":"+X144","v":0},{"$f":"COUNTIF($BG$2:BG129,\"*\"&BG129&\"*\")","v":0},"","",{"$f":"IFERROR(INDEX(BI$2:BI$308,MATCH(ROWS(BJ$2:BJ129),BJ$2:BJ$308,0)),\"\")","v":""},{"$f":"COUNTIF($BK129:$BK$308,\"*\"&BK129&\"*\")","v":180},"","",{"$f":"IFERROR(INDEX($BM$2:$BM$308,MATCH(ROWS(BN$2:BN129),BN$2:BN435,0)),\"\")","v":""},{"$f":"IFERROR(VLOOKUP(Engine!BO129,P_sentences_overview!H128:I259,2),\"\")","v":""}]
[null,null,null,null,null,null,null,null,null,null,null,null,null,null,null,{"$f":"INDEX(H_sentences_overview!$A$1:$A$134,Engine!P131)","v":"(none)"},null,{"$f":"INDEX(BE126:BE131,Engine!R131)","v":""},null,null,{"$f":"IFERROR(INDEX(Haz_Cat,SMALL(IF(Hazard=Engine!$Q126,ROW(Haz_Cat)-MIN(ROW(Haz_Cat))+1),COLUMNS($U128:U128)),COLUMNS(Main!$D126:$F126)),\"\")","v":0},{"$f":"IFERROR(INDEX(Haz_Cat,SMALL(IF(Hazard=Engine!$Q126,ROW(Haz_Cat)-MIN(ROW(Haz_Cat))+1),COLUMNS($U128:V128)),COLUMNS(Main!$D126:$F126)),\"\")","v":0},{"$f":"IFERROR(INDEX(Haz_Cat,SMALL(IF(Hazard=Engine!$Q126,ROW(Haz_Cat)-MIN(ROW(Haz_Cat))+1),COLUMNS($U128:W128)),COLUMNS(Main!$D126:$F126)),\"\")","v":0},{"$f":"IFERROR(INDEX(Haz_Cat,SMALL(IF(Hazard=Engine!$Q126,ROW(Haz_Cat)-MIN(ROW(Haz_Cat))+1),COLUMNS($U128:X128)),COLUMNS(Main!$D126:$F126)),\"\")","v":0},{"$f":"IFERROR(INDEX(Haz_Cat,SMALL(IF(Hazard=Engine!$Q126,ROW(Haz_Cat)-MIN(ROW(Haz_Cat))+1),COLUMNS($U128:Y128)),COLUMNS(Main!$D126:$F126)),\"\")","v":0},{"$f":"IFERROR(INDEX(Haz_Cat,SMALL(IF(Hazard=Engine!$Q126,ROW(Haz_Cat)-MIN(ROW(Haz_Cat))+1),COLUMNS($U128:Z128)),COLUMNS(Main!$D126:$F126)),\"\")","v":0},{"$f":"IFERROR(INDEX(Haz_Cat,SMALL(IF(Hazard=Engine!$Q126,ROW(Haz_Cat)-MIN(ROW(Haz_Cat))+1),COLUMNS($U128:AA128)),COLUMNS(Main!$D126:$F126)),\"\")","v":0},{"$f":"IFERROR(INDEX(Haz_Cat,SMALL(IF(Hazard=Engine!$Q126,ROW(Haz_Cat)-MIN(ROW(Haz_Cat))+1),COLUMNS($U128:AB128)),COLUMNS(Main!$D126:$F126)),\"\")","v":0},{"$f":"IFERROR(INDEX(Haz_Cat,SMALL(IF(Hazard=Engine!$Q126,ROW(Haz_Cat)-MIN(ROW(Haz_Cat))+1),COLUMNS($U128:AC128)),COLUMNS(Main!$D126:$F126)),\"\")","v":0},{"$f":"IFERROR(INDEX(Haz_Cat,SMALL(IF(Hazard=Engine!$Q126,ROW(Haz_Cat)-MIN(ROW(Haz_Cat))+1),COLUMNS($U128:AD128)),COLUMNS(Main!$D126:$F126)),\"\")","v":0},{"$f":"IFERROR(INDEX(Haz_Cat,SMALL(IF(Hazard=Engine!$Q126,ROW(Haz_Cat)-MIN(ROW(Haz_Cat))+1),COLUMNS($U128:AE128)),COLUMNS(Main!$D126:$F126)),\"\")","v":0},{"$f":"IFERROR(INDEX(Haz_Cat,SMALL(IF(Hazard=Engine!$Q126,ROW(Haz_Cat)-MIN(ROW(Haz_Cat))+1),COLUMNS($U128:AF128)),COLUMNS(Main!$D126:$F126)),\"\")","v":0},{"$f":"IFERROR(INDEX(Haz_Cat,SMALL(IF(Hazard=Engine!$Q126,ROW(Haz_Cat)-MIN(ROW(Haz_Cat))+1),COLUMNS($U128:AG128)),COLUMNS(Main!$D126:$F126)),\"\")","v":0},{"$f":"IFERROR(INDEX(Haz_Cat,SMALL(IF(Hazard=Engine!$Q126,ROW(Haz_Cat)-MIN(ROW(Haz_Cat))+1),COLUMNS($U128:AH128)),COLUMNS(Main!$D126:$F126)),\"\")","v":0},{"$f":"IFERROR(INDEX(Haz_Cat,SMALL(IF(Hazard=Engine!$Q126,ROW(Haz_Cat)-MIN(ROW(Haz_Cat))+1),COLUMNS($U128:AI128)),COLUMNS(Main!$D126:$F126)),\"\")","v":0},{"$f":"IFERROR(INDEX(Haz_Cat,SMALL(IF(Hazard=Engine!$Q126,ROW(Haz_Cat)-MIN(ROW(Haz_Cat))+1),COLUMNS($U128:AJ128)),COLUMNS(Main!$D126:$F126)),\"\")","v":0},{"$f":"IFERROR(INDEX(Haz_Cat,SMALL(IF(Hazard=Engine!$Q126,ROW(Haz_Cat)-MIN(ROW(Haz_Cat))+1),COLUMNS($U128:AK128)),COLUMNS(Main!$D126:$F126)),\"\")","v":0},{"$f":"IFERROR(INDEX(Haz_Cat,SMALL(IF(Hazard=Engine!$Q126,ROW(Haz_Cat)-MIN(ROW(Haz_Cat))+1),COLUMNS($U128:AL128)),COLUMNS(Main!$D126:$F126)),\"\")","v":0},{"$f":"IFERROR(INDEX(Haz_Cat,SMALL(IF(Hazard=Engine!$Q126,ROW(Haz_Cat)-MIN(ROW(Haz_Cat))+1),COLUMNS($U128:AM128)),COLUMNS(Main!$D126:$F126)),\"\")","v":0},{"$f":"IFERROR(INDEX(Haz_Cat,SMALL(IF(Hazard=Engine!$Q126,ROW(Haz_Cat)-MIN(ROW(Haz_Cat))+1),COLUMNS($U128:AN128)),COLUMNS(Main!$D126:$F126)),\"\")","v":0},{"$f":"IFERROR(INDEX(Haz_Cat,SMALL(IF(Hazard=Engine!$Q126,ROW(Haz_Cat)-MIN(ROW(Haz_Cat))+1),COLUMNS($U128:AO128)),COLUMNS(Main!$D126:$F126)),\"\")","v":0},{"$f":"IFERROR(INDEX(Haz_Cat,SMALL(IF(Hazard=Engine!$Q126,ROW(Haz_Cat)-MIN(ROW(Haz_Cat))+1),COLUMNS($U128:AP128)),COLUMNS(Main!$D126:$F126)),\"\")","v":0},{"$f":"IFERROR(INDEX(Haz_Cat,SMALL(IF(Hazard=Engine!$Q126,ROW(Haz_Cat)-MIN(ROW(Haz_Cat))+1),COLUMNS($U128:AQ128)),COLUMNS(Main!$D126:$F126)),\"\")","v":0},{"$f":"IFERROR(INDEX(Haz_Cat,SMALL(IF(Hazard=Engine!$Q126,ROW(Haz_Cat)-MIN(ROW(Haz_Cat))+1),COLUMNS($U128:AR128)),COLUMNS(Main!$D126:$F126)),\"\")","v":0},{"$f":"IFERROR(INDEX(Haz_Cat,SMALL(IF(Hazard=Engine!$Q126,ROW(Haz_Cat)-MIN(ROW(Haz_Cat))+1),COLUMNS($U128:AS128)),COLUMNS(Main!$D126:$F126)),\"\")","v":0},{"$f":"IFERROR(INDEX(Haz_Cat,SMALL(IF(Hazard=Engine!$Q126,ROW(Haz_Cat)-MIN(ROW(Haz_Cat))+1),COLUMNS($U128:AT128)),COLUMNS(Main!$D126:$F126)),\"\")","v":0},{"$f":"IFERROR(INDEX(Haz_Cat,SMALL(IF(Hazard=Engine!$Q126,ROW(Haz_Cat)-MIN(ROW(Haz_Cat))+1),COLUMNS($U128:AU128)),COLUMNS(Main!$D126:$F126)),\"\")","v":0},{"$f":"IFERROR(INDEX(Haz_Cat,SMALL(IF(Hazard=Engine!$Q126,ROW(Haz_Cat)-MIN(ROW(Haz_Cat))+1),COLUMNS($U128:AV128)),COLUMNS(Main!$D126:$F126)),\"\")","v":0},null,{"$f":"INDIRECT(TEXT(MIN(IF(($U135:$AV140<>\"\")*(COUNTIF($AX125:$AX129,$U135:$AV140)=0),ROW($P135:$BM140)*100+COLUMN($U125:$AV153),7^8)),\"R0C00\"),)&\"\"","v":""},false,"","",{"$f":"COUNTIF(AZ126:AZ136,\"<=\"&AZ130)","v":0},{"$f":"IF(COUNTIF(BA126:BA136,\"<=\"&BA130)=0,\"\",COUNTIF(BA126:BA136,\"<=\"&BA130))","v":""},{"$f":"IFERROR(SMALL(AZ126:AZ136,ROWS(AX126:AX130)),\"\")","v":""},{"$f":"IFERROR(INDEX(BD126:BD147,SMALL(IF(BD126:BD147<>\"\",ROW(BD126:BD147)-MIN(ROW(BD126:BD147))+1),ROWS(AX126:AX130))),\"\")","v":""},null,{"$f":"+Y144","v":0},{"$f":"COUNTIF($BG$2:BG130,\"*\"&BG130&\"*\")","v":0},"","",{"$f":"IFERROR(INDEX(BI$2:BI$308,MATCH(ROWS(BJ$2:BJ130),BJ$2:BJ$308,0)),\"\")","v":""},{"$f":"COUNTIF($BK130:$BK$308,\"*\"&BK130&\"*\")","v":179},"","",{"$f":"IFERROR(INDEX($BM$2:$BM$308,MATCH(ROWS(BN$2:BN130),BN$2:BN436,0)),\"\")","v":""},{"$f":"IFERROR(VLOOKUP(Engine!BO130,P_sentences_overview!H129:I260,2),\"\")","v":""}]
[null,null,null,null,null,null,null,null,null,null,null,null,null,null,null,1,null,4,null,null,{"$f":"IFERROR(INDEX(Haz_Cat,SMALL(IF(Hazard=Engine!$Q126,ROW(Haz_Cat)-MIN(ROW(Haz_Cat))+1),COLUMNS($U128:U128)),COLUMNS(Main!$D126:$G126)),\"\")","v":0},{"$f":"IFERROR(INDEX(Haz_Cat,SMALL(IF(Hazard=Engine!$Q126,ROW(Haz_Cat)-MIN(ROW(Haz_Cat))+1),COLUMNS($U128:V128)),COLUMNS(Main!$D126:$G126)),\"\")","v":0},{"$f":"IFERROR(INDEX(Haz_Cat,SMALL(IF(Hazard=Engine!$Q126,ROW(Haz_Cat)-MIN(ROW(Haz_Cat))+1),COLUMNS($U128:W128)),COLUMNS(Main!$D126:$G126)),\"\")","v":0},{"$f":"IFERROR(INDEX(Haz_Cat,SMALL(IF(Hazard=Engine!$Q126,ROW(Haz_Cat)-MIN(ROW(Haz_Cat))+1),COLUMNS($U128:X128)),COLUMNS(Main!$D126:$G126)),\"\")","v":0},{"$f":"IFERROR(INDEX(Haz_Cat,SMALL(IF(Hazard=Engine!$Q126,ROW(Haz_Cat)-MIN(ROW(Haz_Cat))+1),COLUMNS($U128:Y128)),COLUMNS(Main!$D126:$G126)),\"\")","v":0},{"$f":"IFERROR(INDEX(Haz_Cat,SMALL(IF(Hazard=Engine!$Q126,ROW(Haz_Cat)-MIN(ROW(Haz_Cat))+1),COLUMNS($U128:Z128)),COLUMNS(Main!$D126:$G126)),\"\")","v":0},{"$f":"IFERROR(INDEX(Haz_Cat,SMALL(IF(Hazard=Engine!$Q126,ROW(Haz_Cat)-MIN(ROW(Haz_Cat))+1),COLUMNS($U128:AA128)),COLUMNS(Main!$D126:$G126)),\"\")","v":0},{"$f":"IFERROR(INDEX(Haz_Cat,SMALL(IF(Hazard=Engine!$Q126,ROW(Haz_Cat)-MIN(ROW(Haz_Cat))+1),COLUMNS($U128:AB128)),COLUMNS(Main!$D126:$G126)),\"\")","v":0},{"$f":"IFERROR(INDEX(Haz_Cat,SMALL(IF(Hazard=Engine!$Q126,ROW(Haz_Cat)-MIN(ROW(Haz_Cat))+1),COLUMNS($U128:AC128)),COLUMNS(Main!$D126:$G126)),\"\")","v":0},{"$f":"IFERROR(INDEX(Haz_Cat,SMALL(IF(Hazard=Engine!$Q126,ROW(Haz_Cat)-MIN(ROW(Haz_Cat))+1),COLUMNS($U128:AD128)),COLUMNS(Main!$D126:$G126)),\"\")","v":0},{"$f":"IFERROR(INDEX(Haz_Cat,SMALL(IF(Hazard=Engine!$Q126,ROW(Haz_Cat)-MIN(ROW(Haz_Cat))+1),COLUMNS($U128:AE128)),COLUMNS(Main!$D126:$G126)),\"\")","v":0},{"$f":"IFERROR(INDEX(Haz_Cat,SMALL(IF(Hazard=Engine!$Q126,ROW(Haz_Cat)-MIN(ROW(Haz_Cat))+1),COLUMNS($U128:AF128)),COLUMNS(Main!$D126:$G126)),\"\")","v":0},{"$f":"IFERROR(INDEX(Haz_Cat,SMALL(IF(Hazard=Engine!$Q126,ROW(Haz_Cat)-MIN(ROW(Haz_Cat))+1),COLUMNS($U128:AG128)),COLUMNS(Main!$D126:$G126)),\"\")","v":0},{"$f":"IFERROR(INDEX(Haz_Cat,SMALL(IF(Hazard=Engine!$Q126,ROW(Haz_Cat)-MIN(ROW(Haz_Cat))+1),COLUMNS($U128:AH128)),COLUMNS(Main!$D126:$G126)),\"\")","v":0},{"$f":"IFERROR(INDEX(Haz_Cat,SMALL(IF(Hazard=Engine!$Q126,ROW(Haz_Cat)-MIN(ROW(Haz_Cat))+1),COLUMNS($U128:AI128)),COLUMNS(Main!$D126:$G126)),\"\")","v":0},{"$f":"IFERROR(INDEX(Haz_Cat,SMALL(IF(Hazard=Engine!$Q126,ROW(Haz_Cat)-MIN(ROW(Haz_Cat))+1),COLUMNS($U128:AJ128)),COLUMNS(Main!$D126:$G126)),\"\")","v":0},{"$f":"IFERROR(INDEX(Haz_Cat,SMALL(IF(Hazard=Engine!$Q126,ROW(Haz_Cat)-MIN(ROW(Haz_Cat))+1),COLUMNS($U128:AK128)),COLUMNS(Main!$D126:$G126)),\"\")","v":0},{"$f":"IFERROR(INDEX(Haz_Cat,SMALL(IF(Hazard=Engine!$Q126,ROW(Haz_Cat)-MIN(ROW(Haz_Cat))+1),COLUMNS($U128:AL128)),COLUMNS(Main!$D126:$G126)),\"\")","v":0},{"$f":"IFERROR(INDEX(Haz_Cat,SMALL(IF(Hazard=Engine!$Q126,ROW(Haz_Cat)-MIN(ROW(Haz_Cat))+1),COLUMNS($U128:AM128)),COLUMNS(Main!$D126:$G126)),\"\")","v":0},{"$f":"IFERROR(INDEX(Haz_Cat,SMALL(IF(Hazard=Engine!$Q126,ROW(Haz_Cat)-MIN(ROW(Haz_Cat))+1),COLUMNS($U128:AN128)),COLUMNS(Main!$D126:$G126)),\"\")","v":0},{"$f":"IFERROR(INDEX(Haz_Cat,SMALL(IF(Hazard=Engine!$Q126,ROW(Haz_Cat)-MIN(ROW(Haz_Cat))+1),COLUMNS($U128:AO128)),COLUMNS(Main!$D126:$G126)),\"\")","v":0},{"$f":"IFERROR(INDEX(Haz_Cat,SMALL(IF(Hazard=Engine!$Q126,ROW(Haz_Cat)-MIN(ROW(Haz_Cat))+1),COLUMNS($U128:AP128)),COLUMNS(Main!$D126:$G126)),\"\")","v":0},{"$f":"IFERROR(INDEX(Haz_Cat,SMALL(IF(Hazard=Engine!$Q126,ROW(Haz_Cat)-MIN(ROW(Haz_Cat))+1),COLUMNS($U128:AQ128)),COLUMNS(Main!$D126:$G126)),\"\")","v":0},{"$f":"IFERROR(INDEX(Haz_Cat,SMALL(IF(Hazard=Engine!$Q126,ROW(Haz_Cat)-MIN(ROW(Haz_Cat))+1),COLUMNS($U128:AR128)),COLUMNS(Main!$D126:$G126)),\"\")","v":0},{"$f":"IFERROR(INDEX(Haz_Cat,SMALL(IF(Hazard=Engine!$Q126,ROW(Haz_Cat)-MIN(ROW(Haz_Cat))+1),COLUMNS($U128:AS128)),COLUMNS(Main!$D126:$G126)),\"\")","v":0},{"$f":"IFERROR(INDEX(Haz_Cat,SMALL(IF(Hazard=Engine!$Q126,ROW(Haz_Cat)-MIN(ROW(Haz_Cat))+1),COLUMNS($U128:AT128)),COLUMNS(Main!$D126:$G126)),\"\")","v":0},{"$f":"IFERROR(INDEX(Haz_Cat,SMALL(IF(Hazard=Engine!$Q126,ROW(Haz_Cat)-MIN(ROW(Haz_Cat))+1),COLUMNS($U128:AU128)),COLUMNS(Main!$D126:$G126)),\"\")","v":0},{"$f":"IFERROR(INDEX(Haz_Cat,SMALL(IF(Hazard=Engine!$Q126,ROW(Haz_Cat)-MIN(ROW(Haz_Cat))+1),COLUMNS($U128:AV128)),COLUMNS(Main!$D126:$G126)),\"\")","v":0},null,{"$f":"INDIRECT(TEXT(MIN(IF(($U135:$AV140<>\"\")*(COUNTIF($AX125:$AX130,$U135:$AV140)=0),ROW($P135:$BM140)*100+COLUMN($U125:$AV153),7^8)),\"R0C00\"),)&\"\"","v":""},false,"","",{"$f":"COUNTIF(AZ126:AZ136,\"<=\"&AZ131)","v":0},{"$f":"IF(COUNTIF(BA126:BA136,\"<=\"&BA131)=0,\"\",COUNTIF(BA126:BA136,\"<=\"&BA131))","v":""},{"$f":"IFERROR(SMALL(AZ126:AZ136,ROWS(AX126:AX131)),\"\")","v":""},{"$f":"IFERROR(INDEX(BD126:BD147,SMALL(IF(BD126:BD147<>\"\",ROW(BD126:BD147)-MIN(ROW(BD126:BD147))+1),ROWS(AX126:AX131))),\"\")","v":""},null,{"$f":"+Z144","v":0},{"$f":"COUNTIF($BG$2:BG131,\"*\"&BG131&\"*\")","v":0},"",{"$f":"IF(COUNTIF($BI$2:$BI$308,\"<=\"&BI131)=0,\"\",COUNTIF($BI$2:$BI$308,\"<=\"&BI131)-COUNTBLANK($BI$2:$BI$308))","v":""},{"$f":"IFERROR(INDEX(BI$2:BI$308,MATCH(ROWS(BJ$2:BJ131),BJ$2:BJ$308,0)),\"\")","v":""},{"$f":"COUNTIF($BK131:$BK$308,\"*\"&BK131&\"*\")","v":178},{"$f":"IF(BL131=1,BK131,\"\")","v":""},{"$f":"IF(COUNTIF(BM$2:BM$308,\"<=\"&BM131)=0,\"\",COUNTIF(BM$2:BM$308,\"<=\"&BM131)-COUNTBLANK(BM$2:BM$308))","v":""},{"$f":"IFERROR(INDEX($BM$2:$BM$308,MATCH(ROWS(BN$2:BN131),BN$2:BN437,0)),\"\")","v":""},{"$f":"IFERROR(VLOOKUP(Engine!BO131,P_sentences_overview!H130:I261,2),\"\")","v":""}]
[null,null,null,null,null,null,null,null,null,null,null,null,null,null,null,null,null,null,null,null,{"$f":"IFERROR(INDEX(Haz_Cat,SMALL(IF(Hazard=Engine!$Q126,ROW(Haz_Cat)-MIN(ROW(Haz_Cat))+1),COLUMNS($U128:U128)),COLUMNS(Main!$D126:$H126)),\"\")","v":0},{"$f":"IFERROR(INDEX(Haz_Cat,SMALL(IF(Hazard=Engine!$Q126,ROW(Haz_Cat)-MIN(ROW(Haz_Cat))+1),COLUMNS($U128:V128)),COLUMNS(Main!$D126:$H126)),\"\")","v":0},{"$f":"IFERROR(INDEX(Haz_Cat,SMALL(IF(Hazard=Engine!$Q126,ROW(Haz_Cat)-MIN(ROW(Haz_Cat))+1),COLUMNS($U128:W128)),COLUMNS(Main!$D126:$H126)),\"\")","v":0},{"$f":"IFERROR(INDEX(Haz_Cat,SMALL(IF(Hazard=Engine!$Q126,ROW(Haz_Cat)-MIN(ROW(Haz_Cat))+1),COLUMNS($U128:X128)),COLUMNS(Main!$D126:$H126)),\"\")","v":0},{"$f":"IFERROR(INDEX(Haz_Cat,SMALL(IF(Hazard=Engine!$Q126,ROW(Haz_Cat)-MIN(ROW(Haz_Cat))+1),COLUMNS($U128:Y128)),COLUMNS(Main!$D126:$H126)),\"\")","v":0},{"$f":"IFERROR(INDEX(Haz_Cat,SMALL(IF(Hazard=Engine!$Q126,ROW(Haz_Cat)-MIN(ROW(Haz_Cat))+1),COLUMNS($U128:Z128)),COLUMNS(Main!$D126:$H126)),\"\")","v":0},{"$f":"IFERROR(INDEX(Haz_Cat,SMALL(IF(Hazard=Engine!$Q126,ROW(Haz_Cat)-MIN(ROW(Haz_Cat))+1),COLUMNS($U128:AA128)),COLUMNS(Main!$D126:$H126)),\"\")","v":0},{"$f":"IFERROR(INDEX(Haz_Cat,SMALL(IF(Hazard=Engine!$Q126,ROW(Haz_Cat)-MIN(ROW(Haz_Cat))+1),COLUMNS($U128:AB128)),COLUMNS(Main!$D126:$H126)),\"\")","v":0},{"$f":"IFERROR(INDEX(Haz_Cat,SMALL(IF(Hazard=Engine!$Q126,ROW(Haz_Cat)-MIN(ROW(Haz_Cat))+1),COLUMNS($U128:AC128)),COLUMNS(Main!$D126:$H126)),\"\")","v":0},{"$f":"IFERROR(INDEX(Haz_Cat,SMALL(IF(Hazard=Engine!$Q126,ROW(Haz_Cat)-MIN(ROW(Haz_Cat))+1),COLUMNS($U128:AD128)),COLUMNS(Main!$D126:$H126)),\"\")","v":0},{"$f":"IFERROR(INDEX(Haz_Cat,SMALL(IF(Hazard=Engine!$Q126,ROW(Haz_Cat)-MIN(ROW(Haz_Cat))+1),COLUMNS($U128:AE128)),COLUMNS(Main!$D126:$H126)),\"\")","v":0},{"$f":"IFERROR(INDEX(Haz_Cat,SMALL(IF(Hazard=Engine!$Q126,ROW(Haz_Cat)-MIN(ROW(Haz_Cat))+1),COLUMNS($U128:AF128)),COLUMNS(Main!$D126:$H126)),\"\")","v":0},{"$f":"IFERROR(INDEX(Haz_Cat,SMALL(IF(Hazard=Engine!$Q126,ROW(Haz_Cat)-MIN(ROW(Haz_Cat))+1),COLUMNS($U128:AG128)),COLUMNS(Main!$D126:$H126)),\"\")","v":0},{"$f":"IFERROR(INDEX(Haz_Cat,SMALL(IF(Hazard=Engine!$Q126,ROW(Haz_Cat)-MIN(ROW(Haz_Cat))+1),COLUMNS($U128:AH128)),COLUMNS(Main!$D126:$H126)),\"\")","v":0},{"$f":"IFERROR(INDEX(Haz_Cat,SMALL(IF(Hazard=Engine!$Q126,ROW(Haz_Cat)-MIN(ROW(Haz_Cat))+1),COLUMNS($U128:AI128)),COLUMNS(Main!$D126:$H126)),\"\")","v":0},{"$f":"IFERROR(INDEX(Haz_Cat,SMALL(IF(Hazard=Engine!$Q126,ROW(Haz_Cat)-MIN(ROW(Haz_Cat))+1),COLUMNS($U128:AJ128)),COLUMNS(Main!$D126:$H126)),\"\")","v":0},{"$f":"IFERROR(INDEX(Haz_Cat,SMALL(IF(Hazard=Engine!$Q126,ROW(Haz_Cat)-MIN(ROW(Haz_Cat))+1),COLUMNS($U128:AK128)),COLUMNS(Main!$D126:$H126)),\"\")","v":0},{"$f":"IFERROR(INDEX(Haz_Cat,SMALL(IF(Hazard=Engine!$Q126,ROW(Haz_Cat)-MIN(ROW(Haz_Cat))+1),COLUMNS($U128:AL128)),COLUMNS(Main!$D126:$H126)),\"\")","v":0},{"$f":"IFERROR(INDEX(Haz_Cat,SMALL(IF(Hazard=Engine!$Q126,ROW(Haz_Cat)-MIN(ROW(Haz_Cat))+1),COLUMNS($U128:AM128)),COLUMNS(Main!$D126:$H126)),\"\")","v":0},{"$f":"IFERROR(INDEX(Haz_Cat,SMALL(IF(Hazard=Engine!$Q126,ROW(Haz_Cat)-MIN(ROW(Haz_Cat))+1),COLUMNS($U128:AN128)),COLUMNS(Main!$D126:$H126)),\"\")","v":0},{"$f":"IFERROR(INDEX(Haz_Cat,SMALL(IF(Hazard=Engine!$Q126,ROW(Haz_Cat)-MIN(ROW(Haz_Cat))+1),COLUMNS($U128:AO128)),COLUMNS(Main!$D126:$H126)),\"\")","v":0},{"$f":"IFERROR(INDEX(Haz_Cat,SMALL(IF(Hazard=Engine!$Q126,ROW(Haz_Cat)-MIN(ROW(Haz_Cat))+1),COLUMNS($U128:AP128)),COLUMNS(Main!$D126:$H126)),\"\")","v":0},{"$f":"IFERROR(INDEX(Haz_Cat,SMALL(IF(Hazard=Engine!$Q126,ROW(Haz_Cat)-MIN(ROW(Haz_Cat))+1),COLUMNS($U128:AQ128)),COLUMNS(Main!$D126:$H126)),\"\")","v":0},{"$f":"IFERROR(INDEX(Haz_Cat,SMALL(IF(Hazard=Engine!$Q126,ROW(Haz_Cat)-MIN(ROW(Haz_Cat))+1),COLUMNS($U128:AR128)),COLUMNS(Main!$D126:$H126)),\"\")","v":0},{"$f":"IFERROR(INDEX(Haz_Cat,SMALL(IF(Hazard=Engine!$Q126,ROW(Haz_Cat)-MIN(ROW(Haz_Cat))+1),COLUMNS($U128:AS128)),COLUMNS(Main!$D126:$H126)),\"\")","v":0},{"$f":"IFERROR(INDEX(Haz_Cat,SMALL(IF(Hazard=Engine!$Q126,ROW(Haz_Cat)-MIN(ROW(Haz_Cat))+1),COLUMNS($U128:AT128)),COLUMNS(Main!$D126:$H126)),\"\")","v":0},{"$f":"IFERROR(INDEX(Haz_Cat,SMALL(IF(Hazard=Engine!$Q126,ROW(Haz_Cat)-MIN(ROW(Haz_Cat))+1),COLUMNS($U128:AU128)),COLUMNS(Main!$D126:$H126)),\"\")","v":0},{"$f":"IFERROR(INDEX(Haz_Cat,SMALL(IF(Hazard=Engine!$Q126,ROW(Haz_Cat)-MIN(ROW(Haz_Cat))+1),COLUMNS($U128:AV128)),COLUMNS(Main!$D126:$H126)),\"\")","v":0},null,{"$f":"INDIRECT(TEXT(MIN(IF(($U135:$AV140<>\"\")*(COUNTIF($AX125:$AX131,$U135:$AV140)=0),ROW($P135:$BM140)*100+COLUMN($U125:$AV153),7^8)),\"R0C00\"),)&\"\"","v":""},false,"","",{"$f":"COUNTIF(AZ126:AZ136,\"<=\"&AZ132)","v":0},{"$f":"IF(COUNTIF(BA126:BA136,\"<=\"&BA132)=0,\"\",COUNTIF(BA126:BA136,\"<=\"&BA132))","v":""},{"$f":"IFERROR(SMALL(AZ126:AZ136,ROWS(AX126:AX132)),\"\")","v":""},{"$f":"IFERROR(INDEX(BD126:BD147,SMALL(IF(BD126:BD147<>\"\",ROW(BD126:BD147)-MIN(ROW(BD126:BD147))+1),ROWS(AX126:AX132))),\"\")","v":""},null,{"$f":"+AA144","v":0},{"$f":"COUNTIF($BG$2:BG132,\"*\"&BG132&\"*\")","v":0},"","",{"$f":"IFERROR(INDEX(BI$2:BI$308,MATCH(ROWS(BJ$2:BJ132),BJ$2:BJ$308,0)),\"\")","v":""},{"$f":"COUNTIF($BK132:$BK$308,\"*\"&BK132&\"*\")","v":177},"","",{"$f":"IFERROR(INDEX($BM$2:$BM$308,MATCH(ROWS(BN$2:BN132),BN$2:BN438,0)),\"\")","v":""},{"$f":"IFERROR(VLOOKUP(Engine!BO132,P_sentences_overview!H131:I262,2),\"\")","v":""}]
[null,null,null,null,null,null,null,null,null,null,null,null,null,null,null,null,null,null,null,null,{"$f":"IFERROR(INDEX(Haz_Cat,SMALL(IF(Hazard=Engine!$Q126,ROW(Haz_Cat)-MIN(ROW(Haz_Cat))+1),COLUMNS($U128:U128)),COLUMNS(Main!$D126:$I126)),\"\")","v":0},{"$f":"IFERROR(INDEX(Haz_Cat,SMALL(IF(Hazard=Engine!$Q126,ROW(Haz_Cat)-MIN(ROW(Haz_Cat))+1),COLUMNS($U128:V128)),COLUMNS(Main!$D126:$I126)),\"\")","v":0},{"$f":"IFERROR(INDEX(Haz_Cat,SMALL(IF(Hazard=Engine!$Q126,ROW(Haz_Cat)-MIN(ROW(Haz_Cat))+1),COLUMNS($U128:W128)),COLUMNS(Main!$D126:$I126)),\"\")","v":0},{"$f":"IFERROR(INDEX(Haz_Cat,SMALL(IF(Hazard=Engine!$Q126,ROW(Haz_Cat)-MIN(ROW(Haz_Cat))+1),COLUMNS($U128:X128)),COLUMNS(Main!$D126:$I126)),\"\")","v":0},{"$f":"IFERROR(INDEX(Haz_Cat,SMALL(IF(Hazard=Engine!$Q126,ROW(Haz_Cat)-MIN(ROW(Haz_Cat))+1),COLUMNS($U128:Y128)),COLUMNS(Main!$D126:$I126)),\"\")","v":0},{"$f":"IFERROR(INDEX(Haz_Cat,SMALL(IF(Hazard=Engine!$Q126,ROW(Haz_Cat)-MIN(ROW(Haz_Cat))+1),COLUMNS($U128:Z128)),COLUMNS(Main!$D126:$I126)),\"\")","v":0},{"$f":"IFERROR(INDEX(Haz_Cat,SMALL(IF(Hazard=Engine!$Q126,ROW(Haz_Cat)-MIN(ROW(Haz_Cat))+1),COLUMNS($U128:AA128)),COLUMNS(Main!$D126:$I126)),\"\")","v":0},{"$f":"IFERROR(INDEX(Haz_Cat,SMALL(IF(Hazard=Engine!$Q126,ROW(Haz_Cat)-MIN(ROW(Haz_Cat))+1),COLUMNS($U128:AB128)),COLUMNS(Main!$D126:$I126)),\"\")","v":0},{"$f":"IFERROR(INDEX(Haz_Cat,SMALL(IF(Hazard=Engine!$Q126,ROW(Haz_Cat)-MIN(ROW(Haz_Cat))+1),COLUMNS($U128:AC128)),COLUMNS(Main!$D126:$I126)),\"\")","v":0},{"$f":"IFERROR(INDEX(Haz_Cat,SMALL(IF(Hazard=Engine!$Q126,ROW(Haz_Cat)-MIN(ROW(Haz_Cat))+1),COLUMNS($U128:AD128)),COLUMNS(Main!$D126:$I126)),\"\")","v":0},{"$f":"IFERROR(INDEX(Haz_Cat,SMALL(IF(Hazard=Engine!$Q126,ROW(Haz_Cat)-MIN(ROW(Haz_Cat))+1),COLUMNS($U128:AE128)),COLUMNS(Main!$D126:$I126)),\"\")","v":0},{"$f":"IFERROR(INDEX(Haz_Cat,SMALL(IF(Hazard=Engine!$Q126,ROW(Haz_Cat)-MIN(ROW(Haz_Cat))+1),COLUMNS($U128:AF128)),COLUMNS(Main!$D126:$I126)),\"\")","v":0},{"$f":"IFERROR(INDEX(Haz_Cat,SMALL(IF(Hazard=Engine!$Q126,ROW(Haz_Cat)-MIN(ROW(Haz_Cat))+1),COLUMNS($U128:AG128)),COLUMNS(Main!$D126:$I126)),\"\")","v":0},{"$f":"IFERROR(INDEX(Haz_Cat,SMALL(IF(Hazard=Engine!$Q126,ROW(Haz_Cat)-MIN(ROW(Haz_Cat))+1),COLUMNS($U128:AH128)),COLUMNS(Main!$D126:$I126)),\"\")","v":0},{"$f":"IFERROR(INDEX(Haz_Cat,SMALL(IF(Hazard=Engine!$Q126,ROW(Haz_Cat)-MIN(ROW(Haz_Cat))+1),COLUMNS($U128:AI128)),COLUMNS(Main!$D126:$I126)),\"\")","v":0},{"$f":"IFERROR(INDEX(Haz_Cat,SMALL(IF(Hazard=Engine!$Q126,ROW(Haz_Cat)-MIN(ROW(Haz_Cat))+1),COLUMNS($U128:AJ128)),COLUMNS(Main!$D126:$I126)),\"\")","v":0},{"$f":"IFERROR(INDEX(Haz_Cat,SMALL(IF(Hazard=Engine!$Q126,ROW(Haz_Cat)-MIN(ROW(Haz_Cat))+1),COLUMNS($U128:AK128)),COLUMNS(Main!$D126:$I126)),\"\")","v":0},{"$f":"IFERROR(INDEX(Haz_Cat,SMALL(IF(Hazard=Engine!$Q126,ROW(Haz_Cat)-MIN(ROW(Haz_Cat))+1),COLUMNS($U128:AL128)),COLUMNS(Main!$D126:$I126)),\"\")","v":0},{"$f":"IFERROR(INDEX(Haz_Cat,SMALL(IF(Hazard=Engine!$Q126,ROW(Haz_Cat)-MIN(ROW(Haz_Cat))+1),COLUMNS($U128:AM128)),COLUMNS(Main!$D126:$I126)),\"\")","v":0},{"$f":"IFERROR(INDEX(Haz_Cat,SMALL(IF(Hazard=Engine!$Q126,ROW(Haz_Cat)-MIN(ROW(Haz_Cat))+1),COLUMNS($U128:AN128)),COLUMNS(Main!$D126:$I126)),\"\")","v":0},{"$f":"IFERROR(INDEX(Haz_Cat,SMALL(IF(Hazard=Engine!$Q126,ROW(Haz_Cat)-MIN(ROW(Haz_Cat))+1),COLUMNS($U128:AO128)),COLUMNS(Main!$D126:$I126)),\"\")","v":0},{"$f":"IFERROR(INDEX(Haz_Cat,SMALL(IF(Hazard=Engine!$Q126,ROW(Haz_Cat)-MIN(ROW(Haz_Cat))+1),COLUMNS($U128:AP128)),COLUMNS(Main!$D126:$I126)),\"\")","v":0},{"$f":"IFERROR(INDEX(Haz_Cat,SMALL(IF(Hazard=Engine!$Q126,ROW(Haz_Cat)-MIN(ROW(Haz_Cat))+1),COLUMNS($U128:AQ128)),COLUMNS(Main!$D126:$I126)),\"\")","v":0},{"$f":"IFERROR(INDEX(Haz_Cat,SMALL(IF(Hazard=Engine!$Q126,ROW(Haz_Cat)-MIN(ROW(Haz_Cat))+1),COLUMNS($U128:AR128)),COLUMNS(Main!$D126:$I126)),\"\")","v":0},{"$f":"IFERROR(INDEX(Haz_Cat,SMALL(IF(Hazard=Engine!$Q126,ROW(Haz_Cat)-MIN(ROW(Haz_Cat))+1),COLUMNS($U128:AS128)),COLUMNS(Main!$D126:$I126)),\"\")","v":0},{"$f":"IFERROR(INDEX(Haz_Cat,SMALL(IF(Hazard=Engine!$Q126,ROW(Haz_Cat)-MIN(ROW(Haz_Cat))+1),COLUMNS($U128:AT128)),COLUMNS(Main!$D126:$I126)),\"\")","v":0},{"$f":"IFERROR(INDEX(Haz_Cat,SMALL(IF(Hazard=Engine!$Q126,ROW(Haz_Cat)-MIN(ROW(Haz_Cat))+1),COLUMNS($U128:AU128)),COLUMNS(Main!$D126:$I126)),\"\")","v":0},{"$f":"IFERROR(INDEX(Haz_Cat,SMALL(IF(Hazard=Engine!$Q126,ROW(Haz_Cat)-MIN(ROW(Haz_Cat))+1),COLUMNS($U128:AV128)),COLUMNS(Main!$D126:$I126)),\"\")","v":0},null,{"$f":"INDIRECT(TEXT(MIN(IF(($U135:$AV140<>\"\")*(COUNTIF($AX125:$AX132,$U135:$AV140)=0),ROW($P135:$BM140)*100+COLUMN($U125:$AV153),7^8)),\"R0C00\"),)&\"\"","v":""},false,"","",{"$f":"COUNTIF(AZ126:AZ136,\"<=\"&AZ133)","v":0},{"$f":"IF(COUNTIF(BA126:BA136,\"<=\"&BA133)=0,\"\",COUNTIF(BA126:BA136,\"<=\"&BA133))","v":""},{"$f":"IFERROR(SMALL(AZ126:AZ136,ROWS(AX126:AX133)),\"\")","v":""},{"$f":"IFERROR(INDEX(BD126:BD147,SMALL(IF(BD126:BD147<>\"\",ROW(BD126:BD147)-MIN(ROW(BD126:BD147))+1),ROWS(AX126:AX133))),\"\")","v":""},null,{"$f":"+AB144","v":0},{"$f":"COUNTIF($BG$2:BG133,\"*\"&BG133&\"*\")","v":0},"","",{"$f":"IFERROR(INDEX(BI$2:BI$308,MATCH(ROWS(BJ$2:BJ133),BJ$2:BJ$308,0)),\"\")","v":""},{"$f":"COUNTIF($BK133:$BK$308,\"*\"&BK133&\"*\")","v":176},"","",{"$f":"IFERROR(INDEX($BM$2:$BM$308,MATCH(ROWS(BN$2:BN133),BN$2:BN439,0)),\"\")","v":""},{"$f":"IFERROR(VLOOKUP(Engine!BO133,P_sentences_overview!H132:I263,2),\"\")","v":""}]
[null,null,null,null,null,null,null,null,null,null,null,null,null,null,null,null,null,null,null,null,null,null,null,null,null,null,null,null,null,null,null,null,null,null,null,null,null,null,null,null,null,null,null,null,null,null,null,null,null,{"$f":"INDIRECT(TEXT(MIN(IF(($U135:$AV140<>\"\")*(COUNTIF($AX125:$AX133,$U135:$AV140)=0),ROW($P135:$BM140)*100+COLUMN($U125:$AV153),7^8)),\"R0C00\"),)&\"\"","v":""},false,"","",{"$f":"COUNTIF(AZ126:AZ136,\"<=\"&AZ134)","v":0},{"$f":"IF(COUNTIF(BA126:BA136,\"<=\"&BA134)=0,\"\",COUNTIF(BA126:BA136,\"<=\"&BA134))","v":""},{"$f":"IFERROR(SMALL(AZ126:AZ136,ROWS(AX126:AX134)),\"\")","v":""},{"$f":"IFERROR(INDEX(BD126:BD147,SMALL(IF(BD126:BD147<>\"\",ROW(BD126:BD147)-MIN(ROW(BD126:BD147))+1),ROWS(AX126:AX134))),\"\")","v":""},null,{"$f":"+AC144","v":0},{"$f":"COUNTIF($BG$2:BG134,\"*\"&BG134&\"*\")","v":0},"","",{"$f":"IFERROR(INDEX(BI$2:BI$308,MATCH(ROWS(BJ$2:BJ134),BJ$2:BJ$308,0)),\"\")","v":""},{"$f":"COUNTIF($BK134:$BK$308,\"*\"&BK134&\"*\")","v":175},"","",{"$f":"IFERROR(INDEX($BM$2:$BM$308,MATCH(ROWS(BN$2:BN134),BN$2:BN440,0)),\"\")","v":""},{"$f":"IFERROR(VLOOKUP(Engine!BO134,P_sentences_overview!H133:I264,2),\"\")","v":""}]
[null,null,null,null,null,null,null,null,null,null,null,null,null,null,null,null,null,null,null,null,{"$f":"+IF(U128=0,\"\",U128)","v":""},"","","","","","","","","","","","","","","","","","","","","","","","","","","",null,{"$f":"INDIRECT(TEXT(MIN(IF(($U135:$AV140<>\"\")*(COUNTIF($AX125:$AX134,$U135:$AV140)=0),ROW($P135:$BM140)*100+COLUMN($U125:$AV153),7^8)),\"R0C00\"),)&\"\"","v":""},false,"","",{"$f":"COUNTIF(AZ126:AZ136,\"<=\"&AZ135)","v":0},{"$f":"IF(COUNTIF(BA126:BA136,\"<=\"&BA135)=0,\"\",COUNTIF(BA126:BA136,\"<=\"&BA135))","v":""},{"$f":"IFERROR(SMALL(AZ126:AZ136,ROWS(AX126:AX135)),\"\")","v":""},{"$f":"IFERROR(INDEX(BD126:BD147,SMALL(IF(BD126:BD147<>\"\",ROW(BD126:BD147)-MIN(ROW(BD126:BD147))+1),ROWS(AX126:AX135))),\"\")","v":""},null,{"$f":"+AD144","v":0},{"$f":"COUNTIF($BG$2:BG135,\"*\"&BG135&\"*\")","v":0},"","",{"$f":"IFERROR(INDEX(BI$2:BI$308,MATCH(ROWS(BJ$2:BJ135),BJ$2:BJ$308,0)),\"\")","v":""},{"$f":"COUNTIF($BK135:$BK$308,\"*\"&BK135&\"*\")","v":174},"","",{"$f":"IFERROR(INDEX($BM$2:$BM$308,MATCH(ROWS(BN$2:BN135),BN$2:BN441,0)),\"\")","v":""},{"$f":"IFERROR(VLOOKUP(Engine!BO135,P_sentences_overview!H134:I265,2),\"\")","v":""}]
[null,null,null,null,null,null,null,null,null,null,null,null,null,null,null,null,null,null,null,null,{"$f":"+IF(U129=0,\"\",U129)","v":""},"","","","","","","","","","","","","","","","","","","","","","","","","","","",null,{"$f":"INDIRECT(TEXT(MIN(IF(($U135:$AV140<>\"\")*(COUNTIF($AX125:$AX135,$U135:$AV140)=0),ROW($P135:$BM140)*100+COLUMN($U125:$AV153),7^8)),\"R0C00\"),)&\"\"","v":""},false,"","",{"$f":"COUNTIF(AZ126:AZ136,\"<=\"&AZ136)","v":0},{"$f":"IF(COUNTIF(BA126:BA136,\"<=\"&BA136)=0,\"\",COUNTIF(BA126:BA136,\"<=\"&BA136))","v":""},{"$f":"IFERROR(SMALL(AZ126:AZ136,ROWS(AX126:AX136)),\"\")","v":""},{"$f":"IFERROR(INDEX(BD126:BD147,SMALL(IF(BD126:BD147<>\"\",ROW(BD126:BD147)-MIN(ROW(BD126:BD147))+1),ROWS(AX126:AX136))),\"\")","v":""},null,{"$f":"+AE144","v":0},{"$f":"COUNTIF($BG$2:BG136,\"*\"&BG136&\"*\")","v":0},"","",{"$f":"IFERROR(INDEX(BI$2:BI$308,MATCH(ROWS(BJ$2:BJ136),BJ$2:BJ$308,0)),\"\")","v":""},{"$f":"COUNTIF($BK136:$BK$308,\"*\"&BK136&\"*\")","v":173},"","",{"$f":"IFERROR(INDEX($BM$2:$BM$308,MATCH(ROWS(BN$2:BN136),BN$2:BN442,0)),\"\")","v":""},{"$f":"IFERROR(VLOOKUP(Engine!BO136,P_sentences_overview!H135:I266,2),\"\")","v":""}]
[null,null,null,null,null,null,null,null,null,null,null,null,null,null,null,null,null,null,null,null,{"$f":"+IF(U130=0,\"\",U130)","v":""},"","","","","","","","","","","","","","","","","","","","","","","","","","","",null,null,null,null,null,null,null,{"$f":"IFERROR(INDEX(BA126:BA136,MATCH(SMALL(BC126:BC136,ROWS(BA126:BA126)),BC126:BC136,)),\"\")","v":""},{"$f":"IFERROR(INDEX(BD126:BD147,SMALL(IF(BD126:BD147<>\"\",ROW(BD126:BD147)-MIN(ROW(BD126:BD147))+1),ROWS(AX126:AX137))),\"\")","v":""},null,{"$f":"+AF144","v":0},{"$f":"COUNTIF($BG$2:BG137,\"*\"&BG137&\"*\")","v":0},"","",{"$f":"IFERROR(INDEX(BI$2:BI$308,MATCH(ROWS(BJ$2:BJ137),BJ$2:BJ$308,0)),\"\")","v":""},{"$f":"COUNTIF($BK137:$BK$308,\"*\"&BK137&\"*\")","v":172},"","",{"$f":"IFERROR(INDEX($BM$2:$BM$308,MATCH(ROWS(BN$2:BN137),BN$2:BN443,0)),\"\")","v":""},{"$f":"IFERROR(VLOOKUP(Engine!BO137,P_sentences_overview!H136:I267,2),\"\")","v":""}]
[null,null,null,null,null,null,null,null,null,null,null,null,null,null,null,null,null,null,null,null,{"$f":"+IF(U131=0,\"\",U131)","v":""},"","","","","","","","","","","","","","","","","","","","","","","","","","","",null,null,null,null,null,null,null,{"$f":"IFERROR(INDEX(BA126:BA136,MATCH(SMALL(BC126:BC136,ROWS(BA126:BA127)),BC126:BC136,)),\"\")","v":""},{"$f":"IFERROR(INDEX(BD126:BD147,SMALL(IF(BD126:BD147<>\"\",ROW(BD126:BD147)-MIN(ROW(BD126:BD147))+1),ROWS(AX126:AX138))),\"\")","v":""},null,{"$f":"+AG144","v":0},{"$f":"COUNTIF($BG$2:BG138,\"*\"&BG138&\"*\")","v":0},"","",{"$f":"IFERROR(INDEX(BI$2:BI$308,MATCH(ROWS(BJ$2:BJ138),BJ$2:BJ$308,0)),\"\")","v":""},{"$f":"COUNTIF($BK138:$BK$308,\"*\"&BK138&\"*\")","v":171},"","",{"$f":"IFERROR(INDEX($BM$2:$BM$308,MATCH(ROWS(BN$2:BN138),BN$2:BN444,0)),\"\")","v":""},{"$f":"IFERROR(VLOOKUP(Engine!BO138,P_sentences_overview!H137:I268,2),\"\")","v":""}]
[null,null,null,null,null,null,null,null,null,null,null,null,null,null,null,null,null,null,null,null,{"$f":"+IF(U132=0,\"\",U132)","v":""},"","","","","","","","","","","","","","","","","","","","","","","","","","","",null,null,null,null,null,null,null,{"$f":"IFERROR(INDEX(BA126:BA136,MATCH(SMALL(BC126:BC136,ROWS(BA126:BA128)),BC126:BC136,)),\"\")","v":""},{"$f":"IFERROR(INDEX(BD126:BD147,SMALL(IF(BD126:BD147<>\"\",ROW(BD126:BD147)-MIN(ROW(BD126:BD147))+1),ROWS(AX126:AX139))),\"\")","v":""},null,{"$f":"+AH144","v":0},{"$f":"COUNTIF($BG$2:BG139,\"*\"&BG139&\"*\")","v":0},"","",{"$f":"IFERROR(INDEX(BI$2:BI$308,MATCH(ROWS(BJ$2:BJ139),BJ$2:BJ$308,0)),\"\")","v":""},{"$f":"COUNTIF($BK139:$BK$308,\"*\"&BK139&\"*\")","v":170},"","",{"$f":"IFERROR(INDEX($BM$2:$BM$308,MATCH(ROWS(BN$2:BN139),BN$2:BN445,0)),\"\")","v":""},{"$f":"IFERROR(VLOOKUP(Engine!BO139,P_sentences_overview!H138:I269,2),\"\")","v":""}]
[null,null,null,null,null,null,null,null,null,null,null,null,null,null,null,null,null,null,null,null,{"$f":"+IF(U133=0,\"\",U133)","v":""},"","","","","","","","","","","","","","","","","","","","","","","","","","","",null,null,null,null,null,null,null,{"$f":"IFERROR(INDEX(BA126:BA136,MATCH(SMALL(BC126:BC136,ROWS(BA126:BA129)),BC126:BC136,)),\"\")","v":""},{"$f":"IFERROR(INDEX(BD126:BD147,SMALL(IF(BD126:BD147<>\"\",ROW(BD126:BD147)-MIN(ROW(BD126:BD147))+1),ROWS(AX126:AX140))),\"\")","v":""},null,{"$f":"+AI144","v":0},{"$f":"COUNTIF($BG$2:BG140,\"*\"&BG140&\"*\")","v":0},"","",{"$f":"IFERROR(INDEX(BI$2:BI$308,MATCH(ROWS(BJ$2:BJ140),BJ$2:BJ$308,0)),\"\")","v":""},{"$f":"COUNTIF($BK140:$BK$308,\"*\"&BK140&\"*\")","v":169},"","",{"$f":"IFERROR(INDEX($BM$2:$BM$308,MATCH(ROWS(BN$2:BN140),BN$2:BN446,0)),\"\")","v":""},{"$f":"IFERROR(VLOOKUP(Engine!BO140,P_sentences_overview!H139:I270,2),\"\")","v":""}]
[null,null,null,null,null,null,null,null,null,null,null,null,null,null,null,null,null,null,null,null,null,null,null,null,null,null,null,null,null,null,null,null,null,null,null,null,null,null,null,null,null,null,null,null,null,null,null,null,null,null,null,null,null,null,null,{"$f":"IFERROR(INDEX(BA126:BA136,MATCH(SMALL(BC126:BC136,ROWS(BA126:BA130)),BC126:BC136,)),\"\")","v":""},{"$f":"IFERROR(INDEX(BD126:BD147,SMALL(IF(BD126:BD147<>\"\",ROW(BD126:BD147)-MIN(ROW(BD126:BD147))+1),ROWS(AX126:AX141))),\"\")","v":""},null,{"$f":"+AJ144","v":0},{"$f":"COUNTIF($BG$2:BG141,\"*\"&BG141&\"*\")","v":0},"","",{"$f":"IFERROR(INDEX(BI$2:BI$308,MATCH(ROWS(BJ$2:BJ141),BJ$2:BJ$308,0)),\"\")","v":""},{"$f":"COUNTIF($BK141:$BK$308,\"*\"&BK141&\"*\")","v":168},"","",{"$f":"IFERROR(INDEX($BM$2:$BM$308,MATCH(ROWS(BN$2:BN141),BN$2:BN447,0)),\"\")","v":""},{"$f":"IFERROR(VLOOKUP(Engine!BO141,P_sentences_overview!H140:I271,2),\"\")","v":""}]
[null,null,null,null,null,null,null,null,null,null,null,null,null,null,null,null,null,null,null,null,{"$f":"IF(ISNUMBER(MATCH($R126,U135:U140,0)),U126,\"\")","v":0},{"$f":"IF(ISNUMBER(MATCH($R126,V135:V140,0)),V126,\"\")","v":0},0,0,0,0,0,0,0,0,0,0,0,0,0,0,0,0,0,0,0,0,0,0,0,0,0,0,null,null,null,null,null,null,null,{"$f":"IFERROR(INDEX(BA126:BA136,MATCH(SMALL(BC126:BC136,ROWS(BA126:BA131)),BC126:BC136,)),\"\")","v":""},{"$f":"IFERROR(INDEX(BD126:BD147,SMALL(IF(BD126:BD147<>\"\",ROW(BD126:BD147)-MIN(ROW(BD126:BD147))+1),ROWS(AX126:AX142))),\"\")","v":""},null,{"$f":"+AK144","v":0},{"$f":"COUNTIF($BG$2:BG142,\"*\"&BG142&\"*\")","v":0},"","",{"$f":"IFERROR(INDEX(BI$2:BI$308,MATCH(ROWS(BJ$2:BJ142),BJ$2:BJ$308,0)),\"\")","v":""},{"$f":"COUNTIF($BK142:$BK$308,\"*\"&BK142&\"*\")","v":167},"","",{"$f":"IFERROR(INDEX($BM$2:$BM$308,MATCH(ROWS(BN$2:BN142),BN$2:BN448,0)),\"\")","v":""},{"$f":"IFERROR(VLOOKUP(Engine!BO142,P_sentences_overview!H141:I272,2),\"\")","v":""}]
[null,null,null,null,null,null,null,null,null,null,null,null,null,null,null,null,null,null,null,null,null,null,null,null,null,null,null,null,null,null,null,null,null,null,null,null,null,null,null,null,null,null,null,null,null,null,null,null,null,null,null,null,null,null,null,{"$f":"IFERROR(INDEX(BA126:BA136,MATCH(SMALL(BC126:BC136,ROWS(BA126:BA132)),BC126:BC136,)),\"\")","v":""},{"$f":"IFERROR(INDEX(BD126:BD147,SMALL(IF(BD126:BD147<>\"\",ROW(BD126:BD147)-MIN(ROW(BD126:BD147))+1),ROWS(AX126:AX143))),\"\")","v":""},null,{"$f":"+AL144","v":0},{"$f":"COUNTIF($BG$2:BG143,\"*\"&BG143&\"*\")","v":0},"","",{"$f":"IFERROR(INDEX(BI$2:BI$308,MATCH(ROWS(BJ$2:BJ143),BJ$2:BJ$308,0)),\"\")","v":""},{"$f":"COUNTIF($BK143:$BK$308,\"*\"&BK143&\"*\")","v":166},"","",{"$f":"IFERROR(INDEX($BM$2:$BM$308,MATCH(ROWS(BN$2:BN143),BN$2:BN449,0)),\"\")","v":""},{"$f":"IFERROR(VLOOKUP(Engine!BO143,P_sentences_overview!H142:I273,2),\"\")","v":""}]
[null,null,null,null,null,null,null,null,null,null,null,null,null,null,null,null,null,null,null,null,{"$f":"IFERROR(INDEX(U142:AV142,1,SMALL(IF(U142:AV142<>\"\",COLUMN(U142:AV142)-MIN(COLUMN(U142:AV142))+1),COLUMNS($U$2:U126))),\"\")","v":0},{"$f":"IFERROR(INDEX(U142:AV142,1,SMALL(IF(U142:AV142<>\"\",COLUMN(U142:AV142)-MIN(COLUMN(U142:AV142))+1),COLUMNS($U$2:V126))),\"\")","v":0},{"$f":"IFERROR(INDEX(U142:AV142,1,SMALL(IF(U142:AV142<>\"\",COLUMN(U142:AV142)-MIN(COLUMN(U142:AV142))+1),COLUMNS($U$2:W126))),\"\")","v":0},{"$f":"IFERROR(INDEX(U142:AV142,1,SMALL(IF(U142:AV142<>\"\",COLUMN(U142:AV142)-MIN(COLUMN(U142:AV142))+1),COLUMNS($U$2:X126))),\"\")","v":0},{"$f":"IFERROR(INDEX(U142:AV142,1,SMALL(IF(U142:AV142<>\"\",COLUMN(U142:AV142)-MIN(COLUMN(U142:AV142))+1),COLUMNS($U$2:Y126))),\"\")","v":0},{"$f":"IFERROR(INDEX(U142:AV142,1,SMALL(IF(U142:AV142<>\"\",COLUMN(U142:AV142)-MIN(COLUMN(U142:AV142))+1),COLUMNS($U$2:Z126))),\"\")","v":0},{"$f":"IFERROR(INDEX(U142:AV142,1,SMALL(IF(U142:AV142<>\"\",COLUMN(U142:AV142)-MIN(COLUMN(U142:AV142))+1),COLUMNS($U$2:AA126))),\"\")","v":0},{"$f":"IFERROR(INDEX(U142:AV142,1,SMALL(IF(U142:AV142<>\"\",COLUMN(U142:AV142)-MIN(COLUMN(U142:AV142))+1),COLUMNS($U$2:AB126))),\"\")","v":0},{"$f":"IFERROR(INDEX(U142:AV142,1,SMALL(IF(U142:AV142<>\"\",COLUMN(U142:AV142)-MIN(COLUMN(U142:AV142))+1),COLUMNS($U$2:AC126))),\"\")","v":0},{"$f":"IFERROR(INDEX(U142:AV142,1,SMALL(IF(U142:AV142<>\"\",COLUMN(U142:AV142)-MIN(COLUMN(U142:AV142))+1),COLUMNS($U$2:AD126))),\"\")","v":0},{"$f":"IFERROR(INDEX(U142:AV142,1,SMALL(IF(U142:AV142<>\"\",COLUMN(U142:AV142)-MIN(COLUMN(U142:AV142))+1),COLUMNS($U$2:AE126))),\"\")","v":0},{"$f":"IFERROR(INDEX(U142:AV142,1,SMALL(IF(U142:AV142<>\"\",COLUMN(U142:AV142)-MIN(COLUMN(U142:AV142))+1),COLUMNS($U$2:AF126))),\"\")","v":0},{"$f":"IFERROR(INDEX(U142:AV142,1,SMALL(IF(U142:AV142<>\"\",COLUMN(U142:AV142)-MIN(COLUMN(U142:AV142))+1),COLUMNS($U$2:AG126))),\"\")","v":0},{"$f":"IFERROR(INDEX(U142:AV142,1,SMALL(IF(U142:AV142<>\"\",COLUMN(U142:AV142)-MIN(COLUMN(U142:AV142))+1),COLUMNS($U$2:AH126))),\"\")","v":0},{"$f":"IFERROR(INDEX(U142:AV142,1,SMALL(IF(U142:AV142<>\"\",COLUMN(U142:AV142)-MIN(COLUMN(U142:AV142))+1),COLUMNS($U$2:AI126))),\"\")","v":0},{"$f":"IFERROR(INDEX(U142:AV142,1,SMALL(IF(U142:AV142<>\"\",COLUMN(U142:AV142)-MIN(COLUMN(U142:AV142))+1),COLUMNS($U$2:AJ126))),\"\")","v":0},{"$f":"IFERROR(INDEX(U142:AV142,1,SMALL(IF(U142:AV142<>\"\",COLUMN(U142:AV142)-MIN(COLUMN(U142:AV142))+1),COLUMNS($U$2:AK126))),\"\")","v":0},{"$f":"IFERROR(INDEX(U142:AV142,1,SMALL(IF(U142:AV142<>\"\",COLUMN(U142:AV142)-MIN(COLUMN(U142:AV142))+1),COLUMNS($U$2:AL126))),\"\")","v":0},{"$f":"IFERROR(INDEX(U142:AV142,1,SMALL(IF(U142:AV142<>\"\",COLUMN(U142:AV142)-MIN(COLUMN(U142:AV142))+1),COLUMNS($U$2:AM126))),\"\")","v":0},{"$f":"IFERROR(INDEX(U142:AV142,1,SMALL(IF(U142:AV142<>\"\",COLUMN(U142:AV142)-MIN(COLUMN(U142:AV142))+1),COLUMNS($U$2:AN126))),\"\")","v":0},{"$f":"IFERROR(INDEX(U142:AV142,1,SMALL(IF(U142:AV142<>\"\",COLUMN(U142:AV142)-MIN(COLUMN(U142:AV142))+1),COLUMNS($U$2:AO126))),\"\")","v":0},{"$f":"IFERROR(INDEX(U142:AV142,1,SMALL(IF(U142:AV142<>\"\",COLUMN(U142:AV142)-MIN(COLUMN(U142:AV142))+1),COLUMNS($U$2:AP126))),\"\")","v":0},{"$f":"IFERROR(INDEX(U142:AV142,1,SMALL(IF(U142:AV142<>\"\",COLUMN(U142:AV142)-MIN(COLUMN(U142:AV142))+1),COLUMNS($U$2:AQ126))),\"\")","v":0},{"$f":"IFERROR(INDEX(U142:AV142,1,SMALL(IF(U142:AV142<>\"\",COLUMN(U142:AV142)-MIN(COLUMN(U142:AV142))+1),COLUMNS($U$2:AR126))),\"\")","v":0},{"$f":"IFERROR(INDEX(U142:AV142,1,SMALL(IF(U142:AV142<>\"\",COLUMN(U142:AV142)-MIN(COLUMN(U142:AV142))+1),COLUMNS($U$2:AS126))),\"\")","v":0},{"$f":"IFERROR(INDEX(U142:AV142,1,SMALL(IF(U142:AV142<>\"\",COLUMN(U142:AV142)-MIN(COLUMN(U142:AV142))+1),COLUMNS($U$2:AT126))),\"\")","v":0},{"$f":"IFERROR(INDEX(U142:AV142,1,SMALL(IF(U142:AV142<>\"\",COLUMN(U142:AV142)-MIN(COLUMN(U142:AV142))+1),COLUMNS($U$2:AU126))),\"\")","v":0},{"$f":"IFERROR(INDEX(U142:AV142,1,SMALL(IF(U142:AV142<>\"\",COLUMN(U142:AV142)-MIN(COLUMN(U142:AV142))+1),COLUMNS($U$2:AV126))),\"\")","v":0},null,null,null,null,null,null,null,{"$f":"IFERROR(INDEX(BA126:BA136,MATCH(SMALL(BC126:BC136,ROWS(BA126:BA133)),BC126:BC136,)),\"\")","v":""},{"$f":"IFERROR(INDEX(BD126:BD147,SMALL(IF(BD126:BD147<>\"\",ROW(BD126:BD147)-MIN(ROW(BD126:BD147))+1),ROWS(AX126:AX144))),\"\")","v":""},null,{"$f":"+AM144","v":0},{"$f":"COUNTIF($BG$2:BG144,\"*\"&BG144&\"*\")","v":0},"","",{"$f":"IFERROR(INDEX(BI$2:BI$308,MATCH(ROWS(BJ$2:BJ144),BJ$2:BJ$308,0)),\"\")","v":""},{"$f":"COUNTIF($BK144:$BK$308,\"*\"&BK144&\"*\")","v":165},"","",{"$f":"IFERROR(INDEX($BM$2:$BM$308,MATCH(ROWS(BN$2:BN144),BN$2:BN450,0)),\"\")","v":""},{"$f":"IFERROR(VLOOKUP(Engine!BO144,P_sentences_overview!H143:I274,2),\"\")","v":""}]
[null,null,null,null,null,null,null,null,null,null,null,null,null,null,null,null,null,null,null,null,null,null,null,null,null,null,null,null,null,null,null,null,null,null,null,null,null,null,null,null,null,null,null,null,null,null,null,null,null,null,null,null,null,null,null,{"$f":"IFERROR(INDEX(BA126:BA136,MATCH(SMALL(BC126:BC136,ROWS(BA126:BA134)),BC126:BC136,)),\"\")","v":""},{"$f":"IFERROR(INDEX(BD126:BD147,SMALL(IF(BD126:BD147<>\"\",ROW(BD126:BD147)-MIN(ROW(BD126:BD147))+1),ROWS(AX126:AX145))),\"\")","v":""},null,{"$f":"+AN144","v":0},{"$f":"COUNTIF($BG$2:BG145,\"*\"&BG145&\"*\")","v":0},"","",{"$f":"IFERROR(INDEX(BI$2:BI$308,MATCH(ROWS(BJ$2:BJ145),BJ$2:BJ$308,0)),\"\")","v":""},{"$f":"COUNTIF($BK145:$BK$308,\"*\"&BK145&\"*\")","v":164},"","",{"$f":"IFERROR(INDEX($BM$2:$BM$308,MATCH(ROWS(BN$2:BN145),BN$2:BN451,0)),\"\")","v":""},{"$f":"IFERROR(VLOOKUP(Engine!BO145,P_sentences_overview!H144:I275,2),\"\")","v":""}]
[null,null,null,null,null,null,null,null,null,null,null,null,null,null,null,null,null,null,null,null,null,null,null,null,null,null,null,null,null,null,null,null,null,null,null,null,null,null,null,null,null,null,null,null,null,null,null,null,null,null,null,null,null,null,null,{"$f":"IFERROR(INDEX(BA126:BA136,MATCH(SMALL(BC126:BC136,ROWS(BA126:BA135)),BC126:BC136,)),\"\")","v":""},{"$f":"IFERROR(INDEX(BD126:BD147,SMALL(IF(BD126:BD147<>\"\",ROW(BD126:BD147)-MIN(ROW(BD126:BD147))+1),ROWS(AX126:AX146))),\"\")","v":""},null,{"$f":"+AO144","v":0},{"$f":"COUNTIF($BG$2:BG146,\"*\"&BG146&\"*\")","v":0},"","",{"$f":"IFERROR(INDEX(BI$2:BI$308,MATCH(ROWS(BJ$2:BJ146),BJ$2:BJ$308,0)),\"\")","v":""},{"$f":"COUNTIF($BK146:$BK$308,\"*\"&BK146&\"*\")","v":163},"","",{"$f":"IFERROR(INDEX($BM$2:$BM$308,MATCH(ROWS(BN$2:BN146),BN$2:BN452,0)),\"\")","v":""},{"$f":"IFERROR(VLOOKUP(Engine!BO146,P_sentences_overview!H145:I276,2),\"\")","v":""}]
[null,null,null,null,null,null,null,null,null,null,null,null,null,null,null,null,null,null,null,null,null,null,null,null,null,null,null,null,null,null,null,null,null,null,null,null,null,null,null,null,null,null,null,null,null,null,null,null,null,null,null,null,null,null,null,{"$f":"IFERROR(INDEX(BA126:BA136,MATCH(SMALL(BC126:BC136,ROWS(BA126:BA136)),BC126:BC136,)),\"\")","v":""},{"$f":"IFERROR(INDEX(BD126:BD147,SMALL(IF(BD126:BD147<>\"\",ROW(BD126:BD147)-MIN(ROW(BD126:BD147))+1),ROWS(AX126:AX147))),\"\")","v":""},null,{"$f":"+AP144","v":0},{"$f":"COUNTIF($BG$2:BG147,\"*\"&BG147&\"*\")","v":0},"","",{"$f":"IFERROR(INDEX(BI$2:BI$308,MATCH(ROWS(BJ$2:BJ147),BJ$2:BJ$308,0)),\"\")","v":""},{"$f":"COUNTIF($BK147:$BK$308,\"*\"&BK147&\"*\")","v":162},"","",{"$f":"IFERROR(INDEX($BM$2:$BM$308,MATCH(ROWS(BN$2:BN147),BN$2:BN453,0)),\"\")","v":""},{"$f":"IFERROR(VLOOKUP(Engine!BO147,P_sentences_overview!H146:I277,2),\"\")","v":""}]
[null,null,null,null,null,null,null,null,null,null,null,null,null,null,null,null,null,null,null,null,null,null,null,null,null,null,null,null,null,null,null,null,null,null,null,null,null,null,null,null,null,null,null,null,null,null,null,null,null,null,null,null,null,null,null,null,null,null,{"$f":"+AQ144","v":0},{"$f":"COUNTIF($BG$2:BG148,\"*\"&BG148&\"*\")","v":0},"","",{"$f":"IFERROR(INDEX(BI$2:BI$308,MATCH(ROWS(BJ$2:BJ148),BJ$2:BJ$308,0)),\"\")","v":""},{"$f":"COUNTIF($BK148:$BK$308,\"*\"&BK148&\"*\")","v":161},"","",{"$f":"IFERROR(INDEX($BM$2:$BM$308,MATCH(ROWS(BN$2:BN148),BN$2:BN454,0)),\"\")","v":""},{"$f":"IFERROR(VLOOKUP(Engine!BO148,P_sentences_overview!H147:I278,2),\"\")","v":""}]
[null,null,null,null,null,null,null,null,null,null,null,null,null,null,null,null,null,null,null,null,null,null,null,null,null,null,null,null,null,null,null,null,null,null,null,null,null,null,null,null,null,null,null,null,null,null,null,null,null,null,null,null,null,null,null,null,null,null,{"$f":"+AR144","v":0},{"$f":"COUNTIF($BG$2:BG149,\"*\"&BG149&\"*\")","v":0},"","",{"$f":"IFERROR(INDEX(BI$2:BI$308,MATCH(ROWS(BJ$2:BJ149),BJ$2:BJ$308,0)),\"\")","v":""},{"$f":"COUNTIF($BK149:$BK$308,\"*\"&BK149&\"*\")","v":160},"","",{"$f":"IFERROR(INDEX($BM$2:$BM$308,MATCH(ROWS(BN$2:BN149),BN$2:BN455,0)),\"\")","v":""},{"$f":"IFERROR(VLOOKUP(Engine!BO149,P_sentences_overview!H148:I279,2),\"\")","v":""}]
[null,null,null,null,null,null,null,null,null,null,null,null,null,null,null,null,null,null,null,null,null,null,null,null,null,null,null,null,null,null,null,null,null,null,null,null,null,null,null,null,null,null,null,null,null,null,null,null,null,null,null,null,null,null,null,null,null,null,{"$f":"+AS144","v":0},{"$f":"COUNTIF($BG$2:BG150,\"*\"&BG150&\"*\")","v":0},"","",{"$f":"IFERROR(INDEX(BI$2:BI$308,MATCH(ROWS(BJ$2:BJ150),BJ$2:BJ$308,0)),\"\")","v":""},{"$f":"COUNTIF($BK150:$BK$308,\"*\"&BK150&\"*\")","v":159},"","",{"$f":"IFERROR(INDEX($BM$2:$BM$308,MATCH(ROWS(BN$2:BN150),BN$2:BN456,0)),\"\")","v":""},{"$f":"IFERROR(VLOOKUP(Engine!BO150,P_sentences_overview!H149:I280,2),\"\")","v":""}]
[null,null,null,null,null,null,null,null,null,null,null,null,null,null,null,null,null,null,null,null,null,null,null,null,null,null,null,null,null,null,null,null,null,null,null,null,null,null,null,null,null,null,null,null,null,null,null,null,null,null,null,null,null,null,null,null,null,null,{"$f":"+AT144","v":0},{"$f":"COUNTIF($BG$2:BG151,\"*\"&BG151&\"*\")","v":0},"","",{"$f":"IFERROR(INDEX(BI$2:BI$308,MATCH(ROWS(BJ$2:BJ151),BJ$2:BJ$308,0)),\"\")","v":""},{"$f":"COUNTIF($BK151:$BK$308,\"*\"&BK151&\"*\")","v":158},"","",{"$f":"IFERROR(INDEX($BM$2:$BM$308,MATCH(ROWS(BN$2:BN151),BN$2:BN457,0)),\"\")","v":""},{"$f":"IFERROR(VLOOKUP(Engine!BO151,P_sentences_overview!H150:I281,2),\"\")","v":""}]
[null,null,null,null,null,null,null,null,null,null,null,null,null,null,null,null,null,null,null,null,null,null,null,null,null,null,null,null,null,null,null,null,null,null,null,null,null,null,null,null,null,null,null,null,null,null,null,null,null,null,null,null,null,null,null,null,null,null,{"$f":"+AU144","v":0},{"$f":"COUNTIF($BG$2:BG152,\"*\"&BG152&\"*\")","v":0},"","",{"$f":"IFERROR(INDEX(BI$2:BI$308,MATCH(ROWS(BJ$2:BJ152),BJ$2:BJ$308,0)),\"\")","v":""},{"$f":"COUNTIF($BK152:$BK$308,\"*\"&BK152&\"*\")","v":157},"","",{"$f":"IFERROR(INDEX($BM$2:$BM$308,MATCH(ROWS(BN$2:BN152),BN$2:BN458,0)),\"\")","v":""},{"$f":"IFERROR(VLOOKUP(Engine!BO152,P_sentences_overview!H151:I282,2),\"\")","v":""}]
[null,null,null,null,null,null,null,null,null,null,null,null,null,null,null,null,null,null,null,null,null,null,null,null,null,null,null,null,null,null,null,null,null,null,null,null,null,null,null,null,null,null,null,null,null,null,null,null,null,null,null,null,null,null,null,null,null,null,{"$f":"+AV144","v":0},{"$f":"COUNTIF($BG$2:BG153,\"*\"&BG153&\"*\")","v":0},"","",{"$f":"IFERROR(INDEX(BI$2:BI$308,MATCH(ROWS(BJ$2:BJ153),BJ$2:BJ$308,0)),\"\")","v":""},{"$f":"COUNTIF($BK153:$BK$308,\"*\"&BK153&\"*\")","v":156},"","",{"$f":"IFERROR(INDEX($BM$2:$BM$308,MATCH(ROWS(BN$2:BN153),BN$2:BN459,0)),\"\")","v":""},{"$f":"IFERROR(VLOOKUP(Engine!BO153,P_sentences_overview!H152:I283,2),\"\")","v":""}]
[null,null,null,null,null,null,null,null,null,null,null,null,null,null,null,null,null,null,null,null,null,null,null,null,null,null,null,null,null,null,null,null,null,null,null,null,null,null,null,null,null,null,null,null,null,null,null,null,null,null,null,null,null,null,null,null,null,null,null,{"$f":"COUNTIF($BG$2:BG154,\"*\"&BG154&\"*\")","v":0},"","",{"$f":"IFERROR(INDEX(BI$2:BI$308,MATCH(ROWS(BJ$2:BJ154),BJ$2:BJ$308,0)),\"\")","v":""},{"$f":"COUNTIF($BK154:$BK$308,\"*\"&BK154&\"*\")","v":155},"","",{"$f":"IFERROR(INDEX($BM$2:$BM$308,MATCH(ROWS(BN$2:BN154),BN$2:BN460,0)),\"\")","v":""},{"$f":"IFERROR(VLOOKUP(Engine!BO154,P_sentences_overview!H153:I284,2),\"\")","v":""}]
[null,null,null,null,null,null,null,null,null,null,null,null,null,null,null,null,null,null,null,null,null,null,null,null,null,null,null,null,null,null,null,null,null,null,null,null,null,null,null,null,null,null,null,null,null,null,null,null,null,null,null,null,null,null,null,null,null,null,null,{"$f":"COUNTIF($BG$2:BG155,\"*\"&BG155&\"*\")","v":0},"","",{"$f":"IFERROR(INDEX(BI$2:BI$308,MATCH(ROWS(BJ$2:BJ155),BJ$2:BJ$308,0)),\"\")","v":""},{"$f":"COUNTIF($BK155:$BK$308,\"*\"&BK155&\"*\")","v":154},"","",{"$f":"IFERROR(INDEX($BM$2:$BM$308,MATCH(ROWS(BN$2:BN155),BN$2:BN461,0)),\"\")","v":""},{"$f":"IFERROR(VLOOKUP(Engine!BO155,P_sentences_overview!H154:I285,2),\"\")","v":""}]
[null,null,null,null,null,null,null,null,null,null,null,null,null,null,null,"Vælg  Hazard code","Opslag Hazard category","Vælg Hazard class","Opslag Hazard category","Opslag Hazard class","Column1","Column2","Column3","Column4",null,null,null,null,null,null,null,null,null,null,null,null,null,null,null,null,null,null,null,null,null,null,null,null,null,"Unique values","Number check","numbers_pull","text_pull","numbers_pull_rated","text_pull_rated","All_sorted","All_sorted_top",null,null,{"$f":"COUNTIF($BG$2:BG156,\"*\"&BG156&\"*\")","v":0},"","",{"$f":"IFERROR(INDEX(BI$2:BI$308,MATCH(ROWS(BJ$2:BJ156),BJ$2:BJ$308,0)),\"\")","v":""},{"$f":"COUNTIF($BK156:$BK$308,\"*\"&BK156&\"*\")","v":153},"","",{"$f":"IFERROR(INDEX($BM$2:$BM$308,MATCH(ROWS(BN$2:BN156),BN$2:BN462,0)),\"\")","v":""},{"$f":"IFERROR(VLOOKUP(Engine!BO156,P_sentences_overview!H155:I286,2),\"\")","v":""}]
[null,null,null,null,null,null,null,null,null,null,null,null,null,null,null,{"$f":"INDEX(H_sentences_overview!$A$1:$A$134,Engine!P162)","v":"(none)"},{"$f":"IFERROR(VLOOKUP(P157,H_sentences_overview!$A$2:$D$161,3),\"\")","v":""},{"$f":"INDEX(BE157:BE178,Engine!R162)","v":""},null,null,{"$f":"IFERROR(INDEX(P_saetn,SMALL(IF(Hazard=Engine!$Q157,ROW(P_saetn)-MIN(ROW(P_saetn))+1),COLUMNS($U157:U157))),\"\")","v":0},{"$f":"IFERROR(INDEX(P_saetn,SMALL(IF(Hazard=Engine!$Q157,ROW(P_saetn)-MIN(ROW(P_saetn))+1),COLUMNS($U157:V157))),\"\")","v":0},{"$f":"IFERROR(INDEX(P_saetn,SMALL(IF(Hazard=Engine!$Q157,ROW(P_saetn)-MIN(ROW(P_saetn))+1),COLUMNS($U157:W157))),\"\")","v":0},{"$f":"IFERROR(INDEX(P_saetn,SMALL(IF(Hazard=Engine!$Q157,ROW(P_saetn)-MIN(ROW(P_saetn))+1),COLUMNS($U157:X157))),\"\")","v":0},{"$f":"IFERROR(INDEX(P_saetn,SMALL(IF(Hazard=Engine!$Q157,ROW(P_saetn)-MIN(ROW(P_saetn))+1),COLUMNS($U157:Y157))),\"\")","v":0},{"$f":"IFERROR(INDEX(P_saetn,SMALL(IF(Hazard=Engine!$Q157,ROW(P_saetn)-MIN(ROW(P_saetn))+1),COLUMNS($U157:Z157))),\"\")","v":0},{"$f":"IFERROR(INDEX(P_saetn,SMALL(IF(Hazard=Engine!$Q157,ROW(P_saetn)-MIN(ROW(P_saetn))+1),COLUMNS($U157:AA157))),\"\")","v":0},{"$f":"IFERROR(INDEX(P_saetn,SMALL(IF(Hazard=Engine!$Q157,ROW(P_saetn)-MIN(ROW(P_saetn))+1),COLUMNS($U157:AB157))),\"\")","v":0},{"$f":"IFERROR(INDEX(P_saetn,SMALL(IF(Hazard=Engine!$Q157,ROW(P_saetn)-MIN(ROW(P_saetn))+1),COLUMNS($U157:AC157))),\"\")","v":0},{"$f":"IFERROR(INDEX(P_saetn,SMALL(IF(Hazard=Engine!$Q157,ROW(P_saetn)-MIN(ROW(P_saetn))+1),COLUMNS($U157:AD157))),\"\")","v":0},{"$f":"IFERROR(INDEX(P_saetn,SMALL(IF(Hazard=Engine!$Q157,ROW(P_saetn)-MIN(ROW(P_saetn))+1),COLUMNS($U157:AE157))),\"\")","v":0},{"$f":"IFERROR(INDEX(P_saetn,SMALL(IF(Hazard=Engine!$Q157,ROW(P_saetn)-MIN(ROW(P_saetn))+1),COLUMNS($U157:AF157))),\"\")","v":0},{"$f":"IFERROR(INDEX(P_saetn,SMALL(IF(Hazard=Engine!$Q157,ROW(P_saetn)-MIN(ROW(P_saetn))+1),COLUMNS($U157:AG157))),\"\")","v":0},{"$f":"IFERROR(INDEX(P_saetn,SMALL(IF(Hazard=Engine!$Q157,ROW(P_saetn)-MIN(ROW(P_saetn))+1),COLUMNS($U157:AH157))),\"\")","v":0},{"$f":"IFERROR(INDEX(P_saetn,SMALL(IF(Hazard=Engine!$Q157,ROW(P_saetn)-MIN(ROW(P_saetn))+1),COLUMNS($U157:AI157))),\"\")","v":0},{"$f":"IFERROR(INDEX(P_saetn,SMALL(IF(Hazard=Engine!$Q157,ROW(P_saetn)-MIN(ROW(P_saetn))+1),COLUMNS($U157:AJ157))),\"\")","v":0},{"$f":"IFERROR(INDEX(P_saetn,SMALL(IF(Hazard=Engine!$Q157,ROW(P_saetn)-MIN(ROW(P_saetn))+1),COLUMNS($U157:AK157))),\"\")","v":0},{"$f":"IFERROR(INDEX(P_saetn,SMALL(IF(Hazard=Engine!$Q157,ROW(P_saetn)-MIN(ROW(P_saetn))+1),COLUMNS($U157:AL157))),\"\")","v":0},{"$f":"IFERROR(INDEX(P_saetn,SMALL(IF(Hazard=Engine!$Q157,ROW(P_saetn)-MIN(ROW(P_saetn))+1),COLUMNS($U157:AM157))),\"\")","v":0},{"$f":"IFERROR(INDEX(P_saetn,SMALL(IF(Hazard=Engine!$Q157,ROW(P_saetn)-MIN(ROW(P_saetn))+1),COLUMNS($U157:AN157))),\"\")","v":0},{"$f":"IFERROR(INDEX(P_saetn,SMALL(IF(Hazard=Engine!$Q157,ROW(P_saetn)-MIN(ROW(P_saetn))+1),COLUMNS($U157:AO157))),\"\")","v":0},{"$f":"IFERROR(INDEX(P_saetn,SMALL(IF(Hazard=Engine!$Q157,ROW(P_saetn)-MIN(ROW(P_saetn))+1),COLUMNS($U157:AP157))),\"\")","v":0},{"$f":"IFERROR(INDEX(P_saetn,SMALL(IF(Hazard=Engine!$Q157,ROW(P_saetn)-MIN(ROW(P_saetn))+1),COLUMNS($U157:AQ157))),\"\")","v":0},{"$f":"IFERROR(INDEX(P_saetn,SMALL(IF(Hazard=Engine!$Q157,ROW(P_saetn)-MIN(ROW(P_saetn))+1),COLUMNS($U157:AR157))),\"\")","v":0},{"$f":"IFERROR(INDEX(P_saetn,SMALL(IF(Hazard=Engine!$Q157,ROW(P_saetn)-MIN(ROW(P_saetn))+1),COLUMNS($U157:AS157))),\"\")","v":0},{"$f":"IFERROR(INDEX(P_saetn,SMALL(IF(Hazard=Engine!$Q157,ROW(P_saetn)-MIN(ROW(P_saetn))+1),COLUMNS($U157:AT157))),\"\")","v":0},{"$f":"IFERROR(INDEX(P_saetn,SMALL(IF(Hazard=Engine!$Q157,ROW(P_saetn)-MIN(ROW(P_saetn))+1),COLUMNS($U157:AU157))),\"\")","v":0},{"$f":"IFERROR(INDEX(P_saetn,SMALL(IF(Hazard=Engine!$Q157,ROW(P_saetn)-MIN(ROW(P_saetn))+1),COLUMNS($U157:AV157))),\"\")","v":0},null,{"$f":"INDIRECT(TEXT(MIN(IF(($U166:$AV171<>\"\")*(COUNTIF($AX156:$AX156,$U166:$AV171)=0),ROW($P166:$BM171)*100+COLUMN($U156:$AV184),7^8)),\"R0C00\"),)&\"\"","v":""},{"$f":"ISNUMBER(AX157*1)","v":false},{"$f":"IF(AY157=TRUE,AX157*1,\"\")","v":""},{"$f":"IF(AY157=FALSE,AX157,\"\")","v":""},{"$f":"COUNTIF(AZ157:AZ167,\"<=\"&AZ157)","v":0},{"$f":"IF(COUNTIF(BA157:BA167,\"<=\"&BA157)=0,\"\",COUNTIF(BA157:BA167,\"<=\"&BA157))","v":""},{"$f":"IFERROR(SMALL(AZ157:AZ167,ROWS(AX157:AX157)),\"\")","v":""},{"$f":"IFERROR(INDEX(BD157:BD178,SMALL(IF(BD157:BD178<>\"\",ROW(BD157:BD178)-MIN(ROW(BD157:BD178))+1),ROWS(AX157:AX157))),\"\")","v":""},null,{"$f":"U175","v":0},{"$f":"COUNTIF($BG$2:BG157,\"*\"&BG157&\"*\")","v":0},"","",{"$f":"IFERROR(INDEX(BI$2:BI$308,MATCH(ROWS(BJ$2:BJ157),BJ$2:BJ$308,0)),\"\")","v":""},{"$f":"COUNTIF($BK157:$BK$308,\"*\"&BK157&\"*\")","v":152},"","",{"$f":"IFERROR(INDEX($BM$2:$BM$308,MATCH(ROWS(BN$2:BN157),BN$2:BN463,0)),\"\")","v":""},{"$f":"IFERROR(VLOOKUP(Engine!BO157,P_sentences_overview!H156:I287,2),\"\")","v":""}]
[null,null,null,null,null,null,null,null,null,null,null,null,null,null,null,null,null,null,null,null,{"$f":"SMALL(IF(Hazard=Engine!$Q157,ROW(P_saetn)-MIN(ROW(P_saetn))+1),COLUMNS($U157:U157)+1)","v":465},{"$f":"SMALL(IF(Hazard=Engine!$Q157,ROW(P_saetn)-MIN(ROW(P_saetn))+1),COLUMNS($U157:V157)+1)","v":466},{"$f":"SMALL(IF(Hazard=Engine!$Q157,ROW(P_saetn)-MIN(ROW(P_saetn))+1),COLUMNS($U157:W157)+1)","v":467},{"$f":"SMALL(IF(Hazard=Engine!$Q157,ROW(P_saetn)-MIN(ROW(P_saetn))+1),COLUMNS($U157:X157)+1)","v":468},{"$f":"SMALL(IF(Hazard=Engine!$Q157,ROW(P_saetn)-MIN(ROW(P_saetn))+1),COLUMNS($U157:Y157)+1)","v":469},{"$f":"SMALL(IF(Hazard=Engine!$Q157,ROW(P_saetn)-MIN(ROW(P_saetn))+1),COLUMNS($U157:Z157)+1)","v":470},{"$f":"SMALL(IF(Hazard=Engine!$Q157,ROW(P_saetn)-MIN(ROW(P_saetn))+1),COLUMNS($U157:AA157)+1)","v":471},{"$f":"SMALL(IF(Hazard=Engine!$Q157,ROW(P_saetn)-MIN(ROW(P_saetn))+1),COLUMNS($U157:AB157)+1)","v":472},{"$f":"SMALL(IF(Hazard=Engine!$Q157,ROW(P_saetn)-MIN(ROW(P_saetn))+1),COLUMNS($U157:AC157)+1)","v":473},{"$f":"SMALL(IF(Hazard=Engine!$Q157,ROW(P_saetn)-MIN(ROW(P_saetn))+1),COLUMNS($U157:AD157)+1)","v":474},{"$f":"SMALL(IF(Hazard=Engine!$Q157,ROW(P_saetn)-MIN(ROW(P_saetn))+1),COLUMNS($U157:AE157)+1)","v":475},{"$f":"SMALL(IF(Hazard=Engine!$Q157,ROW(P_saetn)-MIN(ROW(P_saetn))+1),COLUMNS($U157:AF157)+1)","v":476},{"$f":"SMALL(IF(Hazard=Engine!$Q157,ROW(P_saetn)-MIN(ROW(P_saetn))+1),COLUMNS($U157:AG157)+1)","v":477},{"$f":"SMALL(IF(Hazard=Engine!$Q157,ROW(P_saetn)-MIN(ROW(P_saetn))+1),COLUMNS($U157:AH157)+1)","v":478},{"$f":"SMALL(IF(Hazard=Engine!$Q157,ROW(P_saetn)-MIN(ROW(P_saetn))+1),COLUMNS($U157:AI157)+1)","v":479},{"$f":"SMALL(IF(Hazard=Engine!$Q157,ROW(P_saetn)-MIN(ROW(P_saetn))+1),COLUMNS($U157:AJ157)+1)","v":480},{"$f":"SMALL(IF(Hazard=Engine!$Q157,ROW(P_saetn)-MIN(ROW(P_saetn))+1),COLUMNS($U157:AK157)+1)","v":481},{"$f":"SMALL(IF(Hazard=Engine!$Q157,ROW(P_saetn)-MIN(ROW(P_saetn))+1),COLUMNS($U157:AL157)+1)","v":482},{"$f":"SMALL(IF(Hazard=Engine!$Q157,ROW(P_saetn)-MIN(ROW(P_saetn))+1),COLUMNS($U157:AM157)+1)","v":483},{"$f":"SMALL(IF(Hazard=Engine!$Q157,ROW(P_saetn)-MIN(ROW(P_saetn))+1),COLUMNS($U157:AN157)+1)","v":484},{"$f":"SMALL(IF(Hazard=Engine!$Q157,ROW(P_saetn)-MIN(ROW(P_saetn))+1),COLUMNS($U157:AO157)+1)","v":485},{"$f":"SMALL(IF(Hazard=Engine!$Q157,ROW(P_saetn)-MIN(ROW(P_saetn))+1),COLUMNS($U157:AP157)+1)","v":486},{"$f":"SMALL(IF(Hazard=Engine!$Q157,ROW(P_saetn)-MIN(ROW(P_saetn))+1),COLUMNS($U157:AQ157)+1)","v":487},{"$f":"SMALL(IF(Hazard=Engine!$Q157,ROW(P_saetn)-MIN(ROW(P_saetn))+1),COLUMNS($U157:AR157)+1)","v":488},{"$f":"SMALL(IF(Hazard=Engine!$Q157,ROW(P_saetn)-MIN(ROW(P_saetn))+1),COLUMNS($U157:AS157)+1)","v":489},{"$f":"SMALL(IF(Hazard=Engine!$Q157,ROW(P_saetn)-MIN(ROW(P_saetn))+1),COLUMNS($U157:AT157)+1)","v":490},{"$f":"SMALL(IF(Hazard=Engine!$Q157,ROW(P_saetn)-MIN(ROW(P_saetn))+1),COLUMNS($U157:AU157)+1)","v":491},{"$f":"SMALL(IF(Hazard=Engine!$Q157,ROW(P_saetn)-MIN(ROW(P_saetn))+1),COLUMNS($U157:AV157)+1)","v":492},null,{"$f":"INDIRECT(TEXT(MIN(IF(($U166:$AV171<>\"\")*(COUNTIF($AX156:$AX157,$U166:$AV171)=0),ROW($P166:$BM171)*100+COLUMN($U156:$AV184),7^8)),\"R0C00\"),)&\"\"","v":""},false,"","",{"$f":"COUNTIF(AZ157:AZ167,\"<=\"&AZ158)","v":0},{"$f":"IF(COUNTIF(BA157:BA167,\"<=\"&BA158)=0,\"\",COUNTIF(BA157:BA167,\"<=\"&BA158))","v":""},{"$f":"IFERROR(SMALL(AZ157:AZ167,ROWS(AX157:AX158)),\"\")","v":""},{"$f":"IFERROR(INDEX(BD157:BD178,SMALL(IF(BD157:BD178<>\"\",ROW(BD157:BD178)-MIN(ROW(BD157:BD178))+1),ROWS(AX157:AX158))),\"\")","v":""},null,{"$f":"+V175","v":0},{"$f":"COUNTIF($BG$2:BG158,\"*\"&BG158&\"*\")","v":0},"","",{"$f":"IFERROR(INDEX(BI$2:BI$308,MATCH(ROWS(BJ$2:BJ158),BJ$2:BJ$308,0)),\"\")","v":""},{"$f":"COUNTIF($BK158:$BK$308,\"*\"&BK158&\"*\")","v":151},"","",{"$f":"IFERROR(INDEX($BM$2:$BM$308,MATCH(ROWS(BN$2:BN158),BN$2:BN464,0)),\"\")","v":""},{"$f":"IFERROR(VLOOKUP(Engine!BO158,P_sentences_overview!H157:I288,2),\"\")","v":""}]
[null,null,null,null,null,null,null,null,null,null,null,null,null,null,null,null,null,null,null,null,{"$f":"IFERROR(INDEX(Haz_Cat,SMALL(IF(Hazard=Engine!$Q157,ROW(Haz_Cat)-MIN(ROW(Haz_Cat))+1),COLUMNS($U159:U159)),COLUMNS(Main!D$2:D$2)),\"\")","v":0},{"$f":"IFERROR(INDEX(Haz_Cat,SMALL(IF(Hazard=Engine!$Q157,ROW(Haz_Cat)-MIN(ROW(Haz_Cat))+1),COLUMNS($U159:V159)),COLUMNS(Main!E$2:E$2)),\"\")","v":0},{"$f":"IFERROR(INDEX(Haz_Cat,SMALL(IF(Hazard=Engine!$Q157,ROW(Haz_Cat)-MIN(ROW(Haz_Cat))+1),COLUMNS($U159:W159)),COLUMNS(Main!F$2:F$2)),\"\")","v":0},{"$f":"IFERROR(INDEX(Haz_Cat,SMALL(IF(Hazard=Engine!$Q157,ROW(Haz_Cat)-MIN(ROW(Haz_Cat))+1),COLUMNS($U159:X159)),COLUMNS(Main!G$2:G$2)),\"\")","v":0},{"$f":"IFERROR(INDEX(Haz_Cat,SMALL(IF(Hazard=Engine!$Q157,ROW(Haz_Cat)-MIN(ROW(Haz_Cat))+1),COLUMNS($U159:Y159)),COLUMNS(Main!H$2:H$2)),\"\")","v":0},{"$f":"IFERROR(INDEX(Haz_Cat,SMALL(IF(Hazard=Engine!$Q157,ROW(Haz_Cat)-MIN(ROW(Haz_Cat))+1),COLUMNS($U159:Z159)),COLUMNS(Main!I$2:I$2)),\"\")","v":0},{"$f":"IFERROR(INDEX(Haz_Cat,SMALL(IF(Hazard=Engine!$Q157,ROW(Haz_Cat)-MIN(ROW(Haz_Cat))+1),COLUMNS($U159:AA159)),COLUMNS(Main!J$2:J$2)),\"\")","v":0},{"$f":"IFERROR(INDEX(Haz_Cat,SMALL(IF(Hazard=Engine!$Q157,ROW(Haz_Cat)-MIN(ROW(Haz_Cat))+1),COLUMNS($U159:AB159)),COLUMNS(Main!K$2:K$2)),\"\")","v":0},{"$f":"IFERROR(INDEX(Haz_Cat,SMALL(IF(Hazard=Engine!$Q157,ROW(Haz_Cat)-MIN(ROW(Haz_Cat))+1),COLUMNS($U159:AC159)),COLUMNS(Main!L$2:L$2)),\"\")","v":0},{"$f":"IFERROR(INDEX(Haz_Cat,SMALL(IF(Hazard=Engine!$Q157,ROW(Haz_Cat)-MIN(ROW(Haz_Cat))+1),COLUMNS($U159:AD159)),COLUMNS(Main!M$2:M$2)),\"\")","v":0},{"$f":"IFERROR(INDEX(Haz_Cat,SMALL(IF(Hazard=Engine!$Q157,ROW(Haz_Cat)-MIN(ROW(Haz_Cat))+1),COLUMNS($U159:AE159)),COLUMNS(Main!N$2:N$2)),\"\")","v":0},{"$f":"IFERROR(INDEX(Haz_Cat,SMALL(IF(Hazard=Engine!$Q157,ROW(Haz_Cat)-MIN(ROW(Haz_Cat))+1),COLUMNS($U159:AF159)),COLUMNS(Main!O$2:O$2)),\"\")","v":0},{"$f":"IFERROR(INDEX(Haz_Cat,SMALL(IF(Hazard=Engine!$Q157,ROW(Haz_Cat)-MIN(ROW(Haz_Cat))+1),COLUMNS($U159:AG159)),COLUMNS(Main!P$2:P$2)),\"\")","v":0},{"$f":"IFERROR(INDEX(Haz_Cat,SMALL(IF(Hazard=Engine!$Q157,ROW(Haz_Cat)-MIN(ROW(Haz_Cat))+1),COLUMNS($U159:AH159)),COLUMNS(Main!Q$2:Q$2)),\"\")","v":0},{"$f":"IFERROR(INDEX(Haz_Cat,SMALL(IF(Hazard=Engine!$Q157,ROW(Haz_Cat)-MIN(ROW(Haz_Cat))+1),COLUMNS($U159:AI159)),COLUMNS(Main!R$2:R$2)),\"\")","v":0},{"$f":"IFERROR(INDEX(Haz_Cat,SMALL(IF(Hazard=Engine!$Q157,ROW(Haz_Cat)-MIN(ROW(Haz_Cat))+1),COLUMNS($U159:AJ159)),COLUMNS(Main!S$2:S$2)),\"\")","v":0},{"$f":"IFERROR(INDEX(Haz_Cat,SMALL(IF(Hazard=Engine!$Q157,ROW(Haz_Cat)-MIN(ROW(Haz_Cat))+1),COLUMNS($U159:AK159)),COLUMNS(Main!T$2:T$2)),\"\")","v":0},{"$f":"IFERROR(INDEX(Haz_Cat,SMALL(IF(Hazard=Engine!$Q157,ROW(Haz_Cat)-MIN(ROW(Haz_Cat))+1),COLUMNS($U159:AL159)),COLUMNS(Main!U$2:U$2)),\"\")","v":0},{"$f":"IFERROR(INDEX(Haz_Cat,SMALL(IF(Hazard=Engine!$Q157,ROW(Haz_Cat)-MIN(ROW(Haz_Cat))+1),COLUMNS($U159:AM159)),COLUMNS(Main!V$2:V$2)),\"\")","v":0},{"$f":"IFERROR(INDEX(Haz_Cat,SMALL(IF(Hazard=Engine!$Q157,ROW(Haz_Cat)-MIN(ROW(Haz_Cat))+1),COLUMNS($U159:AN159)),COLUMNS(Main!W$2:W$2)),\"\")","v":0},{"$f":"IFERROR(INDEX(Haz_Cat,SMALL(IF(Hazard=Engine!$Q157,ROW(Haz_Cat)-MIN(ROW(Haz_Cat))+1),COLUMNS($U159:AO159)),COLUMNS(Main!X$2:X$2)),\"\")","v":0},{"$f":"IFERROR(INDEX(Haz_Cat,SMALL(IF(Hazard=Engine!$Q157,ROW(Haz_Cat)-MIN(ROW(Haz_Cat))+1),COLUMNS($U159:AP159)),COLUMNS(Main!Y$2:Y$2)),\"\")","v":0},{"$f":"IFERROR(INDEX(Haz_Cat,SMALL(IF(Hazard=Engine!$Q157,ROW(Haz_Cat)-MIN(ROW(Haz_Cat))+1),COLUMNS($U159:AQ159)),COLUMNS(Main!Z$2:Z$2)),\"\")","v":0},{"$f":"IFERROR(INDEX(Haz_Cat,SMALL(IF(Hazard=Engine!$Q157,ROW(Haz_Cat)-MIN(ROW(Haz_Cat))+1),COLUMNS($U159:AR159)),COLUMNS(Main!AA$2:AA$2)),\"\")","v":0},{"$f":"IFERROR(INDEX(Haz_Cat,SMALL(IF(Hazard=Engine!$Q157,ROW(Haz_Cat)-MIN(ROW(Haz_Cat))+1),COLUMNS($U159:AS159)),COLUMNS(Main!AB$2:AB$2)),\"\")","v":0},{"$f":"IFERROR(INDEX(Haz_Cat,SMALL(IF(Hazard=Engine!$Q157,ROW(Haz_Cat)-MIN(ROW(Haz_Cat))+1),COLUMNS($U159:AT159)),COLUMNS(Main!AC$2:AC$2)),\"\")","v":0},{"$f":"IFERROR(INDEX(Haz_Cat,SMALL(IF(Hazard=Engine!$Q157,ROW(Haz_Cat)-MIN(ROW(Haz_Cat))+1),COLUMNS($U159:AU159)),COLUMNS(Main!AD$2:AD$2)),\"\")","v":0},{"$f":"IFERROR(INDEX(Haz_Cat,SMALL(IF(Hazard=Engine!$Q157,ROW(Haz_Cat)-MIN(ROW(Haz_Cat))+1),COLUMNS($U159:AV159)),COLUMNS(Main!AE$2:AE$2)),\"\")","v":0},null,{"$f":"INDIRECT(TEXT(MIN(IF(($U166:$AV171<>\"\")*(COUNTIF($AX156:$AX158,$U166:$AV171)=0),ROW($P166:$BM171)*100+COLUMN($U156:$AV184),7^8)),\"R0C00\"),)&\"\"","v":""},false,"","",{"$f":"COUNTIF(AZ157:AZ167,\"<=\"&AZ159)","v":0},{"$f":"IF(COUNTIF(BA157:BA167,\"<=\"&BA159)=0,\"\",COUNTIF(BA157:BA167,\"<=\"&BA159))","v":""},{"$f":"IFERROR(SMALL(AZ157:AZ167,ROWS(AX157:AX159)),\"\")","v":""},{"$f":"IFERROR(INDEX(BD157:BD178,SMALL(IF(BD157:BD178<>\"\",ROW(BD157:BD178)-MIN(ROW(BD157:BD178))+1),ROWS(AX157:AX159))),\"\")","v":""},null,{"$f":"+W175","v":0},{"$f":"COUNTIF($BG$2:BG159,\"*\"&BG159&\"*\")","v":0},{"$f":"IF(BH159=1,BG159,\"\")","v":""},"",{"$f":"IFERROR(INDEX(BI$2:BI$308,MATCH(ROWS(BJ$2:BJ159),BJ$2:BJ$308,0)),\"\")","v":""},{"$f":"COUNTIF($BK159:$BK$308,\"*\"&BK159&\"*\")","v":150},"","",{"$f":"IFERROR(INDEX($BM$2:$BM$308,MATCH(ROWS(BN$2:BN159),BN$2:BN465,0)),\"\")","v":""},{"$f":"IFERROR(VLOOKUP(Engine!BO159,P_sentences_overview!H158:I289,2),\"\")","v":""}]
[null,null,null,null,null,null,null,null,null,null,null,null,null,null,null,null,null,null,null,null,{"$f":"IFERROR(INDEX(Haz_Cat,SMALL(IF(Hazard=Engine!$Q157,ROW(Haz_Cat)-MIN(ROW(Haz_Cat))+1),COLUMNS($U159:U159)),COLUMNS(Main!$D157:$E157)),\"\")","v":0},{"$f":"IFERROR(INDEX(Haz_Cat,SMALL(IF(Hazard=Engine!$Q157,ROW(Haz_Cat)-MIN(ROW(Haz_Cat))+1),COLUMNS($U159:V159)),COLUMNS(Main!$D157:$E157)),\"\")","v":0},{"$f":"IFERROR(INDEX(Haz_Cat,SMALL(IF(Hazard=Engine!$Q157,ROW(Haz_Cat)-MIN(ROW(Haz_Cat))+1),COLUMNS($U159:W159)),COLUMNS(Main!$D157:$E157)),\"\")","v":0},{"$f":"IFERROR(INDEX(Haz_Cat,SMALL(IF(Hazard=Engine!$Q157,ROW(Haz_Cat)-MIN(ROW(Haz_Cat))+1),COLUMNS($U159:X159)),COLUMNS(Main!$D157:$E157)),\"\")","v":0},{"$f":"IFERROR(INDEX(Haz_Cat,SMALL(IF(Hazard=Engine!$Q157,ROW(Haz_Cat)-MIN(ROW(Haz_Cat))+1),COLUMNS($U159:Y159)),COLUMNS(Main!$D157:$E157)),\"\")","v":0},{"$f":"IFERROR(INDEX(Haz_Cat,SMALL(IF(Hazard=Engine!$Q157,ROW(Haz_Cat)-MIN(ROW(Haz_Cat))+1),COLUMNS($U159:Z159)),COLUMNS(Main!$D157:$E157)),\"\")","v":0},{"$f":"IFERROR(INDEX(Haz_Cat,SMALL(IF(Hazard=Engine!$Q157,ROW(Haz_Cat)-MIN(ROW(Haz_Cat))+1),COLUMNS($U159:AA159)),COLUMNS(Main!$D157:$E157)),\"\")","v":0},{"$f":"IFERROR(INDEX(Haz_Cat,SMALL(IF(Hazard=Engine!$Q157,ROW(Haz_Cat)-MIN(ROW(Haz_Cat))+1),COLUMNS($U159:AB159)),COLUMNS(Main!$D157:$E157)),\"\")","v":0},{"$f":"IFERROR(INDEX(Haz_Cat,SMALL(IF(Hazard=Engine!$Q157,ROW(Haz_Cat)-MIN(ROW(Haz_Cat))+1),COLUMNS($U159:AC159)),COLUMNS(Main!$D157:$E157)),\"\")","v":0},{"$f":"IFERROR(INDEX(Haz_Cat,SMALL(IF(Hazard=Engine!$Q157,ROW(Haz_Cat)-MIN(ROW(Haz_Cat))+1),COLUMNS($U159:AD159)),COLUMNS(Main!$D157:$E157)),\"\")","v":0},{"$f":"IFERROR(INDEX(Haz_Cat,SMALL(IF(Hazard=Engine!$Q157,ROW(Haz_Cat)-MIN(ROW(Haz_Cat))+1),COLUMNS($U159:AE159)),COLUMNS(Main!$D157:$E157)),\"\")","v":0},{"$f":"IFERROR(INDEX(Haz_Cat,SMALL(IF(Hazard=Engine!$Q157,ROW(Haz_Cat)-MIN(ROW(Haz_Cat))+1),COLUMNS($U159:AF159)),COLUMNS(Main!$D157:$E157)),\"\")","v":0},{"$f":"IFERROR(INDEX(Haz_Cat,SMALL(IF(Hazard=Engine!$Q157,ROW(Haz_Cat)-MIN(ROW(Haz_Cat))+1),COLUMNS($U159:AG159)),COLUMNS(Main!$D157:$E157)),\"\")","v":0},{"$f":"IFERROR(INDEX(Haz_Cat,SMALL(IF(Hazard=Engine!$Q157,ROW(Haz_Cat)-MIN(ROW(Haz_Cat))+1),COLUMNS($U159:AH159)),COLUMNS(Main!$D157:$E157)),\"\")","v":0},{"$f":"IFERROR(INDEX(Haz_Cat,SMALL(IF(Hazard=Engine!$Q157,ROW(Haz_Cat)-MIN(ROW(Haz_Cat))+1),COLUMNS($U159:AI159)),COLUMNS(Main!$D157:$E157)),\"\")","v":0},{"$f":"IFERROR(INDEX(Haz_Cat,SMALL(IF(Hazard=Engine!$Q157,ROW(Haz_Cat)-MIN(ROW(Haz_Cat))+1),COLUMNS($U159:AJ159)),COLUMNS(Main!$D157:$E157)),\"\")","v":0},{"$f":"IFERROR(INDEX(Haz_Cat,SMALL(IF(Hazard=Engine!$Q157,ROW(Haz_Cat)-MIN(ROW(Haz_Cat))+1),COLUMNS($U159:AK159)),COLUMNS(Main!$D157:$E157)),\"\")","v":0},{"$f":"IFERROR(INDEX(Haz_Cat,SMALL(IF(Hazard=Engine!$Q157,ROW(Haz_Cat)-MIN(ROW(Haz_Cat))+1),COLUMNS($U159:AL159)),COLUMNS(Main!$D157:$E157)),\"\")","v":0},{"$f":"IFERROR(INDEX(Haz_Cat,SMALL(IF(Hazard=Engine!$Q157,ROW(Haz_Cat)-MIN(ROW(Haz_Cat))+1),COLUMNS($U159:AM159)),COLUMNS(Main!$D157:$E157)),\"\")","v":0},{"$f":"IFERROR(INDEX(Haz_Cat,SMALL(IF(Hazard=Engine!$Q157,ROW(Haz_Cat)-MIN(ROW(Haz_Cat))+1),COLUMNS($U159:AN159)),COLUMNS(Main!$D157:$E157)),\"\")","v":0},{"$f":"IFERROR(INDEX(Haz_Cat,SMALL(IF(Hazard=Engine!$Q157,ROW(Haz_Cat)-MIN(ROW(Haz_Cat))+1),COLUMNS($U159:AO159)),COLUMNS(Main!$D157:$E157)),\"\")","v":0},{"$f":"IFERROR(INDEX(Haz_Cat,SMALL(IF(Hazard=Engine!$Q157,ROW(Haz_Cat)-MIN(ROW(Haz_Cat))+1),COLUMNS($U159:AP159)),COLUMNS(Main!$D157:$E157)),\"\")","v":0},{"$f":"IFERROR(INDEX(Haz_Cat,SMALL(IF(Hazard=Engine!$Q157,ROW(Haz_Cat)-MIN(ROW(Haz_Cat))+1),COLUMNS($U159:AQ159)),COLUMNS(Main!$D157:$E157)),\"\")","v":0},{"$f":"IFERROR(INDEX(Haz_Cat,SMALL(IF(Hazard=Engine!$Q157,ROW(Haz_Cat)-MIN(ROW(Haz_Cat))+1),COLUMNS($U159:AR159)),COLUMNS(Main!$D157:$E157)),\"\")","v":0},{"$f":"IFERROR(INDEX(Haz_Cat,SMALL(IF(Hazard=Engine!$Q157,ROW(Haz_Cat)-MIN(ROW(Haz_Cat))+1),COLUMNS($U159:AS159)),COLUMNS(Main!$D157:$E157)),\"\")","v":0},{"$f":"IFERROR(INDEX(Haz_Cat,SMALL(IF(Hazard=Engine!$Q157,ROW(Haz_Cat)-MIN(ROW(Haz_Cat))+1),COLUMNS($U159:AT159)),COLUMNS(Main!$D157:$E157)),\"\")","v":0},{"$f":"IFERROR(INDEX(Haz_Cat,SMALL(IF(Hazard=Engine!$Q157,ROW(Haz_Cat)-MIN(ROW(Haz_Cat))+1),COLUMNS($U159:AU159)),COLUMNS(Main!$D157:$E157)),\"\")","v":0},{"$f":"IFERROR(INDEX(Haz_Cat,SMALL(IF(Hazard=Engine!$Q157,ROW(Haz_Cat)-MIN(ROW(Haz_Cat))+1),COLUMNS($U159:AV159)),COLUMNS(Main!$D157:$E157)),\"\")","v":0},null,{"$f":"INDIRECT(TEXT(MIN(IF(($U166:$AV171<>\"\")*(COUNTIF($AX156:$AX159,$U166:$AV171)=0),ROW($P166:$BM171)*100+COLUMN($U156:$AV184),7^8)),\"R0C00\"),)&\"\"","v":""},false,"","",{"$f":"COUNTIF(AZ157:AZ167,\"<=\"&AZ160)","v":0},{"$f":"IF(COUNTIF(BA157:BA167,\"<=\"&BA160)=0,\"\",COUNTIF(BA157:BA167,\"<=\"&BA160))","v":""},{"$f":"IFERROR(SMALL(AZ157:AZ167,ROWS(AX157:AX160)),\"\")","v":""},{"$f":"IFERROR(INDEX(BD157:BD178,SMALL(IF(BD157:BD178<>\"\",ROW(BD157:BD178)-MIN(ROW(BD157:BD178))+1),ROWS(AX157:AX160))),\"\")","v":""},null,{"$f":"+X175","v":0},{"$f":"COUNTIF($BG$2:BG160,\"*\"&BG160&\"*\")","v":0},"","",{"$f":"IFERROR(INDEX(BI$2:BI$308,MATCH(ROWS(BJ$2:BJ160),BJ$2:BJ$308,0)),\"\")","v":""},{"$f":"COUNTIF($BK160:$BK$308,\"*\"&BK160&\"*\")","v":149},"","",{"$f":"IFERROR(INDEX($BM$2:$BM$308,MATCH(ROWS(BN$2:BN160),BN$2:BN466,0)),\"\")","v":""},{"$f":"IFERROR(VLOOKUP(Engine!BO160,P_sentences_overview!H159:I290,2),\"\")","v":""}]
[null,null,null,null,null,null,null,null,null,null,null,null,null,null,null,{"$f":"INDEX(H_sentences_overview!$A$1:$A$134,Engine!P162)","v":"(none)"},null,{"$f":"INDEX(BE157:BE162,Engine!R162)","v":""},null,null,{"$f":"IFERROR(INDEX(Haz_Cat,SMALL(IF(Hazard=Engine!$Q157,ROW(Haz_Cat)-MIN(ROW(Haz_Cat))+1),COLUMNS($U159:U159)),COLUMNS(Main!$D157:$F157)),\"\")","v":0},{"$f":"IFERROR(INDEX(Haz_Cat,SMALL(IF(Hazard=Engine!$Q157,ROW(Haz_Cat)-MIN(ROW(Haz_Cat))+1),COLUMNS($U159:V159)),COLUMNS(Main!$D157:$F157)),\"\")","v":0},{"$f":"IFERROR(INDEX(Haz_Cat,SMALL(IF(Hazard=Engine!$Q157,ROW(Haz_Cat)-MIN(ROW(Haz_Cat))+1),COLUMNS($U159:W159)),COLUMNS(Main!$D157:$F157)),\"\")","v":0},{"$f":"IFERROR(INDEX(Haz_Cat,SMALL(IF(Hazard=Engine!$Q157,ROW(Haz_Cat)-MIN(ROW(Haz_Cat))+1),COLUMNS($U159:X159)),COLUMNS(Main!$D157:$F157)),\"\")","v":0},{"$f":"IFERROR(INDEX(Haz_Cat,SMALL(IF(Hazard=Engine!$Q157,ROW(Haz_Cat)-MIN(ROW(Haz_Cat))+1),COLUMNS($U159:Y159)),COLUMNS(Main!$D157:$F157)),\"\")","v":0},{"$f":"IFERROR(INDEX(Haz_Cat,SMALL(IF(Hazard=Engine!$Q157,ROW(Haz_Cat)-MIN(ROW(Haz_Cat))+1),COLUMNS($U159:Z159)),COLUMNS(Main!$D157:$F157)),\"\")","v":0},{"$f":"IFERROR(INDEX(Haz_Cat,SMALL(IF(Hazard=Engine!$Q157,ROW(Haz_Cat)-MIN(ROW(Haz_Cat))+1),COLUMNS($U159:AA159)),COLUMNS(Main!$D157:$F157)),\"\")","v":0},{"$f":"IFERROR(INDEX(Haz_Cat,SMALL(IF(Hazard=Engine!$Q157,ROW(Haz_Cat)-MIN(ROW(Haz_Cat))+1),COLUMNS($U159:AB159)),COLUMNS(Main!$D157:$F157)),\"\")","v":0},{"$f":"IFERROR(INDEX(Haz_Cat,SMALL(IF(Hazard=Engine!$Q157,ROW(Haz_Cat)-MIN(ROW(Haz_Cat))+1),COLUMNS($U159:AC159)),COLUMNS(Main!$D157:$F157)),\"\")","v":0},{"$f":"IFERROR(INDEX(Haz_Cat,SMALL(IF(Hazard=Engine!$Q157,ROW(Haz_Cat)-MIN(ROW(Haz_Cat))+1),COLUMNS($U159:AD159)),COLUMNS(Main!$D157:$F157)),\"\")","v":0},{"$f":"IFERROR(INDEX(Haz_Cat,SMALL(IF(Hazard=Engine!$Q157,ROW(Haz_Cat)-MIN(ROW(Haz_Cat))+1),COLUMNS($U159:AE159)),COLUMNS(Main!$D157:$F157)),\"\")","v":0},{"$f":"IFERROR(INDEX(Haz_Cat,SMALL(IF(Hazard=Engine!$Q157,ROW(Haz_Cat)-MIN(ROW(Haz_Cat))+1),COLUMNS($U159:AF159)),COLUMNS(Main!$D157:$F157)),\"\")","v":0},{"$f":"IFERROR(INDEX(Haz_Cat,SMALL(IF(Hazard=Engine!$Q157,ROW(Haz_Cat)-MIN(ROW(Haz_Cat))+1),COLUMNS($U159:AG159)),COLUMNS(Main!$D157:$F157)),\"\")","v":0},{"$f":"IFERROR(INDEX(Haz_Cat,SMALL(IF(Hazard=Engine!$Q157,ROW(Haz_Cat)-MIN(ROW(Haz_Cat))+1),COLUMNS($U159:AH159)),COLUMNS(Main!$D157:$F157)),\"\")","v":0},{"$f":"IFERROR(INDEX(Haz_Cat,SMALL(IF(Hazard=Engine!$Q157,ROW(Haz_Cat)-MIN(ROW(Haz_Cat))+1),COLUMNS($U159:AI159)),COLUMNS(Main!$D157:$F157)),\"\")","v":0},{"$f":"IFERROR(INDEX(Haz_Cat,SMALL(IF(Hazard=Engine!$Q157,ROW(Haz_Cat)-MIN(ROW(Haz_Cat))+1),COLUMNS($U159:AJ159)),COLUMNS(Main!$D157:$F157)),\"\")","v":0},{"$f":"IFERROR(INDEX(Haz_Cat,SMALL(IF(Hazard=Engine!$Q157,ROW(Haz_Cat)-MIN(ROW(Haz_Cat))+1),COLUMNS($U159:AK159)),COLUMNS(Main!$D157:$F157)),\"\")","v":0},{"$f":"IFERROR(INDEX(Haz_Cat,SMALL(IF(Hazard=Engine!$Q157,ROW(Haz_Cat)-MIN(ROW(Haz_Cat))+1),COLUMNS($U159:AL159)),COLUMNS(Main!$D157:$F157)),\"\")","v":0},{"$f":"IFERROR(INDEX(Haz_Cat,SMALL(IF(Hazard=Engine!$Q157,ROW(Haz_Cat)-MIN(ROW(Haz_Cat))+1),COLUMNS($U159:AM159)),COLUMNS(Main!$D157:$F157)),\"\")","v":0},{"$f":"IFERROR(INDEX(Haz_Cat,SMALL(IF(Hazard=Engine!$Q157,ROW(Haz_Cat)-MIN(ROW(Haz_Cat))+1),COLUMNS($U159:AN159)),COLUMNS(Main!$D157:$F157)),\"\")","v":0},{"$f":"IFERROR(INDEX(Haz_Cat,SMALL(IF(Hazard=Engine!$Q157,ROW(Haz_Cat)-MIN(ROW(Haz_Cat))+1),COLUMNS($U159:AO159)),COLUMNS(Main!$D157:$F157)),\"\")","v":0},{"$f":"IFERROR(INDEX(Haz_Cat,SMALL(IF(Hazard=Engine!$Q157,ROW(Haz_Cat)-MIN(ROW(Haz_Cat))+1),COLUMNS($U159:AP159)),COLUMNS(Main!$D157:$F157)),\"\")","v":0},{"$f":"IFERROR(INDEX(Haz_Cat,SMALL(IF(Hazard=Engine!$Q157,ROW(Haz_Cat)-MIN(ROW(Haz_Cat))+1),COLUMNS($U159:AQ159)),COLUMNS(Main!$D157:$F157)),\"\")","v":0},{"$f":"IFERROR(INDEX(Haz_Cat,SMALL(IF(Hazard=Engine!$Q157,ROW(Haz_Cat)-MIN(ROW(Haz_Cat))+1),COLUMNS($U159:AR159)),COLUMNS(Main!$D157:$F157)),\"\")","v":0},{"$f":"IFERROR(INDEX(Haz_Cat,SMALL(IF(Hazard=Engine!$Q157,ROW(Haz_Cat)-MIN(ROW(Haz_Cat))+1),COLUMNS($U159:AS159)),COLUMNS(Main!$D157:$F157)),\"\")","v":0},{"$f":"IFERROR(INDEX(Haz_Cat,SMALL(IF(Hazard=Engine!$Q157,ROW(Haz_Cat)-MIN(ROW(Haz_Cat))+1),COLUMNS($U159:AT159)),COLUMNS(Main!$D157:$F157)),\"\")","v":0},{"$f":"IFERROR(INDEX(Haz_Cat,SMALL(IF(Hazard=Engine!$Q157,ROW(Haz_Cat)-MIN(ROW(Haz_Cat))+1),COLUMNS($U159:AU159)),COLUMNS(Main!$D157:$F157)),\"\")","v":0},{"$f":"IFERROR(INDEX(Haz_Cat,SMALL(IF(Hazard=Engine!$Q157,ROW(Haz_Cat)-MIN(ROW(Haz_Cat))+1),COLUMNS($U159:AV159)),COLUMNS(Main!$D157:$F157)),\"\")","v":0},null,{"$f":"INDIRECT(TEXT(MIN(IF(($U166:$AV171<>\"\")*(COUNTIF($AX156:$AX160,$U166:$AV171)=0),ROW($P166:$BM171)*100+COLUMN($U156:$AV184),7^8)),\"R0C00\"),)&\"\"","v":""},false,"","",{"$f":"COUNTIF(AZ157:AZ167,\"<=\"&AZ161)","v":0},{"$f":"IF(COUNTIF(BA157:BA167,\"<=\"&BA161)=0,\"\",COUNTIF(BA157:BA167,\"<=\"&BA161))","v":""},{"$f":"IFERROR(SMALL(AZ157:AZ167,ROWS(AX157:AX161)),\"\")","v":""},{"$f":"IFERROR(INDEX(BD157:BD178,SMALL(IF(BD157:BD178<>\"\",ROW(BD157:BD178)-MIN(ROW(BD157:BD178))+1),ROWS(AX157:AX161))),\"\")","v":""},null,{"$f":"+Y175","v":0},{"$f":"COUNTIF($BG$2:BG161,\"*\"&BG161&\"*\")","v":0},"","",{"$f":"IFERROR(INDEX(BI$2:BI$308,MATCH(ROWS(BJ$2:BJ161),BJ$2:BJ$308,0)),\"\")","v":""},{"$f":"COUNTIF($BK161:$BK$308,\"*\"&BK161&\"*\")","v":148},"","",{"$f":"IFERROR(INDEX($BM$2:$BM$308,MATCH(ROWS(BN$2:BN161),BN$2:BN467,0)),\"\")","v":""},{"$f":"IFERROR(VLOOKUP(Engine!BO161,P_sentences_overview!H160:I291,2),\"\")","v":""}]
[null,null,null,null,null,null,null,null,null,null,null,null,null,null,null,1,null,6,null,null,{"$f":"IFERROR(INDEX(Haz_Cat,SMALL(IF(Hazard=Engine!$Q157,ROW(Haz_Cat)-MIN(ROW(Haz_Cat))+1),COLUMNS($U159:U159)),COLUMNS(Main!$D157:$G157)),\"\")","v":0},{"$f":"IFERROR(INDEX(Haz_Cat,SMALL(IF(Hazard=Engine!$Q157,ROW(Haz_Cat)-MIN(ROW(Haz_Cat))+1),COLUMNS($U159:V159)),COLUMNS(Main!$D157:$G157)),\"\")","v":0},{"$f":"IFERROR(INDEX(Haz_Cat,SMALL(IF(Hazard=Engine!$Q157,ROW(Haz_Cat)-MIN(ROW(Haz_Cat))+1),COLUMNS($U159:W159)),COLUMNS(Main!$D157:$G157)),\"\")","v":0},{"$f":"IFERROR(INDEX(Haz_Cat,SMALL(IF(Hazard=Engine!$Q157,ROW(Haz_Cat)-MIN(ROW(Haz_Cat))+1),COLUMNS($U159:X159)),COLUMNS(Main!$D157:$G157)),\"\")","v":0},{"$f":"IFERROR(INDEX(Haz_Cat,SMALL(IF(Hazard=Engine!$Q157,ROW(Haz_Cat)-MIN(ROW(Haz_Cat))+1),COLUMNS($U159:Y159)),COLUMNS(Main!$D157:$G157)),\"\")","v":0},{"$f":"IFERROR(INDEX(Haz_Cat,SMALL(IF(Hazard=Engine!$Q157,ROW(Haz_Cat)-MIN(ROW(Haz_Cat))+1),COLUMNS($U159:Z159)),COLUMNS(Main!$D157:$G157)),\"\")","v":0},{"$f":"IFERROR(INDEX(Haz_Cat,SMALL(IF(Hazard=Engine!$Q157,ROW(Haz_Cat)-MIN(ROW(Haz_Cat))+1),COLUMNS($U159:AA159)),COLUMNS(Main!$D157:$G157)),\"\")","v":0},{"$f":"IFERROR(INDEX(Haz_Cat,SMALL(IF(Hazard=Engine!$Q157,ROW(Haz_Cat)-MIN(ROW(Haz_Cat))+1),COLUMNS($U159:AB159)),COLUMNS(Main!$D157:$G157)),\"\")","v":0},{"$f":"IFERROR(INDEX(Haz_Cat,SMALL(IF(Hazard=Engine!$Q157,ROW(Haz_Cat)-MIN(ROW(Haz_Cat))+1),COLUMNS($U159:AC159)),COLUMNS(Main!$D157:$G157)),\"\")","v":0},{"$f":"IFERROR(INDEX(Haz_Cat,SMALL(IF(Hazard=Engine!$Q157,ROW(Haz_Cat)-MIN(ROW(Haz_Cat))+1),COLUMNS($U159:AD159)),COLUMNS(Main!$D157:$G157)),\"\")","v":0},{"$f":"IFERROR(INDEX(Haz_Cat,SMALL(IF(Hazard=Engine!$Q157,ROW(Haz_Cat)-MIN(ROW(Haz_Cat))+1),COLUMNS($U159:AE159)),COLUMNS(Main!$D157:$G157)),\"\")","v":0},{"$f":"IFERROR(INDEX(Haz_Cat,SMALL(IF(Hazard=Engine!$Q157,ROW(Haz_Cat)-MIN(ROW(Haz_Cat))+1),COLUMNS($U159:AF159)),COLUMNS(Main!$D157:$G157)),\"\")","v":0},{"$f":"IFERROR(INDEX(Haz_Cat,SMALL(IF(Hazard=Engine!$Q157,ROW(Haz_Cat)-MIN(ROW(Haz_Cat))+1),COLUMNS($U159:AG159)),COLUMNS(Main!$D157:$G157)),\"\")","v":0},{"$f":"IFERROR(INDEX(Haz_Cat,SMALL(IF(Hazard=Engine!$Q157,ROW(Haz_Cat)-MIN(ROW(Haz_Cat))+1),COLUMNS($U159:AH159)),COLUMNS(Main!$D157:$G157)),\"\")","v":0},{"$f":"IFERROR(INDEX(Haz_Cat,SMALL(IF(Hazard=Engine!$Q157,ROW(Haz_Cat)-MIN(ROW(Haz_Cat))+1),COLUMNS($U159:AI159)),COLUMNS(Main!$D157:$G157)),\"\")","v":0},{"$f":"IFERROR(INDEX(Haz_Cat,SMALL(IF(Hazard=Engine!$Q157,ROW(Haz_Cat)-MIN(ROW(Haz_Cat))+1),COLUMNS($U159:AJ159)),COLUMNS(Main!$D157:$G157)),\"\")","v":0},{"$f":"IFERROR(INDEX(Haz_Cat,SMALL(IF(Hazard=Engine!$Q157,ROW(Haz_Cat)-MIN(ROW(Haz_Cat))+1),COLUMNS($U159:AK159)),COLUMNS(Main!$D157:$G157)),\"\")","v":0},{"$f":"IFERROR(INDEX(Haz_Cat,SMALL(IF(Hazard=Engine!$Q157,ROW(Haz_Cat)-MIN(ROW(Haz_Cat))+1),COLUMNS($U159:AL159)),COLUMNS(Main!$D157:$G157)),\"\")","v":0},{"$f":"IFERROR(INDEX(Haz_Cat,SMALL(IF(Hazard=Engine!$Q157,ROW(Haz_Cat)-MIN(ROW(Haz_Cat))+1),COLUMNS($U159:AM159)),COLUMNS(Main!$D157:$G157)),\"\")","v":0},{"$f":"IFERROR(INDEX(Haz_Cat,SMALL(IF(Hazard=Engine!$Q157,ROW(Haz_Cat)-MIN(ROW(Haz_Cat))+1),COLUMNS($U159:AN159)),COLUMNS(Main!$D157:$G157)),\"\")","v":0},{"$f":"IFERROR(INDEX(Haz_Cat,SMALL(IF(Hazard=Engine!$Q157,ROW(Haz_Cat)-MIN(ROW(Haz_Cat))+1),COLUMNS($U159:AO159)),COLUMNS(Main!$D157:$G157)),\"\")","v":0},{"$f":"IFERROR(INDEX(Haz_Cat,SMALL(IF(Hazard=Engine!$Q157,ROW(Haz_Cat)-MIN(ROW(Haz_Cat))+1),COLUMNS($U159:AP159)),COLUMNS(Main!$D157:$G157)),\"\")","v":0},{"$f":"IFERROR(INDEX(Haz_Cat,SMALL(IF(Hazard=Engine!$Q157,ROW(Haz_Cat)-MIN(ROW(Haz_Cat))+1),COLUMNS($U159:AQ159)),COLUMNS(Main!$D157:$G157)),\"\")","v":0},{"$f":"IFERROR(INDEX(Haz_Cat,SMALL(IF(Hazard=Engine!$Q157,ROW(Haz_Cat)-MIN(ROW(Haz_Cat))+1),COLUMNS($U159:AR159)),COLUMNS(Main!$D157:$G157)),\"\")","v":0},{"$f":"IFERROR(INDEX(Haz_Cat,SMALL(IF(Hazard=Engine!$Q157,ROW(Haz_Cat)-MIN(ROW(Haz_Cat))+1),COLUMNS($U159:AS159)),COLUMNS(Main!$D157:$G157)),\"\")","v":0},{"$f":"IFERROR(INDEX(Haz_Cat,SMALL(IF(Hazard=Engine!$Q157,ROW(Haz_Cat)-MIN(ROW(Haz_Cat))+1),COLUMNS($U159:AT159)),COLUMNS(Main!$D157:$G157)),\"\")","v":0},{"$f":"IFERROR(INDEX(Haz_Cat,SMALL(IF(Hazard=Engine!$Q157,ROW(Haz_Cat)-MIN(ROW(Haz_Cat))+1),COLUMNS($U159:AU159)),COLUMNS(Main!$D157:$G157)),\"\")","v":0},{"$f":"IFERROR(INDEX(Haz_Cat,SMALL(IF(Hazard=Engine!$Q157,ROW(Haz_Cat)-MIN(ROW(Haz_Cat))+1),COLUMNS($U159:AV159)),COLUMNS(Main!$D157:$G157)),\"\")","v":0},null,{"$f":"INDIRECT(TEXT(MIN(IF(($U166:$AV171<>\"\")*(COUNTIF($AX156:$AX161,$U166:$AV171)=0),ROW($P166:$BM171)*100+COLUMN($U156:$AV184),7^8)),\"R0C00\"),)&\"\"","v":""},false,"","",{"$f":"COUNTIF(AZ157:AZ167,\"<=\"&AZ162)","v":0},{"$f":"IF(COUNTIF(BA157:BA167,\"<=\"&BA162)=0,\"\",COUNTIF(BA157:BA167,\"<=\"&BA162))","v":""},{"$f":"IFERROR(SMALL(AZ157:AZ167,ROWS(AX157:AX162)),\"\")","v":""},{"$f":"IFERROR(INDEX(BD157:BD178,SMALL(IF(BD157:BD178<>\"\",ROW(BD157:BD178)-MIN(ROW(BD157:BD178))+1),ROWS(AX157:AX162))),\"\")","v":""},null,{"$f":"+Z175","v":0},{"$f":"COUNTIF($BG$2:BG162,\"*\"&BG162&\"*\")","v":0},"","",{"$f":"IFERROR(INDEX(BI$2:BI$308,MATCH(ROWS(BJ$2:BJ162),BJ$2:BJ$308,0)),\"\")","v":""},{"$f":"COUNTIF($BK162:$BK$308,\"*\"&BK162&\"*\")","v":147},"","",{"$f":"IFERROR(INDEX($BM$2:$BM$308,MATCH(ROWS(BN$2:BN162),BN$2:BN468,0)),\"\")","v":""},{"$f":"IFERROR(VLOOKUP(Engine!BO162,P_sentences_overview!H161:I292,2),\"\")","v":""}]
[null,null,null,null,null,null,null,null,null,null,null,null,null,null,null,null,null,null,null,null,{"$f":"IFERROR(INDEX(Haz_Cat,SMALL(IF(Hazard=Engine!$Q157,ROW(Haz_Cat)-MIN(ROW(Haz_Cat))+1),COLUMNS($U159:U159)),COLUMNS(Main!$D157:$H157)),\"\")","v":0},{"$f":"IFERROR(INDEX(Haz_Cat,SMALL(IF(Hazard=Engine!$Q157,ROW(Haz_Cat)-MIN(ROW(Haz_Cat))+1),COLUMNS($U159:V159)),COLUMNS(Main!$D157:$H157)),\"\")","v":0},{"$f":"IFERROR(INDEX(Haz_Cat,SMALL(IF(Hazard=Engine!$Q157,ROW(Haz_Cat)-MIN(ROW(Haz_Cat))+1),COLUMNS($U159:W159)),COLUMNS(Main!$D157:$H157)),\"\")","v":0},{"$f":"IFERROR(INDEX(Haz_Cat,SMALL(IF(Hazard=Engine!$Q157,ROW(Haz_Cat)-MIN(ROW(Haz_Cat))+1),COLUMNS($U159:X159)),COLUMNS(Main!$D157:$H157)),\"\")","v":0},{"$f":"IFERROR(INDEX(Haz_Cat,SMALL(IF(Hazard=Engine!$Q157,ROW(Haz_Cat)-MIN(ROW(Haz_Cat))+1),COLUMNS($U159:Y159)),COLUMNS(Main!$D157:$H157)),\"\")","v":0},{"$f":"IFERROR(INDEX(Haz_Cat,SMALL(IF(Hazard=Engine!$Q157,ROW(Haz_Cat)-MIN(ROW(Haz_Cat))+1),COLUMNS($U159:Z159)),COLUMNS(Main!$D157:$H157)),\"\")","v":0},{"$f":"IFERROR(INDEX(Haz_Cat,SMALL(IF(Hazard=Engine!$Q157,ROW(Haz_Cat)-MIN(ROW(Haz_Cat))+1),COLUMNS($U159:AA159)),COLUMNS(Main!$D157:$H157)),\"\")","v":0},{"$f":"IFERROR(INDEX(Haz_Cat,SMALL(IF(Hazard=Engine!$Q157,ROW(Haz_Cat)-MIN(ROW(Haz_Cat))+1),COLUMNS($U159:AB159)),COLUMNS(Main!$D157:$H157)),\"\")","v":0},{"$f":"IFERROR(INDEX(Haz_Cat,SMALL(IF(Hazard=Engine!$Q157,ROW(Haz_Cat)-MIN(ROW(Haz_Cat))+1),COLUMNS($U159:AC159)),COLUMNS(Main!$D157:$H157)),\"\")","v":0},{"$f":"IFERROR(INDEX(Haz_Cat,SMALL(IF(Hazard=Engine!$Q157,ROW(Haz_Cat)-MIN(ROW(Haz_Cat))+1),COLUMNS($U159:AD159)),COLUMNS(Main!$D157:$H157)),\"\")","v":0},{"$f":"IFERROR(INDEX(Haz_Cat,SMALL(IF(Hazard=Engine!$Q157,ROW(Haz_Cat)-MIN(ROW(Haz_Cat))+1),COLUMNS($U159:AE159)),COLUMNS(Main!$D157:$H157)),\"\")","v":0},{"$f":"IFERROR(INDEX(Haz_Cat,SMALL(IF(Hazard=Engine!$Q157,ROW(Haz_Cat)-MIN(ROW(Haz_Cat))+1),COLUMNS($U159:AF159)),COLUMNS(Main!$D157:$H157)),\"\")","v":0},{"$f":"IFERROR(INDEX(Haz_Cat,SMALL(IF(Hazard=Engine!$Q157,ROW(Haz_Cat)-MIN(ROW(Haz_Cat))+1),COLUMNS($U159:AG159)),COLUMNS(Main!$D157:$H157)),\"\")","v":0},{"$f":"IFERROR(INDEX(Haz_Cat,SMALL(IF(Hazard=Engine!$Q157,ROW(Haz_Cat)-MIN(ROW(Haz_Cat))+1),COLUMNS($U159:AH159)),COLUMNS(Main!$D157:$H157)),\"\")","v":0},{"$f":"IFERROR(INDEX(Haz_Cat,SMALL(IF(Hazard=Engine!$Q157,ROW(Haz_Cat)-MIN(ROW(Haz_Cat))+1),COLUMNS($U159:AI159)),COLUMNS(Main!$D157:$H157)),\"\")","v":0},{"$f":"IFERROR(INDEX(Haz_Cat,SMALL(IF(Hazard=Engine!$Q157,ROW(Haz_Cat)-MIN(ROW(Haz_Cat))+1),COLUMNS($U159:AJ159)),COLUMNS(Main!$D157:$H157)),\"\")","v":0},{"$f":"IFERROR(INDEX(Haz_Cat,SMALL(IF(Hazard=Engine!$Q157,ROW(Haz_Cat)-MIN(ROW(Haz_Cat))+1),COLUMNS($U159:AK159)),COLUMNS(Main!$D157:$H157)),\"\")","v":0},{"$f":"IFERROR(INDEX(Haz_Cat,SMALL(IF(Hazard=Engine!$Q157,ROW(Haz_Cat)-MIN(ROW(Haz_Cat))+1),COLUMNS($U159:AL159)),COLUMNS(Main!$D157:$H157)),\"\")","v":0},{"$f":"IFERROR(INDEX(Haz_Cat,SMALL(IF(Hazard=Engine!$Q157,ROW(Haz_Cat)-MIN(ROW(Haz_Cat))+1),COLUMNS($U159:AM159)),COLUMNS(Main!$D157:$H157)),\"\")","v":0},{"$f":"IFERROR(INDEX(Haz_Cat,SMALL(IF(Hazard=Engine!$Q157,ROW(Haz_Cat)-MIN(ROW(Haz_Cat))+1),COLUMNS($U159:AN159)),COLUMNS(Main!$D157:$H157)),\"\")","v":0},{"$f":"IFERROR(INDEX(Haz_Cat,SMALL(IF(Hazard=Engine!$Q157,ROW(Haz_Cat)-MIN(ROW(Haz_Cat))+1),COLUMNS($U159:AO159)),COLUMNS(Main!$D157:$H157)),\"\")","v":0},{"$f":"IFERROR(INDEX(Haz_Cat,SMALL(IF(Hazard=Engine!$Q157,ROW(Haz_Cat)-MIN(ROW(Haz_Cat))+1),COLUMNS($U159:AP159)),COLUMNS(Main!$D157:$H157)),\"\")","v":0},{"$f":"IFERROR(INDEX(Haz_Cat,SMALL(IF(Hazard=Engine!$Q157,ROW(Haz_Cat)-MIN(ROW(Haz_Cat))+1),COLUMNS($U159:AQ159)),COLUMNS(Main!$D157:$H157)),\"\")","v":0},{"$f":"IFERROR(INDEX(Haz_Cat,SMALL(IF(Hazard=Engine!$Q157,ROW(Haz_Cat)-MIN(ROW(Haz_Cat))+1),COLUMNS($U159:AR159)),COLUMNS(Main!$D157:$H157)),\"\")","v":0},{"$f":"IFERROR(INDEX(Haz_Cat,SMALL(IF(Hazard=Engine!$Q157,ROW(Haz_Cat)-MIN(ROW(Haz_Cat))+1),COLUMNS($U159:AS159)),COLUMNS(Main!$D157:$H157)),\"\")","v":0},{"$f":"IFERROR(INDEX(Haz_Cat,SMALL(IF(Hazard=Engine!$Q157,ROW(Haz_Cat)-MIN(ROW(Haz_Cat))+1),COLUMNS($U159:AT159)),COLUMNS(Main!$D157:$H157)),\"\")","v":0},{"$f":"IFERROR(INDEX(Haz_Cat,SMALL(IF(Hazard=Engine!$Q157,ROW(Haz_Cat)-MIN(ROW(Haz_Cat))+1),COLUMNS($U159:AU159)),COLUMNS(Main!$D157:$H157)),\"\")","v":0},{"$f":"IFERROR(INDEX(Haz_Cat,SMALL(IF(Hazard=Engine!$Q157,ROW(Haz_Cat)-MIN(ROW(Haz_Cat))+1),COLUMNS($U159:AV159)),COLUMNS(Main!$D157:$H157)),\"\")","v":0},null,{"$f":"INDIRECT(TEXT(MIN(IF(($U166:$AV171<>\"\")*(COUNTIF($AX156:$AX162,$U166:$AV171)=0),ROW($P166:$BM171)*100+COLUMN($U156:$AV184),7^8)),\"R0C00\"),)&\"\"","v":""},false,"","",{"$f":"COUNTIF(AZ157:AZ167,\"<=\"&AZ163)","v":0},{"$f":"IF(COUNTIF(BA157:BA167,\"<=\"&BA163)=0,\"\",COUNTIF(BA157:BA167,\"<=\"&BA163))","v":""},{"$f":"IFERROR(SMALL(AZ157:AZ167,ROWS(AX157:AX163)),\"\")","v":""},{"$f":"IFERROR(INDEX(BD157:BD178,SMALL(IF(BD157:BD178<>\"\",ROW(BD157:BD178)-MIN(ROW(BD157:BD178))+1),ROWS(AX157:AX163))),\"\")","v":""},null,{"$f":"+AA175","v":0},{"$f":"COUNTIF($BG$2:BG163,\"*\"&BG163&\"*\")","v":0},"","",{"$f":"IFERROR(INDEX(BI$2:BI$308,MATCH(ROWS(BJ$2:BJ163),BJ$2:BJ$308,0)),\"\")","v":""},{"$f":"COUNTIF($BK163:$BK$308,\"*\"&BK163&\"*\")","v":146},"","",{"$f":"IFERROR(INDEX($BM$2:$BM$308,MATCH(ROWS(BN$2:BN163),BN$2:BN469,0)),\"\")","v":""},{"$f":"IFERROR(VLOOKUP(Engine!BO163,P_sentences_overview!H162:I293,2),\"\")","v":""}]
[null,null,null,null,null,null,null,null,null,null,null,null,null,null,null,null,null,null,null,null,{"$f":"IFERROR(INDEX(Haz_Cat,SMALL(IF(Hazard=Engine!$Q157,ROW(Haz_Cat)-MIN(ROW(Haz_Cat))+1),COLUMNS($U159:U159)),COLUMNS(Main!$D157:$I157)),\"\")","v":0},{"$f":"IFERROR(INDEX(Haz_Cat,SMALL(IF(Hazard=Engine!$Q157,ROW(Haz_Cat)-MIN(ROW(Haz_Cat))+1),COLUMNS($U159:V159)),COLUMNS(Main!$D157:$I157)),\"\")","v":0},{"$f":"IFERROR(INDEX(Haz_Cat,SMALL(IF(Hazard=Engine!$Q157,ROW(Haz_Cat)-MIN(ROW(Haz_Cat))+1),COLUMNS($U159:W159)),COLUMNS(Main!$D157:$I157)),\"\")","v":0},{"$f":"IFERROR(INDEX(Haz_Cat,SMALL(IF(Hazard=Engine!$Q157,ROW(Haz_Cat)-MIN(ROW(Haz_Cat))+1),COLUMNS($U159:X159)),COLUMNS(Main!$D157:$I157)),\"\")","v":0},{"$f":"IFERROR(INDEX(Haz_Cat,SMALL(IF(Hazard=Engine!$Q157,ROW(Haz_Cat)-MIN(ROW(Haz_Cat))+1),COLUMNS($U159:Y159)),COLUMNS(Main!$D157:$I157)),\"\")","v":0},{"$f":"IFERROR(INDEX(Haz_Cat,SMALL(IF(Hazard=Engine!$Q157,ROW(Haz_Cat)-MIN(ROW(Haz_Cat))+1),COLUMNS($U159:Z159)),COLUMNS(Main!$D157:$I157)),\"\")","v":0},{"$f":"IFERROR(INDEX(Haz_Cat,SMALL(IF(Hazard=Engine!$Q157,ROW(Haz_Cat)-MIN(ROW(Haz_Cat))+1),COLUMNS($U159:AA159)),COLUMNS(Main!$D157:$I157)),\"\")","v":0},{"$f":"IFERROR(INDEX(Haz_Cat,SMALL(IF(Hazard=Engine!$Q157,ROW(Haz_Cat)-MIN(ROW(Haz_Cat))+1),COLUMNS($U159:AB159)),COLUMNS(Main!$D157:$I157)),\"\")","v":0},{"$f":"IFERROR(INDEX(Haz_Cat,SMALL(IF(Hazard=Engine!$Q157,ROW(Haz_Cat)-MIN(ROW(Haz_Cat))+1),COLUMNS($U159:AC159)),COLUMNS(Main!$D157:$I157)),\"\")","v":0},{"$f":"IFERROR(INDEX(Haz_Cat,SMALL(IF(Hazard=Engine!$Q157,ROW(Haz_Cat)-MIN(ROW(Haz_Cat))+1),COLUMNS($U159:AD159)),COLUMNS(Main!$D157:$I157)),\"\")","v":0},{"$f":"IFERROR(INDEX(Haz_Cat,SMALL(IF(Hazard=Engine!$Q157,ROW(Haz_Cat)-MIN(ROW(Haz_Cat))+1),COLUMNS($U159:AE159)),COLUMNS(Main!$D157:$I157)),\"\")","v":0},{"$f":"IFERROR(INDEX(Haz_Cat,SMALL(IF(Hazard=Engine!$Q157,ROW(Haz_Cat)-MIN(ROW(Haz_Cat))+1),COLUMNS($U159:AF159)),COLUMNS(Main!$D157:$I157)),\"\")","v":0},{"$f":"IFERROR(INDEX(Haz_Cat,SMALL(IF(Hazard=Engine!$Q157,ROW(Haz_Cat)-MIN(ROW(Haz_Cat))+1),COLUMNS($U159:AG159)),COLUMNS(Main!$D157:$I157)),\"\")","v":0},{"$f":"IFERROR(INDEX(Haz_Cat,SMALL(IF(Hazard=Engine!$Q157,ROW(Haz_Cat)-MIN(ROW(Haz_Cat))+1),COLUMNS($U159:AH159)),COLUMNS(Main!$D157:$I157)),\"\")","v":0},{"$f":"IFERROR(INDEX(Haz_Cat,SMALL(IF(Hazard=Engine!$Q157,ROW(Haz_Cat)-MIN(ROW(Haz_Cat))+1),COLUMNS($U159:AI159)),COLUMNS(Main!$D157:$I157)),\"\")","v":0},{"$f":"IFERROR(INDEX(Haz_Cat,SMALL(IF(Hazard=Engine!$Q157,ROW(Haz_Cat)-MIN(ROW(Haz_Cat))+1),COLUMNS($U159:AJ159)),COLUMNS(Main!$D157:$I157)),\"\")","v":0},{"$f":"IFERROR(INDEX(Haz_Cat,SMALL(IF(Hazard=Engine!$Q157,ROW(Haz_Cat)-MIN(ROW(Haz_Cat))+1),COLUMNS($U159:AK159)),COLUMNS(Main!$D157:$I157)),\"\")","v":0},{"$f":"IFERROR(INDEX(Haz_Cat,SMALL(IF(Hazard=Engine!$Q157,ROW(Haz_Cat)-MIN(ROW(Haz_Cat))+1),COLUMNS($U159:AL159)),COLUMNS(Main!$D157:$I157)),\"\")","v":0},{"$f":"IFERROR(INDEX(Haz_Cat,SMALL(IF(Hazard=Engine!$Q157,ROW(Haz_Cat)-MIN(ROW(Haz_Cat))+1),COLUMNS($U159:AM159)),COLUMNS(Main!$D157:$I157)),\"\")","v":0},{"$f":"IFERROR(INDEX(Haz_Cat,SMALL(IF(Hazard=Engine!$Q157,ROW(Haz_Cat)-MIN(ROW(Haz_Cat))+1),COLUMNS($U159:AN159)),COLUMNS(Main!$D157:$I157)),\"\")","v":0},{"$f":"IFERROR(INDEX(Haz_Cat,SMALL(IF(Hazard=Engine!$Q157,ROW(Haz_Cat)-MIN(ROW(Haz_Cat))+1),COLUMNS($U159:AO159)),COLUMNS(Main!$D157:$I157)),\"\")","v":0},{"$f":"IFERROR(INDEX(Haz_Cat,SMALL(IF(Hazard=Engine!$Q157,ROW(Haz_Cat)-MIN(ROW(Haz_Cat))+1),COLUMNS($U159:AP159)),COLUMNS(Main!$D157:$I157)),\"\")","v":0},{"$f":"IFERROR(INDEX(Haz_Cat,SMALL(IF(Hazard=Engine!$Q157,ROW(Haz_Cat)-MIN(ROW(Haz_Cat))+1),COLUMNS($U159:AQ159)),COLUMNS(Main!$D157:$I157)),\"\")","v":0},{"$f":"IFERROR(INDEX(Haz_Cat,SMALL(IF(Hazard=Engine!$Q157,ROW(Haz_Cat)-MIN(ROW(Haz_Cat))+1),COLUMNS($U159:AR159)),COLUMNS(Main!$D157:$I157)),\"\")","v":0},{"$f":"IFERROR(INDEX(Haz_Cat,SMALL(IF(Hazard=Engine!$Q157,ROW(Haz_Cat)-MIN(ROW(Haz_Cat))+1),COLUMNS($U159:AS159)),COLUMNS(Main!$D157:$I157)),\"\")","v":0},{"$f":"IFERROR(INDEX(Haz_Cat,SMALL(IF(Hazard=Engine!$Q157,ROW(Haz_Cat)-MIN(ROW(Haz_Cat))+1),COLUMNS($U159:AT159)),COLUMNS(Main!$D157:$I157)),\"\")","v":0},{"$f":"IFERROR(INDEX(Haz_Cat,SMALL(IF(Hazard=Engine!$Q157,ROW(Haz_Cat)-MIN(ROW(Haz_Cat))+1),COLUMNS($U159:AU159)),COLUMNS(Main!$D157:$I157)),\"\")","v":0},{"$f":"IFERROR(INDEX(Haz_Cat,SMALL(IF(Hazard=Engine!$Q157,ROW(Haz_Cat)-MIN(ROW(Haz_Cat))+1),COLUMNS($U159:AV159)),COLUMNS(Main!$D157:$I157)),\"\")","v":0},null,{"$f":"INDIRECT(TEXT(MIN(IF(($U166:$AV171<>\"\")*(COUNTIF($AX156:$AX163,$U166:$AV171)=0),ROW($P166:$BM171)*100+COLUMN($U156:$AV184),7^8)),\"R0C00\"),)&\"\"","v":""},false,"","",{"$f":"COUNTIF(AZ157:AZ167,\"<=\"&AZ164)","v":0},{"$f":"IF(COUNTIF(BA157:BA167,\"<=\"&BA164)=0,\"\",COUNTIF(BA157:BA167,\"<=\"&BA164))","v":""},{"$f":"IFERROR(SMALL(AZ157:AZ167,ROWS(AX157:AX164)),\"\")","v":""},{"$f":"IFERROR(INDEX(BD157:BD178,SMALL(IF(BD157:BD178<>\"\",ROW(BD157:BD178)-MIN(ROW(BD157:BD178))+1),ROWS(AX157:AX164))),\"\")","v":""},null,{"$f":"+AB175","v":0},{"$f":"COUNTIF($BG$2:BG164,\"*\"&BG164&\"*\")","v":0},"","",{"$f":"IFERROR(INDEX(BI$2:BI$308,MATCH(ROWS(BJ$2:BJ164),BJ$2:BJ$308,0)),\"\")","v":""},{"$f":"COUNTIF($BK164:$BK$308,\"*\"&BK164&\"*\")","v":145},"","",{"$f":"IFERROR(INDEX($BM$2:$BM$308,MATCH(ROWS(BN$2:BN164),BN$2:BN470,0)),\"\")","v":""},{"$f":"IFERROR(VLOOKUP(Engine!BO164,P_sentences_overview!H163:I294,2),\"\")","v":""}]
[null,null,null,null,null,null,null,null,null,null,null,null,null,null,null,null,null,null,null,null,null,null,null,null,null,null,null,null,null,null,null,null,null,null,null,null,null,null,null,null,null,null,null,null,null,null,null,null,null,{"$f":"INDIRECT(TEXT(MIN(IF(($U166:$AV171<>\"\")*(COUNTIF($AX156:$AX164,$U166:$AV171)=0),ROW($P166:$BM171)*100+COLUMN($U156:$AV184),7^8)),\"R0C00\"),)&\"\"","v":""},false,"","",{"$f":"COUNTIF(AZ157:AZ167,\"<=\"&AZ165)","v":0},{"$f":"IF(COUNTIF(BA157:BA167,\"<=\"&BA165)=0,\"\",COUNTIF(BA157:BA167,\"<=\"&BA165))","v":""},{"$f":"IFERROR(SMALL(AZ157:AZ167,ROWS(AX157:AX165)),\"\")","v":""},{"$f":"IFERROR(INDEX(BD157:BD178,SMALL(IF(BD157:BD178<>\"\",ROW(BD157:BD178)-MIN(ROW(BD157:BD178))+1),ROWS(AX157:AX165))),\"\")","v":""},null,{"$f":"+AC175","v":0},{"$f":"COUNTIF($BG$2:BG165,\"*\"&BG165&\"*\")","v":0},"","",{"$f":"IFERROR(INDEX(BI$2:BI$308,MATCH(ROWS(BJ$2:BJ165),BJ$2:BJ$308,0)),\"\")","v":""},{"$f":"COUNTIF($BK165:$BK$308,\"*\"&BK165&\"*\")","v":144},"","",{"$f":"IFERROR(INDEX($BM$2:$BM$308,MATCH(ROWS(BN$2:BN165),BN$2:BN471,0)),\"\")","v":""},{"$f":"IFERROR(VLOOKUP(Engine!BO165,P_sentences_overview!H164:I295,2),\"\")","v":""}]
[null,null,null,null,null,null,null,null,null,null,null,null,null,null,null,null,null,null,null,null,{"$f":"+IF(U159=0,\"\",U159)","v":""},"","","","","","","","","","","","","","","","","","","","","","","","","","","",null,{"$f":"INDIRECT(TEXT(MIN(IF(($U166:$AV171<>\"\")*(COUNTIF($AX156:$AX165,$U166:$AV171)=0),ROW($P166:$BM171)*100+COLUMN($U156:$AV184),7^8)),\"R0C00\"),)&\"\"","v":""},false,"","",{"$f":"COUNTIF(AZ157:AZ167,\"<=\"&AZ166)","v":0},{"$f":"IF(COUNTIF(BA157:BA167,\"<=\"&BA166)=0,\"\",COUNTIF(BA157:BA167,\"<=\"&BA166))","v":""},{"$f":"IFERROR(SMALL(AZ157:AZ167,ROWS(AX157:AX166)),\"\")","v":""},{"$f":"IFERROR(INDEX(BD157:BD178,SMALL(IF(BD157:BD178<>\"\",ROW(BD157:BD178)-MIN(ROW(BD157:BD178))+1),ROWS(AX157:AX166))),\"\")","v":""},null,{"$f":"+AD175","v":0},{"$f":"COUNTIF($BG$2:BG166,\"*\"&BG166&\"*\")","v":0},"","",{"$f":"IFERROR(INDEX(BI$2:BI$308,MATCH(ROWS(BJ$2:BJ166),BJ$2:BJ$308,0)),\"\")","v":""},{"$f":"COUNTIF($BK166:$BK$308,\"*\"&BK166&\"*\")","v":143},"","",{"$f":"IFERROR(INDEX($BM$2:$BM$308,MATCH(ROWS(BN$2:BN166),BN$2:BN472,0)),\"\")","v":""},{"$f":"IFERROR(VLOOKUP(Engine!BO166,P_sentences_overview!H165:I296,2),\"\")","v":""}]
[null,null,null,null,null,null,null,null,null,null,null,null,null,null,null,null,null,null,null,null,{"$f":"+IF(U160=0,\"\",U160)","v":""},"","","","","","","","","","","","","","","","","","","","","","","","","","","",null,{"$f":"INDIRECT(TEXT(MIN(IF(($U166:$AV171<>\"\")*(COUNTIF($AX156:$AX166,$U166:$AV171)=0),ROW($P166:$BM171)*100+COLUMN($U156:$AV184),7^8)),\"R0C00\"),)&\"\"","v":""},false,"","",{"$f":"COUNTIF(AZ157:AZ167,\"<=\"&AZ167)","v":0},{"$f":"IF(COUNTIF(BA157:BA167,\"<=\"&BA167)=0,\"\",COUNTIF(BA157:BA167,\"<=\"&BA167))","v":""},{"$f":"IFERROR(SMALL(AZ157:AZ167,ROWS(AX157:AX167)),\"\")","v":""},{"$f":"IFERROR(INDEX(BD157:BD178,SMALL(IF(BD157:BD178<>\"\",ROW(BD157:BD178)-MIN(ROW(BD157:BD178))+1),ROWS(AX157:AX167))),\"\")","v":""},null,{"$f":"+AE175","v":0},{"$f":"COUNTIF($BG$2:BG167,\"*\"&BG167&\"*\")","v":0},"","",{"$f":"IFERROR(INDEX(BI$2:BI$308,MATCH(ROWS(BJ$2:BJ167),BJ$2:BJ$308,0)),\"\")","v":""},{"$f":"COUNTIF($BK167:$BK$308,\"*\"&BK167&\"*\")","v":142},"","",{"$f":"IFERROR(INDEX($BM$2:$BM$308,MATCH(ROWS(BN$2:BN167),BN$2:BN473,0)),\"\")","v":""},{"$f":"IFERROR(VLOOKUP(Engine!BO167,P_sentences_overview!H166:I297,2),\"\")","v":""}]
[null,null,null,null,null,null,null,null,null,null,null,null,null,null,null,null,null,null,null,null,{"$f":"+IF(U161=0,\"\",U161)","v":""},"","","","","","","","","","","","","","","","","","","","","","","","","","","",null,null,null,null,null,null,null,{"$f":"IFERROR(INDEX(BA157:BA167,MATCH(SMALL(BC157:BC167,ROWS(BA157:BA157)),BC157:BC167,)),\"\")","v":""},{"$f":"IFERROR(INDEX(BD157:BD178,SMALL(IF(BD157:BD178<>\"\",ROW(BD157:BD178)-MIN(ROW(BD157:BD178))+1),ROWS(AX157:AX168))),\"\")","v":""},null,{"$f":"+AF175","v":0},{"$f":"COUNTIF($BG$2:BG168,\"*\"&BG168&\"*\")","v":0},"","",{"$f":"IFERROR(INDEX(BI$2:BI$308,MATCH(ROWS(BJ$2:BJ168),BJ$2:BJ$308,0)),\"\")","v":""},{"$f":"COUNTIF($BK168:$BK$308,\"*\"&BK168&\"*\")","v":141},"","",{"$f":"IFERROR(INDEX($BM$2:$BM$308,MATCH(ROWS(BN$2:BN168),BN$2:BN474,0)),\"\")","v":""},{"$f":"IFERROR(VLOOKUP(Engine!BO168,P_sentences_overview!H167:I298,2),\"\")","v":""}]
[null,null,null,null,null,null,null,null,null,null,null,null,null,null,null,null,null,null,null,null,{"$f":"+IF(U162=0,\"\",U162)","v":""},"","","","","","","","","","","","","","","","","","","","","","","","","","","",null,null,null,null,null,null,null,{"$f":"IFERROR(INDEX(BA157:BA167,MATCH(SMALL(BC157:BC167,ROWS(BA157:BA158)),BC157:BC167,)),\"\")","v":""},{"$f":"IFERROR(INDEX(BD157:BD178,SMALL(IF(BD157:BD178<>\"\",ROW(BD157:BD178)-MIN(ROW(BD157:BD178))+1),ROWS(AX157:AX169))),\"\")","v":""},null,{"$f":"+AG175","v":0},{"$f":"COUNTIF($BG$2:BG169,\"*\"&BG169&\"*\")","v":0},"","",{"$f":"IFERROR(INDEX(BI$2:BI$308,MATCH(ROWS(BJ$2:BJ169),BJ$2:BJ$308,0)),\"\")","v":""},{"$f":"COUNTIF($BK169:$BK$308,\"*\"&BK169&\"*\")","v":140},"","",{"$f":"IFERROR(INDEX($BM$2:$BM$308,MATCH(ROWS(BN$2:BN169),BN$2:BN475,0)),\"\")","v":""},{"$f":"IFERROR(VLOOKUP(Engine!BO169,P_sentences_overview!H168:I299,2),\"\")","v":""}]
[null,null,null,null,null,null,null,null,null,null,null,null,null,null,null,null,null,null,null,null,{"$f":"+IF(U163=0,\"\",U163)","v":""},"","","","","","","","","","","","","","","","","","","","","","","","","","","",null,null,null,null,null,null,null,{"$f":"IFERROR(INDEX(BA157:BA167,MATCH(SMALL(BC157:BC167,ROWS(BA157:BA159)),BC157:BC167,)),\"\")","v":""},{"$f":"IFERROR(INDEX(BD157:BD178,SMALL(IF(BD157:BD178<>\"\",ROW(BD157:BD178)-MIN(ROW(BD157:BD178))+1),ROWS(AX157:AX170))),\"\")","v":""},null,{"$f":"+AH175","v":0},{"$f":"COUNTIF($BG$2:BG170,\"*\"&BG170&\"*\")","v":0},"","",{"$f":"IFERROR(INDEX(BI$2:BI$308,MATCH(ROWS(BJ$2:BJ170),BJ$2:BJ$308,0)),\"\")","v":""},{"$f":"COUNTIF($BK170:$BK$308,\"*\"&BK170&\"*\")","v":139},"","",{"$f":"IFERROR(INDEX($BM$2:$BM$308,MATCH(ROWS(BN$2:BN170),BN$2:BN476,0)),\"\")","v":""},{"$f":"IFERROR(VLOOKUP(Engine!BO170,P_sentences_overview!H169:I300,2),\"\")","v":""}]
[null,null,null,null,null,null,null,null,null,null,null,null,null,null,null,null,null,null,null,null,{"$f":"+IF(U164=0,\"\",U164)","v":""},"","","","","","","","","","","","","","","","","","","","","","","","","","","",null,null,null,null,null,null,null,{"$f":"IFERROR(INDEX(BA157:BA167,MATCH(SMALL(BC157:BC167,ROWS(BA157:BA160)),BC157:BC167,)),\"\")","v":""},{"$f":"IFERROR(INDEX(BD157:BD178,SMALL(IF(BD157:BD178<>\"\",ROW(BD157:BD178)-MIN(ROW(BD157:BD178))+1),ROWS(AX157:AX171))),\"\")","v":""},null,{"$f":"+AI175","v":0},{"$f":"COUNTIF($BG$2:BG171,\"*\"&BG171&\"*\")","v":0},"","",{"$f":"IFERROR(INDEX(BI$2:BI$308,MATCH(ROWS(BJ$2:BJ171),BJ$2:BJ$308,0)),\"\")","v":""},{"$f":"COUNTIF($BK171:$BK$308,\"*\"&BK171&\"*\")","v":138},"","",{"$f":"IFERROR(INDEX($BM$2:$BM$308,MATCH(ROWS(BN$2:BN171),BN$2:BN477,0)),\"\")","v":""},{"$f":"IFERROR(VLOOKUP(Engine!BO171,P_sentences_overview!H170:I301,2),\"\")","v":""}]
[null,null,null,null,null,null,null,null,null,null,null,null,null,null,null,null,null,null,null,null,null,null,null,null,null,null,null,null,null,null,null,null,null,null,null,null,null,null,null,null,null,null,null,null,null,null,null,null,null,null,null,null,null,null,null,{"$f":"IFERROR(INDEX(BA157:BA167,MATCH(SMALL(BC157:BC167,ROWS(BA157:BA161)),BC157:BC167,)),\"\")","v":""},{"$f":"IFERROR(INDEX(BD157:BD178,SMALL(IF(BD157:BD178<>\"\",ROW(BD157:BD178)-MIN(ROW(BD157:BD178))+1),ROWS(AX157:AX172))),\"\")","v":""},null,{"$f":"+AJ175","v":0},{"$f":"COUNTIF($BG$2:BG172,\"*\"&BG172&\"*\")","v":0},"","",{"$f":"IFERROR(INDEX(BI$2:BI$308,MATCH(ROWS(BJ$2:BJ172),BJ$2:BJ$308,0)),\"\")","v":""},{"$f":"COUNTIF($BK172:$BK$308,\"*\"&BK172&\"*\")","v":137},"","",{"$f":"IFERROR(INDEX($BM$2:$BM$308,MATCH(ROWS(BN$2:BN172),BN$2:BN478,0)),\"\")","v":""},{"$f":"IFERROR(VLOOKUP(Engine!BO172,P_sentences_overview!H171:I302,2),\"\")","v":""}]
[null,null,null,null,null,null,null,null,null,null,null,null,null,null,null,null,null,null,null,null,{"$f":"IF(ISNUMBER(MATCH($R157,U166:U171,0)),U157,\"\")","v":0},{"$f":"IF(ISNUMBER(MATCH($R157,V166:V171,0)),V157,\"\")","v":0},0,0,0,0,0,0,0,0,0,0,0,0,0,0,0,0,0,0,0,0,0,0,0,0,0,0,null,null,null,null,null,null,null,{"$f":"IFERROR(INDEX(BA157:BA167,MATCH(SMALL(BC157:BC167,ROWS(BA157:BA162)),BC157:BC167,)),\"\")","v":""},{"$f":"IFERROR(INDEX(BD157:BD178,SMALL(IF(BD157:BD178<>\"\",ROW(BD157:BD178)-MIN(ROW(BD157:BD178))+1),ROWS(AX157:AX173))),\"\")","v":""},null,{"$f":"+AK175","v":0},{"$f":"COUNTIF($BG$2:BG173,\"*\"&BG173&\"*\")","v":0},"","",{"$f":"IFERROR(INDEX(BI$2:BI$308,MATCH(ROWS(BJ$2:BJ173),BJ$2:BJ$308,0)),\"\")","v":""},{"$f":"COUNTIF($BK173:$BK$308,\"*\"&BK173&\"*\")","v":136},"","",{"$f":"IFERROR(INDEX($BM$2:$BM$308,MATCH(ROWS(BN$2:BN173),BN$2:BN479,0)),\"\")","v":""},{"$f":"IFERROR(VLOOKUP(Engine!BO173,P_sentences_overview!H172:I303,2),\"\")","v":""}]
[null,null,null,null,null,null,null,null,null,null,null,null,null,null,null,null,null,null,null,null,null,null,null,null,null,null,null,null,null,null,null,null,null,null,null,null,null,null,null,null,null,null,null,null,null,null,null,null,null,null,null,null,null,null,null,{"$f":"IFERROR(INDEX(BA157:BA167,MATCH(SMALL(BC157:BC167,ROWS(BA157:BA163)),BC157:BC167,)),\"\")","v":""},{"$f":"IFERROR(INDEX(BD157:BD178,SMALL(IF(BD157:BD178<>\"\",ROW(BD157:BD178)-MIN(ROW(BD157:BD178))+1),ROWS(AX157:AX174))),\"\")","v":""},null,{"$f":"+AL175","v":0},{"$f":"COUNTIF($BG$2:BG174,\"*\"&BG174&\"*\")","v":0},"","",{"$f":"IFERROR(INDEX(BI$2:BI$308,MATCH(ROWS(BJ$2:BJ174),BJ$2:BJ$308,0)),\"\")","v":""},{"$f":"COUNTIF($BK174:$BK$308,\"*\"&BK174&\"*\")","v":135},"","",{"$f":"IFERROR(INDEX($BM$2:$BM$308,MATCH(ROWS(BN$2:BN174),BN$2:BN480,0)),\"\")","v":""},{"$f":"IFERROR(VLOOKUP(Engine!BO174,P_sentences_overview!H173:I304,2),\"\")","v":""}]
[null,null,null,null,null,null,null,null,null,null,null,null,null,null,null,null,null,null,null,null,{"$f":"IFERROR(INDEX(U173:AV173,1,SMALL(IF(U173:AV173<>\"\",COLUMN(U173:AV173)-MIN(COLUMN(U173:AV173))+1),COLUMNS($U$2:U157))),\"\")","v":0},{"$f":"IFERROR(INDEX(U173:AV173,1,SMALL(IF(U173:AV173<>\"\",COLUMN(U173:AV173)-MIN(COLUMN(U173:AV173))+1),COLUMNS($U$2:V157))),\"\")","v":0},{"$f":"IFERROR(INDEX(U173:AV173,1,SMALL(IF(U173:AV173<>\"\",COLUMN(U173:AV173)-MIN(COLUMN(U173:AV173))+1),COLUMNS($U$2:W157))),\"\")","v":0},{"$f":"IFERROR(INDEX(U173:AV173,1,SMALL(IF(U173:AV173<>\"\",COLUMN(U173:AV173)-MIN(COLUMN(U173:AV173))+1),COLUMNS($U$2:X157))),\"\")","v":0},{"$f":"IFERROR(INDEX(U173:AV173,1,SMALL(IF(U173:AV173<>\"\",COLUMN(U173:AV173)-MIN(COLUMN(U173:AV173))+1),COLUMNS($U$2:Y157))),\"\")","v":0},{"$f":"IFERROR(INDEX(U173:AV173,1,SMALL(IF(U173:AV173<>\"\",COLUMN(U173:AV173)-MIN(COLUMN(U173:AV173))+1),COLUMNS($U$2:Z157))),\"\")","v":0},{"$f":"IFERROR(INDEX(U173:AV173,1,SMALL(IF(U173:AV173<>\"\",COLUMN(U173:AV173)-MIN(COLUMN(U173:AV173))+1),COLUMNS($U$2:AA157))),\"\")","v":0},{"$f":"IFERROR(INDEX(U173:AV173,1,SMALL(IF(U173:AV173<>\"\",COLUMN(U173:AV173)-MIN(COLUMN(U173:AV173))+1),COLUMNS($U$2:AB157))),\"\")","v":0},{"$f":"IFERROR(INDEX(U173:AV173,1,SMALL(IF(U173:AV173<>\"\",COLUMN(U173:AV173)-MIN(COLUMN(U173:AV173))+1),COLUMNS($U$2:AC157))),\"\")","v":0},{"$f":"IFERROR(INDEX(U173:AV173,1,SMALL(IF(U173:AV173<>\"\",COLUMN(U173:AV173)-MIN(COLUMN(U173:AV173))+1),COLUMNS($U$2:AD157))),\"\")","v":0},{"$f":"IFERROR(INDEX(U173:AV173,1,SMALL(IF(U173:AV173<>\"\",COLUMN(U173:AV173)-MIN(COLUMN(U173:AV173))+1),COLUMNS($U$2:AE157))),\"\")","v":0},{"$f":"IFERROR(INDEX(U173:AV173,1,SMALL(IF(U173:AV173<>\"\",COLUMN(U173:AV173)-MIN(COLUMN(U173:AV173))+1),COLUMNS($U$2:AF157))),\"\")","v":0},{"$f":"IFERROR(INDEX(U173:AV173,1,SMALL(IF(U173:AV173<>\"\",COLUMN(U173:AV173)-MIN(COLUMN(U173:AV173))+1),COLUMNS($U$2:AG157))),\"\")","v":0},{"$f":"IFERROR(INDEX(U173:AV173,1,SMALL(IF(U173:AV173<>\"\",COLUMN(U173:AV173)-MIN(COLUMN(U173:AV173))+1),COLUMNS($U$2:AH157))),\"\")","v":0},{"$f":"IFERROR(INDEX(U173:AV173,1,SMALL(IF(U173:AV173<>\"\",COLUMN(U173:AV173)-MIN(COLUMN(U173:AV173))+1),COLUMNS($U$2:AI157))),\"\")","v":0},{"$f":"IFERROR(INDEX(U173:AV173,1,SMALL(IF(U173:AV173<>\"\",COLUMN(U173:AV173)-MIN(COLUMN(U173:AV173))+1),COLUMNS($U$2:AJ157))),\"\")","v":0},{"$f":"IFERROR(INDEX(U173:AV173,1,SMALL(IF(U173:AV173<>\"\",COLUMN(U173:AV173)-MIN(COLUMN(U173:AV173))+1),COLUMNS($U$2:AK157))),\"\")","v":0},{"$f":"IFERROR(INDEX(U173:AV173,1,SMALL(IF(U173:AV173<>\"\",COLUMN(U173:AV173)-MIN(COLUMN(U173:AV173))+1),COLUMNS($U$2:AL157))),\"\")","v":0},{"$f":"IFERROR(INDEX(U173:AV173,1,SMALL(IF(U173:AV173<>\"\",COLUMN(U173:AV173)-MIN(COLUMN(U173:AV173))+1),COLUMNS($U$2:AM157))),\"\")","v":0},{"$f":"IFERROR(INDEX(U173:AV173,1,SMALL(IF(U173:AV173<>\"\",COLUMN(U173:AV173)-MIN(COLUMN(U173:AV173))+1),COLUMNS($U$2:AN157))),\"\")","v":0},{"$f":"IFERROR(INDEX(U173:AV173,1,SMALL(IF(U173:AV173<>\"\",COLUMN(U173:AV173)-MIN(COLUMN(U173:AV173))+1),COLUMNS($U$2:AO157))),\"\")","v":0},{"$f":"IFERROR(INDEX(U173:AV173,1,SMALL(IF(U173:AV173<>\"\",COLUMN(U173:AV173)-MIN(COLUMN(U173:AV173))+1),COLUMNS($U$2:AP157))),\"\")","v":0},{"$f":"IFERROR(INDEX(U173:AV173,1,SMALL(IF(U173:AV173<>\"\",COLUMN(U173:AV173)-MIN(COLUMN(U173:AV173))+1),COLUMNS($U$2:AQ157))),\"\")","v":0},{"$f":"IFERROR(INDEX(U173:AV173,1,SMALL(IF(U173:AV173<>\"\",COLUMN(U173:AV173)-MIN(COLUMN(U173:AV173))+1),COLUMNS($U$2:AR157))),\"\")","v":0},{"$f":"IFERROR(INDEX(U173:AV173,1,SMALL(IF(U173:AV173<>\"\",COLUMN(U173:AV173)-MIN(COLUMN(U173:AV173))+1),COLUMNS($U$2:AS157))),\"\")","v":0},{"$f":"IFERROR(INDEX(U173:AV173,1,SMALL(IF(U173:AV173<>\"\",COLUMN(U173:AV173)-MIN(COLUMN(U173:AV173))+1),COLUMNS($U$2:AT157))),\"\")","v":0},{"$f":"IFERROR(INDEX(U173:AV173,1,SMALL(IF(U173:AV173<>\"\",COLUMN(U173:AV173)-MIN(COLUMN(U173:AV173))+1),COLUMNS($U$2:AU157))),\"\")","v":0},{"$f":"IFERROR(INDEX(U173:AV173,1,SMALL(IF(U173:AV173<>\"\",COLUMN(U173:AV173)-MIN(COLUMN(U173:AV173))+1),COLUMNS($U$2:AV157))),\"\")","v":0},null,null,null,null,null,null,null,{"$f":"IFERROR(INDEX(BA157:BA167,MATCH(SMALL(BC157:BC167,ROWS(BA157:BA164)),BC157:BC167,)),\"\")","v":""},{"$f":"IFERROR(INDEX(BD157:BD178,SMALL(IF(BD157:BD178<>\"\",ROW(BD157:BD178)-MIN(ROW(BD157:BD178))+1),ROWS(AX157:AX175))),\"\")","v":""},null,{"$f":"+AM175","v":0},{"$f":"COUNTIF($BG$2:BG175,\"*\"&BG175&\"*\")","v":0},"","",{"$f":"IFERROR(INDEX(BI$2:BI$308,MATCH(ROWS(BJ$2:BJ175),BJ$2:BJ$308,0)),\"\")","v":""},{"$f":"COUNTIF($BK175:$BK$308,\"*\"&BK175&\"*\")","v":134},"","",{"$f":"IFERROR(INDEX($BM$2:$BM$308,MATCH(ROWS(BN$2:BN175),BN$2:BN481,0)),\"\")","v":""},{"$f":"IFERROR(VLOOKUP(Engine!BO175,P_sentences_overview!H174:I305,2),\"\")","v":""}]
[null,null,null,null,null,null,null,null,null,null,null,null,null,null,null,null,null,null,null,null,null,null,null,null,null,null,null,null,null,null,null,null,null,null,null,null,null,null,null,null,null,null,null,null,null,null,null,null,null,null,null,null,null,null,null,{"$f":"IFERROR(INDEX(BA157:BA167,MATCH(SMALL(BC157:BC167,ROWS(BA157:BA165)),BC157:BC167,)),\"\")","v":""},{"$f":"IFERROR(INDEX(BD157:BD178,SMALL(IF(BD157:BD178<>\"\",ROW(BD157:BD178)-MIN(ROW(BD157:BD178))+1),ROWS(AX157:AX176))),\"\")","v":""},null,{"$f":"+AN175","v":0},{"$f":"COUNTIF($BG$2:BG176,\"*\"&BG176&\"*\")","v":0},"","",{"$f":"IFERROR(INDEX(BI$2:BI$308,MATCH(ROWS(BJ$2:BJ176),BJ$2:BJ$308,0)),\"\")","v":""},{"$f":"COUNTIF($BK176:$BK$308,\"*\"&BK176&\"*\")","v":133},"","",{"$f":"IFERROR(INDEX($BM$2:$BM$308,MATCH(ROWS(BN$2:BN176),BN$2:BN482,0)),\"\")","v":""},{"$f":"IFERROR(VLOOKUP(Engine!BO176,P_sentences_overview!H175:I306,2),\"\")","v":""}]
[null,null,null,null,null,null,null,null,null,null,null,null,null,null,null,null,null,null,null,null,null,null,null,null,null,null,null,null,null,null,null,null,null,null,null,null,null,null,null,null,null,null,null,null,null,null,null,null,null,null,null,null,null,null,null,{"$f":"IFERROR(INDEX(BA157:BA167,MATCH(SMALL(BC157:BC167,ROWS(BA157:BA166)),BC157:BC167,)),\"\")","v":""},{"$f":"IFERROR(INDEX(BD157:BD178,SMALL(IF(BD157:BD178<>\"\",ROW(BD157:BD178)-MIN(ROW(BD157:BD178))+1),ROWS(AX157:AX177))),\"\")","v":""},null,{"$f":"+AO175","v":0},{"$f":"COUNTIF($BG$2:BG177,\"*\"&BG177&\"*\")","v":0},"","",{"$f":"IFERROR(INDEX(BI$2:BI$308,MATCH(ROWS(BJ$2:BJ177),BJ$2:BJ$308,0)),\"\")","v":""},{"$f":"COUNTIF($BK177:$BK$308,\"*\"&BK177&\"*\")","v":132},"","",{"$f":"IFERROR(INDEX($BM$2:$BM$308,MATCH(ROWS(BN$2:BN177),BN$2:BN483,0)),\"\")","v":""},{"$f":"IFERROR(VLOOKUP(Engine!BO177,P_sentences_overview!H176:I307,2),\"\")","v":""}]
[null,null,null,null,null,null,null,null,null,null,null,null,null,null,null,null,null,null,null,null,null,null,null,null,null,null,null,null,null,null,null,null,null,null,null,null,null,null,null,null,null,null,null,null,null,null,null,null,null,null,null,null,null,null,null,{"$f":"IFERROR(INDEX(BA157:BA167,MATCH(SMALL(BC157:BC167,ROWS(BA157:BA167)),BC157:BC167,)),\"\")","v":""},{"$f":"IFERROR(INDEX(BD157:BD178,SMALL(IF(BD157:BD178<>\"\",ROW(BD157:BD178)-MIN(ROW(BD157:BD178))+1),ROWS(AX157:AX178))),\"\")","v":""},null,{"$f":"+AP175","v":0},{"$f":"COUNTIF($BG$2:BG178,\"*\"&BG178&\"*\")","v":0},"","",{"$f":"IFERROR(INDEX(BI$2:BI$308,MATCH(ROWS(BJ$2:BJ178),BJ$2:BJ$308,0)),\"\")","v":""},{"$f":"COUNTIF($BK178:$BK$308,\"*\"&BK178&\"*\")","v":131},"","",{"$f":"IFERROR(INDEX($BM$2:$BM$308,MATCH(ROWS(BN$2:BN178),BN$2:BN484,0)),\"\")","v":""},{"$f":"IFERROR(VLOOKUP(Engine!BO178,P_sentences_overview!H177:I308,2),\"\")","v":""}]
[null,null,null,null,null,null,null,null,null,null,null,null,null,null,null,null,null,null,null,null,null,null,null,null,null,null,null,null,null,null,null,null,null,null,null,null,null,null,null,null,null,null,null,null,null,null,null,null,null,null,null,null,null,null,null,null,null,null,{"$f":"+AQ175","v":0},{"$f":"COUNTIF($BG$2:BG179,\"*\"&BG179&\"*\")","v":0},"","",{"$f":"IFERROR(INDEX(BI$2:BI$308,MATCH(ROWS(BJ$2:BJ179),BJ$2:BJ$308,0)),\"\")","v":""},{"$f":"COUNTIF($BK179:$BK$308,\"*\"&BK179&\"*\")","v":130},"","",{"$f":"IFERROR(INDEX($BM$2:$BM$308,MATCH(ROWS(BN$2:BN179),BN$2:BN485,0)),\"\")","v":""},{"$f":"IFERROR(VLOOKUP(Engine!BO179,P_sentences_overview!H178:I309,2),\"\")","v":""}]
[null,null,null,null,null,null,null,null,null,null,null,null,null,null,null,null,null,null,null,null,null,null,null,null,null,null,null,null,null,null,null,null,null,null,null,null,null,null,null,null,null,null,null,null,null,null,null,null,null,null,null,null,null,null,null,null,null,null,{"$f":"+AR175","v":0},{"$f":"COUNTIF($BG$2:BG180,\"*\"&BG180&\"*\")","v":0},"","",{"$f":"IFERROR(INDEX(BI$2:BI$308,MATCH(ROWS(BJ$2:BJ180),BJ$2:BJ$308,0)),\"\")","v":""},{"$f":"COUNTIF($BK180:$BK$308,\"*\"&BK180&\"*\")","v":129},"","",{"$f":"IFERROR(INDEX($BM$2:$BM$308,MATCH(ROWS(BN$2:BN180),BN$2:BN486,0)),\"\")","v":""},{"$f":"IFERROR(VLOOKUP(Engine!BO180,P_sentences_overview!H179:I310,2),\"\")","v":""}]
[null,null,null,null,null,null,null,null,null,null,null,null,null,null,null,null,null,null,null,null,null,null,null,null,null,null,null,null,null,null,null,null,null,null,null,null,null,null,null,null,null,null,null,null,null,null,null,null,null,null,null,null,null,null,null,null,null,null,{"$f":"+AS175","v":0},{"$f":"COUNTIF($BG$2:BG181,\"*\"&BG181&\"*\")","v":0},"","",{"$f":"IFERROR(INDEX(BI$2:BI$308,MATCH(ROWS(BJ$2:BJ181),BJ$2:BJ$308,0)),\"\")","v":""},{"$f":"COUNTIF($BK181:$BK$308,\"*\"&BK181&\"*\")","v":128},"","",{"$f":"IFERROR(INDEX($BM$2:$BM$308,MATCH(ROWS(BN$2:BN181),BN$2:BN487,0)),\"\")","v":""},{"$f":"IFERROR(VLOOKUP(Engine!BO181,P_sentences_overview!H180:I311,2),\"\")","v":""}]
[null,null,null,null,null,null,null,null,null,null,null,null,null,null,null,null,null,null,null,null,null,null,null,null,null,null,null,null,null,null,null,null,null,null,null,null,null,null,null,null,null,null,null,null,null,null,null,null,null,null,null,null,null,null,null,null,null,null,{"$f":"+AT175","v":0},{"$f":"COUNTIF($BG$2:BG182,\"*\"&BG182&\"*\")","v":0},"","",{"$f":"IFERROR(INDEX(BI$2:BI$308,MATCH(ROWS(BJ$2:BJ182),BJ$2:BJ$308,0)),\"\")","v":""},{"$f":"COUNTIF($BK182:$BK$308,\"*\"&BK182&\"*\")","v":127},"","",{"$f":"IFERROR(INDEX($BM$2:$BM$308,MATCH(ROWS(BN$2:BN182),BN$2:BN488,0)),\"\")","v":""},{"$f":"IFERROR(VLOOKUP(Engine!BO182,P_sentences_overview!H181:I312,2),\"\")","v":""}]
[null,null,null,null,null,null,null,null,null,null,null,null,null,null,null,null,null,null,null,null,null,null,null,null,null,null,null,null,null,null,null,null,null,null,null,null,null,null,null,null,null,null,null,null,null,null,null,null,null,null,null,null,null,null,null,null,null,null,{"$f":"+AU175","v":0},{"$f":"COUNTIF($BG$2:BG183,\"*\"&BG183&\"*\")","v":0},"","",{"$f":"IFERROR(INDEX(BI$2:BI$308,MATCH(ROWS(BJ$2:BJ183),BJ$2:BJ$308,0)),\"\")","v":""},{"$f":"COUNTIF($BK183:$BK$308,\"*\"&BK183&\"*\")","v":126},"","",{"$f":"IFERROR(INDEX($BM$2:$BM$308,MATCH(ROWS(BN$2:BN183),BN$2:BN489,0)),\"\")","v":""},{"$f":"IFERROR(VLOOKUP(Engine!BO183,P_sentences_overview!H182:I313,2),\"\")","v":""}]
[null,null,null,null,null,null,null,null,null,null,null,null,null,null,null,null,null,null,null,null,null,null,null,null,null,null,null,null,null,null,null,null,null,null,null,null,null,null,null,null,null,null,null,null,null,null,null,null,null,null,null,null,null,null,null,null,null,null,{"$f":"+AV175","v":0},{"$f":"COUNTIF($BG$2:BG184,\"*\"&BG184&\"*\")","v":0},"","",{"$f":"IFERROR(INDEX(BI$2:BI$308,MATCH(ROWS(BJ$2:BJ184),BJ$2:BJ$308,0)),\"\")","v":""},{"$f":"COUNTIF($BK184:$BK$308,\"*\"&BK184&\"*\")","v":125},"","",{"$f":"IFERROR(INDEX($BM$2:$BM$308,MATCH(ROWS(BN$2:BN184),BN$2:BN490,0)),\"\")","v":""},{"$f":"IFERROR(VLOOKUP(Engine!BO184,P_sentences_overview!H183:I314,2),\"\")","v":""}]
[null,null,null,null,null,null,null,null,null,null,null,null,null,null,null,null,null,null,null,null,null,null,null,null,null,null,null,null,null,null,null,null,null,null,null,null,null,null,null,null,null,null,null,null,null,null,null,null,null,null,null,null,null,null,null,null,null,null,null,{"$f":"COUNTIF($BG$2:BG185,\"*\"&BG185&\"*\")","v":0},"","",{"$f":"IFERROR(INDEX(BI$2:BI$308,MATCH(ROWS(BJ$2:BJ185),BJ$2:BJ$308,0)),\"\")","v":""},{"$f":"COUNTIF($BK185:$BK$308,\"*\"&BK185&\"*\")","v":124},"","",{"$f":"IFERROR(INDEX($BM$2:$BM$308,MATCH(ROWS(BN$2:BN185),BN$2:BN491,0)),\"\")","v":""},{"$f":"IFERROR(VLOOKUP(Engine!BO185,P_sentences_overview!H184:I315,2),\"\")","v":""}]
[null,null,null,null,null,null,null,null,null,null,null,null,null,null,null,null,null,null,null,null,null,null,null,null,null,null,null,null,null,null,null,null,null,null,null,null,null,null,null,null,null,null,null,null,null,null,null,null,null,null,null,null,null,null,null,null,null,null,null,{"$f":"COUNTIF($BG$2:BG186,\"*\"&BG186&\"*\")","v":0},"","",{"$f":"IFERROR(INDEX(BI$2:BI$308,MATCH(ROWS(BJ$2:BJ186),BJ$2:BJ$308,0)),\"\")","v":""},{"$f":"COUNTIF($BK186:$BK$308,\"*\"&BK186&\"*\")","v":123},"","",{"$f":"IFERROR(INDEX($BM$2:$BM$308,MATCH(ROWS(BN$2:BN186),BN$2:BN492,0)),\"\")","v":""},{"$f":"IFERROR(VLOOKUP(Engine!BO186,P_sentences_overview!H185:I316,2),\"\")","v":""}]
[null,null,null,null,null,null,null,null,null,null,null,null,null,null,null,"Vælg  Hazard code","Opslag Hazard category","Vælg Hazard class","Opslag Hazard category","Opslag Hazard class","Column1","Column2","Column3","Column4",null,null,null,null,null,null,null,null,null,null,null,null,null,null,null,null,null,null,null,null,null,null,null,null,null,"Unique values","Number check","numbers_pull","text_pull","numbers_pull_rated","text_pull_rated","All_sorted","All_sorted_top",null,null,{"$f":"COUNTIF($BG$2:BG187,\"*\"&BG187&\"*\")","v":0},"","",{"$f":"IFERROR(INDEX(BI$2:BI$308,MATCH(ROWS(BJ$2:BJ187),BJ$2:BJ$308,0)),\"\")","v":""},{"$f":"COUNTIF($BK187:$BK$308,\"*\"&BK187&\"*\")","v":122},"","",{"$f":"IFERROR(INDEX($BM$2:$BM$308,MATCH(ROWS(BN$2:BN187),BN$2:BN493,0)),\"\")","v":""},{"$f":"IFERROR(VLOOKUP(Engine!BO187,P_sentences_overview!H186:I317,2),\"\")","v":""}]
[null,null,null,null,null,null,null,null,null,null,null,null,null,null,null,{"$f":"INDEX(H_sentences_overview!$A$1:$A$134,Engine!P193)","v":"(none)"},{"$f":"IFERROR(VLOOKUP(P188,H_sentences_overview!$A$2:$D$161,3),\"\")","v":""},{"$f":"INDEX(BE188:BE209,Engine!R193)","v":""},null,null,{"$f":"IFERROR(INDEX(P_saetn,SMALL(IF(Hazard=Engine!$Q188,ROW(P_saetn)-MIN(ROW(P_saetn))+1),COLUMNS($U188:U188))),\"\")","v":0},{"$f":"IFERROR(INDEX(P_saetn,SMALL(IF(Hazard=Engine!$Q188,ROW(P_saetn)-MIN(ROW(P_saetn))+1),COLUMNS($U188:V188))),\"\")","v":0},{"$f":"IFERROR(INDEX(P_saetn,SMALL(IF(Hazard=Engine!$Q188,ROW(P_saetn)-MIN(ROW(P_saetn))+1),COLUMNS($U188:W188))),\"\")","v":0},{"$f":"IFERROR(INDEX(P_saetn,SMALL(IF(Hazard=Engine!$Q188,ROW(P_saetn)-MIN(ROW(P_saetn))+1),COLUMNS($U188:X188))),\"\")","v":0},{"$f":"IFERROR(INDEX(P_saetn,SMALL(IF(Hazard=Engine!$Q188,ROW(P_saetn)-MIN(ROW(P_saetn))+1),COLUMNS($U188:Y188))),\"\")","v":0},{"$f":"IFERROR(INDEX(P_saetn,SMALL(IF(Hazard=Engine!$Q188,ROW(P_saetn)-MIN(ROW(P_saetn))+1),COLUMNS($U188:Z188))),\"\")","v":0},{"$f":"IFERROR(INDEX(P_saetn,SMALL(IF(Hazard=Engine!$Q188,ROW(P_saetn)-MIN(ROW(P_saetn))+1),COLUMNS($U188:AA188))),\"\")","v":0},{"$f":"IFERROR(INDEX(P_saetn,SMALL(IF(Hazard=Engine!$Q188,ROW(P_saetn)-MIN(ROW(P_saetn))+1),COLUMNS($U188:AB188))),\"\")","v":0},{"$f":"IFERROR(INDEX(P_saetn,SMALL(IF(Hazard=Engine!$Q188,ROW(P_saetn)-MIN(ROW(P_saetn))+1),COLUMNS($U188:AC188))),\"\")","v":0},{"$f":"IFERROR(INDEX(P_saetn,SMALL(IF(Hazard=Engine!$Q188,ROW(P_saetn)-MIN(ROW(P_saetn))+1),COLUMNS($U188:AD188))),\"\")","v":0},{"$f":"IFERROR(INDEX(P_saetn,SMALL(IF(Hazard=Engine!$Q188,ROW(P_saetn)-MIN(ROW(P_saetn))+1),COLUMNS($U188:AE188))),\"\")","v":0},{"$f":"IFERROR(INDEX(P_saetn,SMALL(IF(Hazard=Engine!$Q188,ROW(P_saetn)-MIN(ROW(P_saetn))+1),COLUMNS($U188:AF188))),\"\")","v":0},{"$f":"IFERROR(INDEX(P_saetn,SMALL(IF(Hazard=Engine!$Q188,ROW(P_saetn)-MIN(ROW(P_saetn))+1),COLUMNS($U188:AG188))),\"\")","v":0},{"$f":"IFERROR(INDEX(P_saetn,SMALL(IF(Hazard=Engine!$Q188,ROW(P_saetn)-MIN(ROW(P_saetn))+1),COLUMNS($U188:AH188))),\"\")","v":0},{"$f":"IFERROR(INDEX(P_saetn,SMALL(IF(Hazard=Engine!$Q188,ROW(P_saetn)-MIN(ROW(P_saetn))+1),COLUMNS($U188:AI188))),\"\")","v":0},{"$f":"IFERROR(INDEX(P_saetn,SMALL(IF(Hazard=Engine!$Q188,ROW(P_saetn)-MIN(ROW(P_saetn))+1),COLUMNS($U188:AJ188))),\"\")","v":0},{"$f":"IFERROR(INDEX(P_saetn,SMALL(IF(Hazard=Engine!$Q188,ROW(P_saetn)-MIN(ROW(P_saetn))+1),COLUMNS($U188:AK188))),\"\")","v":0},{"$f":"IFERROR(INDEX(P_saetn,SMALL(IF(Hazard=Engine!$Q188,ROW(P_saetn)-MIN(ROW(P_saetn))+1),COLUMNS($U188:AL188))),\"\")","v":0},{"$f":"IFERROR(INDEX(P_saetn,SMALL(IF(Hazard=Engine!$Q188,ROW(P_saetn)-MIN(ROW(P_saetn))+1),COLUMNS($U188:AM188))),\"\")","v":0},{"$f":"IFERROR(INDEX(P_saetn,SMALL(IF(Hazard=Engine!$Q188,ROW(P_saetn)-MIN(ROW(P_saetn))+1),COLUMNS($U188:AN188))),\"\")","v":0},{"$f":"IFERROR(INDEX(P_saetn,SMALL(IF(Hazard=Engine!$Q188,ROW(P_saetn)-MIN(ROW(P_saetn))+1),COLUMNS($U188:AO188))),\"\")","v":0},{"$f":"IFERROR(INDEX(P_saetn,SMALL(IF(Hazard=Engine!$Q188,ROW(P_saetn)-MIN(ROW(P_saetn))+1),COLUMNS($U188:AP188))),\"\")","v":0},{"$f":"IFERROR(INDEX(P_saetn,SMALL(IF(Hazard=Engine!$Q188,ROW(P_saetn)-MIN(ROW(P_saetn))+1),COLUMNS($U188:AQ188))),\"\")","v":0},{"$f":"IFERROR(INDEX(P_saetn,SMALL(IF(Hazard=Engine!$Q188,ROW(P_saetn)-MIN(ROW(P_saetn))+1),COLUMNS($U188:AR188))),\"\")","v":0},{"$f":"IFERROR(INDEX(P_saetn,SMALL(IF(Hazard=Engine!$Q188,ROW(P_saetn)-MIN(ROW(P_saetn))+1),COLUMNS($U188:AS188))),\"\")","v":0},{"$f":"IFERROR(INDEX(P_saetn,SMALL(IF(Hazard=Engine!$Q188,ROW(P_saetn)-MIN(ROW(P_saetn))+1),COLUMNS($U188:AT188))),\"\")","v":0},{"$f":"IFERROR(INDEX(P_saetn,SMALL(IF(Hazard=Engine!$Q188,ROW(P_saetn)-MIN(ROW(P_saetn))+1),COLUMNS($U188:AU188))),\"\")","v":0},{"$f":"IFERROR(INDEX(P_saetn,SMALL(IF(Hazard=Engine!$Q188,ROW(P_saetn)-MIN(ROW(P_saetn))+1),COLUMNS($U188:AV188))),\"\")","v":0},null,{"$f":"INDIRECT(TEXT(MIN(IF(($U197:$AV202<>\"\")*(COUNTIF($AX187:$AX187,$U197:$AV202)=0),ROW($P197:$BM202)*100+COLUMN($U187:$AV215),7^8)),\"R0C00\"),)&\"\"","v":""},{"$f":"ISNUMBER(AX188*1)","v":false},{"$f":"IF(AY188=TRUE,AX188*1,\"\")","v":""},{"$f":"IF(AY188=FALSE,AX188,\"\")","v":""},{"$f":"COUNTIF(AZ188:AZ198,\"<=\"&AZ188)","v":0},{"$f":"IF(COUNTIF(BA188:BA198,\"<=\"&BA188)=0,\"\",COUNTIF(BA188:BA198,\"<=\"&BA188))","v":""},{"$f":"IFERROR(SMALL(AZ188:AZ198,ROWS(AX188:AX188)),\"\")","v":""},{"$f":"IFERROR(INDEX(BD188:BD209,SMALL(IF(BD188:BD209<>\"\",ROW(BD188:BD209)-MIN(ROW(BD188:BD209))+1),ROWS(AX188:AX188))),\"\")","v":""},null,{"$f":"U206","v":0},{"$f":"COUNTIF($BG$2:BG188,\"*\"&BG188&\"*\")","v":0},"","",{"$f":"IFERROR(INDEX(BI$2:BI$308,MATCH(ROWS(BJ$2:BJ188),BJ$2:BJ$308,0)),\"\")","v":""},{"$f":"COUNTIF($BK188:$BK$308,\"*\"&BK188&\"*\")","v":121},"","",{"$f":"IFERROR(INDEX($BM$2:$BM$308,MATCH(ROWS(BN$2:BN188),BN$2:BN494,0)),\"\")","v":""},{"$f":"IFERROR(VLOOKUP(Engine!BO188,P_sentences_overview!H187:I318,2),\"\")","v":""}]
[null,null,null,null,null,null,null,null,null,null,null,null,null,null,null,null,null,null,null,null,{"$f":"SMALL(IF(Hazard=Engine!$Q188,ROW(P_saetn)-MIN(ROW(P_saetn))+1),COLUMNS($U188:U188)+1)","v":465},{"$f":"SMALL(IF(Hazard=Engine!$Q188,ROW(P_saetn)-MIN(ROW(P_saetn))+1),COLUMNS($U188:V188)+1)","v":466},{"$f":"SMALL(IF(Hazard=Engine!$Q188,ROW(P_saetn)-MIN(ROW(P_saetn))+1),COLUMNS($U188:W188)+1)","v":467},{"$f":"SMALL(IF(Hazard=Engine!$Q188,ROW(P_saetn)-MIN(ROW(P_saetn))+1),COLUMNS($U188:X188)+1)","v":468},{"$f":"SMALL(IF(Hazard=Engine!$Q188,ROW(P_saetn)-MIN(ROW(P_saetn))+1),COLUMNS($U188:Y188)+1)","v":469},{"$f":"SMALL(IF(Hazard=Engine!$Q188,ROW(P_saetn)-MIN(ROW(P_saetn))+1),COLUMNS($U188:Z188)+1)","v":470},{"$f":"SMALL(IF(Hazard=Engine!$Q188,ROW(P_saetn)-MIN(ROW(P_saetn))+1),COLUMNS($U188:AA188)+1)","v":471},{"$f":"SMALL(IF(Hazard=Engine!$Q188,ROW(P_saetn)-MIN(ROW(P_saetn))+1),COLUMNS($U188:AB188)+1)","v":472},{"$f":"SMALL(IF(Hazard=Engine!$Q188,ROW(P_saetn)-MIN(ROW(P_saetn))+1),COLUMNS($U188:AC188)+1)","v":473},{"$f":"SMALL(IF(Hazard=Engine!$Q188,ROW(P_saetn)-MIN(ROW(P_saetn))+1),COLUMNS($U188:AD188)+1)","v":474},{"$f":"SMALL(IF(Hazard=Engine!$Q188,ROW(P_saetn)-MIN(ROW(P_saetn))+1),COLUMNS($U188:AE188)+1)","v":475},{"$f":"SMALL(IF(Hazard=Engine!$Q188,ROW(P_saetn)-MIN(ROW(P_saetn))+1),COLUMNS($U188:AF188)+1)","v":476},{"$f":"SMALL(IF(Hazard=Engine!$Q188,ROW(P_saetn)-MIN(ROW(P_saetn))+1),COLUMNS($U188:AG188)+1)","v":477},{"$f":"SMALL(IF(Hazard=Engine!$Q188,ROW(P_saetn)-MIN(ROW(P_saetn))+1),COLUMNS($U188:AH188)+1)","v":478},{"$f":"SMALL(IF(Hazard=Engine!$Q188,ROW(P_saetn)-MIN(ROW(P_saetn))+1),COLUMNS($U188:AI188)+1)","v":479},{"$f":"SMALL(IF(Hazard=Engine!$Q188,ROW(P_saetn)-MIN(ROW(P_saetn))+1),COLUMNS($U188:AJ188)+1)","v":480},{"$f":"SMALL(IF(Hazard=Engine!$Q188,ROW(P_saetn)-MIN(ROW(P_saetn))+1),COLUMNS($U188:AK188)+1)","v":481},{"$f":"SMALL(IF(Hazard=Engine!$Q188,ROW(P_saetn)-MIN(ROW(P_saetn))+1),COLUMNS($U188:AL188)+1)","v":482},{"$f":"SMALL(IF(Hazard=Engine!$Q188,ROW(P_saetn)-MIN(ROW(P_saetn))+1),COLUMNS($U188:AM188)+1)","v":483},{"$f":"SMALL(IF(Hazard=Engine!$Q188,ROW(P_saetn)-MIN(ROW(P_saetn))+1),COLUMNS($U188:AN188)+1)","v":484},{"$f":"SMALL(IF(Hazard=Engine!$Q188,ROW(P_saetn)-MIN(ROW(P_saetn))+1),COLUMNS($U188:AO188)+1)","v":485},{"$f":"SMALL(IF(Hazard=Engine!$Q188,ROW(P_saetn)-MIN(ROW(P_saetn))+1),COLUMNS($U188:AP188)+1)","v":486},{"$f":"SMALL(IF(Hazard=Engine!$Q188,ROW(P_saetn)-MIN(ROW(P_saetn))+1),COLUMNS($U188:AQ188)+1)","v":487},{"$f":"SMALL(IF(Hazard=Engine!$Q188,ROW(P_saetn)-MIN(ROW(P_saetn))+1),COLUMNS($U188:AR188)+1)","v":488},{"$f":"SMALL(IF(Hazard=Engine!$Q188,ROW(P_saetn)-MIN(ROW(P_saetn))+1),COLUMNS($U188:AS188)+1)","v":489},{"$f":"SMALL(IF(Hazard=Engine!$Q188,ROW(P_saetn)-MIN(ROW(P_saetn))+1),COLUMNS($U188:AT188)+1)","v":490},{"$f":"SMALL(IF(Hazard=Engine!$Q188,ROW(P_saetn)-MIN(ROW(P_saetn))+1),COLUMNS($U188:AU188)+1)","v":491},{"$f":"SMALL(IF(Hazard=Engine!$Q188,ROW(P_saetn)-MIN(ROW(P_saetn))+1),COLUMNS($U188:AV188)+1)","v":492},null,{"$f":"INDIRECT(TEXT(MIN(IF(($U197:$AV202<>\"\")*(COUNTIF($AX187:$AX188,$U197:$AV202)=0),ROW($P197:$BM202)*100+COLUMN($U187:$AV215),7^8)),\"R0C00\"),)&\"\"","v":""},false,"","",{"$f":"COUNTIF(AZ188:AZ198,\"<=\"&AZ189)","v":0},{"$f":"IF(COUNTIF(BA188:BA198,\"<=\"&BA189)=0,\"\",COUNTIF(BA188:BA198,\"<=\"&BA189))","v":""},{"$f":"IFERROR(SMALL(AZ188:AZ198,ROWS(AX188:AX189)),\"\")","v":""},{"$f":"IFERROR(INDEX(BD188:BD209,SMALL(IF(BD188:BD209<>\"\",ROW(BD188:BD209)-MIN(ROW(BD188:BD209))+1),ROWS(AX188:AX189))),\"\")","v":""},null,{"$f":"+V206","v":0},{"$f":"COUNTIF($BG$2:BG189,\"*\"&BG189&\"*\")","v":0},"","",{"$f":"IFERROR(INDEX(BI$2:BI$308,MATCH(ROWS(BJ$2:BJ189),BJ$2:BJ$308,0)),\"\")","v":""},{"$f":"COUNTIF($BK189:$BK$308,\"*\"&BK189&\"*\")","v":120},"","",{"$f":"IFERROR(INDEX($BM$2:$BM$308,MATCH(ROWS(BN$2:BN189),BN$2:BN495,0)),\"\")","v":""},{"$f":"IFERROR(VLOOKUP(Engine!BO189,P_sentences_overview!H188:I319,2),\"\")","v":""}]
[null,null,null,null,null,null,null,null,null,null,null,null,null,null,null,null,null,null,null,null,{"$f":"IFERROR(INDEX(Haz_Cat,SMALL(IF(Hazard=Engine!$Q188,ROW(Haz_Cat)-MIN(ROW(Haz_Cat))+1),COLUMNS($U190:U190)),COLUMNS(Main!D$2:D$2)),\"\")","v":0},{"$f":"IFERROR(INDEX(Haz_Cat,SMALL(IF(Hazard=Engine!$Q188,ROW(Haz_Cat)-MIN(ROW(Haz_Cat))+1),COLUMNS($U190:V190)),COLUMNS(Main!E$2:E$2)),\"\")","v":0},{"$f":"IFERROR(INDEX(Haz_Cat,SMALL(IF(Hazard=Engine!$Q188,ROW(Haz_Cat)-MIN(ROW(Haz_Cat))+1),COLUMNS($U190:W190)),COLUMNS(Main!F$2:F$2)),\"\")","v":0},{"$f":"IFERROR(INDEX(Haz_Cat,SMALL(IF(Hazard=Engine!$Q188,ROW(Haz_Cat)-MIN(ROW(Haz_Cat))+1),COLUMNS($U190:X190)),COLUMNS(Main!G$2:G$2)),\"\")","v":0},{"$f":"IFERROR(INDEX(Haz_Cat,SMALL(IF(Hazard=Engine!$Q188,ROW(Haz_Cat)-MIN(ROW(Haz_Cat))+1),COLUMNS($U190:Y190)),COLUMNS(Main!H$2:H$2)),\"\")","v":0},{"$f":"IFERROR(INDEX(Haz_Cat,SMALL(IF(Hazard=Engine!$Q188,ROW(Haz_Cat)-MIN(ROW(Haz_Cat))+1),COLUMNS($U190:Z190)),COLUMNS(Main!I$2:I$2)),\"\")","v":0},{"$f":"IFERROR(INDEX(Haz_Cat,SMALL(IF(Hazard=Engine!$Q188,ROW(Haz_Cat)-MIN(ROW(Haz_Cat))+1),COLUMNS($U190:AA190)),COLUMNS(Main!J$2:J$2)),\"\")","v":0},{"$f":"IFERROR(INDEX(Haz_Cat,SMALL(IF(Hazard=Engine!$Q188,ROW(Haz_Cat)-MIN(ROW(Haz_Cat))+1),COLUMNS($U190:AB190)),COLUMNS(Main!K$2:K$2)),\"\")","v":0},{"$f":"IFERROR(INDEX(Haz_Cat,SMALL(IF(Hazard=Engine!$Q188,ROW(Haz_Cat)-MIN(ROW(Haz_Cat))+1),COLUMNS($U190:AC190)),COLUMNS(Main!L$2:L$2)),\"\")","v":0},{"$f":"IFERROR(INDEX(Haz_Cat,SMALL(IF(Hazard=Engine!$Q188,ROW(Haz_Cat)-MIN(ROW(Haz_Cat))+1),COLUMNS($U190:AD190)),COLUMNS(Main!M$2:M$2)),\"\")","v":0},{"$f":"IFERROR(INDEX(Haz_Cat,SMALL(IF(Hazard=Engine!$Q188,ROW(Haz_Cat)-MIN(ROW(Haz_Cat))+1),COLUMNS($U190:AE190)),COLUMNS(Main!N$2:N$2)),\"\")","v":0},{"$f":"IFERROR(INDEX(Haz_Cat,SMALL(IF(Hazard=Engine!$Q188,ROW(Haz_Cat)-MIN(ROW(Haz_Cat))+1),COLUMNS($U190:AF190)),COLUMNS(Main!O$2:O$2)),\"\")","v":0},{"$f":"IFERROR(INDEX(Haz_Cat,SMALL(IF(Hazard=Engine!$Q188,ROW(Haz_Cat)-MIN(ROW(Haz_Cat))+1),COLUMNS($U190:AG190)),COLUMNS(Main!P$2:P$2)),\"\")","v":0},{"$f":"IFERROR(INDEX(Haz_Cat,SMALL(IF(Hazard=Engine!$Q188,ROW(Haz_Cat)-MIN(ROW(Haz_Cat))+1),COLUMNS($U190:AH190)),COLUMNS(Main!Q$2:Q$2)),\"\")","v":0},{"$f":"IFERROR(INDEX(Haz_Cat,SMALL(IF(Hazard=Engine!$Q188,ROW(Haz_Cat)-MIN(ROW(Haz_Cat))+1),COLUMNS($U190:AI190)),COLUMNS(Main!R$2:R$2)),\"\")","v":0},{"$f":"IFERROR(INDEX(Haz_Cat,SMALL(IF(Hazard=Engine!$Q188,ROW(Haz_Cat)-MIN(ROW(Haz_Cat))+1),COLUMNS($U190:AJ190)),COLUMNS(Main!S$2:S$2)),\"\")","v":0},{"$f":"IFERROR(INDEX(Haz_Cat,SMALL(IF(Hazard=Engine!$Q188,ROW(Haz_Cat)-MIN(ROW(Haz_Cat))+1),COLUMNS($U190:AK190)),COLUMNS(Main!T$2:T$2)),\"\")","v":0},{"$f":"IFERROR(INDEX(Haz_Cat,SMALL(IF(Hazard=Engine!$Q188,ROW(Haz_Cat)-MIN(ROW(Haz_Cat))+1),COLUMNS($U190:AL190)),COLUMNS(Main!U$2:U$2)),\"\")","v":0},{"$f":"IFERROR(INDEX(Haz_Cat,SMALL(IF(Hazard=Engine!$Q188,ROW(Haz_Cat)-MIN(ROW(Haz_Cat))+1),COLUMNS($U190:AM190)),COLUMNS(Main!V$2:V$2)),\"\")","v":0},{"$f":"IFERROR(INDEX(Haz_Cat,SMALL(IF(Hazard=Engine!$Q188,ROW(Haz_Cat)-MIN(ROW(Haz_Cat))+1),COLUMNS($U190:AN190)),COLUMNS(Main!W$2:W$2)),\"\")","v":0},{"$f":"IFERROR(INDEX(Haz_Cat,SMALL(IF(Hazard=Engine!$Q188,ROW(Haz_Cat)-MIN(ROW(Haz_Cat))+1),COLUMNS($U190:AO190)),COLUMNS(Main!X$2:X$2)),\"\")","v":0},{"$f":"IFERROR(INDEX(Haz_Cat,SMALL(IF(Hazard=Engine!$Q188,ROW(Haz_Cat)-MIN(ROW(Haz_Cat))+1),COLUMNS($U190:AP190)),COLUMNS(Main!Y$2:Y$2)),\"\")","v":0},{"$f":"IFERROR(INDEX(Haz_Cat,SMALL(IF(Hazard=Engine!$Q188,ROW(Haz_Cat)-MIN(ROW(Haz_Cat))+1),COLUMNS($U190:AQ190)),COLUMNS(Main!Z$2:Z$2)),\"\")","v":0},{"$f":"IFERROR(INDEX(Haz_Cat,SMALL(IF(Hazard=Engine!$Q188,ROW(Haz_Cat)-MIN(ROW(Haz_Cat))+1),COLUMNS($U190:AR190)),COLUMNS(Main!AA$2:AA$2)),\"\")","v":0},{"$f":"IFERROR(INDEX(Haz_Cat,SMALL(IF(Hazard=Engine!$Q188,ROW(Haz_Cat)-MIN(ROW(Haz_Cat))+1),COLUMNS($U190:AS190)),COLUMNS(Main!AB$2:AB$2)),\"\")","v":0},{"$f":"IFERROR(INDEX(Haz_Cat,SMALL(IF(Hazard=Engine!$Q188,ROW(Haz_Cat)-MIN(ROW(Haz_Cat))+1),COLUMNS($U190:AT190)),COLUMNS(Main!AC$2:AC$2)),\"\")","v":0},{"$f":"IFERROR(INDEX(Haz_Cat,SMALL(IF(Hazard=Engine!$Q188,ROW(Haz_Cat)-MIN(ROW(Haz_Cat))+1),COLUMNS($U190:AU190)),COLUMNS(Main!AD$2:AD$2)),\"\")","v":0},{"$f":"IFERROR(INDEX(Haz_Cat,SMALL(IF(Hazard=Engine!$Q188,ROW(Haz_Cat)-MIN(ROW(Haz_Cat))+1),COLUMNS($U190:AV190)),COLUMNS(Main!AE$2:AE$2)),\"\")","v":0},null,{"$f":"INDIRECT(TEXT(MIN(IF(($U197:$AV202<>\"\")*(COUNTIF($AX187:$AX189,$U197:$AV202)=0),ROW($P197:$BM202)*100+COLUMN($U187:$AV215),7^8)),\"R0C00\"),)&\"\"","v":""},false,"","",{"$f":"COUNTIF(AZ188:AZ198,\"<=\"&AZ190)","v":0},{"$f":"IF(COUNTIF(BA188:BA198,\"<=\"&BA190)=0,\"\",COUNTIF(BA188:BA198,\"<=\"&BA190))","v":""},{"$f":"IFERROR(SMALL(AZ188:AZ198,ROWS(AX188:AX190)),\"\")","v":""},{"$f":"IFERROR(INDEX(BD188:BD209,SMALL(IF(BD188:BD209<>\"\",ROW(BD188:BD209)-MIN(ROW(BD188:BD209))+1),ROWS(AX188:AX190))),\"\")","v":""},null,{"$f":"+W206","v":0},{"$f":"COUNTIF($BG$2:BG190,\"*\"&BG190&\"*\")","v":0},"","",{"$f":"IFERROR(INDEX(BI$2:BI$308,MATCH(ROWS(BJ$2:BJ190),BJ$2:BJ$308,0)),\"\")","v":""},{"$f":"COUNTIF($BK190:$BK$308,\"*\"&BK190&\"*\")","v":119},"","",{"$f":"IFERROR(INDEX($BM$2:$BM$308,MATCH(ROWS(BN$2:BN190),BN$2:BN496,0)),\"\")","v":""},{"$f":"IFERROR(VLOOKUP(Engine!BO190,P_sentences_overview!H189:I320,2),\"\")","v":""}]
[null,null,null,null,null,null,null,null,null,null,null,null,null,null,null,null,null,null,null,null,{"$f":"IFERROR(INDEX(Haz_Cat,SMALL(IF(Hazard=Engine!$Q188,ROW(Haz_Cat)-MIN(ROW(Haz_Cat))+1),COLUMNS($U190:U190)),COLUMNS(Main!$D188:$E188)),\"\")","v":0},{"$f":"IFERROR(INDEX(Haz_Cat,SMALL(IF(Hazard=Engine!$Q188,ROW(Haz_Cat)-MIN(ROW(Haz_Cat))+1),COLUMNS($U190:V190)),COLUMNS(Main!$D188:$E188)),\"\")","v":0},{"$f":"IFERROR(INDEX(Haz_Cat,SMALL(IF(Hazard=Engine!$Q188,ROW(Haz_Cat)-MIN(ROW(Haz_Cat))+1),COLUMNS($U190:W190)),COLUMNS(Main!$D188:$E188)),\"\")","v":0},{"$f":"IFERROR(INDEX(Haz_Cat,SMALL(IF(Hazard=Engine!$Q188,ROW(Haz_Cat)-MIN(ROW(Haz_Cat))+1),COLUMNS($U190:X190)),COLUMNS(Main!$D188:$E188)),\"\")","v":0},{"$f":"IFERROR(INDEX(Haz_Cat,SMALL(IF(Hazard=Engine!$Q188,ROW(Haz_Cat)-MIN(ROW(Haz_Cat))+1),COLUMNS($U190:Y190)),COLUMNS(Main!$D188:$E188)),\"\")","v":0},{"$f":"IFERROR(INDEX(Haz_Cat,SMALL(IF(Hazard=Engine!$Q188,ROW(Haz_Cat)-MIN(ROW(Haz_Cat))+1),COLUMNS($U190:Z190)),COLUMNS(Main!$D188:$E188)),\"\")","v":0},{"$f":"IFERROR(INDEX(Haz_Cat,SMALL(IF(Hazard=Engine!$Q188,ROW(Haz_Cat)-MIN(ROW(Haz_Cat))+1),COLUMNS($U190:AA190)),COLUMNS(Main!$D188:$E188)),\"\")","v":0},{"$f":"IFERROR(INDEX(Haz_Cat,SMALL(IF(Hazard=Engine!$Q188,ROW(Haz_Cat)-MIN(ROW(Haz_Cat))+1),COLUMNS($U190:AB190)),COLUMNS(Main!$D188:$E188)),\"\")","v":0},{"$f":"IFERROR(INDEX(Haz_Cat,SMALL(IF(Hazard=Engine!$Q188,ROW(Haz_Cat)-MIN(ROW(Haz_Cat))+1),COLUMNS($U190:AC190)),COLUMNS(Main!$D188:$E188)),\"\")","v":0},{"$f":"IFERROR(INDEX(Haz_Cat,SMALL(IF(Hazard=Engine!$Q188,ROW(Haz_Cat)-MIN(ROW(Haz_Cat))+1),COLUMNS($U190:AD190)),COLUMNS(Main!$D188:$E188)),\"\")","v":0},{"$f":"IFERROR(INDEX(Haz_Cat,SMALL(IF(Hazard=Engine!$Q188,ROW(Haz_Cat)-MIN(ROW(Haz_Cat))+1),COLUMNS($U190:AE190)),COLUMNS(Main!$D188:$E188)),\"\")","v":0},{"$f":"IFERROR(INDEX(Haz_Cat,SMALL(IF(Hazard=Engine!$Q188,ROW(Haz_Cat)-MIN(ROW(Haz_Cat))+1),COLUMNS($U190:AF190)),COLUMNS(Main!$D188:$E188)),\"\")","v":0},{"$f":"IFERROR(INDEX(Haz_Cat,SMALL(IF(Hazard=Engine!$Q188,ROW(Haz_Cat)-MIN(ROW(Haz_Cat))+1),COLUMNS($U190:AG190)),COLUMNS(Main!$D188:$E188)),\"\")","v":0},{"$f":"IFERROR(INDEX(Haz_Cat,SMALL(IF(Hazard=Engine!$Q188,ROW(Haz_Cat)-MIN(ROW(Haz_Cat))+1),COLUMNS($U190:AH190)),COLUMNS(Main!$D188:$E188)),\"\")","v":0},{"$f":"IFERROR(INDEX(Haz_Cat,SMALL(IF(Hazard=Engine!$Q188,ROW(Haz_Cat)-MIN(ROW(Haz_Cat))+1),COLUMNS($U190:AI190)),COLUMNS(Main!$D188:$E188)),\"\")","v":0},{"$f":"IFERROR(INDEX(Haz_Cat,SMALL(IF(Hazard=Engine!$Q188,ROW(Haz_Cat)-MIN(ROW(Haz_Cat))+1),COLUMNS($U190:AJ190)),COLUMNS(Main!$D188:$E188)),\"\")","v":0},{"$f":"IFERROR(INDEX(Haz_Cat,SMALL(IF(Hazard=Engine!$Q188,ROW(Haz_Cat)-MIN(ROW(Haz_Cat))+1),COLUMNS($U190:AK190)),COLUMNS(Main!$D188:$E188)),\"\")","v":0},{"$f":"IFERROR(INDEX(Haz_Cat,SMALL(IF(Hazard=Engine!$Q188,ROW(Haz_Cat)-MIN(ROW(Haz_Cat))+1),COLUMNS($U190:AL190)),COLUMNS(Main!$D188:$E188)),\"\")","v":0},{"$f":"IFERROR(INDEX(Haz_Cat,SMALL(IF(Hazard=Engine!$Q188,ROW(Haz_Cat)-MIN(ROW(Haz_Cat))+1),COLUMNS($U190:AM190)),COLUMNS(Main!$D188:$E188)),\"\")","v":0},{"$f":"IFERROR(INDEX(Haz_Cat,SMALL(IF(Hazard=Engine!$Q188,ROW(Haz_Cat)-MIN(ROW(Haz_Cat))+1),COLUMNS($U190:AN190)),COLUMNS(Main!$D188:$E188)),\"\")","v":0},{"$f":"IFERROR(INDEX(Haz_Cat,SMALL(IF(Hazard=Engine!$Q188,ROW(Haz_Cat)-MIN(ROW(Haz_Cat))+1),COLUMNS($U190:AO190)),COLUMNS(Main!$D188:$E188)),\"\")","v":0},{"$f":"IFERROR(INDEX(Haz_Cat,SMALL(IF(Hazard=Engine!$Q188,ROW(Haz_Cat)-MIN(ROW(Haz_Cat))+1),COLUMNS($U190:AP190)),COLUMNS(Main!$D188:$E188)),\"\")","v":0},{"$f":"IFERROR(INDEX(Haz_Cat,SMALL(IF(Hazard=Engine!$Q188,ROW(Haz_Cat)-MIN(ROW(Haz_Cat))+1),COLUMNS($U190:AQ190)),COLUMNS(Main!$D188:$E188)),\"\")","v":0},{"$f":"IFERROR(INDEX(Haz_Cat,SMALL(IF(Hazard=Engine!$Q188,ROW(Haz_Cat)-MIN(ROW(Haz_Cat))+1),COLUMNS($U190:AR190)),COLUMNS(Main!$D188:$E188)),\"\")","v":0},{"$f":"IFERROR(INDEX(Haz_Cat,SMALL(IF(Hazard=Engine!$Q188,ROW(Haz_Cat)-MIN(ROW(Haz_Cat))+1),COLUMNS($U190:AS190)),COLUMNS(Main!$D188:$E188)),\"\")","v":0},{"$f":"IFERROR(INDEX(Haz_Cat,SMALL(IF(Hazard=Engine!$Q188,ROW(Haz_Cat)-MIN(ROW(Haz_Cat))+1),COLUMNS($U190:AT190)),COLUMNS(Main!$D188:$E188)),\"\")","v":0},{"$f":"IFERROR(INDEX(Haz_Cat,SMALL(IF(Hazard=Engine!$Q188,ROW(Haz_Cat)-MIN(ROW(Haz_Cat))+1),COLUMNS($U190:AU190)),COLUMNS(Main!$D188:$E188)),\"\")","v":0},{"$f":"IFERROR(INDEX(Haz_Cat,SMALL(IF(Hazard=Engine!$Q188,ROW(Haz_Cat)-MIN(ROW(Haz_Cat))+1),COLUMNS($U190:AV190)),COLUMNS(Main!$D188:$E188)),\"\")","v":0},null,{"$f":"INDIRECT(TEXT(MIN(IF(($U197:$AV202<>\"\")*(COUNTIF($AX187:$AX190,$U197:$AV202)=0),ROW($P197:$BM202)*100+COLUMN($U187:$AV215),7^8)),\"R0C00\"),)&\"\"","v":""},false,"","",{"$f":"COUNTIF(AZ188:AZ198,\"<=\"&AZ191)","v":0},{"$f":"IF(COUNTIF(BA188:BA198,\"<=\"&BA191)=0,\"\",COUNTIF(BA188:BA198,\"<=\"&BA191))","v":""},{"$f":"IFERROR(SMALL(AZ188:AZ198,ROWS(AX188:AX191)),\"\")","v":""},{"$f":"IFERROR(INDEX(BD188:BD209,SMALL(IF(BD188:BD209<>\"\",ROW(BD188:BD209)-MIN(ROW(BD188:BD209))+1),ROWS(AX188:AX191))),\"\")","v":""},null,{"$f":"+X206","v":0},{"$f":"COUNTIF($BG$2:BG191,\"*\"&BG191&\"*\")","v":0},"","",{"$f":"IFERROR(INDEX(BI$2:BI$308,MATCH(ROWS(BJ$2:BJ191),BJ$2:BJ$308,0)),\"\")","v":""},{"$f":"COUNTIF($BK191:$BK$308,\"*\"&BK191&\"*\")","v":118},"","",{"$f":"IFERROR(INDEX($BM$2:$BM$308,MATCH(ROWS(BN$2:BN191),BN$2:BN497,0)),\"\")","v":""},{"$f":"IFERROR(VLOOKUP(Engine!BO191,P_sentences_overview!H190:I321,2),\"\")","v":""}]
[null,null,null,null,null,null,null,null,null,null,null,null,null,null,null,{"$f":"INDEX(H_sentences_overview!$A$1:$A$134,Engine!P193)","v":"(none)"},null,{"$f":"INDEX(BE188:BE193,Engine!R193)","v":""},null,null,{"$f":"IFERROR(INDEX(Haz_Cat,SMALL(IF(Hazard=Engine!$Q188,ROW(Haz_Cat)-MIN(ROW(Haz_Cat))+1),COLUMNS($U190:U190)),COLUMNS(Main!$D188:$F188)),\"\")","v":0},{"$f":"IFERROR(INDEX(Haz_Cat,SMALL(IF(Hazard=Engine!$Q188,ROW(Haz_Cat)-MIN(ROW(Haz_Cat))+1),COLUMNS($U190:V190)),COLUMNS(Main!$D188:$F188)),\"\")","v":0},{"$f":"IFERROR(INDEX(Haz_Cat,SMALL(IF(Hazard=Engine!$Q188,ROW(Haz_Cat)-MIN(ROW(Haz_Cat))+1),COLUMNS($U190:W190)),COLUMNS(Main!$D188:$F188)),\"\")","v":0},{"$f":"IFERROR(INDEX(Haz_Cat,SMALL(IF(Hazard=Engine!$Q188,ROW(Haz_Cat)-MIN(ROW(Haz_Cat))+1),COLUMNS($U190:X190)),COLUMNS(Main!$D188:$F188)),\"\")","v":0},{"$f":"IFERROR(INDEX(Haz_Cat,SMALL(IF(Hazard=Engine!$Q188,ROW(Haz_Cat)-MIN(ROW(Haz_Cat))+1),COLUMNS($U190:Y190)),COLUMNS(Main!$D188:$F188)),\"\")","v":0},{"$f":"IFERROR(INDEX(Haz_Cat,SMALL(IF(Hazard=Engine!$Q188,ROW(Haz_Cat)-MIN(ROW(Haz_Cat))+1),COLUMNS($U190:Z190)),COLUMNS(Main!$D188:$F188)),\"\")","v":0},{"$f":"IFERROR(INDEX(Haz_Cat,SMALL(IF(Hazard=Engine!$Q188,ROW(Haz_Cat)-MIN(ROW(Haz_Cat))+1),COLUMNS($U190:AA190)),COLUMNS(Main!$D188:$F188)),\"\")","v":0},{"$f":"IFERROR(INDEX(Haz_Cat,SMALL(IF(Hazard=Engine!$Q188,ROW(Haz_Cat)-MIN(ROW(Haz_Cat))+1),COLUMNS($U190:AB190)),COLUMNS(Main!$D188:$F188)),\"\")","v":0},{"$f":"IFERROR(INDEX(Haz_Cat,SMALL(IF(Hazard=Engine!$Q188,ROW(Haz_Cat)-MIN(ROW(Haz_Cat))+1),COLUMNS($U190:AC190)),COLUMNS(Main!$D188:$F188)),\"\")","v":0},{"$f":"IFERROR(INDEX(Haz_Cat,SMALL(IF(Hazard=Engine!$Q188,ROW(Haz_Cat)-MIN(ROW(Haz_Cat))+1),COLUMNS($U190:AD190)),COLUMNS(Main!$D188:$F188)),\"\")","v":0},{"$f":"IFERROR(INDEX(Haz_Cat,SMALL(IF(Hazard=Engine!$Q188,ROW(Haz_Cat)-MIN(ROW(Haz_Cat))+1),COLUMNS($U190:AE190)),COLUMNS(Main!$D188:$F188)),\"\")","v":0},{"$f":"IFERROR(INDEX(Haz_Cat,SMALL(IF(Hazard=Engine!$Q188,ROW(Haz_Cat)-MIN(ROW(Haz_Cat))+1),COLUMNS($U190:AF190)),COLUMNS(Main!$D188:$F188)),\"\")","v":0},{"$f":"IFERROR(INDEX(Haz_Cat,SMALL(IF(Hazard=Engine!$Q188,ROW(Haz_Cat)-MIN(ROW(Haz_Cat))+1),COLUMNS($U190:AG190)),COLUMNS(Main!$D188:$F188)),\"\")","v":0},{"$f":"IFERROR(INDEX(Haz_Cat,SMALL(IF(Hazard=Engine!$Q188,ROW(Haz_Cat)-MIN(ROW(Haz_Cat))+1),COLUMNS($U190:AH190)),COLUMNS(Main!$D188:$F188)),\"\")","v":0},{"$f":"IFERROR(INDEX(Haz_Cat,SMALL(IF(Hazard=Engine!$Q188,ROW(Haz_Cat)-MIN(ROW(Haz_Cat))+1),COLUMNS($U190:AI190)),COLUMNS(Main!$D188:$F188)),\"\")","v":0},{"$f":"IFERROR(INDEX(Haz_Cat,SMALL(IF(Hazard=Engine!$Q188,ROW(Haz_Cat)-MIN(ROW(Haz_Cat))+1),COLUMNS($U190:AJ190)),COLUMNS(Main!$D188:$F188)),\"\")","v":0},{"$f":"IFERROR(INDEX(Haz_Cat,SMALL(IF(Hazard=Engine!$Q188,ROW(Haz_Cat)-MIN(ROW(Haz_Cat))+1),COLUMNS($U190:AK190)),COLUMNS(Main!$D188:$F188)),\"\")","v":0},{"$f":"IFERROR(INDEX(Haz_Cat,SMALL(IF(Hazard=Engine!$Q188,ROW(Haz_Cat)-MIN(ROW(Haz_Cat))+1),COLUMNS($U190:AL190)),COLUMNS(Main!$D188:$F188)),\"\")","v":0},{"$f":"IFERROR(INDEX(Haz_Cat,SMALL(IF(Hazard=Engine!$Q188,ROW(Haz_Cat)-MIN(ROW(Haz_Cat))+1),COLUMNS($U190:AM190)),COLUMNS(Main!$D188:$F188)),\"\")","v":0},{"$f":"IFERROR(INDEX(Haz_Cat,SMALL(IF(Hazard=Engine!$Q188,ROW(Haz_Cat)-MIN(ROW(Haz_Cat))+1),COLUMNS($U190:AN190)),COLUMNS(Main!$D188:$F188)),\"\")","v":0},{"$f":"IFERROR(INDEX(Haz_Cat,SMALL(IF(Hazard=Engine!$Q188,ROW(Haz_Cat)-MIN(ROW(Haz_Cat))+1),COLUMNS($U190:AO190)),COLUMNS(Main!$D188:$F188)),\"\")","v":0},{"$f":"IFERROR(INDEX(Haz_Cat,SMALL(IF(Hazard=Engine!$Q188,ROW(Haz_Cat)-MIN(ROW(Haz_Cat))+1),COLUMNS($U190:AP190)),COLUMNS(Main!$D188:$F188)),\"\")","v":0},{"$f":"IFERROR(INDEX(Haz_Cat,SMALL(IF(Hazard=Engine!$Q188,ROW(Haz_Cat)-MIN(ROW(Haz_Cat))+1),COLUMNS($U190:AQ190)),COLUMNS(Main!$D188:$F188)),\"\")","v":0},{"$f":"IFERROR(INDEX(Haz_Cat,SMALL(IF(Hazard=Engine!$Q188,ROW(Haz_Cat)-MIN(ROW(Haz_Cat))+1),COLUMNS($U190:AR190)),COLUMNS(Main!$D188:$F188)),\"\")","v":0},{"$f":"IFERROR(INDEX(Haz_Cat,SMALL(IF(Hazard=Engine!$Q188,ROW(Haz_Cat)-MIN(ROW(Haz_Cat))+1),COLUMNS($U190:AS190)),COLUMNS(Main!$D188:$F188)),\"\")","v":0},{"$f":"IFERROR(INDEX(Haz_Cat,SMALL(IF(Hazard=Engine!$Q188,ROW(Haz_Cat)-MIN(ROW(Haz_Cat))+1),COLUMNS($U190:AT190)),COLUMNS(Main!$D188:$F188)),\"\")","v":0},{"$f":"IFERROR(INDEX(Haz_Cat,SMALL(IF(Hazard=Engine!$Q188,ROW(Haz_Cat)-MIN(ROW(Haz_Cat))+1),COLUMNS($U190:AU190)),COLUMNS(Main!$D188:$F188)),\"\")","v":0},{"$f":"IFERROR(INDEX(Haz_Cat,SMALL(IF(Hazard=Engine!$Q188,ROW(Haz_Cat)-MIN(ROW(Haz_Cat))+1),COLUMNS($U190:AV190)),COLUMNS(Main!$D188:$F188)),\"\")","v":0},null,{"$f":"INDIRECT(TEXT(MIN(IF(($U197:$AV202<>\"\")*(COUNTIF($AX187:$AX191,$U197:$AV202)=0),ROW($P197:$BM202)*100+COLUMN($U187:$AV215),7^8)),\"R0C00\"),)&\"\"","v":""},false,"","",{"$f":"COUNTIF(AZ188:AZ198,\"<=\"&AZ192)","v":0},{"$f":"IF(COUNTIF(BA188:BA198,\"<=\"&BA192)=0,\"\",COUNTIF(BA188:BA198,\"<=\"&BA192))","v":""},{"$f":"IFERROR(SMALL(AZ188:AZ198,ROWS(AX188:AX192)),\"\")","v":""},{"$f":"IFERROR(INDEX(BD188:BD209,SMALL(IF(BD188:BD209<>\"\",ROW(BD188:BD209)-MIN(ROW(BD188:BD209))+1),ROWS(AX188:AX192))),\"\")","v":""},null,{"$f":"+Y206","v":0},{"$f":"COUNTIF($BG$2:BG192,\"*\"&BG192&\"*\")","v":0},"","",{"$f":"IFERROR(INDEX(BI$2:BI$308,MATCH(ROWS(BJ$2:BJ192),BJ$2:BJ$308,0)),\"\")","v":""},{"$f":"COUNTIF($BK192:$BK$308,\"*\"&BK192&\"*\")","v":117},"","",{"$f":"IFERROR(INDEX($BM$2:$BM$308,MATCH(ROWS(BN$2:BN192),BN$2:BN498,0)),\"\")","v":""},{"$f":"IFERROR(VLOOKUP(Engine!BO192,P_sentences_overview!H191:I322,2),\"\")","v":""}]
[null,null,null,null,null,null,null,null,null,null,null,null,null,null,null,1,null,5,null,null,{"$f":"IFERROR(INDEX(Haz_Cat,SMALL(IF(Hazard=Engine!$Q188,ROW(Haz_Cat)-MIN(ROW(Haz_Cat))+1),COLUMNS($U190:U190)),COLUMNS(Main!$D188:$G188)),\"\")","v":0},{"$f":"IFERROR(INDEX(Haz_Cat,SMALL(IF(Hazard=Engine!$Q188,ROW(Haz_Cat)-MIN(ROW(Haz_Cat))+1),COLUMNS($U190:V190)),COLUMNS(Main!$D188:$G188)),\"\")","v":0},{"$f":"IFERROR(INDEX(Haz_Cat,SMALL(IF(Hazard=Engine!$Q188,ROW(Haz_Cat)-MIN(ROW(Haz_Cat))+1),COLUMNS($U190:W190)),COLUMNS(Main!$D188:$G188)),\"\")","v":0},{"$f":"IFERROR(INDEX(Haz_Cat,SMALL(IF(Hazard=Engine!$Q188,ROW(Haz_Cat)-MIN(ROW(Haz_Cat))+1),COLUMNS($U190:X190)),COLUMNS(Main!$D188:$G188)),\"\")","v":0},{"$f":"IFERROR(INDEX(Haz_Cat,SMALL(IF(Hazard=Engine!$Q188,ROW(Haz_Cat)-MIN(ROW(Haz_Cat))+1),COLUMNS($U190:Y190)),COLUMNS(Main!$D188:$G188)),\"\")","v":0},{"$f":"IFERROR(INDEX(Haz_Cat,SMALL(IF(Hazard=Engine!$Q188,ROW(Haz_Cat)-MIN(ROW(Haz_Cat))+1),COLUMNS($U190:Z190)),COLUMNS(Main!$D188:$G188)),\"\")","v":0},{"$f":"IFERROR(INDEX(Haz_Cat,SMALL(IF(Hazard=Engine!$Q188,ROW(Haz_Cat)-MIN(ROW(Haz_Cat))+1),COLUMNS($U190:AA190)),COLUMNS(Main!$D188:$G188)),\"\")","v":0},{"$f":"IFERROR(INDEX(Haz_Cat,SMALL(IF(Hazard=Engine!$Q188,ROW(Haz_Cat)-MIN(ROW(Haz_Cat))+1),COLUMNS($U190:AB190)),COLUMNS(Main!$D188:$G188)),\"\")","v":0},{"$f":"IFERROR(INDEX(Haz_Cat,SMALL(IF(Hazard=Engine!$Q188,ROW(Haz_Cat)-MIN(ROW(Haz_Cat))+1),COLUMNS($U190:AC190)),COLUMNS(Main!$D188:$G188)),\"\")","v":0},{"$f":"IFERROR(INDEX(Haz_Cat,SMALL(IF(Hazard=Engine!$Q188,ROW(Haz_Cat)-MIN(ROW(Haz_Cat))+1),COLUMNS($U190:AD190)),COLUMNS(Main!$D188:$G188)),\"\")","v":0},{"$f":"IFERROR(INDEX(Haz_Cat,SMALL(IF(Hazard=Engine!$Q188,ROW(Haz_Cat)-MIN(ROW(Haz_Cat))+1),COLUMNS($U190:AE190)),COLUMNS(Main!$D188:$G188)),\"\")","v":0},{"$f":"IFERROR(INDEX(Haz_Cat,SMALL(IF(Hazard=Engine!$Q188,ROW(Haz_Cat)-MIN(ROW(Haz_Cat))+1),COLUMNS($U190:AF190)),COLUMNS(Main!$D188:$G188)),\"\")","v":0},{"$f":"IFERROR(INDEX(Haz_Cat,SMALL(IF(Hazard=Engine!$Q188,ROW(Haz_Cat)-MIN(ROW(Haz_Cat))+1),COLUMNS($U190:AG190)),COLUMNS(Main!$D188:$G188)),\"\")","v":0},{"$f":"IFERROR(INDEX(Haz_Cat,SMALL(IF(Hazard=Engine!$Q188,ROW(Haz_Cat)-MIN(ROW(Haz_Cat))+1),COLUMNS($U190:AH190)),COLUMNS(Main!$D188:$G188)),\"\")","v":0},{"$f":"IFERROR(INDEX(Haz_Cat,SMALL(IF(Hazard=Engine!$Q188,ROW(Haz_Cat)-MIN(ROW(Haz_Cat))+1),COLUMNS($U190:AI190)),COLUMNS(Main!$D188:$G188)),\"\")","v":0},{"$f":"IFERROR(INDEX(Haz_Cat,SMALL(IF(Hazard=Engine!$Q188,ROW(Haz_Cat)-MIN(ROW(Haz_Cat))+1),COLUMNS($U190:AJ190)),COLUMNS(Main!$D188:$G188)),\"\")","v":0},{"$f":"IFERROR(INDEX(Haz_Cat,SMALL(IF(Hazard=Engine!$Q188,ROW(Haz_Cat)-MIN(ROW(Haz_Cat))+1),COLUMNS($U190:AK190)),COLUMNS(Main!$D188:$G188)),\"\")","v":0},{"$f":"IFERROR(INDEX(Haz_Cat,SMALL(IF(Hazard=Engine!$Q188,ROW(Haz_Cat)-MIN(ROW(Haz_Cat))+1),COLUMNS($U190:AL190)),COLUMNS(Main!$D188:$G188)),\"\")","v":0},{"$f":"IFERROR(INDEX(Haz_Cat,SMALL(IF(Hazard=Engine!$Q188,ROW(Haz_Cat)-MIN(ROW(Haz_Cat))+1),COLUMNS($U190:AM190)),COLUMNS(Main!$D188:$G188)),\"\")","v":0},{"$f":"IFERROR(INDEX(Haz_Cat,SMALL(IF(Hazard=Engine!$Q188,ROW(Haz_Cat)-MIN(ROW(Haz_Cat))+1),COLUMNS($U190:AN190)),COLUMNS(Main!$D188:$G188)),\"\")","v":0},{"$f":"IFERROR(INDEX(Haz_Cat,SMALL(IF(Hazard=Engine!$Q188,ROW(Haz_Cat)-MIN(ROW(Haz_Cat))+1),COLUMNS($U190:AO190)),COLUMNS(Main!$D188:$G188)),\"\")","v":0},{"$f":"IFERROR(INDEX(Haz_Cat,SMALL(IF(Hazard=Engine!$Q188,ROW(Haz_Cat)-MIN(ROW(Haz_Cat))+1),COLUMNS($U190:AP190)),COLUMNS(Main!$D188:$G188)),\"\")","v":0},{"$f":"IFERROR(INDEX(Haz_Cat,SMALL(IF(Hazard=Engine!$Q188,ROW(Haz_Cat)-MIN(ROW(Haz_Cat))+1),COLUMNS($U190:AQ190)),COLUMNS(Main!$D188:$G188)),\"\")","v":0},{"$f":"IFERROR(INDEX(Haz_Cat,SMALL(IF(Hazard=Engine!$Q188,ROW(Haz_Cat)-MIN(ROW(Haz_Cat))+1),COLUMNS($U190:AR190)),COLUMNS(Main!$D188:$G188)),\"\")","v":0},{"$f":"IFERROR(INDEX(Haz_Cat,SMALL(IF(Hazard=Engine!$Q188,ROW(Haz_Cat)-MIN(ROW(Haz_Cat))+1),COLUMNS($U190:AS190)),COLUMNS(Main!$D188:$G188)),\"\")","v":0},{"$f":"IFERROR(INDEX(Haz_Cat,SMALL(IF(Hazard=Engine!$Q188,ROW(Haz_Cat)-MIN(ROW(Haz_Cat))+1),COLUMNS($U190:AT190)),COLUMNS(Main!$D188:$G188)),\"\")","v":0},{"$f":"IFERROR(INDEX(Haz_Cat,SMALL(IF(Hazard=Engine!$Q188,ROW(Haz_Cat)-MIN(ROW(Haz_Cat))+1),COLUMNS($U190:AU190)),COLUMNS(Main!$D188:$G188)),\"\")","v":0},{"$f":"IFERROR(INDEX(Haz_Cat,SMALL(IF(Hazard=Engine!$Q188,ROW(Haz_Cat)-MIN(ROW(Haz_Cat))+1),COLUMNS($U190:AV190)),COLUMNS(Main!$D188:$G188)),\"\")","v":0},null,{"$f":"INDIRECT(TEXT(MIN(IF(($U197:$AV202<>\"\")*(COUNTIF($AX187:$AX192,$U197:$AV202)=0),ROW($P197:$BM202)*100+COLUMN($U187:$AV215),7^8)),\"R0C00\"),)&\"\"","v":""},false,"","",{"$f":"COUNTIF(AZ188:AZ198,\"<=\"&AZ193)","v":0},{"$f":"IF(COUNTIF(BA188:BA198,\"<=\"&BA193)=0,\"\",COUNTIF(BA188:BA198,\"<=\"&BA193))","v":""},{"$f":"IFERROR(SMALL(AZ188:AZ198,ROWS(AX188:AX193)),\"\")","v":""},{"$f":"IFERROR(INDEX(BD188:BD209,SMALL(IF(BD188:BD209<>\"\",ROW(BD188:BD209)-MIN(ROW(BD188:BD209))+1),ROWS(AX188:AX193))),\"\")","v":""},null,{"$f":"+Z206","v":0},{"$f":"COUNTIF($BG$2:BG193,\"*\"&BG193&\"*\")","v":0},"","",{"$f":"IFERROR(INDEX(BI$2:BI$308,MATCH(ROWS(BJ$2:BJ193),BJ$2:BJ$308,0)),\"\")","v":""},{"$f":"COUNTIF($BK193:$BK$308,\"*\"&BK193&\"*\")","v":116},"","",{"$f":"IFERROR(INDEX($BM$2:$BM$308,MATCH(ROWS(BN$2:BN193),BN$2:BN499,0)),\"\")","v":""},{"$f":"IFERROR(VLOOKUP(Engine!BO193,P_sentences_overview!H192:I323,2),\"\")","v":""}]
[null,null,null,null,null,null,null,null,null,null,null,null,null,null,null,null,null,null,null,null,{"$f":"IFERROR(INDEX(Haz_Cat,SMALL(IF(Hazard=Engine!$Q188,ROW(Haz_Cat)-MIN(ROW(Haz_Cat))+1),COLUMNS($U190:U190)),COLUMNS(Main!$D188:$H188)),\"\")","v":0},{"$f":"IFERROR(INDEX(Haz_Cat,SMALL(IF(Hazard=Engine!$Q188,ROW(Haz_Cat)-MIN(ROW(Haz_Cat))+1),COLUMNS($U190:V190)),COLUMNS(Main!$D188:$H188)),\"\")","v":0},{"$f":"IFERROR(INDEX(Haz_Cat,SMALL(IF(Hazard=Engine!$Q188,ROW(Haz_Cat)-MIN(ROW(Haz_Cat))+1),COLUMNS($U190:W190)),COLUMNS(Main!$D188:$H188)),\"\")","v":0},{"$f":"IFERROR(INDEX(Haz_Cat,SMALL(IF(Hazard=Engine!$Q188,ROW(Haz_Cat)-MIN(ROW(Haz_Cat))+1),COLUMNS($U190:X190)),COLUMNS(Main!$D188:$H188)),\"\")","v":0},{"$f":"IFERROR(INDEX(Haz_Cat,SMALL(IF(Hazard=Engine!$Q188,ROW(Haz_Cat)-MIN(ROW(Haz_Cat))+1),COLUMNS($U190:Y190)),COLUMNS(Main!$D188:$H188)),\"\")","v":0},{"$f":"IFERROR(INDEX(Haz_Cat,SMALL(IF(Hazard=Engine!$Q188,ROW(Haz_Cat)-MIN(ROW(Haz_Cat))+1),COLUMNS($U190:Z190)),COLUMNS(Main!$D188:$H188)),\"\")","v":0},{"$f":"IFERROR(INDEX(Haz_Cat,SMALL(IF(Hazard=Engine!$Q188,ROW(Haz_Cat)-MIN(ROW(Haz_Cat))+1),COLUMNS($U190:AA190)),COLUMNS(Main!$D188:$H188)),\"\")","v":0},{"$f":"IFERROR(INDEX(Haz_Cat,SMALL(IF(Hazard=Engine!$Q188,ROW(Haz_Cat)-MIN(ROW(Haz_Cat))+1),COLUMNS($U190:AB190)),COLUMNS(Main!$D188:$H188)),\"\")","v":0},{"$f":"IFERROR(INDEX(Haz_Cat,SMALL(IF(Hazard=Engine!$Q188,ROW(Haz_Cat)-MIN(ROW(Haz_Cat))+1),COLUMNS($U190:AC190)),COLUMNS(Main!$D188:$H188)),\"\")","v":0},{"$f":"IFERROR(INDEX(Haz_Cat,SMALL(IF(Hazard=Engine!$Q188,ROW(Haz_Cat)-MIN(ROW(Haz_Cat))+1),COLUMNS($U190:AD190)),COLUMNS(Main!$D188:$H188)),\"\")","v":0},{"$f":"IFERROR(INDEX(Haz_Cat,SMALL(IF(Hazard=Engine!$Q188,ROW(Haz_Cat)-MIN(ROW(Haz_Cat))+1),COLUMNS($U190:AE190)),COLUMNS(Main!$D188:$H188)),\"\")","v":0},{"$f":"IFERROR(INDEX(Haz_Cat,SMALL(IF(Hazard=Engine!$Q188,ROW(Haz_Cat)-MIN(ROW(Haz_Cat))+1),COLUMNS($U190:AF190)),COLUMNS(Main!$D188:$H188)),\"\")","v":0},{"$f":"IFERROR(INDEX(Haz_Cat,SMALL(IF(Hazard=Engine!$Q188,ROW(Haz_Cat)-MIN(ROW(Haz_Cat))+1),COLUMNS($U190:AG190)),COLUMNS(Main!$D188:$H188)),\"\")","v":0},{"$f":"IFERROR(INDEX(Haz_Cat,SMALL(IF(Hazard=Engine!$Q188,ROW(Haz_Cat)-MIN(ROW(Haz_Cat))+1),COLUMNS($U190:AH190)),COLUMNS(Main!$D188:$H188)),\"\")","v":0},{"$f":"IFERROR(INDEX(Haz_Cat,SMALL(IF(Hazard=Engine!$Q188,ROW(Haz_Cat)-MIN(ROW(Haz_Cat))+1),COLUMNS($U190:AI190)),COLUMNS(Main!$D188:$H188)),\"\")","v":0},{"$f":"IFERROR(INDEX(Haz_Cat,SMALL(IF(Hazard=Engine!$Q188,ROW(Haz_Cat)-MIN(ROW(Haz_Cat))+1),COLUMNS($U190:AJ190)),COLUMNS(Main!$D188:$H188)),\"\")","v":0},{"$f":"IFERROR(INDEX(Haz_Cat,SMALL(IF(Hazard=Engine!$Q188,ROW(Haz_Cat)-MIN(ROW(Haz_Cat))+1),COLUMNS($U190:AK190)),COLUMNS(Main!$D188:$H188)),\"\")","v":0},{"$f":"IFERROR(INDEX(Haz_Cat,SMALL(IF(Hazard=Engine!$Q188,ROW(Haz_Cat)-MIN(ROW(Haz_Cat))+1),COLUMNS($U190:AL190)),COLUMNS(Main!$D188:$H188)),\"\")","v":0},{"$f":"IFERROR(INDEX(Haz_Cat,SMALL(IF(Hazard=Engine!$Q188,ROW(Haz_Cat)-MIN(ROW(Haz_Cat))+1),COLUMNS($U190:AM190)),COLUMNS(Main!$D188:$H188)),\"\")","v":0},{"$f":"IFERROR(INDEX(Haz_Cat,SMALL(IF(Hazard=Engine!$Q188,ROW(Haz_Cat)-MIN(ROW(Haz_Cat))+1),COLUMNS($U190:AN190)),COLUMNS(Main!$D188:$H188)),\"\")","v":0},{"$f":"IFERROR(INDEX(Haz_Cat,SMALL(IF(Hazard=Engine!$Q188,ROW(Haz_Cat)-MIN(ROW(Haz_Cat))+1),COLUMNS($U190:AO190)),COLUMNS(Main!$D188:$H188)),\"\")","v":0},{"$f":"IFERROR(INDEX(Haz_Cat,SMALL(IF(Hazard=Engine!$Q188,ROW(Haz_Cat)-MIN(ROW(Haz_Cat))+1),COLUMNS($U190:AP190)),COLUMNS(Main!$D188:$H188)),\"\")","v":0},{"$f":"IFERROR(INDEX(Haz_Cat,SMALL(IF(Hazard=Engine!$Q188,ROW(Haz_Cat)-MIN(ROW(Haz_Cat))+1),COLUMNS($U190:AQ190)),COLUMNS(Main!$D188:$H188)),\"\")","v":0},{"$f":"IFERROR(INDEX(Haz_Cat,SMALL(IF(Hazard=Engine!$Q188,ROW(Haz_Cat)-MIN(ROW(Haz_Cat))+1),COLUMNS($U190:AR190)),COLUMNS(Main!$D188:$H188)),\"\")","v":0},{"$f":"IFERROR(INDEX(Haz_Cat,SMALL(IF(Hazard=Engine!$Q188,ROW(Haz_Cat)-MIN(ROW(Haz_Cat))+1),COLUMNS($U190:AS190)),COLUMNS(Main!$D188:$H188)),\"\")","v":0},{"$f":"IFERROR(INDEX(Haz_Cat,SMALL(IF(Hazard=Engine!$Q188,ROW(Haz_Cat)-MIN(ROW(Haz_Cat))+1),COLUMNS($U190:AT190)),COLUMNS(Main!$D188:$H188)),\"\")","v":0},{"$f":"IFERROR(INDEX(Haz_Cat,SMALL(IF(Hazard=Engine!$Q188,ROW(Haz_Cat)-MIN(ROW(Haz_Cat))+1),COLUMNS($U190:AU190)),COLUMNS(Main!$D188:$H188)),\"\")","v":0},{"$f":"IFERROR(INDEX(Haz_Cat,SMALL(IF(Hazard=Engine!$Q188,ROW(Haz_Cat)-MIN(ROW(Haz_Cat))+1),COLUMNS($U190:AV190)),COLUMNS(Main!$D188:$H188)),\"\")","v":0},null,{"$f":"INDIRECT(TEXT(MIN(IF(($U197:$AV202<>\"\")*(COUNTIF($AX187:$AX193,$U197:$AV202)=0),ROW($P197:$BM202)*100+COLUMN($U187:$AV215),7^8)),\"R0C00\"),)&\"\"","v":""},false,"","",{"$f":"COUNTIF(AZ188:AZ198,\"<=\"&AZ194)","v":0},{"$f":"IF(COUNTIF(BA188:BA198,\"<=\"&BA194)=0,\"\",COUNTIF(BA188:BA198,\"<=\"&BA194))","v":""},{"$f":"IFERROR(SMALL(AZ188:AZ198,ROWS(AX188:AX194)),\"\")","v":""},{"$f":"IFERROR(INDEX(BD188:BD209,SMALL(IF(BD188:BD209<>\"\",ROW(BD188:BD209)-MIN(ROW(BD188:BD209))+1),ROWS(AX188:AX194))),\"\")","v":""},null,{"$f":"+AA206","v":0},{"$f":"COUNTIF($BG$2:BG194,\"*\"&BG194&\"*\")","v":0},"","",{"$f":"IFERROR(INDEX(BI$2:BI$308,MATCH(ROWS(BJ$2:BJ194),BJ$2:BJ$308,0)),\"\")","v":""},{"$f":"COUNTIF($BK194:$BK$308,\"*\"&BK194&\"*\")","v":115},"","",{"$f":"IFERROR(INDEX($BM$2:$BM$308,MATCH(ROWS(BN$2:BN194),BN$2:BN500,0)),\"\")","v":""},{"$f":"IFERROR(VLOOKUP(Engine!BO194,P_sentences_overview!H193:I324,2),\"\")","v":""}]
[null,null,null,null,null,null,null,null,null,null,null,null,null,null,null,null,null,null,null,null,{"$f":"IFERROR(INDEX(Haz_Cat,SMALL(IF(Hazard=Engine!$Q188,ROW(Haz_Cat)-MIN(ROW(Haz_Cat))+1),COLUMNS($U190:U190)),COLUMNS(Main!$D188:$I188)),\"\")","v":0},{"$f":"IFERROR(INDEX(Haz_Cat,SMALL(IF(Hazard=Engine!$Q188,ROW(Haz_Cat)-MIN(ROW(Haz_Cat))+1),COLUMNS($U190:V190)),COLUMNS(Main!$D188:$I188)),\"\")","v":0},{"$f":"IFERROR(INDEX(Haz_Cat,SMALL(IF(Hazard=Engine!$Q188,ROW(Haz_Cat)-MIN(ROW(Haz_Cat))+1),COLUMNS($U190:W190)),COLUMNS(Main!$D188:$I188)),\"\")","v":0},{"$f":"IFERROR(INDEX(Haz_Cat,SMALL(IF(Hazard=Engine!$Q188,ROW(Haz_Cat)-MIN(ROW(Haz_Cat))+1),COLUMNS($U190:X190)),COLUMNS(Main!$D188:$I188)),\"\")","v":0},{"$f":"IFERROR(INDEX(Haz_Cat,SMALL(IF(Hazard=Engine!$Q188,ROW(Haz_Cat)-MIN(ROW(Haz_Cat))+1),COLUMNS($U190:Y190)),COLUMNS(Main!$D188:$I188)),\"\")","v":0},{"$f":"IFERROR(INDEX(Haz_Cat,SMALL(IF(Hazard=Engine!$Q188,ROW(Haz_Cat)-MIN(ROW(Haz_Cat))+1),COLUMNS($U190:Z190)),COLUMNS(Main!$D188:$I188)),\"\")","v":0},{"$f":"IFERROR(INDEX(Haz_Cat,SMALL(IF(Hazard=Engine!$Q188,ROW(Haz_Cat)-MIN(ROW(Haz_Cat))+1),COLUMNS($U190:AA190)),COLUMNS(Main!$D188:$I188)),\"\")","v":0},{"$f":"IFERROR(INDEX(Haz_Cat,SMALL(IF(Hazard=Engine!$Q188,ROW(Haz_Cat)-MIN(ROW(Haz_Cat))+1),COLUMNS($U190:AB190)),COLUMNS(Main!$D188:$I188)),\"\")","v":0},{"$f":"IFERROR(INDEX(Haz_Cat,SMALL(IF(Hazard=Engine!$Q188,ROW(Haz_Cat)-MIN(ROW(Haz_Cat))+1),COLUMNS($U190:AC190)),COLUMNS(Main!$D188:$I188)),\"\")","v":0},{"$f":"IFERROR(INDEX(Haz_Cat,SMALL(IF(Hazard=Engine!$Q188,ROW(Haz_Cat)-MIN(ROW(Haz_Cat))+1),COLUMNS($U190:AD190)),COLUMNS(Main!$D188:$I188)),\"\")","v":0},{"$f":"IFERROR(INDEX(Haz_Cat,SMALL(IF(Hazard=Engine!$Q188,ROW(Haz_Cat)-MIN(ROW(Haz_Cat))+1),COLUMNS($U190:AE190)),COLUMNS(Main!$D188:$I188)),\"\")","v":0},{"$f":"IFERROR(INDEX(Haz_Cat,SMALL(IF(Hazard=Engine!$Q188,ROW(Haz_Cat)-MIN(ROW(Haz_Cat))+1),COLUMNS($U190:AF190)),COLUMNS(Main!$D188:$I188)),\"\")","v":0},{"$f":"IFERROR(INDEX(Haz_Cat,SMALL(IF(Hazard=Engine!$Q188,ROW(Haz_Cat)-MIN(ROW(Haz_Cat))+1),COLUMNS($U190:AG190)),COLUMNS(Main!$D188:$I188)),\"\")","v":0},{"$f":"IFERROR(INDEX(Haz_Cat,SMALL(IF(Hazard=Engine!$Q188,ROW(Haz_Cat)-MIN(ROW(Haz_Cat))+1),COLUMNS($U190:AH190)),COLUMNS(Main!$D188:$I188)),\"\")","v":0},{"$f":"IFERROR(INDEX(Haz_Cat,SMALL(IF(Hazard=Engine!$Q188,ROW(Haz_Cat)-MIN(ROW(Haz_Cat))+1),COLUMNS($U190:AI190)),COLUMNS(Main!$D188:$I188)),\"\")","v":0},{"$f":"IFERROR(INDEX(Haz_Cat,SMALL(IF(Hazard=Engine!$Q188,ROW(Haz_Cat)-MIN(ROW(Haz_Cat))+1),COLUMNS($U190:AJ190)),COLUMNS(Main!$D188:$I188)),\"\")","v":0},{"$f":"IFERROR(INDEX(Haz_Cat,SMALL(IF(Hazard=Engine!$Q188,ROW(Haz_Cat)-MIN(ROW(Haz_Cat))+1),COLUMNS($U190:AK190)),COLUMNS(Main!$D188:$I188)),\"\")","v":0},{"$f":"IFERROR(INDEX(Haz_Cat,SMALL(IF(Hazard=Engine!$Q188,ROW(Haz_Cat)-MIN(ROW(Haz_Cat))+1),COLUMNS($U190:AL190)),COLUMNS(Main!$D188:$I188)),\"\")","v":0},{"$f":"IFERROR(INDEX(Haz_Cat,SMALL(IF(Hazard=Engine!$Q188,ROW(Haz_Cat)-MIN(ROW(Haz_Cat))+1),COLUMNS($U190:AM190)),COLUMNS(Main!$D188:$I188)),\"\")","v":0},{"$f":"IFERROR(INDEX(Haz_Cat,SMALL(IF(Hazard=Engine!$Q188,ROW(Haz_Cat)-MIN(ROW(Haz_Cat))+1),COLUMNS($U190:AN190)),COLUMNS(Main!$D188:$I188)),\"\")","v":0},{"$f":"IFERROR(INDEX(Haz_Cat,SMALL(IF(Hazard=Engine!$Q188,ROW(Haz_Cat)-MIN(ROW(Haz_Cat))+1),COLUMNS($U190:AO190)),COLUMNS(Main!$D188:$I188)),\"\")","v":0},{"$f":"IFERROR(INDEX(Haz_Cat,SMALL(IF(Hazard=Engine!$Q188,ROW(Haz_Cat)-MIN(ROW(Haz_Cat))+1),COLUMNS($U190:AP190)),COLUMNS(Main!$D188:$I188)),\"\")","v":0},{"$f":"IFERROR(INDEX(Haz_Cat,SMALL(IF(Hazard=Engine!$Q188,ROW(Haz_Cat)-MIN(ROW(Haz_Cat))+1),COLUMNS($U190:AQ190)),COLUMNS(Main!$D188:$I188)),\"\")","v":0},{"$f":"IFERROR(INDEX(Haz_Cat,SMALL(IF(Hazard=Engine!$Q188,ROW(Haz_Cat)-MIN(ROW(Haz_Cat))+1),COLUMNS($U190:AR190)),COLUMNS(Main!$D188:$I188)),\"\")","v":0},{"$f":"IFERROR(INDEX(Haz_Cat,SMALL(IF(Hazard=Engine!$Q188,ROW(Haz_Cat)-MIN(ROW(Haz_Cat))+1),COLUMNS($U190:AS190)),COLUMNS(Main!$D188:$I188)),\"\")","v":0},{"$f":"IFERROR(INDEX(Haz_Cat,SMALL(IF(Hazard=Engine!$Q188,ROW(Haz_Cat)-MIN(ROW(Haz_Cat))+1),COLUMNS($U190:AT190)),COLUMNS(Main!$D188:$I188)),\"\")","v":0},{"$f":"IFERROR(INDEX(Haz_Cat,SMALL(IF(Hazard=Engine!$Q188,ROW(Haz_Cat)-MIN(ROW(Haz_Cat))+1),COLUMNS($U190:AU190)),COLUMNS(Main!$D188:$I188)),\"\")","v":0},{"$f":"IFERROR(INDEX(Haz_Cat,SMALL(IF(Hazard=Engine!$Q188,ROW(Haz_Cat)-MIN(ROW(Haz_Cat))+1),COLUMNS($U190:AV190)),COLUMNS(Main!$D188:$I188)),\"\")","v":0},null,{"$f":"INDIRECT(TEXT(MIN(IF(($U197:$AV202<>\"\")*(COUNTIF($AX187:$AX194,$U197:$AV202)=0),ROW($P197:$BM202)*100+COLUMN($U187:$AV215),7^8)),\"R0C00\"),)&\"\"","v":""},false,"","",{"$f":"COUNTIF(AZ188:AZ198,\"<=\"&AZ195)","v":0},{"$f":"IF(COUNTIF(BA188:BA198,\"<=\"&BA195)=0,\"\",COUNTIF(BA188:BA198,\"<=\"&BA195))","v":""},{"$f":"IFERROR(SMALL(AZ188:AZ198,ROWS(AX188:AX195)),\"\")","v":""},{"$f":"IFERROR(INDEX(BD188:BD209,SMALL(IF(BD188:BD209<>\"\",ROW(BD188:BD209)-MIN(ROW(BD188:BD209))+1),ROWS(AX188:AX195))),\"\")","v":""},null,{"$f":"+AB206","v":0},{"$f":"COUNTIF($BG$2:BG195,\"*\"&BG195&\"*\")","v":0},"",{"$f":"IF(COUNTIF($BI$2:$BI$308,\"<=\"&BI195)=0,\"\",COUNTIF($BI$2:$BI$308,\"<=\"&BI195)-COUNTBLANK($BI$2:$BI$308))","v":""},{"$f":"IFERROR(INDEX(BI$2:BI$308,MATCH(ROWS(BJ$2:BJ195),BJ$2:BJ$308,0)),\"\")","v":""},{"$f":"COUNTIF($BK195:$BK$308,\"*\"&BK195&\"*\")","v":114},{"$f":"IF(BL195=1,BK195,\"\")","v":""},{"$f":"IF(COUNTIF(BM$2:BM$308,\"<=\"&BM195)=0,\"\",COUNTIF(BM$2:BM$308,\"<=\"&BM195)-COUNTBLANK(BM$2:BM$308))","v":""},{"$f":"IFERROR(INDEX($BM$2:$BM$308,MATCH(ROWS(BN$2:BN195),BN$2:BN501,0)),\"\")","v":""},{"$f":"IFERROR(VLOOKUP(Engine!BO195,P_sentences_overview!H194:I325,2),\"\")","v":""}]
[null,null,null,null,null,null,null,null,null,null,null,null,null,null,null,null,null,null,null,null,null,null,null,null,null,null,null,null,null,null,null,null,null,null,null,null,null,null,null,null,null,null,null,null,null,null,null,null,null,{"$f":"INDIRECT(TEXT(MIN(IF(($U197:$AV202<>\"\")*(COUNTIF($AX187:$AX195,$U197:$AV202)=0),ROW($P197:$BM202)*100+COLUMN($U187:$AV215),7^8)),\"R0C00\"),)&\"\"","v":""},false,"","",{"$f":"COUNTIF(AZ188:AZ198,\"<=\"&AZ196)","v":0},{"$f":"IF(COUNTIF(BA188:BA198,\"<=\"&BA196)=0,\"\",COUNTIF(BA188:BA198,\"<=\"&BA196))","v":""},{"$f":"IFERROR(SMALL(AZ188:AZ198,ROWS(AX188:AX196)),\"\")","v":""},{"$f":"IFERROR(INDEX(BD188:BD209,SMALL(IF(BD188:BD209<>\"\",ROW(BD188:BD209)-MIN(ROW(BD188:BD209))+1),ROWS(AX188:AX196))),\"\")","v":""},null,{"$f":"+AC206","v":0},{"$f":"COUNTIF($BG$2:BG196,\"*\"&BG196&\"*\")","v":0},"","",{"$f":"IFERROR(INDEX(BI$2:BI$308,MATCH(ROWS(BJ$2:BJ196),BJ$2:BJ$308,0)),\"\")","v":""},{"$f":"COUNTIF($BK196:$BK$308,\"*\"&BK196&\"*\")","v":113},"","",{"$f":"IFERROR(INDEX($BM$2:$BM$308,MATCH(ROWS(BN$2:BN196),BN$2:BN502,0)),\"\")","v":""},{"$f":"IFERROR(VLOOKUP(Engine!BO196,P_sentences_overview!H195:I326,2),\"\")","v":""}]
[null,null,null,null,null,null,null,null,null,null,null,null,null,null,null,null,null,null,null,null,{"$f":"+IF(U190=0,\"\",U190)","v":""},"","","","","","","","","","","","","","","","","","","","","","","","","","","",null,{"$f":"INDIRECT(TEXT(MIN(IF(($U197:$AV202<>\"\")*(COUNTIF($AX187:$AX196,$U197:$AV202)=0),ROW($P197:$BM202)*100+COLUMN($U187:$AV215),7^8)),\"R0C00\"),)&\"\"","v":""},false,"","",{"$f":"COUNTIF(AZ188:AZ198,\"<=\"&AZ197)","v":0},{"$f":"IF(COUNTIF(BA188:BA198,\"<=\"&BA197)=0,\"\",COUNTIF(BA188:BA198,\"<=\"&BA197))","v":""},{"$f":"IFERROR(SMALL(AZ188:AZ198,ROWS(AX188:AX197)),\"\")","v":""},{"$f":"IFERROR(INDEX(BD188:BD209,SMALL(IF(BD188:BD209<>\"\",ROW(BD188:BD209)-MIN(ROW(BD188:BD209))+1),ROWS(AX188:AX197))),\"\")","v":""},null,{"$f":"+AD206","v":0},{"$f":"COUNTIF($BG$2:BG197,\"*\"&BG197&\"*\")","v":0},"","",{"$f":"IFERROR(INDEX(BI$2:BI$308,MATCH(ROWS(BJ$2:BJ197),BJ$2:BJ$308,0)),\"\")","v":""},{"$f":"COUNTIF($BK197:$BK$308,\"*\"&BK197&\"*\")","v":112},"","",{"$f":"IFERROR(INDEX($BM$2:$BM$308,MATCH(ROWS(BN$2:BN197),BN$2:BN503,0)),\"\")","v":""},{"$f":"IFERROR(VLOOKUP(Engine!BO197,P_sentences_overview!H196:I327,2),\"\")","v":""}]
[null,null,null,null,null,null,null,null,null,null,null,null,null,null,null,null,null,null,null,null,{"$f":"+IF(U191=0,\"\",U191)","v":""},"","","","","","","","","","","","","","","","","","","","","","","","","","","",null,{"$f":"INDIRECT(TEXT(MIN(IF(($U197:$AV202<>\"\")*(COUNTIF($AX187:$AX197,$U197:$AV202)=0),ROW($P197:$BM202)*100+COLUMN($U187:$AV215),7^8)),\"R0C00\"),)&\"\"","v":""},false,"","",{"$f":"COUNTIF(AZ188:AZ198,\"<=\"&AZ198)","v":0},{"$f":"IF(COUNTIF(BA188:BA198,\"<=\"&BA198)=0,\"\",COUNTIF(BA188:BA198,\"<=\"&BA198))","v":""},{"$f":"IFERROR(SMALL(AZ188:AZ198,ROWS(AX188:AX198)),\"\")","v":""},{"$f":"IFERROR(INDEX(BD188:BD209,SMALL(IF(BD188:BD209<>\"\",ROW(BD188:BD209)-MIN(ROW(BD188:BD209))+1),ROWS(AX188:AX198))),\"\")","v":""},null,{"$f":"+AE206","v":0},{"$f":"COUNTIF($BG$2:BG198,\"*\"&BG198&\"*\")","v":0},"","",{"$f":"IFERROR(INDEX(BI$2:BI$308,MATCH(ROWS(BJ$2:BJ198),BJ$2:BJ$308,0)),\"\")","v":""},{"$f":"COUNTIF($BK198:$BK$308,\"*\"&BK198&\"*\")","v":111},"","",{"$f":"IFERROR(INDEX($BM$2:$BM$308,MATCH(ROWS(BN$2:BN198),BN$2:BN504,0)),\"\")","v":""},{"$f":"IFERROR(VLOOKUP(Engine!BO198,P_sentences_overview!H197:I328,2),\"\")","v":""}]
[null,null,null,null,null,null,null,null,null,null,null,null,null,null,null,null,null,null,null,null,{"$f":"+IF(U192=0,\"\",U192)","v":""},"","","","","","","","","","","","","","","","","","","","","","","","","","","",null,null,null,null,null,null,null,{"$f":"IFERROR(INDEX(BA188:BA198,MATCH(SMALL(BC188:BC198,ROWS(BA188:BA188)),BC188:BC198,)),\"\")","v":""},{"$f":"IFERROR(INDEX(BD188:BD209,SMALL(IF(BD188:BD209<>\"\",ROW(BD188:BD209)-MIN(ROW(BD188:BD209))+1),ROWS(AX188:AX199))),\"\")","v":""},null,{"$f":"+AF206","v":0},{"$f":"COUNTIF($BG$2:BG199,\"*\"&BG199&\"*\")","v":0},"","",{"$f":"IFERROR(INDEX(BI$2:BI$308,MATCH(ROWS(BJ$2:BJ199),BJ$2:BJ$308,0)),\"\")","v":""},{"$f":"COUNTIF($BK199:$BK$308,\"*\"&BK199&\"*\")","v":110},"","",{"$f":"IFERROR(INDEX($BM$2:$BM$308,MATCH(ROWS(BN$2:BN199),BN$2:BN505,0)),\"\")","v":""},{"$f":"IFERROR(VLOOKUP(Engine!BO199,P_sentences_overview!H198:I329,2),\"\")","v":""}]
[null,null,null,null,null,null,null,null,null,null,null,null,null,null,null,null,null,null,null,null,{"$f":"+IF(U193=0,\"\",U193)","v":""},"","","","","","","","","","","","","","","","","","","","","","","","","","","",null,null,null,null,null,null,null,{"$f":"IFERROR(INDEX(BA188:BA198,MATCH(SMALL(BC188:BC198,ROWS(BA188:BA189)),BC188:BC198,)),\"\")","v":""},{"$f":"IFERROR(INDEX(BD188:BD209,SMALL(IF(BD188:BD209<>\"\",ROW(BD188:BD209)-MIN(ROW(BD188:BD209))+1),ROWS(AX188:AX200))),\"\")","v":""},null,{"$f":"+AG206","v":0},{"$f":"COUNTIF($BG$2:BG200,\"*\"&BG200&\"*\")","v":0},"","",{"$f":"IFERROR(INDEX(BI$2:BI$308,MATCH(ROWS(BJ$2:BJ200),BJ$2:BJ$308,0)),\"\")","v":""},{"$f":"COUNTIF($BK200:$BK$308,\"*\"&BK200&\"*\")","v":109},"","",{"$f":"IFERROR(INDEX($BM$2:$BM$308,MATCH(ROWS(BN$2:BN200),BN$2:BN506,0)),\"\")","v":""},{"$f":"IFERROR(VLOOKUP(Engine!BO200,P_sentences_overview!H199:I330,2),\"\")","v":""}]
[null,null,null,null,null,null,null,null,null,null,null,null,null,null,null,null,null,null,null,null,{"$f":"+IF(U194=0,\"\",U194)","v":""},"","","","","","","","","","","","","","","","","","","","","","","","","","","",null,null,null,null,null,null,null,{"$f":"IFERROR(INDEX(BA188:BA198,MATCH(SMALL(BC188:BC198,ROWS(BA188:BA190)),BC188:BC198,)),\"\")","v":""},{"$f":"IFERROR(INDEX(BD188:BD209,SMALL(IF(BD188:BD209<>\"\",ROW(BD188:BD209)-MIN(ROW(BD188:BD209))+1),ROWS(AX188:AX201))),\"\")","v":""},null,{"$f":"+AH206","v":0},{"$f":"COUNTIF($BG$2:BG201,\"*\"&BG201&\"*\")","v":0},"","",{"$f":"IFERROR(INDEX(BI$2:BI$308,MATCH(ROWS(BJ$2:BJ201),BJ$2:BJ$308,0)),\"\")","v":""},{"$f":"COUNTIF($BK201:$BK$308,\"*\"&BK201&\"*\")","v":108},"","",{"$f":"IFERROR(INDEX($BM$2:$BM$308,MATCH(ROWS(BN$2:BN201),BN$2:BN507,0)),\"\")","v":""},{"$f":"IFERROR(VLOOKUP(Engine!BO201,P_sentences_overview!H200:I331,2),\"\")","v":""}]
[null,null,null,null,null,null,null,null,null,null,null,null,null,null,null,null,null,null,null,null,{"$f":"+IF(U195=0,\"\",U195)","v":""},"","","","","","","","","","","","","","","","","","","","","","","","","","","",null,null,null,null,null,null,null,{"$f":"IFERROR(INDEX(BA188:BA198,MATCH(SMALL(BC188:BC198,ROWS(BA188:BA191)),BC188:BC198,)),\"\")","v":""},{"$f":"IFERROR(INDEX(BD188:BD209,SMALL(IF(BD188:BD209<>\"\",ROW(BD188:BD209)-MIN(ROW(BD188:BD209))+1),ROWS(AX188:AX202))),\"\")","v":""},null,{"$f":"+AI206","v":0},{"$f":"COUNTIF($BG$2:BG202,\"*\"&BG202&\"*\")","v":0},"","",{"$f":"IFERROR(INDEX(BI$2:BI$308,MATCH(ROWS(BJ$2:BJ202),BJ$2:BJ$308,0)),\"\")","v":""},{"$f":"COUNTIF($BK202:$BK$308,\"*\"&BK202&\"*\")","v":107},"","",{"$f":"IFERROR(INDEX($BM$2:$BM$308,MATCH(ROWS(BN$2:BN202),BN$2:BN508,0)),\"\")","v":""},{"$f":"IFERROR(VLOOKUP(Engine!BO202,P_sentences_overview!H201:I332,2),\"\")","v":""}]
[null,null,null,null,null,null,null,null,null,null,null,null,null,null,null,null,null,null,null,null,null,null,null,null,null,null,null,null,null,null,null,null,null,null,null,null,null,null,null,null,null,null,null,null,null,null,null,null,null,null,null,null,null,null,null,{"$f":"IFERROR(INDEX(BA188:BA198,MATCH(SMALL(BC188:BC198,ROWS(BA188:BA192)),BC188:BC198,)),\"\")","v":""},{"$f":"IFERROR(INDEX(BD188:BD209,SMALL(IF(BD188:BD209<>\"\",ROW(BD188:BD209)-MIN(ROW(BD188:BD209))+1),ROWS(AX188:AX203))),\"\")","v":""},null,{"$f":"+AJ206","v":0},{"$f":"COUNTIF($BG$2:BG203,\"*\"&BG203&\"*\")","v":0},"","",{"$f":"IFERROR(INDEX(BI$2:BI$308,MATCH(ROWS(BJ$2:BJ203),BJ$2:BJ$308,0)),\"\")","v":""},{"$f":"COUNTIF($BK203:$BK$308,\"*\"&BK203&\"*\")","v":106},"","",{"$f":"IFERROR(INDEX($BM$2:$BM$308,MATCH(ROWS(BN$2:BN203),BN$2:BN509,0)),\"\")","v":""},{"$f":"IFERROR(VLOOKUP(Engine!BO203,P_sentences_overview!H202:I333,2),\"\")","v":""}]
[null,null,null,null,null,null,null,null,null,null,null,null,null,null,null,null,null,null,null,null,{"$f":"IF(ISNUMBER(MATCH($R188,U197:U202,0)),U188,\"\")","v":0},{"$f":"IF(ISNUMBER(MATCH($R188,V197:V202,0)),V188,\"\")","v":0},0,0,0,0,0,0,0,0,0,0,0,0,0,0,0,0,0,0,0,0,0,0,0,0,0,0,null,null,null,null,null,null,null,{"$f":"IFERROR(INDEX(BA188:BA198,MATCH(SMALL(BC188:BC198,ROWS(BA188:BA193)),BC188:BC198,)),\"\")","v":""},{"$f":"IFERROR(INDEX(BD188:BD209,SMALL(IF(BD188:BD209<>\"\",ROW(BD188:BD209)-MIN(ROW(BD188:BD209))+1),ROWS(AX188:AX204))),\"\")","v":""},null,{"$f":"+AK206","v":0},{"$f":"COUNTIF($BG$2:BG204,\"*\"&BG204&\"*\")","v":0},"","",{"$f":"IFERROR(INDEX(BI$2:BI$308,MATCH(ROWS(BJ$2:BJ204),BJ$2:BJ$308,0)),\"\")","v":""},{"$f":"COUNTIF($BK204:$BK$308,\"*\"&BK204&\"*\")","v":105},"","",{"$f":"IFERROR(INDEX($BM$2:$BM$308,MATCH(ROWS(BN$2:BN204),BN$2:BN510,0)),\"\")","v":""},{"$f":"IFERROR(VLOOKUP(Engine!BO204,P_sentences_overview!H203:I334,2),\"\")","v":""}]
[null,null,null,null,null,null,null,null,null,null,null,null,null,null,null,null,null,null,null,null,null,null,null,null,null,null,null,null,null,null,null,null,null,null,null,null,null,null,null,null,null,null,null,null,null,null,null,null,null,null,null,null,null,null,null,{"$f":"IFERROR(INDEX(BA188:BA198,MATCH(SMALL(BC188:BC198,ROWS(BA188:BA194)),BC188:BC198,)),\"\")","v":""},{"$f":"IFERROR(INDEX(BD188:BD209,SMALL(IF(BD188:BD209<>\"\",ROW(BD188:BD209)-MIN(ROW(BD188:BD209))+1),ROWS(AX188:AX205))),\"\")","v":""},null,{"$f":"+AL206","v":0},{"$f":"COUNTIF($BG$2:BG205,\"*\"&BG205&\"*\")","v":0},"","",{"$f":"IFERROR(INDEX(BI$2:BI$308,MATCH(ROWS(BJ$2:BJ205),BJ$2:BJ$308,0)),\"\")","v":""},{"$f":"COUNTIF($BK205:$BK$308,\"*\"&BK205&\"*\")","v":104},"","",{"$f":"IFERROR(INDEX($BM$2:$BM$308,MATCH(ROWS(BN$2:BN205),BN$2:BN511,0)),\"\")","v":""},{"$f":"IFERROR(VLOOKUP(Engine!BO205,P_sentences_overview!H204:I335,2),\"\")","v":""}]
[null,null,null,null,null,null,null,null,null,null,null,null,null,null,null,null,null,null,null,null,{"$f":"IFERROR(INDEX(U204:AV204,1,SMALL(IF(U204:AV204<>\"\",COLUMN(U204:AV204)-MIN(COLUMN(U204:AV204))+1),COLUMNS($U$2:U188))),\"\")","v":0},{"$f":"IFERROR(INDEX(U204:AV204,1,SMALL(IF(U204:AV204<>\"\",COLUMN(U204:AV204)-MIN(COLUMN(U204:AV204))+1),COLUMNS($U$2:V188))),\"\")","v":0},{"$f":"IFERROR(INDEX(U204:AV204,1,SMALL(IF(U204:AV204<>\"\",COLUMN(U204:AV204)-MIN(COLUMN(U204:AV204))+1),COLUMNS($U$2:W188))),\"\")","v":0},{"$f":"IFERROR(INDEX(U204:AV204,1,SMALL(IF(U204:AV204<>\"\",COLUMN(U204:AV204)-MIN(COLUMN(U204:AV204))+1),COLUMNS($U$2:X188))),\"\")","v":0},{"$f":"IFERROR(INDEX(U204:AV204,1,SMALL(IF(U204:AV204<>\"\",COLUMN(U204:AV204)-MIN(COLUMN(U204:AV204))+1),COLUMNS($U$2:Y188))),\"\")","v":0},{"$f":"IFERROR(INDEX(U204:AV204,1,SMALL(IF(U204:AV204<>\"\",COLUMN(U204:AV204)-MIN(COLUMN(U204:AV204))+1),COLUMNS($U$2:Z188))),\"\")","v":0},{"$f":"IFERROR(INDEX(U204:AV204,1,SMALL(IF(U204:AV204<>\"\",COLUMN(U204:AV204)-MIN(COLUMN(U204:AV204))+1),COLUMNS($U$2:AA188))),\"\")","v":0},{"$f":"IFERROR(INDEX(U204:AV204,1,SMALL(IF(U204:AV204<>\"\",COLUMN(U204:AV204)-MIN(COLUMN(U204:AV204))+1),COLUMNS($U$2:AB188))),\"\")","v":0},{"$f":"IFERROR(INDEX(U204:AV204,1,SMALL(IF(U204:AV204<>\"\",COLUMN(U204:AV204)-MIN(COLUMN(U204:AV204))+1),COLUMNS($U$2:AC188))),\"\")","v":0},{"$f":"IFERROR(INDEX(U204:AV204,1,SMALL(IF(U204:AV204<>\"\",COLUMN(U204:AV204)-MIN(COLUMN(U204:AV204))+1),COLUMNS($U$2:AD188))),\"\")","v":0},{"$f":"IFERROR(INDEX(U204:AV204,1,SMALL(IF(U204:AV204<>\"\",COLUMN(U204:AV204)-MIN(COLUMN(U204:AV204))+1),COLUMNS($U$2:AE188))),\"\")","v":0},{"$f":"IFERROR(INDEX(U204:AV204,1,SMALL(IF(U204:AV204<>\"\",COLUMN(U204:AV204)-MIN(COLUMN(U204:AV204))+1),COLUMNS($U$2:AF188))),\"\")","v":0},{"$f":"IFERROR(INDEX(U204:AV204,1,SMALL(IF(U204:AV204<>\"\",COLUMN(U204:AV204)-MIN(COLUMN(U204:AV204))+1),COLUMNS($U$2:AG188))),\"\")","v":0},{"$f":"IFERROR(INDEX(U204:AV204,1,SMALL(IF(U204:AV204<>\"\",COLUMN(U204:AV204)-MIN(COLUMN(U204:AV204))+1),COLUMNS($U$2:AH188))),\"\")","v":0},{"$f":"IFERROR(INDEX(U204:AV204,1,SMALL(IF(U204:AV204<>\"\",COLUMN(U204:AV204)-MIN(COLUMN(U204:AV204))+1),COLUMNS($U$2:AI188))),\"\")","v":0},{"$f":"IFERROR(INDEX(U204:AV204,1,SMALL(IF(U204:AV204<>\"\",COLUMN(U204:AV204)-MIN(COLUMN(U204:AV204))+1),COLUMNS($U$2:AJ188))),\"\")","v":0},{"$f":"IFERROR(INDEX(U204:AV204,1,SMALL(IF(U204:AV204<>\"\",COLUMN(U204:AV204)-MIN(COLUMN(U204:AV204))+1),COLUMNS($U$2:AK188))),\"\")","v":0},{"$f":"IFERROR(INDEX(U204:AV204,1,SMALL(IF(U204:AV204<>\"\",COLUMN(U204:AV204)-MIN(COLUMN(U204:AV204))+1),COLUMNS($U$2:AL188))),\"\")","v":0},{"$f":"IFERROR(INDEX(U204:AV204,1,SMALL(IF(U204:AV204<>\"\",COLUMN(U204:AV204)-MIN(COLUMN(U204:AV204))+1),COLUMNS($U$2:AM188))),\"\")","v":0},{"$f":"IFERROR(INDEX(U204:AV204,1,SMALL(IF(U204:AV204<>\"\",COLUMN(U204:AV204)-MIN(COLUMN(U204:AV204))+1),COLUMNS($U$2:AN188))),\"\")","v":0},{"$f":"IFERROR(INDEX(U204:AV204,1,SMALL(IF(U204:AV204<>\"\",COLUMN(U204:AV204)-MIN(COLUMN(U204:AV204))+1),COLUMNS($U$2:AO188))),\"\")","v":0},{"$f":"IFERROR(INDEX(U204:AV204,1,SMALL(IF(U204:AV204<>\"\",COLUMN(U204:AV204)-MIN(COLUMN(U204:AV204))+1),COLUMNS($U$2:AP188))),\"\")","v":0},{"$f":"IFERROR(INDEX(U204:AV204,1,SMALL(IF(U204:AV204<>\"\",COLUMN(U204:AV204)-MIN(COLUMN(U204:AV204))+1),COLUMNS($U$2:AQ188))),\"\")","v":0},{"$f":"IFERROR(INDEX(U204:AV204,1,SMALL(IF(U204:AV204<>\"\",COLUMN(U204:AV204)-MIN(COLUMN(U204:AV204))+1),COLUMNS($U$2:AR188))),\"\")","v":0},{"$f":"IFERROR(INDEX(U204:AV204,1,SMALL(IF(U204:AV204<>\"\",COLUMN(U204:AV204)-MIN(COLUMN(U204:AV204))+1),COLUMNS($U$2:AS188))),\"\")","v":0},{"$f":"IFERROR(INDEX(U204:AV204,1,SMALL(IF(U204:AV204<>\"\",COLUMN(U204:AV204)-MIN(COLUMN(U204:AV204))+1),COLUMNS($U$2:AT188))),\"\")","v":0},{"$f":"IFERROR(INDEX(U204:AV204,1,SMALL(IF(U204:AV204<>\"\",COLUMN(U204:AV204)-MIN(COLUMN(U204:AV204))+1),COLUMNS($U$2:AU188))),\"\")","v":0},{"$f":"IFERROR(INDEX(U204:AV204,1,SMALL(IF(U204:AV204<>\"\",COLUMN(U204:AV204)-MIN(COLUMN(U204:AV204))+1),COLUMNS($U$2:AV188))),\"\")","v":0},null,null,null,null,null,null,null,{"$f":"IFERROR(INDEX(BA188:BA198,MATCH(SMALL(BC188:BC198,ROWS(BA188:BA195)),BC188:BC198,)),\"\")","v":""},{"$f":"IFERROR(INDEX(BD188:BD209,SMALL(IF(BD188:BD209<>\"\",ROW(BD188:BD209)-MIN(ROW(BD188:BD209))+1),ROWS(AX188:AX206))),\"\")","v":""},null,{"$f":"+AM206","v":0},{"$f":"COUNTIF($BG$2:BG206,\"*\"&BG206&\"*\")","v":0},"","",{"$f":"IFERROR(INDEX(BI$2:BI$308,MATCH(ROWS(BJ$2:BJ206),BJ$2:BJ$308,0)),\"\")","v":""},{"$f":"COUNTIF($BK206:$BK$308,\"*\"&BK206&\"*\")","v":103},"","",{"$f":"IFERROR(INDEX($BM$2:$BM$308,MATCH(ROWS(BN$2:BN206),BN$2:BN512,0)),\"\")","v":""},{"$f":"IFERROR(VLOOKUP(Engine!BO206,P_sentences_overview!H205:I336,2),\"\")","v":""}]
[null,null,null,null,null,null,null,null,null,null,null,null,null,null,null,null,null,null,null,null,null,null,null,null,null,null,null,null,null,null,null,null,null,null,null,null,null,null,null,null,null,null,null,null,null,null,null,null,null,null,null,null,null,null,null,{"$f":"IFERROR(INDEX(BA188:BA198,MATCH(SMALL(BC188:BC198,ROWS(BA188:BA196)),BC188:BC198,)),\"\")","v":""},{"$f":"IFERROR(INDEX(BD188:BD209,SMALL(IF(BD188:BD209<>\"\",ROW(BD188:BD209)-MIN(ROW(BD188:BD209))+1),ROWS(AX188:AX207))),\"\")","v":""},null,{"$f":"+AN206","v":0},{"$f":"COUNTIF($BG$2:BG207,\"*\"&BG207&\"*\")","v":0},"","",{"$f":"IFERROR(INDEX(BI$2:BI$308,MATCH(ROWS(BJ$2:BJ207),BJ$2:BJ$308,0)),\"\")","v":""},{"$f":"COUNTIF($BK207:$BK$308,\"*\"&BK207&\"*\")","v":102},"","",{"$f":"IFERROR(INDEX($BM$2:$BM$308,MATCH(ROWS(BN$2:BN207),BN$2:BN513,0)),\"\")","v":""},{"$f":"IFERROR(VLOOKUP(Engine!BO207,P_sentences_overview!H206:I337,2),\"\")","v":""}]
[null,null,null,null,null,null,null,null,null,null,null,null,null,null,null,null,null,null,null,null,null,null,null,null,null,null,null,null,null,null,null,null,null,null,null,null,null,null,null,null,null,null,null,null,null,null,null,null,null,null,null,null,null,null,null,{"$f":"IFERROR(INDEX(BA188:BA198,MATCH(SMALL(BC188:BC198,ROWS(BA188:BA197)),BC188:BC198,)),\"\")","v":""},{"$f":"IFERROR(INDEX(BD188:BD209,SMALL(IF(BD188:BD209<>\"\",ROW(BD188:BD209)-MIN(ROW(BD188:BD209))+1),ROWS(AX188:AX208))),\"\")","v":""},null,{"$f":"+AO206","v":0},{"$f":"COUNTIF($BG$2:BG208,\"*\"&BG208&\"*\")","v":0},"","",{"$f":"IFERROR(INDEX(BI$2:BI$308,MATCH(ROWS(BJ$2:BJ208),BJ$2:BJ$308,0)),\"\")","v":""},{"$f":"COUNTIF($BK208:$BK$308,\"*\"&BK208&\"*\")","v":101},"","",{"$f":"IFERROR(INDEX($BM$2:$BM$308,MATCH(ROWS(BN$2:BN208),BN$2:BN514,0)),\"\")","v":""},{"$f":"IFERROR(VLOOKUP(Engine!BO208,P_sentences_overview!H207:I338,2),\"\")","v":""}]
[null,null,null,null,null,null,null,null,null,null,null,null,null,null,null,null,null,null,null,null,null,null,null,null,null,null,null,null,null,null,null,null,null,null,null,null,null,null,null,null,null,null,null,null,null,null,null,null,null,null,null,null,null,null,null,{"$f":"IFERROR(INDEX(BA188:BA198,MATCH(SMALL(BC188:BC198,ROWS(BA188:BA198)),BC188:BC198,)),\"\")","v":""},{"$f":"IFERROR(INDEX(BD188:BD209,SMALL(IF(BD188:BD209<>\"\",ROW(BD188:BD209)-MIN(ROW(BD188:BD209))+1),ROWS(AX188:AX209))),\"\")","v":""},null,{"$f":"+AP206","v":0},{"$f":"COUNTIF($BG$2:BG209,\"*\"&BG209&\"*\")","v":0},"","",{"$f":"IFERROR(INDEX(BI$2:BI$308,MATCH(ROWS(BJ$2:BJ209),BJ$2:BJ$308,0)),\"\")","v":""},{"$f":"COUNTIF($BK209:$BK$308,\"*\"&BK209&\"*\")","v":100},"","",{"$f":"IFERROR(INDEX($BM$2:$BM$308,MATCH(ROWS(BN$2:BN209),BN$2:BN515,0)),\"\")","v":""},{"$f":"IFERROR(VLOOKUP(Engine!BO209,P_sentences_overview!H208:I339,2),\"\")","v":""}]
[null,null,null,null,null,null,null,null,null,null,null,null,null,null,null,null,null,null,null,null,null,null,null,null,null,null,null,null,null,null,null,null,null,null,null,null,null,null,null,null,null,null,null,null,null,null,null,null,null,null,null,null,null,null,null,null,null,null,{"$f":"+AQ206","v":0},{"$f":"COUNTIF($BG$2:BG210,\"*\"&BG210&\"*\")","v":0},"","",{"$f":"IFERROR(INDEX(BI$2:BI$308,MATCH(ROWS(BJ$2:BJ210),BJ$2:BJ$308,0)),\"\")","v":""},{"$f":"COUNTIF($BK210:$BK$308,\"*\"&BK210&\"*\")","v":99},"","",{"$f":"IFERROR(INDEX($BM$2:$BM$308,MATCH(ROWS(BN$2:BN210),BN$2:BN516,0)),\"\")","v":""},{"$f":"IFERROR(VLOOKUP(Engine!BO210,P_sentences_overview!H209:I340,2),\"\")","v":""}]
[null,null,null,null,null,null,null,null,null,null,null,null,null,null,null,null,null,null,null,null,null,null,null,null,null,null,null,null,null,null,null,null,null,null,null,null,null,null,null,null,null,null,null,null,null,null,null,null,null,null,null,null,null,null,null,null,null,null,{"$f":"+AR206","v":0},{"$f":"COUNTIF($BG$2:BG211,\"*\"&BG211&\"*\")","v":0},"","",{"$f":"IFERROR(INDEX(BI$2:BI$308,MATCH(ROWS(BJ$2:BJ211),BJ$2:BJ$308,0)),\"\")","v":""},{"$f":"COUNTIF($BK211:$BK$308,\"*\"&BK211&\"*\")","v":98},"","",{"$f":"IFERROR(INDEX($BM$2:$BM$308,MATCH(ROWS(BN$2:BN211),BN$2:BN517,0)),\"\")","v":""},{"$f":"IFERROR(VLOOKUP(Engine!BO211,P_sentences_overview!H210:I341,2),\"\")","v":""}]
[null,null,null,null,null,null,null,null,null,null,null,null,null,null,null,null,null,null,null,null,null,null,null,null,null,null,null,null,null,null,null,null,null,null,null,null,null,null,null,null,null,null,null,null,null,null,null,null,null,null,null,null,null,null,null,null,null,null,{"$f":"+AS206","v":0},{"$f":"COUNTIF($BG$2:BG212,\"*\"&BG212&\"*\")","v":0},"","",{"$f":"IFERROR(INDEX(BI$2:BI$308,MATCH(ROWS(BJ$2:BJ212),BJ$2:BJ$308,0)),\"\")","v":""},{"$f":"COUNTIF($BK212:$BK$308,\"*\"&BK212&\"*\")","v":97},"","",{"$f":"IFERROR(INDEX($BM$2:$BM$308,MATCH(ROWS(BN$2:BN212),BN$2:BN518,0)),\"\")","v":""},{"$f":"IFERROR(VLOOKUP(Engine!BO212,P_sentences_overview!H211:I342,2),\"\")","v":""}]
[null,null,null,null,null,null,null,null,null,null,null,null,null,null,null,null,null,null,null,null,null,null,null,null,null,null,null,null,null,null,null,null,null,null,null,null,null,null,null,null,null,null,null,null,null,null,null,null,null,null,null,null,null,null,null,null,null,null,{"$f":"+AT206","v":0},{"$f":"COUNTIF($BG$2:BG213,\"*\"&BG213&\"*\")","v":0},"","",{"$f":"IFERROR(INDEX(BI$2:BI$308,MATCH(ROWS(BJ$2:BJ213),BJ$2:BJ$308,0)),\"\")","v":""},{"$f":"COUNTIF($BK213:$BK$308,\"*\"&BK213&\"*\")","v":96},"","",{"$f":"IFERROR(INDEX($BM$2:$BM$308,MATCH(ROWS(BN$2:BN213),BN$2:BN519,0)),\"\")","v":""},{"$f":"IFERROR(VLOOKUP(Engine!BO213,P_sentences_overview!H212:I343,2),\"\")","v":""}]
[null,null,null,null,null,null,null,null,null,null,null,null,null,null,null,null,null,null,null,null,null,null,null,null,null,null,null,null,null,null,null,null,null,null,null,null,null,null,null,null,null,null,null,null,null,null,null,null,null,null,null,null,null,null,null,null,null,null,{"$f":"+AU206","v":0},{"$f":"COUNTIF($BG$2:BG214,\"*\"&BG214&\"*\")","v":0},"","",{"$f":"IFERROR(INDEX(BI$2:BI$308,MATCH(ROWS(BJ$2:BJ214),BJ$2:BJ$308,0)),\"\")","v":""},{"$f":"COUNTIF($BK214:$BK$308,\"*\"&BK214&\"*\")","v":95},"","",{"$f":"IFERROR(INDEX($BM$2:$BM$308,MATCH(ROWS(BN$2:BN214),BN$2:BN520,0)),\"\")","v":""},{"$f":"IFERROR(VLOOKUP(Engine!BO214,P_sentences_overview!H213:I344,2),\"\")","v":""}]
[null,null,null,null,null,null,null,null,null,null,null,null,null,null,null,null,null,null,null,null,null,null,null,null,null,null,null,null,null,null,null,null,null,null,null,null,null,null,null,null,null,null,null,null,null,null,null,null,null,null,null,null,null,null,null,null,null,null,{"$f":"+AV206","v":0},{"$f":"COUNTIF($BG$2:BG215,\"*\"&BG215&\"*\")","v":0},"","",{"$f":"IFERROR(INDEX(BI$2:BI$308,MATCH(ROWS(BJ$2:BJ215),BJ$2:BJ$308,0)),\"\")","v":""},{"$f":"COUNTIF($BK215:$BK$308,\"*\"&BK215&\"*\")","v":94},"","",{"$f":"IFERROR(INDEX($BM$2:$BM$308,MATCH(ROWS(BN$2:BN215),BN$2:BN521,0)),\"\")","v":""},{"$f":"IFERROR(VLOOKUP(Engine!BO215,P_sentences_overview!H214:I345,2),\"\")","v":""}]
[null,null,null,null,null,null,null,null,null,null,null,null,null,null,null,null,null,null,null,null,null,null,null,null,null,null,null,null,null,null,null,null,null,null,null,null,null,null,null,null,null,null,null,null,null,null,null,null,null,null,null,null,null,null,null,null,null,null,null,{"$f":"COUNTIF($BG$2:BG216,\"*\"&BG216&\"*\")","v":0},"","",{"$f":"IFERROR(INDEX(BI$2:BI$308,MATCH(ROWS(BJ$2:BJ216),BJ$2:BJ$308,0)),\"\")","v":""},{"$f":"COUNTIF($BK216:$BK$308,\"*\"&BK216&\"*\")","v":93},"","",{"$f":"IFERROR(INDEX($BM$2:$BM$308,MATCH(ROWS(BN$2:BN216),BN$2:BN522,0)),\"\")","v":""},{"$f":"IFERROR(VLOOKUP(Engine!BO216,P_sentences_overview!H215:I346,2),\"\")","v":""}]
[null,null,null,null,null,null,null,null,null,null,null,null,null,null,null,null,null,null,null,null,null,null,null,null,null,null,null,null,null,null,null,null,null,null,null,null,null,null,null,null,null,null,null,null,null,null,null,null,null,null,null,null,null,null,null,null,null,null,null,{"$f":"COUNTIF($BG$2:BG217,\"*\"&BG217&\"*\")","v":0},"","",{"$f":"IFERROR(INDEX(BI$2:BI$308,MATCH(ROWS(BJ$2:BJ217),BJ$2:BJ$308,0)),\"\")","v":""},{"$f":"COUNTIF($BK217:$BK$308,\"*\"&BK217&\"*\")","v":92},"","",{"$f":"IFERROR(INDEX($BM$2:$BM$308,MATCH(ROWS(BN$2:BN217),BN$2:BN523,0)),\"\")","v":""},{"$f":"IFERROR(VLOOKUP(Engine!BO217,P_sentences_overview!H216:I347,2),\"\")","v":""}]
[null,null,null,null,null,null,null,null,null,null,null,null,null,null,null,"Vælg  Hazard code","Opslag Hazard category","Vælg Hazard class","Opslag Hazard category","Opslag Hazard class","Column1","Column2","Column3","Column4",null,null,null,null,null,null,null,null,null,null,null,null,null,null,null,null,null,null,null,null,null,null,null,null,null,"Unique values","Number check","numbers_pull","text_pull","numbers_pull_rated","text_pull_rated","All_sorted","All_sorted_top",null,null,{"$f":"COUNTIF($BG$2:BG218,\"*\"&BG218&\"*\")","v":0},"","",{"$f":"IFERROR(INDEX(BI$2:BI$308,MATCH(ROWS(BJ$2:BJ218),BJ$2:BJ$308,0)),\"\")","v":""},{"$f":"COUNTIF($BK218:$BK$308,\"*\"&BK218&\"*\")","v":91},"","",{"$f":"IFERROR(INDEX($BM$2:$BM$308,MATCH(ROWS(BN$2:BN218),BN$2:BN524,0)),\"\")","v":""},{"$f":"IFERROR(VLOOKUP(Engine!BO218,P_sentences_overview!H217:I348,2),\"\")","v":""}]
[null,null,null,null,null,null,null,null,null,null,null,null,null,null,null,{"$f":"INDEX(H_sentences_overview!$A$1:$A$134,Engine!P224)","v":"(none)"},{"$f":"IFERROR(VLOOKUP(P219,H_sentences_overview!$A$2:$D$161,3),\"\")","v":""},{"$f":"INDEX(BE219:BE240,Engine!R224)","v":""},null,null,{"$f":"IFERROR(INDEX(P_saetn,SMALL(IF(Hazard=Engine!$Q219,ROW(P_saetn)-MIN(ROW(P_saetn))+1),COLUMNS($U219:U219))),\"\")","v":0},{"$f":"IFERROR(INDEX(P_saetn,SMALL(IF(Hazard=Engine!$Q219,ROW(P_saetn)-MIN(ROW(P_saetn))+1),COLUMNS($U219:V219))),\"\")","v":0},{"$f":"IFERROR(INDEX(P_saetn,SMALL(IF(Hazard=Engine!$Q219,ROW(P_saetn)-MIN(ROW(P_saetn))+1),COLUMNS($U219:W219))),\"\")","v":0},{"$f":"IFERROR(INDEX(P_saetn,SMALL(IF(Hazard=Engine!$Q219,ROW(P_saetn)-MIN(ROW(P_saetn))+1),COLUMNS($U219:X219))),\"\")","v":0},{"$f":"IFERROR(INDEX(P_saetn,SMALL(IF(Hazard=Engine!$Q219,ROW(P_saetn)-MIN(ROW(P_saetn))+1),COLUMNS($U219:Y219))),\"\")","v":0},{"$f":"IFERROR(INDEX(P_saetn,SMALL(IF(Hazard=Engine!$Q219,ROW(P_saetn)-MIN(ROW(P_saetn))+1),COLUMNS($U219:Z219))),\"\")","v":0},{"$f":"IFERROR(INDEX(P_saetn,SMALL(IF(Hazard=Engine!$Q219,ROW(P_saetn)-MIN(ROW(P_saetn))+1),COLUMNS($U219:AA219))),\"\")","v":0},{"$f":"IFERROR(INDEX(P_saetn,SMALL(IF(Hazard=Engine!$Q219,ROW(P_saetn)-MIN(ROW(P_saetn))+1),COLUMNS($U219:AB219))),\"\")","v":0},{"$f":"IFERROR(INDEX(P_saetn,SMALL(IF(Hazard=Engine!$Q219,ROW(P_saetn)-MIN(ROW(P_saetn))+1),COLUMNS($U219:AC219))),\"\")","v":0},{"$f":"IFERROR(INDEX(P_saetn,SMALL(IF(Hazard=Engine!$Q219,ROW(P_saetn)-MIN(ROW(P_saetn))+1),COLUMNS($U219:AD219))),\"\")","v":0},{"$f":"IFERROR(INDEX(P_saetn,SMALL(IF(Hazard=Engine!$Q219,ROW(P_saetn)-MIN(ROW(P_saetn))+1),COLUMNS($U219:AE219))),\"\")","v":0},{"$f":"IFERROR(INDEX(P_saetn,SMALL(IF(Hazard=Engine!$Q219,ROW(P_saetn)-MIN(ROW(P_saetn))+1),COLUMNS($U219:AF219))),\"\")","v":0},{"$f":"IFERROR(INDEX(P_saetn,SMALL(IF(Hazard=Engine!$Q219,ROW(P_saetn)-MIN(ROW(P_saetn))+1),COLUMNS($U219:AG219))),\"\")","v":0},{"$f":"IFERROR(INDEX(P_saetn,SMALL(IF(Hazard=Engine!$Q219,ROW(P_saetn)-MIN(ROW(P_saetn))+1),COLUMNS($U219:AH219))),\"\")","v":0},{"$f":"IFERROR(INDEX(P_saetn,SMALL(IF(Hazard=Engine!$Q219,ROW(P_saetn)-MIN(ROW(P_saetn))+1),COLUMNS($U219:AI219))),\"\")","v":0},{"$f":"IFERROR(INDEX(P_saetn,SMALL(IF(Hazard=Engine!$Q219,ROW(P_saetn)-MIN(ROW(P_saetn))+1),COLUMNS($U219:AJ219))),\"\")","v":0},{"$f":"IFERROR(INDEX(P_saetn,SMALL(IF(Hazard=Engine!$Q219,ROW(P_saetn)-MIN(ROW(P_saetn))+1),COLUMNS($U219:AK219))),\"\")","v":0},{"$f":"IFERROR(INDEX(P_saetn,SMALL(IF(Hazard=Engine!$Q219,ROW(P_saetn)-MIN(ROW(P_saetn))+1),COLUMNS($U219:AL219))),\"\")","v":0},{"$f":"IFERROR(INDEX(P_saetn,SMALL(IF(Hazard=Engine!$Q219,ROW(P_saetn)-MIN(ROW(P_saetn))+1),COLUMNS($U219:AM219))),\"\")","v":0},{"$f":"IFERROR(INDEX(P_saetn,SMALL(IF(Hazard=Engine!$Q219,ROW(P_saetn)-MIN(ROW(P_saetn))+1),COLUMNS($U219:AN219))),\"\")","v":0},{"$f":"IFERROR(INDEX(P_saetn,SMALL(IF(Hazard=Engine!$Q219,ROW(P_saetn)-MIN(ROW(P_saetn))+1),COLUMNS($U219:AO219))),\"\")","v":0},{"$f":"IFERROR(INDEX(P_saetn,SMALL(IF(Hazard=Engine!$Q219,ROW(P_saetn)-MIN(ROW(P_saetn))+1),COLUMNS($U219:AP219))),\"\")","v":0},{"$f":"IFERROR(INDEX(P_saetn,SMALL(IF(Hazard=Engine!$Q219,ROW(P_saetn)-MIN(ROW(P_saetn))+1),COLUMNS($U219:AQ219))),\"\")","v":0},{"$f":"IFERROR(INDEX(P_saetn,SMALL(IF(Hazard=Engine!$Q219,ROW(P_saetn)-MIN(ROW(P_saetn))+1),COLUMNS($U219:AR219))),\"\")","v":0},{"$f":"IFERROR(INDEX(P_saetn,SMALL(IF(Hazard=Engine!$Q219,ROW(P_saetn)-MIN(ROW(P_saetn))+1),COLUMNS($U219:AS219))),\"\")","v":0},{"$f":"IFERROR(INDEX(P_saetn,SMALL(IF(Hazard=Engine!$Q219,ROW(P_saetn)-MIN(ROW(P_saetn))+1),COLUMNS($U219:AT219))),\"\")","v":0},{"$f":"IFERROR(INDEX(P_saetn,SMALL(IF(Hazard=Engine!$Q219,ROW(P_saetn)-MIN(ROW(P_saetn))+1),COLUMNS($U219:AU219))),\"\")","v":0},{"$f":"IFERROR(INDEX(P_saetn,SMALL(IF(Hazard=Engine!$Q219,ROW(P_saetn)-MIN(ROW(P_saetn))+1),COLUMNS($U219:AV219))),\"\")","v":0},null,{"$f":"INDIRECT(TEXT(MIN(IF(($U228:$AV233<>\"\")*(COUNTIF($AX218:$AX218,$U228:$AV233)=0),ROW($P228:$BM233)*100+COLUMN($U218:$AV246),7^8)),\"R0C00\"),)&\"\"","v":""},{"$f":"ISNUMBER(AX219*1)","v":false},{"$f":"IF(AY219=TRUE,AX219*1,\"\")","v":""},{"$f":"IF(AY219=FALSE,AX219,\"\")","v":""},{"$f":"COUNTIF(AZ219:AZ229,\"<=\"&AZ219)","v":0},{"$f":"IF(COUNTIF(BA219:BA229,\"<=\"&BA219)=0,\"\",COUNTIF(BA219:BA229,\"<=\"&BA219))","v":""},{"$f":"IFERROR(SMALL(AZ219:AZ229,ROWS(AX219:AX219)),\"\")","v":""},{"$f":"IFERROR(INDEX(BD219:BD240,SMALL(IF(BD219:BD240<>\"\",ROW(BD219:BD240)-MIN(ROW(BD219:BD240))+1),ROWS(AX219:AX219))),\"\")","v":""},null,{"$f":"U237","v":0},{"$f":"COUNTIF($BG$2:BG219,\"*\"&BG219&\"*\")","v":0},"","",{"$f":"IFERROR(INDEX(BI$2:BI$308,MATCH(ROWS(BJ$2:BJ219),BJ$2:BJ$308,0)),\"\")","v":""},{"$f":"COUNTIF($BK219:$BK$308,\"*\"&BK219&\"*\")","v":90},"","",{"$f":"IFERROR(INDEX($BM$2:$BM$308,MATCH(ROWS(BN$2:BN219),BN$2:BN525,0)),\"\")","v":""},{"$f":"IFERROR(VLOOKUP(Engine!BO219,P_sentences_overview!H218:I349,2),\"\")","v":""}]
[null,null,null,null,null,null,null,null,null,null,null,null,null,null,null,null,null,null,null,null,{"$f":"SMALL(IF(Hazard=Engine!$Q219,ROW(P_saetn)-MIN(ROW(P_saetn))+1),COLUMNS($U219:U219)+1)","v":465},{"$f":"SMALL(IF(Hazard=Engine!$Q219,ROW(P_saetn)-MIN(ROW(P_saetn))+1),COLUMNS($U219:V219)+1)","v":466},{"$f":"SMALL(IF(Hazard=Engine!$Q219,ROW(P_saetn)-MIN(ROW(P_saetn))+1),COLUMNS($U219:W219)+1)","v":467},{"$f":"SMALL(IF(Hazard=Engine!$Q219,ROW(P_saetn)-MIN(ROW(P_saetn))+1),COLUMNS($U219:X219)+1)","v":468},{"$f":"SMALL(IF(Hazard=Engine!$Q219,ROW(P_saetn)-MIN(ROW(P_saetn))+1),COLUMNS($U219:Y219)+1)","v":469},{"$f":"SMALL(IF(Hazard=Engine!$Q219,ROW(P_saetn)-MIN(ROW(P_saetn))+1),COLUMNS($U219:Z219)+1)","v":470},{"$f":"SMALL(IF(Hazard=Engine!$Q219,ROW(P_saetn)-MIN(ROW(P_saetn))+1),COLUMNS($U219:AA219)+1)","v":471},{"$f":"SMALL(IF(Hazard=Engine!$Q219,ROW(P_saetn)-MIN(ROW(P_saetn))+1),COLUMNS($U219:AB219)+1)","v":472},{"$f":"SMALL(IF(Hazard=Engine!$Q219,ROW(P_saetn)-MIN(ROW(P_saetn))+1),COLUMNS($U219:AC219)+1)","v":473},{"$f":"SMALL(IF(Hazard=Engine!$Q219,ROW(P_saetn)-MIN(ROW(P_saetn))+1),COLUMNS($U219:AD219)+1)","v":474},{"$f":"SMALL(IF(Hazard=Engine!$Q219,ROW(P_saetn)-MIN(ROW(P_saetn))+1),COLUMNS($U219:AE219)+1)","v":475},{"$f":"SMALL(IF(Hazard=Engine!$Q219,ROW(P_saetn)-MIN(ROW(P_saetn))+1),COLUMNS($U219:AF219)+1)","v":476},{"$f":"SMALL(IF(Hazard=Engine!$Q219,ROW(P_saetn)-MIN(ROW(P_saetn))+1),COLUMNS($U219:AG219)+1)","v":477},{"$f":"SMALL(IF(Hazard=Engine!$Q219,ROW(P_saetn)-MIN(ROW(P_saetn))+1),COLUMNS($U219:AH219)+1)","v":478},{"$f":"SMALL(IF(Hazard=Engine!$Q219,ROW(P_saetn)-MIN(ROW(P_saetn))+1),COLUMNS($U219:AI219)+1)","v":479},{"$f":"SMALL(IF(Hazard=Engine!$Q219,ROW(P_saetn)-MIN(ROW(P_saetn))+1),COLUMNS($U219:AJ219)+1)","v":480},{"$f":"SMALL(IF(Hazard=Engine!$Q219,ROW(P_saetn)-MIN(ROW(P_saetn))+1),COLUMNS($U219:AK219)+1)","v":481},{"$f":"SMALL(IF(Hazard=Engine!$Q219,ROW(P_saetn)-MIN(ROW(P_saetn))+1),COLUMNS($U219:AL219)+1)","v":482},{"$f":"SMALL(IF(Hazard=Engine!$Q219,ROW(P_saetn)-MIN(ROW(P_saetn))+1),COLUMNS($U219:AM219)+1)","v":483},{"$f":"SMALL(IF(Hazard=Engine!$Q219,ROW(P_saetn)-MIN(ROW(P_saetn))+1),COLUMNS($U219:AN219)+1)","v":484},{"$f":"SMALL(IF(Hazard=Engine!$Q219,ROW(P_saetn)-MIN(ROW(P_saetn))+1),COLUMNS($U219:AO219)+1)","v":485},{"$f":"SMALL(IF(Hazard=Engine!$Q219,ROW(P_saetn)-MIN(ROW(P_saetn))+1),COLUMNS($U219:AP219)+1)","v":486},{"$f":"SMALL(IF(Hazard=Engine!$Q219,ROW(P_saetn)-MIN(ROW(P_saetn))+1),COLUMNS($U219:AQ219)+1)","v":487},{"$f":"SMALL(IF(Hazard=Engine!$Q219,ROW(P_saetn)-MIN(ROW(P_saetn))+1),COLUMNS($U219:AR219)+1)","v":488},{"$f":"SMALL(IF(Hazard=Engine!$Q219,ROW(P_saetn)-MIN(ROW(P_saetn))+1),COLUMNS($U219:AS219)+1)","v":489},{"$f":"SMALL(IF(Hazard=Engine!$Q219,ROW(P_saetn)-MIN(ROW(P_saetn))+1),COLUMNS($U219:AT219)+1)","v":490},{"$f":"SMALL(IF(Hazard=Engine!$Q219,ROW(P_saetn)-MIN(ROW(P_saetn))+1),COLUMNS($U219:AU219)+1)","v":491},{"$f":"SMALL(IF(Hazard=Engine!$Q219,ROW(P_saetn)-MIN(ROW(P_saetn))+1),COLUMNS($U219:AV219)+1)","v":492},null,{"$f":"INDIRECT(TEXT(MIN(IF(($U228:$AV233<>\"\")*(COUNTIF($AX218:$AX219,$U228:$AV233)=0),ROW($P228:$BM233)*100+COLUMN($U218:$AV246),7^8)),\"R0C00\"),)&\"\"","v":""},false,"","",{"$f":"COUNTIF(AZ219:AZ229,\"<=\"&AZ220)","v":0},{"$f":"IF(COUNTIF(BA219:BA229,\"<=\"&BA220)=0,\"\",COUNTIF(BA219:BA229,\"<=\"&BA220))","v":""},{"$f":"IFERROR(SMALL(AZ219:AZ229,ROWS(AX219:AX220)),\"\")","v":""},{"$f":"IFERROR(INDEX(BD219:BD240,SMALL(IF(BD219:BD240<>\"\",ROW(BD219:BD240)-MIN(ROW(BD219:BD240))+1),ROWS(AX219:AX220))),\"\")","v":""},null,{"$f":"+V237","v":0},{"$f":"COUNTIF($BG$2:BG220,\"*\"&BG220&\"*\")","v":0},"","",{"$f":"IFERROR(INDEX(BI$2:BI$308,MATCH(ROWS(BJ$2:BJ220),BJ$2:BJ$308,0)),\"\")","v":""},{"$f":"COUNTIF($BK220:$BK$308,\"*\"&BK220&\"*\")","v":89},"","",{"$f":"IFERROR(INDEX($BM$2:$BM$308,MATCH(ROWS(BN$2:BN220),BN$2:BN526,0)),\"\")","v":""},{"$f":"IFERROR(VLOOKUP(Engine!BO220,P_sentences_overview!H221:I350,2),\"\")","v":""}]
[null,null,null,null,null,null,null,null,null,null,null,null,null,null,null,null,null,null,null,null,{"$f":"IFERROR(INDEX(Haz_Cat,SMALL(IF(Hazard=Engine!$Q219,ROW(Haz_Cat)-MIN(ROW(Haz_Cat))+1),COLUMNS($U221:U221)),COLUMNS(Main!D$2:D$2)),\"\")","v":0},{"$f":"IFERROR(INDEX(Haz_Cat,SMALL(IF(Hazard=Engine!$Q219,ROW(Haz_Cat)-MIN(ROW(Haz_Cat))+1),COLUMNS($U221:V221)),COLUMNS(Main!E$2:E$2)),\"\")","v":0},{"$f":"IFERROR(INDEX(Haz_Cat,SMALL(IF(Hazard=Engine!$Q219,ROW(Haz_Cat)-MIN(ROW(Haz_Cat))+1),COLUMNS($U221:W221)),COLUMNS(Main!F$2:F$2)),\"\")","v":0},{"$f":"IFERROR(INDEX(Haz_Cat,SMALL(IF(Hazard=Engine!$Q219,ROW(Haz_Cat)-MIN(ROW(Haz_Cat))+1),COLUMNS($U221:X221)),COLUMNS(Main!G$2:G$2)),\"\")","v":0},{"$f":"IFERROR(INDEX(Haz_Cat,SMALL(IF(Hazard=Engine!$Q219,ROW(Haz_Cat)-MIN(ROW(Haz_Cat))+1),COLUMNS($U221:Y221)),COLUMNS(Main!H$2:H$2)),\"\")","v":0},{"$f":"IFERROR(INDEX(Haz_Cat,SMALL(IF(Hazard=Engine!$Q219,ROW(Haz_Cat)-MIN(ROW(Haz_Cat))+1),COLUMNS($U221:Z221)),COLUMNS(Main!I$2:I$2)),\"\")","v":0},{"$f":"IFERROR(INDEX(Haz_Cat,SMALL(IF(Hazard=Engine!$Q219,ROW(Haz_Cat)-MIN(ROW(Haz_Cat))+1),COLUMNS($U221:AA221)),COLUMNS(Main!J$2:J$2)),\"\")","v":0},{"$f":"IFERROR(INDEX(Haz_Cat,SMALL(IF(Hazard=Engine!$Q219,ROW(Haz_Cat)-MIN(ROW(Haz_Cat))+1),COLUMNS($U221:AB221)),COLUMNS(Main!K$2:K$2)),\"\")","v":0},{"$f":"IFERROR(INDEX(Haz_Cat,SMALL(IF(Hazard=Engine!$Q219,ROW(Haz_Cat)-MIN(ROW(Haz_Cat))+1),COLUMNS($U221:AC221)),COLUMNS(Main!L$2:L$2)),\"\")","v":0},{"$f":"IFERROR(INDEX(Haz_Cat,SMALL(IF(Hazard=Engine!$Q219,ROW(Haz_Cat)-MIN(ROW(Haz_Cat))+1),COLUMNS($U221:AD221)),COLUMNS(Main!M$2:M$2)),\"\")","v":0},{"$f":"IFERROR(INDEX(Haz_Cat,SMALL(IF(Hazard=Engine!$Q219,ROW(Haz_Cat)-MIN(ROW(Haz_Cat))+1),COLUMNS($U221:AE221)),COLUMNS(Main!N$2:N$2)),\"\")","v":0},{"$f":"IFERROR(INDEX(Haz_Cat,SMALL(IF(Hazard=Engine!$Q219,ROW(Haz_Cat)-MIN(ROW(Haz_Cat))+1),COLUMNS($U221:AF221)),COLUMNS(Main!O$2:O$2)),\"\")","v":0},{"$f":"IFERROR(INDEX(Haz_Cat,SMALL(IF(Hazard=Engine!$Q219,ROW(Haz_Cat)-MIN(ROW(Haz_Cat))+1),COLUMNS($U221:AG221)),COLUMNS(Main!P$2:P$2)),\"\")","v":0},{"$f":"IFERROR(INDEX(Haz_Cat,SMALL(IF(Hazard=Engine!$Q219,ROW(Haz_Cat)-MIN(ROW(Haz_Cat))+1),COLUMNS($U221:AH221)),COLUMNS(Main!Q$2:Q$2)),\"\")","v":0},{"$f":"IFERROR(INDEX(Haz_Cat,SMALL(IF(Hazard=Engine!$Q219,ROW(Haz_Cat)-MIN(ROW(Haz_Cat))+1),COLUMNS($U221:AI221)),COLUMNS(Main!R$2:R$2)),\"\")","v":0},{"$f":"IFERROR(INDEX(Haz_Cat,SMALL(IF(Hazard=Engine!$Q219,ROW(Haz_Cat)-MIN(ROW(Haz_Cat))+1),COLUMNS($U221:AJ221)),COLUMNS(Main!S$2:S$2)),\"\")","v":0},{"$f":"IFERROR(INDEX(Haz_Cat,SMALL(IF(Hazard=Engine!$Q219,ROW(Haz_Cat)-MIN(ROW(Haz_Cat))+1),COLUMNS($U221:AK221)),COLUMNS(Main!T$2:T$2)),\"\")","v":0},{"$f":"IFERROR(INDEX(Haz_Cat,SMALL(IF(Hazard=Engine!$Q219,ROW(Haz_Cat)-MIN(ROW(Haz_Cat))+1),COLUMNS($U221:AL221)),COLUMNS(Main!U$2:U$2)),\"\")","v":0},{"$f":"IFERROR(INDEX(Haz_Cat,SMALL(IF(Hazard=Engine!$Q219,ROW(Haz_Cat)-MIN(ROW(Haz_Cat))+1),COLUMNS($U221:AM221)),COLUMNS(Main!V$2:V$2)),\"\")","v":0},{"$f":"IFERROR(INDEX(Haz_Cat,SMALL(IF(Hazard=Engine!$Q219,ROW(Haz_Cat)-MIN(ROW(Haz_Cat))+1),COLUMNS($U221:AN221)),COLUMNS(Main!W$2:W$2)),\"\")","v":0},{"$f":"IFERROR(INDEX(Haz_Cat,SMALL(IF(Hazard=Engine!$Q219,ROW(Haz_Cat)-MIN(ROW(Haz_Cat))+1),COLUMNS($U221:AO221)),COLUMNS(Main!X$2:X$2)),\"\")","v":0},{"$f":"IFERROR(INDEX(Haz_Cat,SMALL(IF(Hazard=Engine!$Q219,ROW(Haz_Cat)-MIN(ROW(Haz_Cat))+1),COLUMNS($U221:AP221)),COLUMNS(Main!Y$2:Y$2)),\"\")","v":0},{"$f":"IFERROR(INDEX(Haz_Cat,SMALL(IF(Hazard=Engine!$Q219,ROW(Haz_Cat)-MIN(ROW(Haz_Cat))+1),COLUMNS($U221:AQ221)),COLUMNS(Main!Z$2:Z$2)),\"\")","v":0},{"$f":"IFERROR(INDEX(Haz_Cat,SMALL(IF(Hazard=Engine!$Q219,ROW(Haz_Cat)-MIN(ROW(Haz_Cat))+1),COLUMNS($U221:AR221)),COLUMNS(Main!AA$2:AA$2)),\"\")","v":0},{"$f":"IFERROR(INDEX(Haz_Cat,SMALL(IF(Hazard=Engine!$Q219,ROW(Haz_Cat)-MIN(ROW(Haz_Cat))+1),COLUMNS($U221:AS221)),COLUMNS(Main!AB$2:AB$2)),\"\")","v":0},{"$f":"IFERROR(INDEX(Haz_Cat,SMALL(IF(Hazard=Engine!$Q219,ROW(Haz_Cat)-MIN(ROW(Haz_Cat))+1),COLUMNS($U221:AT221)),COLUMNS(Main!AC$2:AC$2)),\"\")","v":0},{"$f":"IFERROR(INDEX(Haz_Cat,SMALL(IF(Hazard=Engine!$Q219,ROW(Haz_Cat)-MIN(ROW(Haz_Cat))+1),COLUMNS($U221:AU221)),COLUMNS(Main!AD$2:AD$2)),\"\")","v":0},{"$f":"IFERROR(INDEX(Haz_Cat,SMALL(IF(Hazard=Engine!$Q219,ROW(Haz_Cat)-MIN(ROW(Haz_Cat))+1),COLUMNS($U221:AV221)),COLUMNS(Main!AE$2:AE$2)),\"\")","v":0},null,{"$f":"INDIRECT(TEXT(MIN(IF(($U228:$AV233<>\"\")*(COUNTIF($AX218:$AX220,$U228:$AV233)=0),ROW($P228:$BM233)*100+COLUMN($U218:$AV246),7^8)),\"R0C00\"),)&\"\"","v":""},false,"","",{"$f":"COUNTIF(AZ219:AZ229,\"<=\"&AZ221)","v":0},{"$f":"IF(COUNTIF(BA219:BA229,\"<=\"&BA221)=0,\"\",COUNTIF(BA219:BA229,\"<=\"&BA221))","v":""},{"$f":"IFERROR(SMALL(AZ219:AZ229,ROWS(AX219:AX221)),\"\")","v":""},{"$f":"IFERROR(INDEX(BD219:BD240,SMALL(IF(BD219:BD240<>\"\",ROW(BD219:BD240)-MIN(ROW(BD219:BD240))+1),ROWS(AX219:AX221))),\"\")","v":""},null,{"$f":"+W237","v":0},{"$f":"COUNTIF($BG$2:BG221,\"*\"&BG221&\"*\")","v":0},"","",{"$f":"IFERROR(INDEX(BI$2:BI$308,MATCH(ROWS(BJ$2:BJ221),BJ$2:BJ$308,0)),\"\")","v":""},{"$f":"COUNTIF($BK221:$BK$308,\"*\"&BK221&\"*\")","v":88},"","",{"$f":"IFERROR(INDEX($BM$2:$BM$308,MATCH(ROWS(BN$2:BN221),BN$2:BN527,0)),\"\")","v":""},{"$f":"IFERROR(VLOOKUP(Engine!BO221,P_sentences_overview!H222:I351,2),\"\")","v":""}]
[null,null,null,null,null,null,null,null,null,null,null,null,null,null,null,null,null,null,null,null,{"$f":"IFERROR(INDEX(Haz_Cat,SMALL(IF(Hazard=Engine!$Q219,ROW(Haz_Cat)-MIN(ROW(Haz_Cat))+1),COLUMNS($U221:U221)),COLUMNS(Main!$D219:$E219)),\"\")","v":0},{"$f":"IFERROR(INDEX(Haz_Cat,SMALL(IF(Hazard=Engine!$Q219,ROW(Haz_Cat)-MIN(ROW(Haz_Cat))+1),COLUMNS($U221:V221)),COLUMNS(Main!$D219:$E219)),\"\")","v":0},{"$f":"IFERROR(INDEX(Haz_Cat,SMALL(IF(Hazard=Engine!$Q219,ROW(Haz_Cat)-MIN(ROW(Haz_Cat))+1),COLUMNS($U221:W221)),COLUMNS(Main!$D219:$E219)),\"\")","v":0},{"$f":"IFERROR(INDEX(Haz_Cat,SMALL(IF(Hazard=Engine!$Q219,ROW(Haz_Cat)-MIN(ROW(Haz_Cat))+1),COLUMNS($U221:X221)),COLUMNS(Main!$D219:$E219)),\"\")","v":0},{"$f":"IFERROR(INDEX(Haz_Cat,SMALL(IF(Hazard=Engine!$Q219,ROW(Haz_Cat)-MIN(ROW(Haz_Cat))+1),COLUMNS($U221:Y221)),COLUMNS(Main!$D219:$E219)),\"\")","v":0},{"$f":"IFERROR(INDEX(Haz_Cat,SMALL(IF(Hazard=Engine!$Q219,ROW(Haz_Cat)-MIN(ROW(Haz_Cat))+1),COLUMNS($U221:Z221)),COLUMNS(Main!$D219:$E219)),\"\")","v":0},{"$f":"IFERROR(INDEX(Haz_Cat,SMALL(IF(Hazard=Engine!$Q219,ROW(Haz_Cat)-MIN(ROW(Haz_Cat))+1),COLUMNS($U221:AA221)),COLUMNS(Main!$D219:$E219)),\"\")","v":0},{"$f":"IFERROR(INDEX(Haz_Cat,SMALL(IF(Hazard=Engine!$Q219,ROW(Haz_Cat)-MIN(ROW(Haz_Cat))+1),COLUMNS($U221:AB221)),COLUMNS(Main!$D219:$E219)),\"\")","v":0},{"$f":"IFERROR(INDEX(Haz_Cat,SMALL(IF(Hazard=Engine!$Q219,ROW(Haz_Cat)-MIN(ROW(Haz_Cat))+1),COLUMNS($U221:AC221)),COLUMNS(Main!$D219:$E219)),\"\")","v":0},{"$f":"IFERROR(INDEX(Haz_Cat,SMALL(IF(Hazard=Engine!$Q219,ROW(Haz_Cat)-MIN(ROW(Haz_Cat))+1),COLUMNS($U221:AD221)),COLUMNS(Main!$D219:$E219)),\"\")","v":0},{"$f":"IFERROR(INDEX(Haz_Cat,SMALL(IF(Hazard=Engine!$Q219,ROW(Haz_Cat)-MIN(ROW(Haz_Cat))+1),COLUMNS($U221:AE221)),COLUMNS(Main!$D219:$E219)),\"\")","v":0},{"$f":"IFERROR(INDEX(Haz_Cat,SMALL(IF(Hazard=Engine!$Q219,ROW(Haz_Cat)-MIN(ROW(Haz_Cat))+1),COLUMNS($U221:AF221)),COLUMNS(Main!$D219:$E219)),\"\")","v":0},{"$f":"IFERROR(INDEX(Haz_Cat,SMALL(IF(Hazard=Engine!$Q219,ROW(Haz_Cat)-MIN(ROW(Haz_Cat))+1),COLUMNS($U221:AG221)),COLUMNS(Main!$D219:$E219)),\"\")","v":0},{"$f":"IFERROR(INDEX(Haz_Cat,SMALL(IF(Hazard=Engine!$Q219,ROW(Haz_Cat)-MIN(ROW(Haz_Cat))+1),COLUMNS($U221:AH221)),COLUMNS(Main!$D219:$E219)),\"\")","v":0},{"$f":"IFERROR(INDEX(Haz_Cat,SMALL(IF(Hazard=Engine!$Q219,ROW(Haz_Cat)-MIN(ROW(Haz_Cat))+1),COLUMNS($U221:AI221)),COLUMNS(Main!$D219:$E219)),\"\")","v":0},{"$f":"IFERROR(INDEX(Haz_Cat,SMALL(IF(Hazard=Engine!$Q219,ROW(Haz_Cat)-MIN(ROW(Haz_Cat))+1),COLUMNS($U221:AJ221)),COLUMNS(Main!$D219:$E219)),\"\")","v":0},{"$f":"IFERROR(INDEX(Haz_Cat,SMALL(IF(Hazard=Engine!$Q219,ROW(Haz_Cat)-MIN(ROW(Haz_Cat))+1),COLUMNS($U221:AK221)),COLUMNS(Main!$D219:$E219)),\"\")","v":0},{"$f":"IFERROR(INDEX(Haz_Cat,SMALL(IF(Hazard=Engine!$Q219,ROW(Haz_Cat)-MIN(ROW(Haz_Cat))+1),COLUMNS($U221:AL221)),COLUMNS(Main!$D219:$E219)),\"\")","v":0},{"$f":"IFERROR(INDEX(Haz_Cat,SMALL(IF(Hazard=Engine!$Q219,ROW(Haz_Cat)-MIN(ROW(Haz_Cat))+1),COLUMNS($U221:AM221)),COLUMNS(Main!$D219:$E219)),\"\")","v":0},{"$f":"IFERROR(INDEX(Haz_Cat,SMALL(IF(Hazard=Engine!$Q219,ROW(Haz_Cat)-MIN(ROW(Haz_Cat))+1),COLUMNS($U221:AN221)),COLUMNS(Main!$D219:$E219)),\"\")","v":0},{"$f":"IFERROR(INDEX(Haz_Cat,SMALL(IF(Hazard=Engine!$Q219,ROW(Haz_Cat)-MIN(ROW(Haz_Cat))+1),COLUMNS($U221:AO221)),COLUMNS(Main!$D219:$E219)),\"\")","v":0},{"$f":"IFERROR(INDEX(Haz_Cat,SMALL(IF(Hazard=Engine!$Q219,ROW(Haz_Cat)-MIN(ROW(Haz_Cat))+1),COLUMNS($U221:AP221)),COLUMNS(Main!$D219:$E219)),\"\")","v":0},{"$f":"IFERROR(INDEX(Haz_Cat,SMALL(IF(Hazard=Engine!$Q219,ROW(Haz_Cat)-MIN(ROW(Haz_Cat))+1),COLUMNS($U221:AQ221)),COLUMNS(Main!$D219:$E219)),\"\")","v":0},{"$f":"IFERROR(INDEX(Haz_Cat,SMALL(IF(Hazard=Engine!$Q219,ROW(Haz_Cat)-MIN(ROW(Haz_Cat))+1),COLUMNS($U221:AR221)),COLUMNS(Main!$D219:$E219)),\"\")","v":0},{"$f":"IFERROR(INDEX(Haz_Cat,SMALL(IF(Hazard=Engine!$Q219,ROW(Haz_Cat)-MIN(ROW(Haz_Cat))+1),COLUMNS($U221:AS221)),COLUMNS(Main!$D219:$E219)),\"\")","v":0},{"$f":"IFERROR(INDEX(Haz_Cat,SMALL(IF(Hazard=Engine!$Q219,ROW(Haz_Cat)-MIN(ROW(Haz_Cat))+1),COLUMNS($U221:AT221)),COLUMNS(Main!$D219:$E219)),\"\")","v":0},{"$f":"IFERROR(INDEX(Haz_Cat,SMALL(IF(Hazard=Engine!$Q219,ROW(Haz_Cat)-MIN(ROW(Haz_Cat))+1),COLUMNS($U221:AU221)),COLUMNS(Main!$D219:$E219)),\"\")","v":0},{"$f":"IFERROR(INDEX(Haz_Cat,SMALL(IF(Hazard=Engine!$Q219,ROW(Haz_Cat)-MIN(ROW(Haz_Cat))+1),COLUMNS($U221:AV221)),COLUMNS(Main!$D219:$E219)),\"\")","v":0},null,{"$f":"INDIRECT(TEXT(MIN(IF(($U228:$AV233<>\"\")*(COUNTIF($AX218:$AX221,$U228:$AV233)=0),ROW($P228:$BM233)*100+COLUMN($U218:$AV246),7^8)),\"R0C00\"),)&\"\"","v":""},false,"","",{"$f":"COUNTIF(AZ219:AZ229,\"<=\"&AZ222)","v":0},{"$f":"IF(COUNTIF(BA219:BA229,\"<=\"&BA222)=0,\"\",COUNTIF(BA219:BA229,\"<=\"&BA222))","v":""},{"$f":"IFERROR(SMALL(AZ219:AZ229,ROWS(AX219:AX222)),\"\")","v":""},{"$f":"IFERROR(INDEX(BD219:BD240,SMALL(IF(BD219:BD240<>\"\",ROW(BD219:BD240)-MIN(ROW(BD219:BD240))+1),ROWS(AX219:AX222))),\"\")","v":""},null,{"$f":"+X237","v":0},{"$f":"COUNTIF($BG$2:BG222,\"*\"&BG222&\"*\")","v":0},"","",{"$f":"IFERROR(INDEX(BI$2:BI$308,MATCH(ROWS(BJ$2:BJ222),BJ$2:BJ$308,0)),\"\")","v":""},{"$f":"COUNTIF($BK222:$BK$308,\"*\"&BK222&\"*\")","v":87},"","",{"$f":"IFERROR(INDEX($BM$2:$BM$308,MATCH(ROWS(BN$2:BN222),BN$2:BN528,0)),\"\")","v":""},{"$f":"IFERROR(VLOOKUP(Engine!BO222,P_sentences_overview!H223:I352,2),\"\")","v":""}]
[null,null,null,null,null,null,null,null,null,null,null,null,null,null,null,{"$f":"INDEX(H_sentences_overview!$A$1:$A$134,Engine!P224)","v":"(none)"},null,{"$f":"INDEX(BE219:BE224,Engine!R224)","v":""},null,null,{"$f":"IFERROR(INDEX(Haz_Cat,SMALL(IF(Hazard=Engine!$Q219,ROW(Haz_Cat)-MIN(ROW(Haz_Cat))+1),COLUMNS($U221:U221)),COLUMNS(Main!$D219:$F219)),\"\")","v":0},{"$f":"IFERROR(INDEX(Haz_Cat,SMALL(IF(Hazard=Engine!$Q219,ROW(Haz_Cat)-MIN(ROW(Haz_Cat))+1),COLUMNS($U221:V221)),COLUMNS(Main!$D219:$F219)),\"\")","v":0},{"$f":"IFERROR(INDEX(Haz_Cat,SMALL(IF(Hazard=Engine!$Q219,ROW(Haz_Cat)-MIN(ROW(Haz_Cat))+1),COLUMNS($U221:W221)),COLUMNS(Main!$D219:$F219)),\"\")","v":0},{"$f":"IFERROR(INDEX(Haz_Cat,SMALL(IF(Hazard=Engine!$Q219,ROW(Haz_Cat)-MIN(ROW(Haz_Cat))+1),COLUMNS($U221:X221)),COLUMNS(Main!$D219:$F219)),\"\")","v":0},{"$f":"IFERROR(INDEX(Haz_Cat,SMALL(IF(Hazard=Engine!$Q219,ROW(Haz_Cat)-MIN(ROW(Haz_Cat))+1),COLUMNS($U221:Y221)),COLUMNS(Main!$D219:$F219)),\"\")","v":0},{"$f":"IFERROR(INDEX(Haz_Cat,SMALL(IF(Hazard=Engine!$Q219,ROW(Haz_Cat)-MIN(ROW(Haz_Cat))+1),COLUMNS($U221:Z221)),COLUMNS(Main!$D219:$F219)),\"\")","v":0},{"$f":"IFERROR(INDEX(Haz_Cat,SMALL(IF(Hazard=Engine!$Q219,ROW(Haz_Cat)-MIN(ROW(Haz_Cat))+1),COLUMNS($U221:AA221)),COLUMNS(Main!$D219:$F219)),\"\")","v":0},{"$f":"IFERROR(INDEX(Haz_Cat,SMALL(IF(Hazard=Engine!$Q219,ROW(Haz_Cat)-MIN(ROW(Haz_Cat))+1),COLUMNS($U221:AB221)),COLUMNS(Main!$D219:$F219)),\"\")","v":0},{"$f":"IFERROR(INDEX(Haz_Cat,SMALL(IF(Hazard=Engine!$Q219,ROW(Haz_Cat)-MIN(ROW(Haz_Cat))+1),COLUMNS($U221:AC221)),COLUMNS(Main!$D219:$F219)),\"\")","v":0},{"$f":"IFERROR(INDEX(Haz_Cat,SMALL(IF(Hazard=Engine!$Q219,ROW(Haz_Cat)-MIN(ROW(Haz_Cat))+1),COLUMNS($U221:AD221)),COLUMNS(Main!$D219:$F219)),\"\")","v":0},{"$f":"IFERROR(INDEX(Haz_Cat,SMALL(IF(Hazard=Engine!$Q219,ROW(Haz_Cat)-MIN(ROW(Haz_Cat))+1),COLUMNS($U221:AE221)),COLUMNS(Main!$D219:$F219)),\"\")","v":0},{"$f":"IFERROR(INDEX(Haz_Cat,SMALL(IF(Hazard=Engine!$Q219,ROW(Haz_Cat)-MIN(ROW(Haz_Cat))+1),COLUMNS($U221:AF221)),COLUMNS(Main!$D219:$F219)),\"\")","v":0},{"$f":"IFERROR(INDEX(Haz_Cat,SMALL(IF(Hazard=Engine!$Q219,ROW(Haz_Cat)-MIN(ROW(Haz_Cat))+1),COLUMNS($U221:AG221)),COLUMNS(Main!$D219:$F219)),\"\")","v":0},{"$f":"IFERROR(INDEX(Haz_Cat,SMALL(IF(Hazard=Engine!$Q219,ROW(Haz_Cat)-MIN(ROW(Haz_Cat))+1),COLUMNS($U221:AH221)),COLUMNS(Main!$D219:$F219)),\"\")","v":0},{"$f":"IFERROR(INDEX(Haz_Cat,SMALL(IF(Hazard=Engine!$Q219,ROW(Haz_Cat)-MIN(ROW(Haz_Cat))+1),COLUMNS($U221:AI221)),COLUMNS(Main!$D219:$F219)),\"\")","v":0},{"$f":"IFERROR(INDEX(Haz_Cat,SMALL(IF(Hazard=Engine!$Q219,ROW(Haz_Cat)-MIN(ROW(Haz_Cat))+1),COLUMNS($U221:AJ221)),COLUMNS(Main!$D219:$F219)),\"\")","v":0},{"$f":"IFERROR(INDEX(Haz_Cat,SMALL(IF(Hazard=Engine!$Q219,ROW(Haz_Cat)-MIN(ROW(Haz_Cat))+1),COLUMNS($U221:AK221)),COLUMNS(Main!$D219:$F219)),\"\")","v":0},{"$f":"IFERROR(INDEX(Haz_Cat,SMALL(IF(Hazard=Engine!$Q219,ROW(Haz_Cat)-MIN(ROW(Haz_Cat))+1),COLUMNS($U221:AL221)),COLUMNS(Main!$D219:$F219)),\"\")","v":0},{"$f":"IFERROR(INDEX(Haz_Cat,SMALL(IF(Hazard=Engine!$Q219,ROW(Haz_Cat)-MIN(ROW(Haz_Cat))+1),COLUMNS($U221:AM221)),COLUMNS(Main!$D219:$F219)),\"\")","v":0},{"$f":"IFERROR(INDEX(Haz_Cat,SMALL(IF(Hazard=Engine!$Q219,ROW(Haz_Cat)-MIN(ROW(Haz_Cat))+1),COLUMNS($U221:AN221)),COLUMNS(Main!$D219:$F219)),\"\")","v":0},{"$f":"IFERROR(INDEX(Haz_Cat,SMALL(IF(Hazard=Engine!$Q219,ROW(Haz_Cat)-MIN(ROW(Haz_Cat))+1),COLUMNS($U221:AO221)),COLUMNS(Main!$D219:$F219)),\"\")","v":0},{"$f":"IFERROR(INDEX(Haz_Cat,SMALL(IF(Hazard=Engine!$Q219,ROW(Haz_Cat)-MIN(ROW(Haz_Cat))+1),COLUMNS($U221:AP221)),COLUMNS(Main!$D219:$F219)),\"\")","v":0},{"$f":"IFERROR(INDEX(Haz_Cat,SMALL(IF(Hazard=Engine!$Q219,ROW(Haz_Cat)-MIN(ROW(Haz_Cat))+1),COLUMNS($U221:AQ221)),COLUMNS(Main!$D219:$F219)),\"\")","v":0},{"$f":"IFERROR(INDEX(Haz_Cat,SMALL(IF(Hazard=Engine!$Q219,ROW(Haz_Cat)-MIN(ROW(Haz_Cat))+1),COLUMNS($U221:AR221)),COLUMNS(Main!$D219:$F219)),\"\")","v":0},{"$f":"IFERROR(INDEX(Haz_Cat,SMALL(IF(Hazard=Engine!$Q219,ROW(Haz_Cat)-MIN(ROW(Haz_Cat))+1),COLUMNS($U221:AS221)),COLUMNS(Main!$D219:$F219)),\"\")","v":0},{"$f":"IFERROR(INDEX(Haz_Cat,SMALL(IF(Hazard=Engine!$Q219,ROW(Haz_Cat)-MIN(ROW(Haz_Cat))+1),COLUMNS($U221:AT221)),COLUMNS(Main!$D219:$F219)),\"\")","v":0},{"$f":"IFERROR(INDEX(Haz_Cat,SMALL(IF(Hazard=Engine!$Q219,ROW(Haz_Cat)-MIN(ROW(Haz_Cat))+1),COLUMNS($U221:AU221)),COLUMNS(Main!$D219:$F219)),\"\")","v":0},{"$f":"IFERROR(INDEX(Haz_Cat,SMALL(IF(Hazard=Engine!$Q219,ROW(Haz_Cat)-MIN(ROW(Haz_Cat))+1),COLUMNS($U221:AV221)),COLUMNS(Main!$D219:$F219)),\"\")","v":0},null,{"$f":"INDIRECT(TEXT(MIN(IF(($U228:$AV233<>\"\")*(COUNTIF($AX218:$AX222,$U228:$AV233)=0),ROW($P228:$BM233)*100+COLUMN($U218:$AV246),7^8)),\"R0C00\"),)&\"\"","v":""},false,"","",{"$f":"COUNTIF(AZ219:AZ229,\"<=\"&AZ223)","v":0},{"$f":"IF(COUNTIF(BA219:BA229,\"<=\"&BA223)=0,\"\",COUNTIF(BA219:BA229,\"<=\"&BA223))","v":""},{"$f":"IFERROR(SMALL(AZ219:AZ229,ROWS(AX219:AX223)),\"\")","v":""},{"$f":"IFERROR(INDEX(BD219:BD240,SMALL(IF(BD219:BD240<>\"\",ROW(BD219:BD240)-MIN(ROW(BD219:BD240))+1),ROWS(AX219:AX223))),\"\")","v":""},null,{"$f":"+Y237","v":0},{"$f":"COUNTIF($BG$2:BG223,\"*\"&BG223&\"*\")","v":0},{"$f":"IF(BH223=1,BG223,\"\")","v":""},"",{"$f":"IFERROR(INDEX(BI$2:BI$308,MATCH(ROWS(BJ$2:BJ223),BJ$2:BJ$308,0)),\"\")","v":""},{"$f":"COUNTIF($BK223:$BK$308,\"*\"&BK223&\"*\")","v":86},"","",{"$f":"IFERROR(INDEX($BM$2:$BM$308,MATCH(ROWS(BN$2:BN223),BN$2:BN529,0)),\"\")","v":""},{"$f":"IFERROR(VLOOKUP(Engine!BO223,P_sentences_overview!H224:I353,2),\"\")","v":""}]
[null,null,null,null,null,null,null,null,null,null,null,null,null,null,null,1,null,2,null,null,{"$f":"IFERROR(INDEX(Haz_Cat,SMALL(IF(Hazard=Engine!$Q219,ROW(Haz_Cat)-MIN(ROW(Haz_Cat))+1),COLUMNS($U221:U221)),COLUMNS(Main!$D219:$G219)),\"\")","v":0},{"$f":"IFERROR(INDEX(Haz_Cat,SMALL(IF(Hazard=Engine!$Q219,ROW(Haz_Cat)-MIN(ROW(Haz_Cat))+1),COLUMNS($U221:V221)),COLUMNS(Main!$D219:$G219)),\"\")","v":0},{"$f":"IFERROR(INDEX(Haz_Cat,SMALL(IF(Hazard=Engine!$Q219,ROW(Haz_Cat)-MIN(ROW(Haz_Cat))+1),COLUMNS($U221:W221)),COLUMNS(Main!$D219:$G219)),\"\")","v":0},{"$f":"IFERROR(INDEX(Haz_Cat,SMALL(IF(Hazard=Engine!$Q219,ROW(Haz_Cat)-MIN(ROW(Haz_Cat))+1),COLUMNS($U221:X221)),COLUMNS(Main!$D219:$G219)),\"\")","v":0},{"$f":"IFERROR(INDEX(Haz_Cat,SMALL(IF(Hazard=Engine!$Q219,ROW(Haz_Cat)-MIN(ROW(Haz_Cat))+1),COLUMNS($U221:Y221)),COLUMNS(Main!$D219:$G219)),\"\")","v":0},{"$f":"IFERROR(INDEX(Haz_Cat,SMALL(IF(Hazard=Engine!$Q219,ROW(Haz_Cat)-MIN(ROW(Haz_Cat))+1),COLUMNS($U221:Z221)),COLUMNS(Main!$D219:$G219)),\"\")","v":0},{"$f":"IFERROR(INDEX(Haz_Cat,SMALL(IF(Hazard=Engine!$Q219,ROW(Haz_Cat)-MIN(ROW(Haz_Cat))+1),COLUMNS($U221:AA221)),COLUMNS(Main!$D219:$G219)),\"\")","v":0},{"$f":"IFERROR(INDEX(Haz_Cat,SMALL(IF(Hazard=Engine!$Q219,ROW(Haz_Cat)-MIN(ROW(Haz_Cat))+1),COLUMNS($U221:AB221)),COLUMNS(Main!$D219:$G219)),\"\")","v":0},{"$f":"IFERROR(INDEX(Haz_Cat,SMALL(IF(Hazard=Engine!$Q219,ROW(Haz_Cat)-MIN(ROW(Haz_Cat))+1),COLUMNS($U221:AC221)),COLUMNS(Main!$D219:$G219)),\"\")","v":0},{"$f":"IFERROR(INDEX(Haz_Cat,SMALL(IF(Hazard=Engine!$Q219,ROW(Haz_Cat)-MIN(ROW(Haz_Cat))+1),COLUMNS($U221:AD221)),COLUMNS(Main!$D219:$G219)),\"\")","v":0},{"$f":"IFERROR(INDEX(Haz_Cat,SMALL(IF(Hazard=Engine!$Q219,ROW(Haz_Cat)-MIN(ROW(Haz_Cat))+1),COLUMNS($U221:AE221)),COLUMNS(Main!$D219:$G219)),\"\")","v":0},{"$f":"IFERROR(INDEX(Haz_Cat,SMALL(IF(Hazard=Engine!$Q219,ROW(Haz_Cat)-MIN(ROW(Haz_Cat))+1),COLUMNS($U221:AF221)),COLUMNS(Main!$D219:$G219)),\"\")","v":0},{"$f":"IFERROR(INDEX(Haz_Cat,SMALL(IF(Hazard=Engine!$Q219,ROW(Haz_Cat)-MIN(ROW(Haz_Cat))+1),COLUMNS($U221:AG221)),COLUMNS(Main!$D219:$G219)),\"\")","v":0},{"$f":"IFERROR(INDEX(Haz_Cat,SMALL(IF(Hazard=Engine!$Q219,ROW(Haz_Cat)-MIN(ROW(Haz_Cat))+1),COLUMNS($U221:AH221)),COLUMNS(Main!$D219:$G219)),\"\")","v":0},{"$f":"IFERROR(INDEX(Haz_Cat,SMALL(IF(Hazard=Engine!$Q219,ROW(Haz_Cat)-MIN(ROW(Haz_Cat))+1),COLUMNS($U221:AI221)),COLUMNS(Main!$D219:$G219)),\"\")","v":0},{"$f":"IFERROR(INDEX(Haz_Cat,SMALL(IF(Hazard=Engine!$Q219,ROW(Haz_Cat)-MIN(ROW(Haz_Cat))+1),COLUMNS($U221:AJ221)),COLUMNS(Main!$D219:$G219)),\"\")","v":0},{"$f":"IFERROR(INDEX(Haz_Cat,SMALL(IF(Hazard=Engine!$Q219,ROW(Haz_Cat)-MIN(ROW(Haz_Cat))+1),COLUMNS($U221:AK221)),COLUMNS(Main!$D219:$G219)),\"\")","v":0},{"$f":"IFERROR(INDEX(Haz_Cat,SMALL(IF(Hazard=Engine!$Q219,ROW(Haz_Cat)-MIN(ROW(Haz_Cat))+1),COLUMNS($U221:AL221)),COLUMNS(Main!$D219:$G219)),\"\")","v":0},{"$f":"IFERROR(INDEX(Haz_Cat,SMALL(IF(Hazard=Engine!$Q219,ROW(Haz_Cat)-MIN(ROW(Haz_Cat))+1),COLUMNS($U221:AM221)),COLUMNS(Main!$D219:$G219)),\"\")","v":0},{"$f":"IFERROR(INDEX(Haz_Cat,SMALL(IF(Hazard=Engine!$Q219,ROW(Haz_Cat)-MIN(ROW(Haz_Cat))+1),COLUMNS($U221:AN221)),COLUMNS(Main!$D219:$G219)),\"\")","v":0},{"$f":"IFERROR(INDEX(Haz_Cat,SMALL(IF(Hazard=Engine!$Q219,ROW(Haz_Cat)-MIN(ROW(Haz_Cat))+1),COLUMNS($U221:AO221)),COLUMNS(Main!$D219:$G219)),\"\")","v":0},{"$f":"IFERROR(INDEX(Haz_Cat,SMALL(IF(Hazard=Engine!$Q219,ROW(Haz_Cat)-MIN(ROW(Haz_Cat))+1),COLUMNS($U221:AP221)),COLUMNS(Main!$D219:$G219)),\"\")","v":0},{"$f":"IFERROR(INDEX(Haz_Cat,SMALL(IF(Hazard=Engine!$Q219,ROW(Haz_Cat)-MIN(ROW(Haz_Cat))+1),COLUMNS($U221:AQ221)),COLUMNS(Main!$D219:$G219)),\"\")","v":0},{"$f":"IFERROR(INDEX(Haz_Cat,SMALL(IF(Hazard=Engine!$Q219,ROW(Haz_Cat)-MIN(ROW(Haz_Cat))+1),COLUMNS($U221:AR221)),COLUMNS(Main!$D219:$G219)),\"\")","v":0},{"$f":"IFERROR(INDEX(Haz_Cat,SMALL(IF(Hazard=Engine!$Q219,ROW(Haz_Cat)-MIN(ROW(Haz_Cat))+1),COLUMNS($U221:AS221)),COLUMNS(Main!$D219:$G219)),\"\")","v":0},{"$f":"IFERROR(INDEX(Haz_Cat,SMALL(IF(Hazard=Engine!$Q219,ROW(Haz_Cat)-MIN(ROW(Haz_Cat))+1),COLUMNS($U221:AT221)),COLUMNS(Main!$D219:$G219)),\"\")","v":0},{"$f":"IFERROR(INDEX(Haz_Cat,SMALL(IF(Hazard=Engine!$Q219,ROW(Haz_Cat)-MIN(ROW(Haz_Cat))+1),COLUMNS($U221:AU221)),COLUMNS(Main!$D219:$G219)),\"\")","v":0},{"$f":"IFERROR(INDEX(Haz_Cat,SMALL(IF(Hazard=Engine!$Q219,ROW(Haz_Cat)-MIN(ROW(Haz_Cat))+1),COLUMNS($U221:AV221)),COLUMNS(Main!$D219:$G219)),\"\")","v":0},null,{"$f":"INDIRECT(TEXT(MIN(IF(($U228:$AV233<>\"\")*(COUNTIF($AX218:$AX223,$U228:$AV233)=0),ROW($P228:$BM233)*100+COLUMN($U218:$AV246),7^8)),\"R0C00\"),)&\"\"","v":""},false,"","",{"$f":"COUNTIF(AZ219:AZ229,\"<=\"&AZ224)","v":0},{"$f":"IF(COUNTIF(BA219:BA229,\"<=\"&BA224)=0,\"\",COUNTIF(BA219:BA229,\"<=\"&BA224))","v":""},{"$f":"IFERROR(SMALL(AZ219:AZ229,ROWS(AX219:AX224)),\"\")","v":""},{"$f":"IFERROR(INDEX(BD219:BD240,SMALL(IF(BD219:BD240<>\"\",ROW(BD219:BD240)-MIN(ROW(BD219:BD240))+1),ROWS(AX219:AX224))),\"\")","v":""},null,{"$f":"+Z237","v":0},{"$f":"COUNTIF($BG$2:BG224,\"*\"&BG224&\"*\")","v":0},"","",{"$f":"IFERROR(INDEX(BI$2:BI$308,MATCH(ROWS(BJ$2:BJ224),BJ$2:BJ$308,0)),\"\")","v":""},{"$f":"COUNTIF($BK224:$BK$308,\"*\"&BK224&\"*\")","v":85},"","",{"$f":"IFERROR(INDEX($BM$2:$BM$308,MATCH(ROWS(BN$2:BN224),BN$2:BN530,0)),\"\")","v":""},{"$f":"IFERROR(VLOOKUP(Engine!BO224,P_sentences_overview!H225:I354,2),\"\")","v":""}]
[null,null,null,null,null,null,null,null,null,null,null,null,null,null,null,null,null,null,null,null,{"$f":"IFERROR(INDEX(Haz_Cat,SMALL(IF(Hazard=Engine!$Q219,ROW(Haz_Cat)-MIN(ROW(Haz_Cat))+1),COLUMNS($U221:U221)),COLUMNS(Main!$D219:$H219)),\"\")","v":0},{"$f":"IFERROR(INDEX(Haz_Cat,SMALL(IF(Hazard=Engine!$Q219,ROW(Haz_Cat)-MIN(ROW(Haz_Cat))+1),COLUMNS($U221:V221)),COLUMNS(Main!$D219:$H219)),\"\")","v":0},{"$f":"IFERROR(INDEX(Haz_Cat,SMALL(IF(Hazard=Engine!$Q219,ROW(Haz_Cat)-MIN(ROW(Haz_Cat))+1),COLUMNS($U221:W221)),COLUMNS(Main!$D219:$H219)),\"\")","v":0},{"$f":"IFERROR(INDEX(Haz_Cat,SMALL(IF(Hazard=Engine!$Q219,ROW(Haz_Cat)-MIN(ROW(Haz_Cat))+1),COLUMNS($U221:X221)),COLUMNS(Main!$D219:$H219)),\"\")","v":0},{"$f":"IFERROR(INDEX(Haz_Cat,SMALL(IF(Hazard=Engine!$Q219,ROW(Haz_Cat)-MIN(ROW(Haz_Cat))+1),COLUMNS($U221:Y221)),COLUMNS(Main!$D219:$H219)),\"\")","v":0},{"$f":"IFERROR(INDEX(Haz_Cat,SMALL(IF(Hazard=Engine!$Q219,ROW(Haz_Cat)-MIN(ROW(Haz_Cat))+1),COLUMNS($U221:Z221)),COLUMNS(Main!$D219:$H219)),\"\")","v":0},{"$f":"IFERROR(INDEX(Haz_Cat,SMALL(IF(Hazard=Engine!$Q219,ROW(Haz_Cat)-MIN(ROW(Haz_Cat))+1),COLUMNS($U221:AA221)),COLUMNS(Main!$D219:$H219)),\"\")","v":0},{"$f":"IFERROR(INDEX(Haz_Cat,SMALL(IF(Hazard=Engine!$Q219,ROW(Haz_Cat)-MIN(ROW(Haz_Cat))+1),COLUMNS($U221:AB221)),COLUMNS(Main!$D219:$H219)),\"\")","v":0},{"$f":"IFERROR(INDEX(Haz_Cat,SMALL(IF(Hazard=Engine!$Q219,ROW(Haz_Cat)-MIN(ROW(Haz_Cat))+1),COLUMNS($U221:AC221)),COLUMNS(Main!$D219:$H219)),\"\")","v":0},{"$f":"IFERROR(INDEX(Haz_Cat,SMALL(IF(Hazard=Engine!$Q219,ROW(Haz_Cat)-MIN(ROW(Haz_Cat))+1),COLUMNS($U221:AD221)),COLUMNS(Main!$D219:$H219)),\"\")","v":0},{"$f":"IFERROR(INDEX(Haz_Cat,SMALL(IF(Hazard=Engine!$Q219,ROW(Haz_Cat)-MIN(ROW(Haz_Cat))+1),COLUMNS($U221:AE221)),COLUMNS(Main!$D219:$H219)),\"\")","v":0},{"$f":"IFERROR(INDEX(Haz_Cat,SMALL(IF(Hazard=Engine!$Q219,ROW(Haz_Cat)-MIN(ROW(Haz_Cat))+1),COLUMNS($U221:AF221)),COLUMNS(Main!$D219:$H219)),\"\")","v":0},{"$f":"IFERROR(INDEX(Haz_Cat,SMALL(IF(Hazard=Engine!$Q219,ROW(Haz_Cat)-MIN(ROW(Haz_Cat))+1),COLUMNS($U221:AG221)),COLUMNS(Main!$D219:$H219)),\"\")","v":0},{"$f":"IFERROR(INDEX(Haz_Cat,SMALL(IF(Hazard=Engine!$Q219,ROW(Haz_Cat)-MIN(ROW(Haz_Cat))+1),COLUMNS($U221:AH221)),COLUMNS(Main!$D219:$H219)),\"\")","v":0},{"$f":"IFERROR(INDEX(Haz_Cat,SMALL(IF(Hazard=Engine!$Q219,ROW(Haz_Cat)-MIN(ROW(Haz_Cat))+1),COLUMNS($U221:AI221)),COLUMNS(Main!$D219:$H219)),\"\")","v":0},{"$f":"IFERROR(INDEX(Haz_Cat,SMALL(IF(Hazard=Engine!$Q219,ROW(Haz_Cat)-MIN(ROW(Haz_Cat))+1),COLUMNS($U221:AJ221)),COLUMNS(Main!$D219:$H219)),\"\")","v":0},{"$f":"IFERROR(INDEX(Haz_Cat,SMALL(IF(Hazard=Engine!$Q219,ROW(Haz_Cat)-MIN(ROW(Haz_Cat))+1),COLUMNS($U221:AK221)),COLUMNS(Main!$D219:$H219)),\"\")","v":0},{"$f":"IFERROR(INDEX(Haz_Cat,SMALL(IF(Hazard=Engine!$Q219,ROW(Haz_Cat)-MIN(ROW(Haz_Cat))+1),COLUMNS($U221:AL221)),COLUMNS(Main!$D219:$H219)),\"\")","v":0},{"$f":"IFERROR(INDEX(Haz_Cat,SMALL(IF(Hazard=Engine!$Q219,ROW(Haz_Cat)-MIN(ROW(Haz_Cat))+1),COLUMNS($U221:AM221)),COLUMNS(Main!$D219:$H219)),\"\")","v":0},{"$f":"IFERROR(INDEX(Haz_Cat,SMALL(IF(Hazard=Engine!$Q219,ROW(Haz_Cat)-MIN(ROW(Haz_Cat))+1),COLUMNS($U221:AN221)),COLUMNS(Main!$D219:$H219)),\"\")","v":0},{"$f":"IFERROR(INDEX(Haz_Cat,SMALL(IF(Hazard=Engine!$Q219,ROW(Haz_Cat)-MIN(ROW(Haz_Cat))+1),COLUMNS($U221:AO221)),COLUMNS(Main!$D219:$H219)),\"\")","v":0},{"$f":"IFERROR(INDEX(Haz_Cat,SMALL(IF(Hazard=Engine!$Q219,ROW(Haz_Cat)-MIN(ROW(Haz_Cat))+1),COLUMNS($U221:AP221)),COLUMNS(Main!$D219:$H219)),\"\")","v":0},{"$f":"IFERROR(INDEX(Haz_Cat,SMALL(IF(Hazard=Engine!$Q219,ROW(Haz_Cat)-MIN(ROW(Haz_Cat))+1),COLUMNS($U221:AQ221)),COLUMNS(Main!$D219:$H219)),\"\")","v":0},{"$f":"IFERROR(INDEX(Haz_Cat,SMALL(IF(Hazard=Engine!$Q219,ROW(Haz_Cat)-MIN(ROW(Haz_Cat))+1),COLUMNS($U221:AR221)),COLUMNS(Main!$D219:$H219)),\"\")","v":0},{"$f":"IFERROR(INDEX(Haz_Cat,SMALL(IF(Hazard=Engine!$Q219,ROW(Haz_Cat)-MIN(ROW(Haz_Cat))+1),COLUMNS($U221:AS221)),COLUMNS(Main!$D219:$H219)),\"\")","v":0},{"$f":"IFERROR(INDEX(Haz_Cat,SMALL(IF(Hazard=Engine!$Q219,ROW(Haz_Cat)-MIN(ROW(Haz_Cat))+1),COLUMNS($U221:AT221)),COLUMNS(Main!$D219:$H219)),\"\")","v":0},{"$f":"IFERROR(INDEX(Haz_Cat,SMALL(IF(Hazard=Engine!$Q219,ROW(Haz_Cat)-MIN(ROW(Haz_Cat))+1),COLUMNS($U221:AU221)),COLUMNS(Main!$D219:$H219)),\"\")","v":0},{"$f":"IFERROR(INDEX(Haz_Cat,SMALL(IF(Hazard=Engine!$Q219,ROW(Haz_Cat)-MIN(ROW(Haz_Cat))+1),COLUMNS($U221:AV221)),COLUMNS(Main!$D219:$H219)),\"\")","v":0},null,{"$f":"INDIRECT(TEXT(MIN(IF(($U228:$AV233<>\"\")*(COUNTIF($AX218:$AX224,$U228:$AV233)=0),ROW($P228:$BM233)*100+COLUMN($U218:$AV246),7^8)),\"R0C00\"),)&\"\"","v":""},false,"","",{"$f":"COUNTIF(AZ219:AZ229,\"<=\"&AZ225)","v":0},{"$f":"IF(COUNTIF(BA219:BA229,\"<=\"&BA225)=0,\"\",COUNTIF(BA219:BA229,\"<=\"&BA225))","v":""},{"$f":"IFERROR(SMALL(AZ219:AZ229,ROWS(AX219:AX225)),\"\")","v":""},{"$f":"IFERROR(INDEX(BD219:BD240,SMALL(IF(BD219:BD240<>\"\",ROW(BD219:BD240)-MIN(ROW(BD219:BD240))+1),ROWS(AX219:AX225))),\"\")","v":""},null,{"$f":"+AA237","v":0},{"$f":"COUNTIF($BG$2:BG225,\"*\"&BG225&\"*\")","v":0},"","",{"$f":"IFERROR(INDEX(BI$2:BI$308,MATCH(ROWS(BJ$2:BJ225),BJ$2:BJ$308,0)),\"\")","v":""},{"$f":"COUNTIF($BK225:$BK$308,\"*\"&BK225&\"*\")","v":84},"","",{"$f":"IFERROR(INDEX($BM$2:$BM$308,MATCH(ROWS(BN$2:BN225),BN$2:BN531,0)),\"\")","v":""},{"$f":"IFERROR(VLOOKUP(Engine!BO225,P_sentences_overview!H226:I355,2),\"\")","v":""}]
[null,null,null,null,null,null,null,null,null,null,null,null,null,null,null,null,null,null,null,null,{"$f":"IFERROR(INDEX(Haz_Cat,SMALL(IF(Hazard=Engine!$Q219,ROW(Haz_Cat)-MIN(ROW(Haz_Cat))+1),COLUMNS($U221:U221)),COLUMNS(Main!$D219:$I219)),\"\")","v":0},{"$f":"IFERROR(INDEX(Haz_Cat,SMALL(IF(Hazard=Engine!$Q219,ROW(Haz_Cat)-MIN(ROW(Haz_Cat))+1),COLUMNS($U221:V221)),COLUMNS(Main!$D219:$I219)),\"\")","v":0},{"$f":"IFERROR(INDEX(Haz_Cat,SMALL(IF(Hazard=Engine!$Q219,ROW(Haz_Cat)-MIN(ROW(Haz_Cat))+1),COLUMNS($U221:W221)),COLUMNS(Main!$D219:$I219)),\"\")","v":0},{"$f":"IFERROR(INDEX(Haz_Cat,SMALL(IF(Hazard=Engine!$Q219,ROW(Haz_Cat)-MIN(ROW(Haz_Cat))+1),COLUMNS($U221:X221)),COLUMNS(Main!$D219:$I219)),\"\")","v":0},{"$f":"IFERROR(INDEX(Haz_Cat,SMALL(IF(Hazard=Engine!$Q219,ROW(Haz_Cat)-MIN(ROW(Haz_Cat))+1),COLUMNS($U221:Y221)),COLUMNS(Main!$D219:$I219)),\"\")","v":0},{"$f":"IFERROR(INDEX(Haz_Cat,SMALL(IF(Hazard=Engine!$Q219,ROW(Haz_Cat)-MIN(ROW(Haz_Cat))+1),COLUMNS($U221:Z221)),COLUMNS(Main!$D219:$I219)),\"\")","v":0},{"$f":"IFERROR(INDEX(Haz_Cat,SMALL(IF(Hazard=Engine!$Q219,ROW(Haz_Cat)-MIN(ROW(Haz_Cat))+1),COLUMNS($U221:AA221)),COLUMNS(Main!$D219:$I219)),\"\")","v":0},{"$f":"IFERROR(INDEX(Haz_Cat,SMALL(IF(Hazard=Engine!$Q219,ROW(Haz_Cat)-MIN(ROW(Haz_Cat))+1),COLUMNS($U221:AB221)),COLUMNS(Main!$D219:$I219)),\"\")","v":0},{"$f":"IFERROR(INDEX(Haz_Cat,SMALL(IF(Hazard=Engine!$Q219,ROW(Haz_Cat)-MIN(ROW(Haz_Cat))+1),COLUMNS($U221:AC221)),COLUMNS(Main!$D219:$I219)),\"\")","v":0},{"$f":"IFERROR(INDEX(Haz_Cat,SMALL(IF(Hazard=Engine!$Q219,ROW(Haz_Cat)-MIN(ROW(Haz_Cat))+1),COLUMNS($U221:AD221)),COLUMNS(Main!$D219:$I219)),\"\")","v":0},{"$f":"IFERROR(INDEX(Haz_Cat,SMALL(IF(Hazard=Engine!$Q219,ROW(Haz_Cat)-MIN(ROW(Haz_Cat))+1),COLUMNS($U221:AE221)),COLUMNS(Main!$D219:$I219)),\"\")","v":0},{"$f":"IFERROR(INDEX(Haz_Cat,SMALL(IF(Hazard=Engine!$Q219,ROW(Haz_Cat)-MIN(ROW(Haz_Cat))+1),COLUMNS($U221:AF221)),COLUMNS(Main!$D219:$I219)),\"\")","v":0},{"$f":"IFERROR(INDEX(Haz_Cat,SMALL(IF(Hazard=Engine!$Q219,ROW(Haz_Cat)-MIN(ROW(Haz_Cat))+1),COLUMNS($U221:AG221)),COLUMNS(Main!$D219:$I219)),\"\")","v":0},{"$f":"IFERROR(INDEX(Haz_Cat,SMALL(IF(Hazard=Engine!$Q219,ROW(Haz_Cat)-MIN(ROW(Haz_Cat))+1),COLUMNS($U221:AH221)),COLUMNS(Main!$D219:$I219)),\"\")","v":0},{"$f":"IFERROR(INDEX(Haz_Cat,SMALL(IF(Hazard=Engine!$Q219,ROW(Haz_Cat)-MIN(ROW(Haz_Cat))+1),COLUMNS($U221:AI221)),COLUMNS(Main!$D219:$I219)),\"\")","v":0},{"$f":"IFERROR(INDEX(Haz_Cat,SMALL(IF(Hazard=Engine!$Q219,ROW(Haz_Cat)-MIN(ROW(Haz_Cat))+1),COLUMNS($U221:AJ221)),COLUMNS(Main!$D219:$I219)),\"\")","v":0},{"$f":"IFERROR(INDEX(Haz_Cat,SMALL(IF(Hazard=Engine!$Q219,ROW(Haz_Cat)-MIN(ROW(Haz_Cat))+1),COLUMNS($U221:AK221)),COLUMNS(Main!$D219:$I219)),\"\")","v":0},{"$f":"IFERROR(INDEX(Haz_Cat,SMALL(IF(Hazard=Engine!$Q219,ROW(Haz_Cat)-MIN(ROW(Haz_Cat))+1),COLUMNS($U221:AL221)),COLUMNS(Main!$D219:$I219)),\"\")","v":0},{"$f":"IFERROR(INDEX(Haz_Cat,SMALL(IF(Hazard=Engine!$Q219,ROW(Haz_Cat)-MIN(ROW(Haz_Cat))+1),COLUMNS($U221:AM221)),COLUMNS(Main!$D219:$I219)),\"\")","v":0},{"$f":"IFERROR(INDEX(Haz_Cat,SMALL(IF(Hazard=Engine!$Q219,ROW(Haz_Cat)-MIN(ROW(Haz_Cat))+1),COLUMNS($U221:AN221)),COLUMNS(Main!$D219:$I219)),\"\")","v":0},{"$f":"IFERROR(INDEX(Haz_Cat,SMALL(IF(Hazard=Engine!$Q219,ROW(Haz_Cat)-MIN(ROW(Haz_Cat))+1),COLUMNS($U221:AO221)),COLUMNS(Main!$D219:$I219)),\"\")","v":0},{"$f":"IFERROR(INDEX(Haz_Cat,SMALL(IF(Hazard=Engine!$Q219,ROW(Haz_Cat)-MIN(ROW(Haz_Cat))+1),COLUMNS($U221:AP221)),COLUMNS(Main!$D219:$I219)),\"\")","v":0},{"$f":"IFERROR(INDEX(Haz_Cat,SMALL(IF(Hazard=Engine!$Q219,ROW(Haz_Cat)-MIN(ROW(Haz_Cat))+1),COLUMNS($U221:AQ221)),COLUMNS(Main!$D219:$I219)),\"\")","v":0},{"$f":"IFERROR(INDEX(Haz_Cat,SMALL(IF(Hazard=Engine!$Q219,ROW(Haz_Cat)-MIN(ROW(Haz_Cat))+1),COLUMNS($U221:AR221)),COLUMNS(Main!$D219:$I219)),\"\")","v":0},{"$f":"IFERROR(INDEX(Haz_Cat,SMALL(IF(Hazard=Engine!$Q219,ROW(Haz_Cat)-MIN(ROW(Haz_Cat))+1),COLUMNS($U221:AS221)),COLUMNS(Main!$D219:$I219)),\"\")","v":0},{"$f":"IFERROR(INDEX(Haz_Cat,SMALL(IF(Hazard=Engine!$Q219,ROW(Haz_Cat)-MIN(ROW(Haz_Cat))+1),COLUMNS($U221:AT221)),COLUMNS(Main!$D219:$I219)),\"\")","v":0},{"$f":"IFERROR(INDEX(Haz_Cat,SMALL(IF(Hazard=Engine!$Q219,ROW(Haz_Cat)-MIN(ROW(Haz_Cat))+1),COLUMNS($U221:AU221)),COLUMNS(Main!$D219:$I219)),\"\")","v":0},{"$f":"IFERROR(INDEX(Haz_Cat,SMALL(IF(Hazard=Engine!$Q219,ROW(Haz_Cat)-MIN(ROW(Haz_Cat))+1),COLUMNS($U221:AV221)),COLUMNS(Main!$D219:$I219)),\"\")","v":0},null,{"$f":"INDIRECT(TEXT(MIN(IF(($U228:$AV233<>\"\")*(COUNTIF($AX218:$AX225,$U228:$AV233)=0),ROW($P228:$BM233)*100+COLUMN($U218:$AV246),7^8)),\"R0C00\"),)&\"\"","v":""},false,"","",{"$f":"COUNTIF(AZ219:AZ229,\"<=\"&AZ226)","v":0},{"$f":"IF(COUNTIF(BA219:BA229,\"<=\"&BA226)=0,\"\",COUNTIF(BA219:BA229,\"<=\"&BA226))","v":""},{"$f":"IFERROR(SMALL(AZ219:AZ229,ROWS(AX219:AX226)),\"\")","v":""},{"$f":"IFERROR(INDEX(BD219:BD240,SMALL(IF(BD219:BD240<>\"\",ROW(BD219:BD240)-MIN(ROW(BD219:BD240))+1),ROWS(AX219:AX226))),\"\")","v":""},null,{"$f":"+AB237","v":0},{"$f":"COUNTIF($BG$2:BG226,\"*\"&BG226&\"*\")","v":0},"","",{"$f":"IFERROR(INDEX(BI$2:BI$308,MATCH(ROWS(BJ$2:BJ226),BJ$2:BJ$308,0)),\"\")","v":""},{"$f":"COUNTIF($BK226:$BK$308,\"*\"&BK226&\"*\")","v":83},"","",{"$f":"IFERROR(INDEX($BM$2:$BM$308,MATCH(ROWS(BN$2:BN226),BN$2:BN532,0)),\"\")","v":""},{"$f":"IFERROR(VLOOKUP(Engine!BO226,P_sentences_overview!H227:I356,2),\"\")","v":""}]
[null,null,null,null,null,null,null,null,null,null,null,null,null,null,null,null,null,null,null,null,null,null,null,null,null,null,null,null,null,null,null,null,null,null,null,null,null,null,null,null,null,null,null,null,null,null,null,null,null,{"$f":"INDIRECT(TEXT(MIN(IF(($U228:$AV233<>\"\")*(COUNTIF($AX218:$AX226,$U228:$AV233)=0),ROW($P228:$BM233)*100+COLUMN($U218:$AV246),7^8)),\"R0C00\"),)&\"\"","v":""},false,"","",{"$f":"COUNTIF(AZ219:AZ229,\"<=\"&AZ227)","v":0},{"$f":"IF(COUNTIF(BA219:BA229,\"<=\"&BA227)=0,\"\",COUNTIF(BA219:BA229,\"<=\"&BA227))","v":""},{"$f":"IFERROR(SMALL(AZ219:AZ229,ROWS(AX219:AX227)),\"\")","v":""},{"$f":"IFERROR(INDEX(BD219:BD240,SMALL(IF(BD219:BD240<>\"\",ROW(BD219:BD240)-MIN(ROW(BD219:BD240))+1),ROWS(AX219:AX227))),\"\")","v":""},null,{"$f":"+AC237","v":0},{"$f":"COUNTIF($BG$2:BG227,\"*\"&BG227&\"*\")","v":0},"","",{"$f":"IFERROR(INDEX(BI$2:BI$308,MATCH(ROWS(BJ$2:BJ227),BJ$2:BJ$308,0)),\"\")","v":""},{"$f":"COUNTIF($BK227:$BK$308,\"*\"&BK227&\"*\")","v":82},"","",{"$f":"IFERROR(INDEX($BM$2:$BM$308,MATCH(ROWS(BN$2:BN227),BN$2:BN533,0)),\"\")","v":""},{"$f":"IFERROR(VLOOKUP(Engine!BO227,P_sentences_overview!H228:I357,2),\"\")","v":""}]
[null,null,null,null,null,null,null,null,null,null,null,null,null,null,null,null,null,null,null,null,{"$f":"+IF(U221=0,\"\",U221)","v":""},"","","","","","","","","","","","","","","","","","","","","","","","","","","",null,{"$f":"INDIRECT(TEXT(MIN(IF(($U228:$AV233<>\"\")*(COUNTIF($AX218:$AX227,$U228:$AV233)=0),ROW($P228:$BM233)*100+COLUMN($U218:$AV246),7^8)),\"R0C00\"),)&\"\"","v":""},false,"","",{"$f":"COUNTIF(AZ219:AZ229,\"<=\"&AZ228)","v":0},{"$f":"IF(COUNTIF(BA219:BA229,\"<=\"&BA228)=0,\"\",COUNTIF(BA219:BA229,\"<=\"&BA228))","v":""},{"$f":"IFERROR(SMALL(AZ219:AZ229,ROWS(AX219:AX228)),\"\")","v":""},{"$f":"IFERROR(INDEX(BD219:BD240,SMALL(IF(BD219:BD240<>\"\",ROW(BD219:BD240)-MIN(ROW(BD219:BD240))+1),ROWS(AX219:AX228))),\"\")","v":""},null,{"$f":"+AD237","v":0},{"$f":"COUNTIF($BG$2:BG228,\"*\"&BG228&\"*\")","v":0},"","",{"$f":"IFERROR(INDEX(BI$2:BI$308,MATCH(ROWS(BJ$2:BJ228),BJ$2:BJ$308,0)),\"\")","v":""},{"$f":"COUNTIF($BK228:$BK$308,\"*\"&BK228&\"*\")","v":81},"","",{"$f":"IFERROR(INDEX($BM$2:$BM$308,MATCH(ROWS(BN$2:BN228),BN$2:BN534,0)),\"\")","v":""},{"$f":"IFERROR(VLOOKUP(Engine!BO228,P_sentences_overview!H229:I358,2),\"\")","v":""}]
[null,null,null,null,null,null,null,null,null,null,null,null,null,null,null,null,null,null,null,null,{"$f":"+IF(U222=0,\"\",U222)","v":""},"","","","","","","","","","","","","","","","","","","","","","","","","","","",null,{"$f":"INDIRECT(TEXT(MIN(IF(($U228:$AV233<>\"\")*(COUNTIF($AX218:$AX228,$U228:$AV233)=0),ROW($P228:$BM233)*100+COLUMN($U218:$AV246),7^8)),\"R0C00\"),)&\"\"","v":""},false,"","",{"$f":"COUNTIF(AZ219:AZ229,\"<=\"&AZ229)","v":0},{"$f":"IF(COUNTIF(BA219:BA229,\"<=\"&BA229)=0,\"\",COUNTIF(BA219:BA229,\"<=\"&BA229))","v":""},{"$f":"IFERROR(SMALL(AZ219:AZ229,ROWS(AX219:AX229)),\"\")","v":""},{"$f":"IFERROR(INDEX(BD219:BD240,SMALL(IF(BD219:BD240<>\"\",ROW(BD219:BD240)-MIN(ROW(BD219:BD240))+1),ROWS(AX219:AX229))),\"\")","v":""},null,{"$f":"+AE237","v":0},{"$f":"COUNTIF($BG$2:BG229,\"*\"&BG229&\"*\")","v":0},"","",{"$f":"IFERROR(INDEX(BI$2:BI$308,MATCH(ROWS(BJ$2:BJ229),BJ$2:BJ$308,0)),\"\")","v":""},{"$f":"COUNTIF($BK229:$BK$308,\"*\"&BK229&\"*\")","v":80},"","",{"$f":"IFERROR(INDEX($BM$2:$BM$308,MATCH(ROWS(BN$2:BN229),BN$2:BN535,0)),\"\")","v":""},{"$f":"IFERROR(VLOOKUP(Engine!BO229,P_sentences_overview!H230:I359,2),\"\")","v":""}]
[null,null,null,null,null,null,null,null,null,null,null,null,null,null,null,null,null,null,null,null,{"$f":"+IF(U223=0,\"\",U223)","v":""},"","","","","","","","","","","","","","","","","","","","","","","","","","","",null,null,null,null,null,null,null,{"$f":"IFERROR(INDEX(BA219:BA229,MATCH(SMALL(BC219:BC229,ROWS(BA219:BA219)),BC219:BC229,)),\"\")","v":""},{"$f":"IFERROR(INDEX(BD219:BD240,SMALL(IF(BD219:BD240<>\"\",ROW(BD219:BD240)-MIN(ROW(BD219:BD240))+1),ROWS(AX219:AX230))),\"\")","v":""},null,{"$f":"+AF237","v":0},{"$f":"COUNTIF($BG$2:BG230,\"*\"&BG230&\"*\")","v":0},"","",{"$f":"IFERROR(INDEX(BI$2:BI$308,MATCH(ROWS(BJ$2:BJ230),BJ$2:BJ$308,0)),\"\")","v":""},{"$f":"COUNTIF($BK230:$BK$308,\"*\"&BK230&\"*\")","v":79},"","",{"$f":"IFERROR(INDEX($BM$2:$BM$308,MATCH(ROWS(BN$2:BN230),BN$2:BN536,0)),\"\")","v":""},{"$f":"IFERROR(VLOOKUP(Engine!BO230,P_sentences_overview!H231:I360,2),\"\")","v":""}]
[null,null,null,null,null,null,null,null,null,null,null,null,null,null,null,null,null,null,null,null,{"$f":"+IF(U224=0,\"\",U224)","v":""},"","","","","","","","","","","","","","","","","","","","","","","","","","","",null,null,null,null,null,null,null,{"$f":"IFERROR(INDEX(BA219:BA229,MATCH(SMALL(BC219:BC229,ROWS(BA219:BA220)),BC219:BC229,)),\"\")","v":""},{"$f":"IFERROR(INDEX(BD219:BD240,SMALL(IF(BD219:BD240<>\"\",ROW(BD219:BD240)-MIN(ROW(BD219:BD240))+1),ROWS(AX219:AX231))),\"\")","v":""},null,{"$f":"+AG237","v":0},{"$f":"COUNTIF($BG$2:BG231,\"*\"&BG231&\"*\")","v":0},"","",{"$f":"IFERROR(INDEX(BI$2:BI$308,MATCH(ROWS(BJ$2:BJ231),BJ$2:BJ$308,0)),\"\")","v":""},{"$f":"COUNTIF($BK231:$BK$308,\"*\"&BK231&\"*\")","v":78},"","",{"$f":"IFERROR(INDEX($BM$2:$BM$308,MATCH(ROWS(BN$2:BN231),BN$2:BN537,0)),\"\")","v":""},{"$f":"IFERROR(VLOOKUP(Engine!BO231,P_sentences_overview!H232:I361,2),\"\")","v":""}]
[null,null,null,null,null,null,null,null,null,null,null,null,null,null,null,null,null,null,null,null,{"$f":"+IF(U225=0,\"\",U225)","v":""},"","","","","","","","","","","","","","","","","","","","","","","","","","","",null,null,null,null,null,null,null,{"$f":"IFERROR(INDEX(BA219:BA229,MATCH(SMALL(BC219:BC229,ROWS(BA219:BA221)),BC219:BC229,)),\"\")","v":""},{"$f":"IFERROR(INDEX(BD219:BD240,SMALL(IF(BD219:BD240<>\"\",ROW(BD219:BD240)-MIN(ROW(BD219:BD240))+1),ROWS(AX219:AX232))),\"\")","v":""},null,{"$f":"+AH237","v":0},{"$f":"COUNTIF($BG$2:BG232,\"*\"&BG232&\"*\")","v":0},"","",{"$f":"IFERROR(INDEX(BI$2:BI$308,MATCH(ROWS(BJ$2:BJ232),BJ$2:BJ$308,0)),\"\")","v":""},{"$f":"COUNTIF($BK232:$BK$308,\"*\"&BK232&\"*\")","v":77},"","",{"$f":"IFERROR(INDEX($BM$2:$BM$308,MATCH(ROWS(BN$2:BN232),BN$2:BN538,0)),\"\")","v":""},{"$f":"IFERROR(VLOOKUP(Engine!BO232,P_sentences_overview!H233:I362,2),\"\")","v":""}]
[null,null,null,null,null,null,null,null,null,null,null,null,null,null,null,null,null,null,null,null,{"$f":"+IF(U226=0,\"\",U226)","v":""},"","","","","","","","","","","","","","","","","","","","","","","","","","","",null,null,null,null,null,null,null,{"$f":"IFERROR(INDEX(BA219:BA229,MATCH(SMALL(BC219:BC229,ROWS(BA219:BA222)),BC219:BC229,)),\"\")","v":""},{"$f":"IFERROR(INDEX(BD219:BD240,SMALL(IF(BD219:BD240<>\"\",ROW(BD219:BD240)-MIN(ROW(BD219:BD240))+1),ROWS(AX219:AX233))),\"\")","v":""},null,{"$f":"+AI237","v":0},{"$f":"COUNTIF($BG$2:BG233,\"*\"&BG233&\"*\")","v":0},"","",{"$f":"IFERROR(INDEX(BI$2:BI$308,MATCH(ROWS(BJ$2:BJ233),BJ$2:BJ$308,0)),\"\")","v":""},{"$f":"COUNTIF($BK233:$BK$308,\"*\"&BK233&\"*\")","v":76},"","",{"$f":"IFERROR(INDEX($BM$2:$BM$308,MATCH(ROWS(BN$2:BN233),BN$2:BN539,0)),\"\")","v":""},{"$f":"IFERROR(VLOOKUP(Engine!BO233,P_sentences_overview!H234:I363,2),\"\")","v":""}]
[null,null,null,null,null,null,null,null,null,null,null,null,null,null,null,null,null,null,null,null,null,null,null,null,null,null,null,null,null,null,null,null,null,null,null,null,null,null,null,null,null,null,null,null,null,null,null,null,null,null,null,null,null,null,null,{"$f":"IFERROR(INDEX(BA219:BA229,MATCH(SMALL(BC219:BC229,ROWS(BA219:BA223)),BC219:BC229,)),\"\")","v":""},{"$f":"IFERROR(INDEX(BD219:BD240,SMALL(IF(BD219:BD240<>\"\",ROW(BD219:BD240)-MIN(ROW(BD219:BD240))+1),ROWS(AX219:AX234))),\"\")","v":""},null,{"$f":"+AJ237","v":0},{"$f":"COUNTIF($BG$2:BG234,\"*\"&BG234&\"*\")","v":0},"","",{"$f":"IFERROR(INDEX(BI$2:BI$308,MATCH(ROWS(BJ$2:BJ234),BJ$2:BJ$308,0)),\"\")","v":""},{"$f":"COUNTIF($BK234:$BK$308,\"*\"&BK234&\"*\")","v":75},"","",{"$f":"IFERROR(INDEX($BM$2:$BM$308,MATCH(ROWS(BN$2:BN234),BN$2:BN540,0)),\"\")","v":""},{"$f":"IFERROR(VLOOKUP(Engine!BO234,P_sentences_overview!H235:I364,2),\"\")","v":""}]
[null,null,null,null,null,null,null,null,null,null,null,null,null,null,null,null,null,null,null,null,{"$f":"IF(ISNUMBER(MATCH($R219,U228:U233,0)),U219,\"\")","v":0},{"$f":"IF(ISNUMBER(MATCH($R219,V228:V233,0)),V219,\"\")","v":0},0,0,0,0,0,0,0,0,0,0,0,0,0,0,0,0,0,0,0,0,0,0,0,0,0,0,null,null,null,null,null,null,null,{"$f":"IFERROR(INDEX(BA219:BA229,MATCH(SMALL(BC219:BC229,ROWS(BA219:BA224)),BC219:BC229,)),\"\")","v":""},{"$f":"IFERROR(INDEX(BD219:BD240,SMALL(IF(BD219:BD240<>\"\",ROW(BD219:BD240)-MIN(ROW(BD219:BD240))+1),ROWS(AX219:AX235))),\"\")","v":""},null,{"$f":"+AK237","v":0},{"$f":"COUNTIF($BG$2:BG235,\"*\"&BG235&\"*\")","v":0},"","",{"$f":"IFERROR(INDEX(BI$2:BI$308,MATCH(ROWS(BJ$2:BJ235),BJ$2:BJ$308,0)),\"\")","v":""},{"$f":"COUNTIF($BK235:$BK$308,\"*\"&BK235&\"*\")","v":74},"","",{"$f":"IFERROR(INDEX($BM$2:$BM$308,MATCH(ROWS(BN$2:BN235),BN$2:BN541,0)),\"\")","v":""},{"$f":"IFERROR(VLOOKUP(Engine!BO235,P_sentences_overview!H236:I365,2),\"\")","v":""}]
[null,null,null,null,null,null,null,null,null,null,null,null,null,null,null,null,null,null,null,null,null,null,null,null,null,null,null,null,null,null,null,null,null,null,null,null,null,null,null,null,null,null,null,null,null,null,null,null,null,null,null,null,null,null,null,{"$f":"IFERROR(INDEX(BA219:BA229,MATCH(SMALL(BC219:BC229,ROWS(BA219:BA225)),BC219:BC229,)),\"\")","v":""},{"$f":"IFERROR(INDEX(BD219:BD240,SMALL(IF(BD219:BD240<>\"\",ROW(BD219:BD240)-MIN(ROW(BD219:BD240))+1),ROWS(AX219:AX236))),\"\")","v":""},null,{"$f":"+AL237","v":0},{"$f":"COUNTIF($BG$2:BG236,\"*\"&BG236&\"*\")","v":0},"","",{"$f":"IFERROR(INDEX(BI$2:BI$308,MATCH(ROWS(BJ$2:BJ236),BJ$2:BJ$308,0)),\"\")","v":""},{"$f":"COUNTIF($BK236:$BK$308,\"*\"&BK236&\"*\")","v":73},"","",{"$f":"IFERROR(INDEX($BM$2:$BM$308,MATCH(ROWS(BN$2:BN236),BN$2:BN542,0)),\"\")","v":""},{"$f":"IFERROR(VLOOKUP(Engine!BO236,P_sentences_overview!H237:I366,2),\"\")","v":""}]
[null,null,null,null,null,null,null,null,null,null,null,null,null,null,null,null,null,null,null,null,{"$f":"IFERROR(INDEX(U235:AV235,1,SMALL(IF(U235:AV235<>\"\",COLUMN(U235:AV235)-MIN(COLUMN(U235:AV235))+1),COLUMNS($U$2:U219))),\"\")","v":0},{"$f":"IFERROR(INDEX(U235:AV235,1,SMALL(IF(U235:AV235<>\"\",COLUMN(U235:AV235)-MIN(COLUMN(U235:AV235))+1),COLUMNS($U$2:V219))),\"\")","v":0},{"$f":"IFERROR(INDEX(U235:AV235,1,SMALL(IF(U235:AV235<>\"\",COLUMN(U235:AV235)-MIN(COLUMN(U235:AV235))+1),COLUMNS($U$2:W219))),\"\")","v":0},{"$f":"IFERROR(INDEX(U235:AV235,1,SMALL(IF(U235:AV235<>\"\",COLUMN(U235:AV235)-MIN(COLUMN(U235:AV235))+1),COLUMNS($U$2:X219))),\"\")","v":0},{"$f":"IFERROR(INDEX(U235:AV235,1,SMALL(IF(U235:AV235<>\"\",COLUMN(U235:AV235)-MIN(COLUMN(U235:AV235))+1),COLUMNS($U$2:Y219))),\"\")","v":0},{"$f":"IFERROR(INDEX(U235:AV235,1,SMALL(IF(U235:AV235<>\"\",COLUMN(U235:AV235)-MIN(COLUMN(U235:AV235))+1),COLUMNS($U$2:Z219))),\"\")","v":0},{"$f":"IFERROR(INDEX(U235:AV235,1,SMALL(IF(U235:AV235<>\"\",COLUMN(U235:AV235)-MIN(COLUMN(U235:AV235))+1),COLUMNS($U$2:AA219))),\"\")","v":0},{"$f":"IFERROR(INDEX(U235:AV235,1,SMALL(IF(U235:AV235<>\"\",COLUMN(U235:AV235)-MIN(COLUMN(U235:AV235))+1),COLUMNS($U$2:AB219))),\"\")","v":0},{"$f":"IFERROR(INDEX(U235:AV235,1,SMALL(IF(U235:AV235<>\"\",COLUMN(U235:AV235)-MIN(COLUMN(U235:AV235))+1),COLUMNS($U$2:AC219))),\"\")","v":0},{"$f":"IFERROR(INDEX(U235:AV235,1,SMALL(IF(U235:AV235<>\"\",COLUMN(U235:AV235)-MIN(COLUMN(U235:AV235))+1),COLUMNS($U$2:AD219))),\"\")","v":0},{"$f":"IFERROR(INDEX(U235:AV235,1,SMALL(IF(U235:AV235<>\"\",COLUMN(U235:AV235)-MIN(COLUMN(U235:AV235))+1),COLUMNS($U$2:AE219))),\"\")","v":0},{"$f":"IFERROR(INDEX(U235:AV235,1,SMALL(IF(U235:AV235<>\"\",COLUMN(U235:AV235)-MIN(COLUMN(U235:AV235))+1),COLUMNS($U$2:AF219))),\"\")","v":0},{"$f":"IFERROR(INDEX(U235:AV235,1,SMALL(IF(U235:AV235<>\"\",COLUMN(U235:AV235)-MIN(COLUMN(U235:AV235))+1),COLUMNS($U$2:AG219))),\"\")","v":0},{"$f":"IFERROR(INDEX(U235:AV235,1,SMALL(IF(U235:AV235<>\"\",COLUMN(U235:AV235)-MIN(COLUMN(U235:AV235))+1),COLUMNS($U$2:AH219))),\"\")","v":0},{"$f":"IFERROR(INDEX(U235:AV235,1,SMALL(IF(U235:AV235<>\"\",COLUMN(U235:AV235)-MIN(COLUMN(U235:AV235))+1),COLUMNS($U$2:AI219))),\"\")","v":0},{"$f":"IFERROR(INDEX(U235:AV235,1,SMALL(IF(U235:AV235<>\"\",COLUMN(U235:AV235)-MIN(COLUMN(U235:AV235))+1),COLUMNS($U$2:AJ219))),\"\")","v":0},{"$f":"IFERROR(INDEX(U235:AV235,1,SMALL(IF(U235:AV235<>\"\",COLUMN(U235:AV235)-MIN(COLUMN(U235:AV235))+1),COLUMNS($U$2:AK219))),\"\")","v":0},{"$f":"IFERROR(INDEX(U235:AV235,1,SMALL(IF(U235:AV235<>\"\",COLUMN(U235:AV235)-MIN(COLUMN(U235:AV235))+1),COLUMNS($U$2:AL219))),\"\")","v":0},{"$f":"IFERROR(INDEX(U235:AV235,1,SMALL(IF(U235:AV235<>\"\",COLUMN(U235:AV235)-MIN(COLUMN(U235:AV235))+1),COLUMNS($U$2:AM219))),\"\")","v":0},{"$f":"IFERROR(INDEX(U235:AV235,1,SMALL(IF(U235:AV235<>\"\",COLUMN(U235:AV235)-MIN(COLUMN(U235:AV235))+1),COLUMNS($U$2:AN219))),\"\")","v":0},{"$f":"IFERROR(INDEX(U235:AV235,1,SMALL(IF(U235:AV235<>\"\",COLUMN(U235:AV235)-MIN(COLUMN(U235:AV235))+1),COLUMNS($U$2:AO219))),\"\")","v":0},{"$f":"IFERROR(INDEX(U235:AV235,1,SMALL(IF(U235:AV235<>\"\",COLUMN(U235:AV235)-MIN(COLUMN(U235:AV235))+1),COLUMNS($U$2:AP219))),\"\")","v":0},{"$f":"IFERROR(INDEX(U235:AV235,1,SMALL(IF(U235:AV235<>\"\",COLUMN(U235:AV235)-MIN(COLUMN(U235:AV235))+1),COLUMNS($U$2:AQ219))),\"\")","v":0},{"$f":"IFERROR(INDEX(U235:AV235,1,SMALL(IF(U235:AV235<>\"\",COLUMN(U235:AV235)-MIN(COLUMN(U235:AV235))+1),COLUMNS($U$2:AR219))),\"\")","v":0},{"$f":"IFERROR(INDEX(U235:AV235,1,SMALL(IF(U235:AV235<>\"\",COLUMN(U235:AV235)-MIN(COLUMN(U235:AV235))+1),COLUMNS($U$2:AS219))),\"\")","v":0},{"$f":"IFERROR(INDEX(U235:AV235,1,SMALL(IF(U235:AV235<>\"\",COLUMN(U235:AV235)-MIN(COLUMN(U235:AV235))+1),COLUMNS($U$2:AT219))),\"\")","v":0},{"$f":"IFERROR(INDEX(U235:AV235,1,SMALL(IF(U235:AV235<>\"\",COLUMN(U235:AV235)-MIN(COLUMN(U235:AV235))+1),COLUMNS($U$2:AU219))),\"\")","v":0},{"$f":"IFERROR(INDEX(U235:AV235,1,SMALL(IF(U235:AV235<>\"\",COLUMN(U235:AV235)-MIN(COLUMN(U235:AV235))+1),COLUMNS($U$2:AV219))),\"\")","v":0},null,null,null,null,null,null,null,{"$f":"IFERROR(INDEX(BA219:BA229,MATCH(SMALL(BC219:BC229,ROWS(BA219:BA226)),BC219:BC229,)),\"\")","v":""},{"$f":"IFERROR(INDEX(BD219:BD240,SMALL(IF(BD219:BD240<>\"\",ROW(BD219:BD240)-MIN(ROW(BD219:BD240))+1),ROWS(AX219:AX237))),\"\")","v":""},null,{"$f":"+AM237","v":0},{"$f":"COUNTIF($BG$2:BG237,\"*\"&BG237&\"*\")","v":0},"","",{"$f":"IFERROR(INDEX(BI$2:BI$308,MATCH(ROWS(BJ$2:BJ237),BJ$2:BJ$308,0)),\"\")","v":""},{"$f":"COUNTIF($BK237:$BK$308,\"*\"&BK237&\"*\")","v":72},"","",{"$f":"IFERROR(INDEX($BM$2:$BM$308,MATCH(ROWS(BN$2:BN237),BN$2:BN543,0)),\"\")","v":""},{"$f":"IFERROR(VLOOKUP(Engine!BO237,P_sentences_overview!H238:I367,2),\"\")","v":""}]
[null,null,null,null,null,null,null,null,null,null,null,null,null,null,null,null,null,null,null,null,null,null,null,null,null,null,null,null,null,null,null,null,null,null,null,null,null,null,null,null,null,null,null,null,null,null,null,null,null,null,null,null,null,null,null,{"$f":"IFERROR(INDEX(BA219:BA229,MATCH(SMALL(BC219:BC229,ROWS(BA219:BA227)),BC219:BC229,)),\"\")","v":""},{"$f":"IFERROR(INDEX(BD219:BD240,SMALL(IF(BD219:BD240<>\"\",ROW(BD219:BD240)-MIN(ROW(BD219:BD240))+1),ROWS(AX219:AX238))),\"\")","v":""},null,{"$f":"+AN237","v":0},{"$f":"COUNTIF($BG$2:BG238,\"*\"&BG238&\"*\")","v":0},"","",{"$f":"IFERROR(INDEX(BI$2:BI$308,MATCH(ROWS(BJ$2:BJ238),BJ$2:BJ$308,0)),\"\")","v":""},{"$f":"COUNTIF($BK238:$BK$308,\"*\"&BK238&\"*\")","v":71},"","",{"$f":"IFERROR(INDEX($BM$2:$BM$308,MATCH(ROWS(BN$2:BN238),BN$2:BN544,0)),\"\")","v":""},{"$f":"IFERROR(VLOOKUP(Engine!BO238,P_sentences_overview!H239:I368,2),\"\")","v":""}]
[null,null,null,null,null,null,null,null,null,null,null,null,null,null,null,null,null,null,null,null,null,null,null,null,null,null,null,null,null,null,null,null,null,null,null,null,null,null,null,null,null,null,null,null,null,null,null,null,null,null,null,null,null,null,null,{"$f":"IFERROR(INDEX(BA219:BA229,MATCH(SMALL(BC219:BC229,ROWS(BA219:BA228)),BC219:BC229,)),\"\")","v":""},{"$f":"IFERROR(INDEX(BD219:BD240,SMALL(IF(BD219:BD240<>\"\",ROW(BD219:BD240)-MIN(ROW(BD219:BD240))+1),ROWS(AX219:AX239))),\"\")","v":""},null,{"$f":"+AO237","v":0},{"$f":"COUNTIF($BG$2:BG239,\"*\"&BG239&\"*\")","v":0},"","",{"$f":"IFERROR(INDEX(BI$2:BI$308,MATCH(ROWS(BJ$2:BJ239),BJ$2:BJ$308,0)),\"\")","v":""},{"$f":"COUNTIF($BK239:$BK$308,\"*\"&BK239&\"*\")","v":70},"","",{"$f":"IFERROR(INDEX($BM$2:$BM$308,MATCH(ROWS(BN$2:BN239),BN$2:BN545,0)),\"\")","v":""},{"$f":"IFERROR(VLOOKUP(Engine!BO239,P_sentences_overview!H240:I369,2),\"\")","v":""}]
[null,null,null,null,null,null,null,null,null,null,null,null,null,null,null,null,null,null,null,null,null,null,null,null,null,null,null,null,null,null,null,null,null,null,null,null,null,null,null,null,null,null,null,null,null,null,null,null,null,null,null,null,null,null,null,{"$f":"IFERROR(INDEX(BA219:BA229,MATCH(SMALL(BC219:BC229,ROWS(BA219:BA229)),BC219:BC229,)),\"\")","v":""},{"$f":"IFERROR(INDEX(BD219:BD240,SMALL(IF(BD219:BD240<>\"\",ROW(BD219:BD240)-MIN(ROW(BD219:BD240))+1),ROWS(AX219:AX240))),\"\")","v":""},null,{"$f":"+AP237","v":0},{"$f":"COUNTIF($BG$2:BG240,\"*\"&BG240&\"*\")","v":0},"","",{"$f":"IFERROR(INDEX(BI$2:BI$308,MATCH(ROWS(BJ$2:BJ240),BJ$2:BJ$308,0)),\"\")","v":""},{"$f":"COUNTIF($BK240:$BK$308,\"*\"&BK240&\"*\")","v":69},"","",{"$f":"IFERROR(INDEX($BM$2:$BM$308,MATCH(ROWS(BN$2:BN240),BN$2:BN546,0)),\"\")","v":""},{"$f":"IFERROR(VLOOKUP(Engine!BO240,P_sentences_overview!H241:I370,2),\"\")","v":""}]
[null,null,null,null,null,null,null,null,null,null,null,null,null,null,null,null,null,null,null,null,null,null,null,null,null,null,null,null,null,null,null,null,null,null,null,null,null,null,null,null,null,null,null,null,null,null,null,null,null,null,null,null,null,null,null,null,null,null,{"$f":"+AQ237","v":0},{"$f":"COUNTIF($BG$2:BG241,\"*\"&BG241&\"*\")","v":0},"","",{"$f":"IFERROR(INDEX(BI$2:BI$308,MATCH(ROWS(BJ$2:BJ241),BJ$2:BJ$308,0)),\"\")","v":""},{"$f":"COUNTIF($BK241:$BK$308,\"*\"&BK241&\"*\")","v":68},"","",{"$f":"IFERROR(INDEX($BM$2:$BM$308,MATCH(ROWS(BN$2:BN241),BN$2:BN547,0)),\"\")","v":""},{"$f":"IFERROR(VLOOKUP(Engine!BO241,P_sentences_overview!H242:I371,2),\"\")","v":""}]
[null,null,null,null,null,null,null,null,null,null,null,null,null,null,null,null,null,null,null,null,null,null,null,null,null,null,null,null,null,null,null,null,null,null,null,null,null,null,null,null,null,null,null,null,null,null,null,null,null,null,null,null,null,null,null,null,null,null,{"$f":"+AR237","v":0},{"$f":"COUNTIF($BG$2:BG242,\"*\"&BG242&\"*\")","v":0},"","",{"$f":"IFERROR(INDEX(BI$2:BI$308,MATCH(ROWS(BJ$2:BJ242),BJ$2:BJ$308,0)),\"\")","v":""},{"$f":"COUNTIF($BK242:$BK$308,\"*\"&BK242&\"*\")","v":67},"","",{"$f":"IFERROR(INDEX($BM$2:$BM$308,MATCH(ROWS(BN$2:BN242),BN$2:BN548,0)),\"\")","v":""},{"$f":"IFERROR(VLOOKUP(Engine!BO242,P_sentences_overview!H243:I372,2),\"\")","v":""}]
[null,null,null,null,null,null,null,null,null,null,null,null,null,null,null,null,null,null,null,null,null,null,null,null,null,null,null,null,null,null,null,null,null,null,null,null,null,null,null,null,null,null,null,null,null,null,null,null,null,null,null,null,null,null,null,null,null,null,{"$f":"+AS237","v":0},{"$f":"COUNTIF($BG$2:BG243,\"*\"&BG243&\"*\")","v":0},"","",{"$f":"IFERROR(INDEX(BI$2:BI$308,MATCH(ROWS(BJ$2:BJ243),BJ$2:BJ$308,0)),\"\")","v":""},{"$f":"COUNTIF($BK243:$BK$308,\"*\"&BK243&\"*\")","v":66},"","",{"$f":"IFERROR(INDEX($BM$2:$BM$308,MATCH(ROWS(BN$2:BN243),BN$2:BN549,0)),\"\")","v":""},{"$f":"IFERROR(VLOOKUP(Engine!BO243,P_sentences_overview!H244:I373,2),\"\")","v":""}]
[null,null,null,null,null,null,null,null,null,null,null,null,null,null,null,null,null,null,null,null,null,null,null,null,null,null,null,null,null,null,null,null,null,null,null,null,null,null,null,null,null,null,null,null,null,null,null,null,null,null,null,null,null,null,null,null,null,null,{"$f":"+AT237","v":0},{"$f":"COUNTIF($BG$2:BG244,\"*\"&BG244&\"*\")","v":0},"","",{"$f":"IFERROR(INDEX(BI$2:BI$308,MATCH(ROWS(BJ$2:BJ244),BJ$2:BJ$308,0)),\"\")","v":""},{"$f":"COUNTIF($BK244:$BK$308,\"*\"&BK244&\"*\")","v":65},"","",{"$f":"IFERROR(INDEX($BM$2:$BM$308,MATCH(ROWS(BN$2:BN244),BN$2:BN550,0)),\"\")","v":""},{"$f":"IFERROR(VLOOKUP(Engine!BO244,P_sentences_overview!H245:I374,2),\"\")","v":""}]
[null,null,null,null,null,null,null,null,null,null,null,null,null,null,null,null,null,null,null,null,null,null,null,null,null,null,null,null,null,null,null,null,null,null,null,null,null,null,null,null,null,null,null,null,null,null,null,null,null,null,null,null,null,null,null,null,null,null,{"$f":"+AU237","v":0},{"$f":"COUNTIF($BG$2:BG245,\"*\"&BG245&\"*\")","v":0},"","",{"$f":"IFERROR(INDEX(BI$2:BI$308,MATCH(ROWS(BJ$2:BJ245),BJ$2:BJ$308,0)),\"\")","v":""},{"$f":"COUNTIF($BK245:$BK$308,\"*\"&BK245&\"*\")","v":64},"","",{"$f":"IFERROR(INDEX($BM$2:$BM$308,MATCH(ROWS(BN$2:BN245),BN$2:BN551,0)),\"\")","v":""},{"$f":"IFERROR(VLOOKUP(Engine!BO245,P_sentences_overview!H246:I375,2),\"\")","v":""}]
[null,null,null,null,null,null,null,null,null,null,null,null,null,null,null,null,null,null,null,null,null,null,null,null,null,null,null,null,null,null,null,null,null,null,null,null,null,null,null,null,null,null,null,null,null,null,null,null,null,null,null,null,null,null,null,null,null,null,{"$f":"+AV237","v":0},{"$f":"COUNTIF($BG$2:BG246,\"*\"&BG246&\"*\")","v":0},"","",{"$f":"IFERROR(INDEX(BI$2:BI$308,MATCH(ROWS(BJ$2:BJ246),BJ$2:BJ$308,0)),\"\")","v":""},{"$f":"COUNTIF($BK246:$BK$308,\"*\"&BK246&\"*\")","v":63},"","",{"$f":"IFERROR(INDEX($BM$2:$BM$308,MATCH(ROWS(BN$2:BN246),BN$2:BN552,0)),\"\")","v":""},{"$f":"IFERROR(VLOOKUP(Engine!BO246,P_sentences_overview!H247:I376,2),\"\")","v":""}]
[null,null,null,null,null,null,null,null,null,null,null,null,null,null,null,null,null,null,null,null,null,null,null,null,null,null,null,null,null,null,null,null,null,null,null,null,null,null,null,null,null,null,null,null,null,null,null,null,null,null,null,null,null,null,null,null,null,null,null,{"$f":"COUNTIF($BG$2:BG247,\"*\"&BG247&\"*\")","v":0},"","",{"$f":"IFERROR(INDEX(BI$2:BI$308,MATCH(ROWS(BJ$2:BJ247),BJ$2:BJ$308,0)),\"\")","v":""},{"$f":"COUNTIF($BK247:$BK$308,\"*\"&BK247&\"*\")","v":62},"","",{"$f":"IFERROR(INDEX($BM$2:$BM$308,MATCH(ROWS(BN$2:BN247),BN$2:BN553,0)),\"\")","v":""},{"$f":"IFERROR(VLOOKUP(Engine!BO247,P_sentences_overview!H248:I377,2),\"\")","v":""}]
[null,null,null,null,null,null,null,null,null,null,null,null,null,null,null,null,null,null,null,null,null,null,null,null,null,null,null,null,null,null,null,null,null,null,null,null,null,null,null,null,null,null,null,null,null,null,null,null,null,null,null,null,null,null,null,null,null,null,null,{"$f":"COUNTIF($BG$2:BG248,\"*\"&BG248&\"*\")","v":0},"","",{"$f":"IFERROR(INDEX(BI$2:BI$308,MATCH(ROWS(BJ$2:BJ248),BJ$2:BJ$308,0)),\"\")","v":""},{"$f":"COUNTIF($BK248:$BK$308,\"*\"&BK248&\"*\")","v":61},"","",{"$f":"IFERROR(INDEX($BM$2:$BM$308,MATCH(ROWS(BN$2:BN248),BN$2:BN554,0)),\"\")","v":""},{"$f":"IFERROR(VLOOKUP(Engine!BO248,P_sentences_overview!H249:I378,2),\"\")","v":""}]
[null,null,null,null,null,null,null,null,null,null,null,null,null,null,null,"Vælg  Hazard code","Opslag Hazard category","Vælg Hazard class","Opslag Hazard category","Opslag Hazard class","Column1","Column2","Column3","Column4",null,null,null,null,null,null,null,null,null,null,null,null,null,null,null,null,null,null,null,null,null,null,null,null,null,"Unique values","Number check","numbers_pull","text_pull","numbers_pull_rated","text_pull_rated","All_sorted","All_sorted_top",null,null,{"$f":"COUNTIF($BG$2:BG249,\"*\"&BG249&\"*\")","v":0},"","",{"$f":"IFERROR(INDEX(BI$2:BI$308,MATCH(ROWS(BJ$2:BJ249),BJ$2:BJ$308,0)),\"\")","v":""},{"$f":"COUNTIF($BK249:$BK$308,\"*\"&BK249&\"*\")","v":60},"","",{"$f":"IFERROR(INDEX($BM$2:$BM$308,MATCH(ROWS(BN$2:BN249),BN$2:BN555,0)),\"\")","v":""},{"$f":"IFERROR(VLOOKUP(Engine!BO249,P_sentences_overview!H250:I379,2),\"\")","v":""}]
[null,null,null,null,null,null,null,null,null,null,null,null,null,null,null,{"$f":"INDEX(H_sentences_overview!$A$1:$A$134,Engine!P255)","v":"(none)"},{"$f":"IFERROR(VLOOKUP(P250,H_sentences_overview!$A$2:$D$161,3),\"\")","v":""},{"$f":"INDEX(BE250:BE271,Engine!R255)","v":""},null,null,{"$f":"IFERROR(INDEX(P_saetn,SMALL(IF(Hazard=Engine!$Q250,ROW(P_saetn)-MIN(ROW(P_saetn))+1),COLUMNS($U250:U250))),\"\")","v":0},{"$f":"IFERROR(INDEX(P_saetn,SMALL(IF(Hazard=Engine!$Q250,ROW(P_saetn)-MIN(ROW(P_saetn))+1),COLUMNS($U250:V250))),\"\")","v":0},{"$f":"IFERROR(INDEX(P_saetn,SMALL(IF(Hazard=Engine!$Q250,ROW(P_saetn)-MIN(ROW(P_saetn))+1),COLUMNS($U250:W250))),\"\")","v":0},{"$f":"IFERROR(INDEX(P_saetn,SMALL(IF(Hazard=Engine!$Q250,ROW(P_saetn)-MIN(ROW(P_saetn))+1),COLUMNS($U250:X250))),\"\")","v":0},{"$f":"IFERROR(INDEX(P_saetn,SMALL(IF(Hazard=Engine!$Q250,ROW(P_saetn)-MIN(ROW(P_saetn))+1),COLUMNS($U250:Y250))),\"\")","v":0},{"$f":"IFERROR(INDEX(P_saetn,SMALL(IF(Hazard=Engine!$Q250,ROW(P_saetn)-MIN(ROW(P_saetn))+1),COLUMNS($U250:Z250))),\"\")","v":0},{"$f":"IFERROR(INDEX(P_saetn,SMALL(IF(Hazard=Engine!$Q250,ROW(P_saetn)-MIN(ROW(P_saetn))+1),COLUMNS($U250:AA250))),\"\")","v":0},{"$f":"IFERROR(INDEX(P_saetn,SMALL(IF(Hazard=Engine!$Q250,ROW(P_saetn)-MIN(ROW(P_saetn))+1),COLUMNS($U250:AB250))),\"\")","v":0},{"$f":"IFERROR(INDEX(P_saetn,SMALL(IF(Hazard=Engine!$Q250,ROW(P_saetn)-MIN(ROW(P_saetn))+1),COLUMNS($U250:AC250))),\"\")","v":0},{"$f":"IFERROR(INDEX(P_saetn,SMALL(IF(Hazard=Engine!$Q250,ROW(P_saetn)-MIN(ROW(P_saetn))+1),COLUMNS($U250:AD250))),\"\")","v":0},{"$f":"IFERROR(INDEX(P_saetn,SMALL(IF(Hazard=Engine!$Q250,ROW(P_saetn)-MIN(ROW(P_saetn))+1),COLUMNS($U250:AE250))),\"\")","v":0},{"$f":"IFERROR(INDEX(P_saetn,SMALL(IF(Hazard=Engine!$Q250,ROW(P_saetn)-MIN(ROW(P_saetn))+1),COLUMNS($U250:AF250))),\"\")","v":0},{"$f":"IFERROR(INDEX(P_saetn,SMALL(IF(Hazard=Engine!$Q250,ROW(P_saetn)-MIN(ROW(P_saetn))+1),COLUMNS($U250:AG250))),\"\")","v":0},{"$f":"IFERROR(INDEX(P_saetn,SMALL(IF(Hazard=Engine!$Q250,ROW(P_saetn)-MIN(ROW(P_saetn))+1),COLUMNS($U250:AH250))),\"\")","v":0},{"$f":"IFERROR(INDEX(P_saetn,SMALL(IF(Hazard=Engine!$Q250,ROW(P_saetn)-MIN(ROW(P_saetn))+1),COLUMNS($U250:AI250))),\"\")","v":0},{"$f":"IFERROR(INDEX(P_saetn,SMALL(IF(Hazard=Engine!$Q250,ROW(P_saetn)-MIN(ROW(P_saetn))+1),COLUMNS($U250:AJ250))),\"\")","v":0},{"$f":"IFERROR(INDEX(P_saetn,SMALL(IF(Hazard=Engine!$Q250,ROW(P_saetn)-MIN(ROW(P_saetn))+1),COLUMNS($U250:AK250))),\"\")","v":0},{"$f":"IFERROR(INDEX(P_saetn,SMALL(IF(Hazard=Engine!$Q250,ROW(P_saetn)-MIN(ROW(P_saetn))+1),COLUMNS($U250:AL250))),\"\")","v":0},{"$f":"IFERROR(INDEX(P_saetn,SMALL(IF(Hazard=Engine!$Q250,ROW(P_saetn)-MIN(ROW(P_saetn))+1),COLUMNS($U250:AM250))),\"\")","v":0},{"$f":"IFERROR(INDEX(P_saetn,SMALL(IF(Hazard=Engine!$Q250,ROW(P_saetn)-MIN(ROW(P_saetn))+1),COLUMNS($U250:AN250))),\"\")","v":0},{"$f":"IFERROR(INDEX(P_saetn,SMALL(IF(Hazard=Engine!$Q250,ROW(P_saetn)-MIN(ROW(P_saetn))+1),COLUMNS($U250:AO250))),\"\")","v":0},{"$f":"IFERROR(INDEX(P_saetn,SMALL(IF(Hazard=Engine!$Q250,ROW(P_saetn)-MIN(ROW(P_saetn))+1),COLUMNS($U250:AP250))),\"\")","v":0},{"$f":"IFERROR(INDEX(P_saetn,SMALL(IF(Hazard=Engine!$Q250,ROW(P_saetn)-MIN(ROW(P_saetn))+1),COLUMNS($U250:AQ250))),\"\")","v":0},{"$f":"IFERROR(INDEX(P_saetn,SMALL(IF(Hazard=Engine!$Q250,ROW(P_saetn)-MIN(ROW(P_saetn))+1),COLUMNS($U250:AR250))),\"\")","v":0},{"$f":"IFERROR(INDEX(P_saetn,SMALL(IF(Hazard=Engine!$Q250,ROW(P_saetn)-MIN(ROW(P_saetn))+1),COLUMNS($U250:AS250))),\"\")","v":0},{"$f":"IFERROR(INDEX(P_saetn,SMALL(IF(Hazard=Engine!$Q250,ROW(P_saetn)-MIN(ROW(P_saetn))+1),COLUMNS($U250:AT250))),\"\")","v":0},{"$f":"IFERROR(INDEX(P_saetn,SMALL(IF(Hazard=Engine!$Q250,ROW(P_saetn)-MIN(ROW(P_saetn))+1),COLUMNS($U250:AU250))),\"\")","v":0},{"$f":"IFERROR(INDEX(P_saetn,SMALL(IF(Hazard=Engine!$Q250,ROW(P_saetn)-MIN(ROW(P_saetn))+1),COLUMNS($U250:AV250))),\"\")","v":0},null,{"$f":"INDIRECT(TEXT(MIN(IF(($U259:$AV264<>\"\")*(COUNTIF($AX249:$AX249,$U259:$AV264)=0),ROW($P259:$BM264)*100+COLUMN($U249:$AV277),7^8)),\"R0C00\"),)&\"\"","v":""},{"$f":"ISNUMBER(AX250*1)","v":false},{"$f":"IF(AY250=TRUE,AX250*1,\"\")","v":""},{"$f":"IF(AY250=FALSE,AX250,\"\")","v":""},{"$f":"COUNTIF(AZ250:AZ260,\"<=\"&AZ250)","v":0},{"$f":"IF(COUNTIF(BA250:BA260,\"<=\"&BA250)=0,\"\",COUNTIF(BA250:BA260,\"<=\"&BA250))","v":""},{"$f":"IFERROR(SMALL(AZ250:AZ260,ROWS(AX250:AX250)),\"\")","v":""},{"$f":"IFERROR(INDEX(BD250:BD271,SMALL(IF(BD250:BD271<>\"\",ROW(BD250:BD271)-MIN(ROW(BD250:BD271))+1),ROWS(AX250:AX250))),\"\")","v":""},null,{"$f":"U268","v":0},{"$f":"COUNTIF($BG$2:BG250,\"*\"&BG250&\"*\")","v":0},"","",{"$f":"IFERROR(INDEX(BI$2:BI$308,MATCH(ROWS(BJ$2:BJ250),BJ$2:BJ$308,0)),\"\")","v":""},{"$f":"COUNTIF($BK250:$BK$308,\"*\"&BK250&\"*\")","v":59},"","",{"$f":"IFERROR(INDEX($BM$2:$BM$308,MATCH(ROWS(BN$2:BN250),BN$2:BN556,0)),\"\")","v":""},{"$f":"IFERROR(VLOOKUP(Engine!BO250,P_sentences_overview!H251:I380,2),\"\")","v":""}]
[null,null,null,null,null,null,null,null,null,null,null,null,null,null,null,null,null,null,null,null,{"$f":"SMALL(IF(Hazard=Engine!$Q250,ROW(P_saetn)-MIN(ROW(P_saetn))+1),COLUMNS($U250:U250)+1)","v":465},{"$f":"SMALL(IF(Hazard=Engine!$Q250,ROW(P_saetn)-MIN(ROW(P_saetn))+1),COLUMNS($U250:V250)+1)","v":466},{"$f":"SMALL(IF(Hazard=Engine!$Q250,ROW(P_saetn)-MIN(ROW(P_saetn))+1),COLUMNS($U250:W250)+1)","v":467},{"$f":"SMALL(IF(Hazard=Engine!$Q250,ROW(P_saetn)-MIN(ROW(P_saetn))+1),COLUMNS($U250:X250)+1)","v":468},{"$f":"SMALL(IF(Hazard=Engine!$Q250,ROW(P_saetn)-MIN(ROW(P_saetn))+1),COLUMNS($U250:Y250)+1)","v":469},{"$f":"SMALL(IF(Hazard=Engine!$Q250,ROW(P_saetn)-MIN(ROW(P_saetn))+1),COLUMNS($U250:Z250)+1)","v":470},{"$f":"SMALL(IF(Hazard=Engine!$Q250,ROW(P_saetn)-MIN(ROW(P_saetn))+1),COLUMNS($U250:AA250)+1)","v":471},{"$f":"SMALL(IF(Hazard=Engine!$Q250,ROW(P_saetn)-MIN(ROW(P_saetn))+1),COLUMNS($U250:AB250)+1)","v":472},{"$f":"SMALL(IF(Hazard=Engine!$Q250,ROW(P_saetn)-MIN(ROW(P_saetn))+1),COLUMNS($U250:AC250)+1)","v":473},{"$f":"SMALL(IF(Hazard=Engine!$Q250,ROW(P_saetn)-MIN(ROW(P_saetn))+1),COLUMNS($U250:AD250)+1)","v":474},{"$f":"SMALL(IF(Hazard=Engine!$Q250,ROW(P_saetn)-MIN(ROW(P_saetn))+1),COLUMNS($U250:AE250)+1)","v":475},{"$f":"SMALL(IF(Hazard=Engine!$Q250,ROW(P_saetn)-MIN(ROW(P_saetn))+1),COLUMNS($U250:AF250)+1)","v":476},{"$f":"SMALL(IF(Hazard=Engine!$Q250,ROW(P_saetn)-MIN(ROW(P_saetn))+1),COLUMNS($U250:AG250)+1)","v":477},{"$f":"SMALL(IF(Hazard=Engine!$Q250,ROW(P_saetn)-MIN(ROW(P_saetn))+1),COLUMNS($U250:AH250)+1)","v":478},{"$f":"SMALL(IF(Hazard=Engine!$Q250,ROW(P_saetn)-MIN(ROW(P_saetn))+1),COLUMNS($U250:AI250)+1)","v":479},{"$f":"SMALL(IF(Hazard=Engine!$Q250,ROW(P_saetn)-MIN(ROW(P_saetn))+1),COLUMNS($U250:AJ250)+1)","v":480},{"$f":"SMALL(IF(Hazard=Engine!$Q250,ROW(P_saetn)-MIN(ROW(P_saetn))+1),COLUMNS($U250:AK250)+1)","v":481},{"$f":"SMALL(IF(Hazard=Engine!$Q250,ROW(P_saetn)-MIN(ROW(P_saetn))+1),COLUMNS($U250:AL250)+1)","v":482},{"$f":"SMALL(IF(Hazard=Engine!$Q250,ROW(P_saetn)-MIN(ROW(P_saetn))+1),COLUMNS($U250:AM250)+1)","v":483},{"$f":"SMALL(IF(Hazard=Engine!$Q250,ROW(P_saetn)-MIN(ROW(P_saetn))+1),COLUMNS($U250:AN250)+1)","v":484},{"$f":"SMALL(IF(Hazard=Engine!$Q250,ROW(P_saetn)-MIN(ROW(P_saetn))+1),COLUMNS($U250:AO250)+1)","v":485},{"$f":"SMALL(IF(Hazard=Engine!$Q250,ROW(P_saetn)-MIN(ROW(P_saetn))+1),COLUMNS($U250:AP250)+1)","v":486},{"$f":"SMALL(IF(Hazard=Engine!$Q250,ROW(P_saetn)-MIN(ROW(P_saetn))+1),COLUMNS($U250:AQ250)+1)","v":487},{"$f":"SMALL(IF(Hazard=Engine!$Q250,ROW(P_saetn)-MIN(ROW(P_saetn))+1),COLUMNS($U250:AR250)+1)","v":488},{"$f":"SMALL(IF(Hazard=Engine!$Q250,ROW(P_saetn)-MIN(ROW(P_saetn))+1),COLUMNS($U250:AS250)+1)","v":489},{"$f":"SMALL(IF(Hazard=Engine!$Q250,ROW(P_saetn)-MIN(ROW(P_saetn))+1),COLUMNS($U250:AT250)+1)","v":490},{"$f":"SMALL(IF(Hazard=Engine!$Q250,ROW(P_saetn)-MIN(ROW(P_saetn))+1),COLUMNS($U250:AU250)+1)","v":491},{"$f":"SMALL(IF(Hazard=Engine!$Q250,ROW(P_saetn)-MIN(ROW(P_saetn))+1),COLUMNS($U250:AV250)+1)","v":492},null,{"$f":"INDIRECT(TEXT(MIN(IF(($U259:$AV264<>\"\")*(COUNTIF($AX249:$AX250,$U259:$AV264)=0),ROW($P259:$BM264)*100+COLUMN($U249:$AV277),7^8)),\"R0C00\"),)&\"\"","v":""},false,"","",{"$f":"COUNTIF(AZ250:AZ260,\"<=\"&AZ251)","v":0},{"$f":"IF(COUNTIF(BA250:BA260,\"<=\"&BA251)=0,\"\",COUNTIF(BA250:BA260,\"<=\"&BA251))","v":""},{"$f":"IFERROR(SMALL(AZ250:AZ260,ROWS(AX250:AX251)),\"\")","v":""},{"$f":"IFERROR(INDEX(BD250:BD271,SMALL(IF(BD250:BD271<>\"\",ROW(BD250:BD271)-MIN(ROW(BD250:BD271))+1),ROWS(AX250:AX251))),\"\")","v":""},null,{"$f":"+V268","v":0},{"$f":"COUNTIF($BG$2:BG251,\"*\"&BG251&\"*\")","v":0},"","",{"$f":"IFERROR(INDEX(BI$2:BI$308,MATCH(ROWS(BJ$2:BJ251),BJ$2:BJ$308,0)),\"\")","v":""},{"$f":"COUNTIF($BK251:$BK$308,\"*\"&BK251&\"*\")","v":58},"","",{"$f":"IFERROR(INDEX($BM$2:$BM$308,MATCH(ROWS(BN$2:BN251),BN$2:BN557,0)),\"\")","v":""},{"$f":"IFERROR(VLOOKUP(Engine!BO251,P_sentences_overview!H252:I381,2),\"\")","v":""}]
[null,null,null,null,null,null,null,null,null,null,null,null,null,null,null,null,null,null,null,null,{"$f":"IFERROR(INDEX(Haz_Cat,SMALL(IF(Hazard=Engine!$Q250,ROW(Haz_Cat)-MIN(ROW(Haz_Cat))+1),COLUMNS($U252:U252)),COLUMNS(Main!D$2:D$2)),\"\")","v":0},{"$f":"IFERROR(INDEX(Haz_Cat,SMALL(IF(Hazard=Engine!$Q250,ROW(Haz_Cat)-MIN(ROW(Haz_Cat))+1),COLUMNS($U252:V252)),COLUMNS(Main!E$2:E$2)),\"\")","v":0},{"$f":"IFERROR(INDEX(Haz_Cat,SMALL(IF(Hazard=Engine!$Q250,ROW(Haz_Cat)-MIN(ROW(Haz_Cat))+1),COLUMNS($U252:W252)),COLUMNS(Main!F$2:F$2)),\"\")","v":0},{"$f":"IFERROR(INDEX(Haz_Cat,SMALL(IF(Hazard=Engine!$Q250,ROW(Haz_Cat)-MIN(ROW(Haz_Cat))+1),COLUMNS($U252:X252)),COLUMNS(Main!G$2:G$2)),\"\")","v":0},{"$f":"IFERROR(INDEX(Haz_Cat,SMALL(IF(Hazard=Engine!$Q250,ROW(Haz_Cat)-MIN(ROW(Haz_Cat))+1),COLUMNS($U252:Y252)),COLUMNS(Main!H$2:H$2)),\"\")","v":0},{"$f":"IFERROR(INDEX(Haz_Cat,SMALL(IF(Hazard=Engine!$Q250,ROW(Haz_Cat)-MIN(ROW(Haz_Cat))+1),COLUMNS($U252:Z252)),COLUMNS(Main!I$2:I$2)),\"\")","v":0},{"$f":"IFERROR(INDEX(Haz_Cat,SMALL(IF(Hazard=Engine!$Q250,ROW(Haz_Cat)-MIN(ROW(Haz_Cat))+1),COLUMNS($U252:AA252)),COLUMNS(Main!J$2:J$2)),\"\")","v":0},{"$f":"IFERROR(INDEX(Haz_Cat,SMALL(IF(Hazard=Engine!$Q250,ROW(Haz_Cat)-MIN(ROW(Haz_Cat))+1),COLUMNS($U252:AB252)),COLUMNS(Main!K$2:K$2)),\"\")","v":0},{"$f":"IFERROR(INDEX(Haz_Cat,SMALL(IF(Hazard=Engine!$Q250,ROW(Haz_Cat)-MIN(ROW(Haz_Cat))+1),COLUMNS($U252:AC252)),COLUMNS(Main!L$2:L$2)),\"\")","v":0},{"$f":"IFERROR(INDEX(Haz_Cat,SMALL(IF(Hazard=Engine!$Q250,ROW(Haz_Cat)-MIN(ROW(Haz_Cat))+1),COLUMNS($U252:AD252)),COLUMNS(Main!M$2:M$2)),\"\")","v":0},{"$f":"IFERROR(INDEX(Haz_Cat,SMALL(IF(Hazard=Engine!$Q250,ROW(Haz_Cat)-MIN(ROW(Haz_Cat))+1),COLUMNS($U252:AE252)),COLUMNS(Main!N$2:N$2)),\"\")","v":0},{"$f":"IFERROR(INDEX(Haz_Cat,SMALL(IF(Hazard=Engine!$Q250,ROW(Haz_Cat)-MIN(ROW(Haz_Cat))+1),COLUMNS($U252:AF252)),COLUMNS(Main!O$2:O$2)),\"\")","v":0},{"$f":"IFERROR(INDEX(Haz_Cat,SMALL(IF(Hazard=Engine!$Q250,ROW(Haz_Cat)-MIN(ROW(Haz_Cat))+1),COLUMNS($U252:AG252)),COLUMNS(Main!P$2:P$2)),\"\")","v":0},{"$f":"IFERROR(INDEX(Haz_Cat,SMALL(IF(Hazard=Engine!$Q250,ROW(Haz_Cat)-MIN(ROW(Haz_Cat))+1),COLUMNS($U252:AH252)),COLUMNS(Main!Q$2:Q$2)),\"\")","v":0},{"$f":"IFERROR(INDEX(Haz_Cat,SMALL(IF(Hazard=Engine!$Q250,ROW(Haz_Cat)-MIN(ROW(Haz_Cat))+1),COLUMNS($U252:AI252)),COLUMNS(Main!R$2:R$2)),\"\")","v":0},{"$f":"IFERROR(INDEX(Haz_Cat,SMALL(IF(Hazard=Engine!$Q250,ROW(Haz_Cat)-MIN(ROW(Haz_Cat))+1),COLUMNS($U252:AJ252)),COLUMNS(Main!S$2:S$2)),\"\")","v":0},{"$f":"IFERROR(INDEX(Haz_Cat,SMALL(IF(Hazard=Engine!$Q250,ROW(Haz_Cat)-MIN(ROW(Haz_Cat))+1),COLUMNS($U252:AK252)),COLUMNS(Main!T$2:T$2)),\"\")","v":0},{"$f":"IFERROR(INDEX(Haz_Cat,SMALL(IF(Hazard=Engine!$Q250,ROW(Haz_Cat)-MIN(ROW(Haz_Cat))+1),COLUMNS($U252:AL252)),COLUMNS(Main!U$2:U$2)),\"\")","v":0},{"$f":"IFERROR(INDEX(Haz_Cat,SMALL(IF(Hazard=Engine!$Q250,ROW(Haz_Cat)-MIN(ROW(Haz_Cat))+1),COLUMNS($U252:AM252)),COLUMNS(Main!V$2:V$2)),\"\")","v":0},{"$f":"IFERROR(INDEX(Haz_Cat,SMALL(IF(Hazard=Engine!$Q250,ROW(Haz_Cat)-MIN(ROW(Haz_Cat))+1),COLUMNS($U252:AN252)),COLUMNS(Main!W$2:W$2)),\"\")","v":0},{"$f":"IFERROR(INDEX(Haz_Cat,SMALL(IF(Hazard=Engine!$Q250,ROW(Haz_Cat)-MIN(ROW(Haz_Cat))+1),COLUMNS($U252:AO252)),COLUMNS(Main!X$2:X$2)),\"\")","v":0},{"$f":"IFERROR(INDEX(Haz_Cat,SMALL(IF(Hazard=Engine!$Q250,ROW(Haz_Cat)-MIN(ROW(Haz_Cat))+1),COLUMNS($U252:AP252)),COLUMNS(Main!Y$2:Y$2)),\"\")","v":0},{"$f":"IFERROR(INDEX(Haz_Cat,SMALL(IF(Hazard=Engine!$Q250,ROW(Haz_Cat)-MIN(ROW(Haz_Cat))+1),COLUMNS($U252:AQ252)),COLUMNS(Main!Z$2:Z$2)),\"\")","v":0},{"$f":"IFERROR(INDEX(Haz_Cat,SMALL(IF(Hazard=Engine!$Q250,ROW(Haz_Cat)-MIN(ROW(Haz_Cat))+1),COLUMNS($U252:AR252)),COLUMNS(Main!AA$2:AA$2)),\"\")","v":0},{"$f":"IFERROR(INDEX(Haz_Cat,SMALL(IF(Hazard=Engine!$Q250,ROW(Haz_Cat)-MIN(ROW(Haz_Cat))+1),COLUMNS($U252:AS252)),COLUMNS(Main!AB$2:AB$2)),\"\")","v":0},{"$f":"IFERROR(INDEX(Haz_Cat,SMALL(IF(Hazard=Engine!$Q250,ROW(Haz_Cat)-MIN(ROW(Haz_Cat))+1),COLUMNS($U252:AT252)),COLUMNS(Main!AC$2:AC$2)),\"\")","v":0},{"$f":"IFERROR(INDEX(Haz_Cat,SMALL(IF(Hazard=Engine!$Q250,ROW(Haz_Cat)-MIN(ROW(Haz_Cat))+1),COLUMNS($U252:AU252)),COLUMNS(Main!AD$2:AD$2)),\"\")","v":0},{"$f":"IFERROR(INDEX(Haz_Cat,SMALL(IF(Hazard=Engine!$Q250,ROW(Haz_Cat)-MIN(ROW(Haz_Cat))+1),COLUMNS($U252:AV252)),COLUMNS(Main!AE$2:AE$2)),\"\")","v":0},null,{"$f":"INDIRECT(TEXT(MIN(IF(($U259:$AV264<>\"\")*(COUNTIF($AX249:$AX251,$U259:$AV264)=0),ROW($P259:$BM264)*100+COLUMN($U249:$AV277),7^8)),\"R0C00\"),)&\"\"","v":""},false,"","",{"$f":"COUNTIF(AZ250:AZ260,\"<=\"&AZ252)","v":0},{"$f":"IF(COUNTIF(BA250:BA260,\"<=\"&BA252)=0,\"\",COUNTIF(BA250:BA260,\"<=\"&BA252))","v":""},{"$f":"IFERROR(SMALL(AZ250:AZ260,ROWS(AX250:AX252)),\"\")","v":""},{"$f":"IFERROR(INDEX(BD250:BD271,SMALL(IF(BD250:BD271<>\"\",ROW(BD250:BD271)-MIN(ROW(BD250:BD271))+1),ROWS(AX250:AX252))),\"\")","v":""},null,{"$f":"+W268","v":0},{"$f":"COUNTIF($BG$2:BG252,\"*\"&BG252&\"*\")","v":0},"","",{"$f":"IFERROR(INDEX(BI$2:BI$308,MATCH(ROWS(BJ$2:BJ252),BJ$2:BJ$308,0)),\"\")","v":""},{"$f":"COUNTIF($BK252:$BK$308,\"*\"&BK252&\"*\")","v":57},"","",{"$f":"IFERROR(INDEX($BM$2:$BM$308,MATCH(ROWS(BN$2:BN252),BN$2:BN558,0)),\"\")","v":""},{"$f":"IFERROR(VLOOKUP(Engine!BO252,P_sentences_overview!H253:I382,2),\"\")","v":""}]
[null,null,null,null,null,null,null,null,null,null,null,null,null,null,null,null,null,null,null,null,{"$f":"IFERROR(INDEX(Haz_Cat,SMALL(IF(Hazard=Engine!$Q250,ROW(Haz_Cat)-MIN(ROW(Haz_Cat))+1),COLUMNS($U252:U252)),COLUMNS(Main!$D250:$E250)),\"\")","v":0},{"$f":"IFERROR(INDEX(Haz_Cat,SMALL(IF(Hazard=Engine!$Q250,ROW(Haz_Cat)-MIN(ROW(Haz_Cat))+1),COLUMNS($U252:V252)),COLUMNS(Main!$D250:$E250)),\"\")","v":0},{"$f":"IFERROR(INDEX(Haz_Cat,SMALL(IF(Hazard=Engine!$Q250,ROW(Haz_Cat)-MIN(ROW(Haz_Cat))+1),COLUMNS($U252:W252)),COLUMNS(Main!$D250:$E250)),\"\")","v":0},{"$f":"IFERROR(INDEX(Haz_Cat,SMALL(IF(Hazard=Engine!$Q250,ROW(Haz_Cat)-MIN(ROW(Haz_Cat))+1),COLUMNS($U252:X252)),COLUMNS(Main!$D250:$E250)),\"\")","v":0},{"$f":"IFERROR(INDEX(Haz_Cat,SMALL(IF(Hazard=Engine!$Q250,ROW(Haz_Cat)-MIN(ROW(Haz_Cat))+1),COLUMNS($U252:Y252)),COLUMNS(Main!$D250:$E250)),\"\")","v":0},{"$f":"IFERROR(INDEX(Haz_Cat,SMALL(IF(Hazard=Engine!$Q250,ROW(Haz_Cat)-MIN(ROW(Haz_Cat))+1),COLUMNS($U252:Z252)),COLUMNS(Main!$D250:$E250)),\"\")","v":0},{"$f":"IFERROR(INDEX(Haz_Cat,SMALL(IF(Hazard=Engine!$Q250,ROW(Haz_Cat)-MIN(ROW(Haz_Cat))+1),COLUMNS($U252:AA252)),COLUMNS(Main!$D250:$E250)),\"\")","v":0},{"$f":"IFERROR(INDEX(Haz_Cat,SMALL(IF(Hazard=Engine!$Q250,ROW(Haz_Cat)-MIN(ROW(Haz_Cat))+1),COLUMNS($U252:AB252)),COLUMNS(Main!$D250:$E250)),\"\")","v":0},{"$f":"IFERROR(INDEX(Haz_Cat,SMALL(IF(Hazard=Engine!$Q250,ROW(Haz_Cat)-MIN(ROW(Haz_Cat))+1),COLUMNS($U252:AC252)),COLUMNS(Main!$D250:$E250)),\"\")","v":0},{"$f":"IFERROR(INDEX(Haz_Cat,SMALL(IF(Hazard=Engine!$Q250,ROW(Haz_Cat)-MIN(ROW(Haz_Cat))+1),COLUMNS($U252:AD252)),COLUMNS(Main!$D250:$E250)),\"\")","v":0},{"$f":"IFERROR(INDEX(Haz_Cat,SMALL(IF(Hazard=Engine!$Q250,ROW(Haz_Cat)-MIN(ROW(Haz_Cat))+1),COLUMNS($U252:AE252)),COLUMNS(Main!$D250:$E250)),\"\")","v":0},{"$f":"IFERROR(INDEX(Haz_Cat,SMALL(IF(Hazard=Engine!$Q250,ROW(Haz_Cat)-MIN(ROW(Haz_Cat))+1),COLUMNS($U252:AF252)),COLUMNS(Main!$D250:$E250)),\"\")","v":0},{"$f":"IFERROR(INDEX(Haz_Cat,SMALL(IF(Hazard=Engine!$Q250,ROW(Haz_Cat)-MIN(ROW(Haz_Cat))+1),COLUMNS($U252:AG252)),COLUMNS(Main!$D250:$E250)),\"\")","v":0},{"$f":"IFERROR(INDEX(Haz_Cat,SMALL(IF(Hazard=Engine!$Q250,ROW(Haz_Cat)-MIN(ROW(Haz_Cat))+1),COLUMNS($U252:AH252)),COLUMNS(Main!$D250:$E250)),\"\")","v":0},{"$f":"IFERROR(INDEX(Haz_Cat,SMALL(IF(Hazard=Engine!$Q250,ROW(Haz_Cat)-MIN(ROW(Haz_Cat))+1),COLUMNS($U252:AI252)),COLUMNS(Main!$D250:$E250)),\"\")","v":0},{"$f":"IFERROR(INDEX(Haz_Cat,SMALL(IF(Hazard=Engine!$Q250,ROW(Haz_Cat)-MIN(ROW(Haz_Cat))+1),COLUMNS($U252:AJ252)),COLUMNS(Main!$D250:$E250)),\"\")","v":0},{"$f":"IFERROR(INDEX(Haz_Cat,SMALL(IF(Hazard=Engine!$Q250,ROW(Haz_Cat)-MIN(ROW(Haz_Cat))+1),COLUMNS($U252:AK252)),COLUMNS(Main!$D250:$E250)),\"\")","v":0},{"$f":"IFERROR(INDEX(Haz_Cat,SMALL(IF(Hazard=Engine!$Q250,ROW(Haz_Cat)-MIN(ROW(Haz_Cat))+1),COLUMNS($U252:AL252)),COLUMNS(Main!$D250:$E250)),\"\")","v":0},{"$f":"IFERROR(INDEX(Haz_Cat,SMALL(IF(Hazard=Engine!$Q250,ROW(Haz_Cat)-MIN(ROW(Haz_Cat))+1),COLUMNS($U252:AM252)),COLUMNS(Main!$D250:$E250)),\"\")","v":0},{"$f":"IFERROR(INDEX(Haz_Cat,SMALL(IF(Hazard=Engine!$Q250,ROW(Haz_Cat)-MIN(ROW(Haz_Cat))+1),COLUMNS($U252:AN252)),COLUMNS(Main!$D250:$E250)),\"\")","v":0},{"$f":"IFERROR(INDEX(Haz_Cat,SMALL(IF(Hazard=Engine!$Q250,ROW(Haz_Cat)-MIN(ROW(Haz_Cat))+1),COLUMNS($U252:AO252)),COLUMNS(Main!$D250:$E250)),\"\")","v":0},{"$f":"IFERROR(INDEX(Haz_Cat,SMALL(IF(Hazard=Engine!$Q250,ROW(Haz_Cat)-MIN(ROW(Haz_Cat))+1),COLUMNS($U252:AP252)),COLUMNS(Main!$D250:$E250)),\"\")","v":0},{"$f":"IFERROR(INDEX(Haz_Cat,SMALL(IF(Hazard=Engine!$Q250,ROW(Haz_Cat)-MIN(ROW(Haz_Cat))+1),COLUMNS($U252:AQ252)),COLUMNS(Main!$D250:$E250)),\"\")","v":0},{"$f":"IFERROR(INDEX(Haz_Cat,SMALL(IF(Hazard=Engine!$Q250,ROW(Haz_Cat)-MIN(ROW(Haz_Cat))+1),COLUMNS($U252:AR252)),COLUMNS(Main!$D250:$E250)),\"\")","v":0},{"$f":"IFERROR(INDEX(Haz_Cat,SMALL(IF(Hazard=Engine!$Q250,ROW(Haz_Cat)-MIN(ROW(Haz_Cat))+1),COLUMNS($U252:AS252)),COLUMNS(Main!$D250:$E250)),\"\")","v":0},{"$f":"IFERROR(INDEX(Haz_Cat,SMALL(IF(Hazard=Engine!$Q250,ROW(Haz_Cat)-MIN(ROW(Haz_Cat))+1),COLUMNS($U252:AT252)),COLUMNS(Main!$D250:$E250)),\"\")","v":0},{"$f":"IFERROR(INDEX(Haz_Cat,SMALL(IF(Hazard=Engine!$Q250,ROW(Haz_Cat)-MIN(ROW(Haz_Cat))+1),COLUMNS($U252:AU252)),COLUMNS(Main!$D250:$E250)),\"\")","v":0},{"$f":"IFERROR(INDEX(Haz_Cat,SMALL(IF(Hazard=Engine!$Q250,ROW(Haz_Cat)-MIN(ROW(Haz_Cat))+1),COLUMNS($U252:AV252)),COLUMNS(Main!$D250:$E250)),\"\")","v":0},null,{"$f":"INDIRECT(TEXT(MIN(IF(($U259:$AV264<>\"\")*(COUNTIF($AX249:$AX252,$U259:$AV264)=0),ROW($P259:$BM264)*100+COLUMN($U249:$AV277),7^8)),\"R0C00\"),)&\"\"","v":""},false,"","",{"$f":"COUNTIF(AZ250:AZ260,\"<=\"&AZ253)","v":0},{"$f":"IF(COUNTIF(BA250:BA260,\"<=\"&BA253)=0,\"\",COUNTIF(BA250:BA260,\"<=\"&BA253))","v":""},{"$f":"IFERROR(SMALL(AZ250:AZ260,ROWS(AX250:AX253)),\"\")","v":""},{"$f":"IFERROR(INDEX(BD250:BD271,SMALL(IF(BD250:BD271<>\"\",ROW(BD250:BD271)-MIN(ROW(BD250:BD271))+1),ROWS(AX250:AX253))),\"\")","v":""},null,{"$f":"+X268","v":0},{"$f":"COUNTIF($BG$2:BG253,\"*\"&BG253&\"*\")","v":0},"","",{"$f":"IFERROR(INDEX(BI$2:BI$308,MATCH(ROWS(BJ$2:BJ253),BJ$2:BJ$308,0)),\"\")","v":""},{"$f":"COUNTIF($BK253:$BK$308,\"*\"&BK253&\"*\")","v":56},"","",{"$f":"IFERROR(INDEX($BM$2:$BM$308,MATCH(ROWS(BN$2:BN253),BN$2:BN559,0)),\"\")","v":""},{"$f":"IFERROR(VLOOKUP(Engine!BO253,P_sentences_overview!H254:I383,2),\"\")","v":""}]
[null,null,null,null,null,null,null,null,null,null,null,null,null,null,null,{"$f":"INDEX(H_sentences_overview!$A$1:$A$134,Engine!P255)","v":"(none)"},null,{"$f":"INDEX(BE250:BE255,Engine!R255)","v":""},null,null,{"$f":"IFERROR(INDEX(Haz_Cat,SMALL(IF(Hazard=Engine!$Q250,ROW(Haz_Cat)-MIN(ROW(Haz_Cat))+1),COLUMNS($U252:U252)),COLUMNS(Main!$D250:$F250)),\"\")","v":0},{"$f":"IFERROR(INDEX(Haz_Cat,SMALL(IF(Hazard=Engine!$Q250,ROW(Haz_Cat)-MIN(ROW(Haz_Cat))+1),COLUMNS($U252:V252)),COLUMNS(Main!$D250:$F250)),\"\")","v":0},{"$f":"IFERROR(INDEX(Haz_Cat,SMALL(IF(Hazard=Engine!$Q250,ROW(Haz_Cat)-MIN(ROW(Haz_Cat))+1),COLUMNS($U252:W252)),COLUMNS(Main!$D250:$F250)),\"\")","v":0},{"$f":"IFERROR(INDEX(Haz_Cat,SMALL(IF(Hazard=Engine!$Q250,ROW(Haz_Cat)-MIN(ROW(Haz_Cat))+1),COLUMNS($U252:X252)),COLUMNS(Main!$D250:$F250)),\"\")","v":0},{"$f":"IFERROR(INDEX(Haz_Cat,SMALL(IF(Hazard=Engine!$Q250,ROW(Haz_Cat)-MIN(ROW(Haz_Cat))+1),COLUMNS($U252:Y252)),COLUMNS(Main!$D250:$F250)),\"\")","v":0},{"$f":"IFERROR(INDEX(Haz_Cat,SMALL(IF(Hazard=Engine!$Q250,ROW(Haz_Cat)-MIN(ROW(Haz_Cat))+1),COLUMNS($U252:Z252)),COLUMNS(Main!$D250:$F250)),\"\")","v":0},{"$f":"IFERROR(INDEX(Haz_Cat,SMALL(IF(Hazard=Engine!$Q250,ROW(Haz_Cat)-MIN(ROW(Haz_Cat))+1),COLUMNS($U252:AA252)),COLUMNS(Main!$D250:$F250)),\"\")","v":0},{"$f":"IFERROR(INDEX(Haz_Cat,SMALL(IF(Hazard=Engine!$Q250,ROW(Haz_Cat)-MIN(ROW(Haz_Cat))+1),COLUMNS($U252:AB252)),COLUMNS(Main!$D250:$F250)),\"\")","v":0},{"$f":"IFERROR(INDEX(Haz_Cat,SMALL(IF(Hazard=Engine!$Q250,ROW(Haz_Cat)-MIN(ROW(Haz_Cat))+1),COLUMNS($U252:AC252)),COLUMNS(Main!$D250:$F250)),\"\")","v":0},{"$f":"IFERROR(INDEX(Haz_Cat,SMALL(IF(Hazard=Engine!$Q250,ROW(Haz_Cat)-MIN(ROW(Haz_Cat))+1),COLUMNS($U252:AD252)),COLUMNS(Main!$D250:$F250)),\"\")","v":0},{"$f":"IFERROR(INDEX(Haz_Cat,SMALL(IF(Hazard=Engine!$Q250,ROW(Haz_Cat)-MIN(ROW(Haz_Cat))+1),COLUMNS($U252:AE252)),COLUMNS(Main!$D250:$F250)),\"\")","v":0},{"$f":"IFERROR(INDEX(Haz_Cat,SMALL(IF(Hazard=Engine!$Q250,ROW(Haz_Cat)-MIN(ROW(Haz_Cat))+1),COLUMNS($U252:AF252)),COLUMNS(Main!$D250:$F250)),\"\")","v":0},{"$f":"IFERROR(INDEX(Haz_Cat,SMALL(IF(Hazard=Engine!$Q250,ROW(Haz_Cat)-MIN(ROW(Haz_Cat))+1),COLUMNS($U252:AG252)),COLUMNS(Main!$D250:$F250)),\"\")","v":0},{"$f":"IFERROR(INDEX(Haz_Cat,SMALL(IF(Hazard=Engine!$Q250,ROW(Haz_Cat)-MIN(ROW(Haz_Cat))+1),COLUMNS($U252:AH252)),COLUMNS(Main!$D250:$F250)),\"\")","v":0},{"$f":"IFERROR(INDEX(Haz_Cat,SMALL(IF(Hazard=Engine!$Q250,ROW(Haz_Cat)-MIN(ROW(Haz_Cat))+1),COLUMNS($U252:AI252)),COLUMNS(Main!$D250:$F250)),\"\")","v":0},{"$f":"IFERROR(INDEX(Haz_Cat,SMALL(IF(Hazard=Engine!$Q250,ROW(Haz_Cat)-MIN(ROW(Haz_Cat))+1),COLUMNS($U252:AJ252)),COLUMNS(Main!$D250:$F250)),\"\")","v":0},{"$f":"IFERROR(INDEX(Haz_Cat,SMALL(IF(Hazard=Engine!$Q250,ROW(Haz_Cat)-MIN(ROW(Haz_Cat))+1),COLUMNS($U252:AK252)),COLUMNS(Main!$D250:$F250)),\"\")","v":0},{"$f":"IFERROR(INDEX(Haz_Cat,SMALL(IF(Hazard=Engine!$Q250,ROW(Haz_Cat)-MIN(ROW(Haz_Cat))+1),COLUMNS($U252:AL252)),COLUMNS(Main!$D250:$F250)),\"\")","v":0},{"$f":"IFERROR(INDEX(Haz_Cat,SMALL(IF(Hazard=Engine!$Q250,ROW(Haz_Cat)-MIN(ROW(Haz_Cat))+1),COLUMNS($U252:AM252)),COLUMNS(Main!$D250:$F250)),\"\")","v":0},{"$f":"IFERROR(INDEX(Haz_Cat,SMALL(IF(Hazard=Engine!$Q250,ROW(Haz_Cat)-MIN(ROW(Haz_Cat))+1),COLUMNS($U252:AN252)),COLUMNS(Main!$D250:$F250)),\"\")","v":0},{"$f":"IFERROR(INDEX(Haz_Cat,SMALL(IF(Hazard=Engine!$Q250,ROW(Haz_Cat)-MIN(ROW(Haz_Cat))+1),COLUMNS($U252:AO252)),COLUMNS(Main!$D250:$F250)),\"\")","v":0},{"$f":"IFERROR(INDEX(Haz_Cat,SMALL(IF(Hazard=Engine!$Q250,ROW(Haz_Cat)-MIN(ROW(Haz_Cat))+1),COLUMNS($U252:AP252)),COLUMNS(Main!$D250:$F250)),\"\")","v":0},{"$f":"IFERROR(INDEX(Haz_Cat,SMALL(IF(Hazard=Engine!$Q250,ROW(Haz_Cat)-MIN(ROW(Haz_Cat))+1),COLUMNS($U252:AQ252)),COLUMNS(Main!$D250:$F250)),\"\")","v":0},{"$f":"IFERROR(INDEX(Haz_Cat,SMALL(IF(Hazard=Engine!$Q250,ROW(Haz_Cat)-MIN(ROW(Haz_Cat))+1),COLUMNS($U252:AR252)),COLUMNS(Main!$D250:$F250)),\"\")","v":0},{"$f":"IFERROR(INDEX(Haz_Cat,SMALL(IF(Hazard=Engine!$Q250,ROW(Haz_Cat)-MIN(ROW(Haz_Cat))+1),COLUMNS($U252:AS252)),COLUMNS(Main!$D250:$F250)),\"\")","v":0},{"$f":"IFERROR(INDEX(Haz_Cat,SMALL(IF(Hazard=Engine!$Q250,ROW(Haz_Cat)-MIN(ROW(Haz_Cat))+1),COLUMNS($U252:AT252)),COLUMNS(Main!$D250:$F250)),\"\")","v":0},{"$f":"IFERROR(INDEX(Haz_Cat,SMALL(IF(Hazard=Engine!$Q250,ROW(Haz_Cat)-MIN(ROW(Haz_Cat))+1),COLUMNS($U252:AU252)),COLUMNS(Main!$D250:$F250)),\"\")","v":0},{"$f":"IFERROR(INDEX(Haz_Cat,SMALL(IF(Hazard=Engine!$Q250,ROW(Haz_Cat)-MIN(ROW(Haz_Cat))+1),COLUMNS($U252:AV252)),COLUMNS(Main!$D250:$F250)),\"\")","v":0},null,{"$f":"INDIRECT(TEXT(MIN(IF(($U259:$AV264<>\"\")*(COUNTIF($AX249:$AX253,$U259:$AV264)=0),ROW($P259:$BM264)*100+COLUMN($U249:$AV277),7^8)),\"R0C00\"),)&\"\"","v":""},false,"","",{"$f":"COUNTIF(AZ250:AZ260,\"<=\"&AZ254)","v":0},{"$f":"IF(COUNTIF(BA250:BA260,\"<=\"&BA254)=0,\"\",COUNTIF(BA250:BA260,\"<=\"&BA254))","v":""},{"$f":"IFERROR(SMALL(AZ250:AZ260,ROWS(AX250:AX254)),\"\")","v":""},{"$f":"IFERROR(INDEX(BD250:BD271,SMALL(IF(BD250:BD271<>\"\",ROW(BD250:BD271)-MIN(ROW(BD250:BD271))+1),ROWS(AX250:AX254))),\"\")","v":""},null,{"$f":"+Y268","v":0},{"$f":"COUNTIF($BG$2:BG254,\"*\"&BG254&\"*\")","v":0},"","",{"$f":"IFERROR(INDEX(BI$2:BI$308,MATCH(ROWS(BJ$2:BJ254),BJ$2:BJ$308,0)),\"\")","v":""},{"$f":"COUNTIF($BK254:$BK$308,\"*\"&BK254&\"*\")","v":55},"","",{"$f":"IFERROR(INDEX($BM$2:$BM$308,MATCH(ROWS(BN$2:BN254),BN$2:BN560,0)),\"\")","v":""},{"$f":"IFERROR(VLOOKUP(Engine!BO254,P_sentences_overview!H255:I384,2),\"\")","v":""}]
[null,null,null,null,null,null,null,null,null,null,null,null,null,null,null,1,null,2,null,null,{"$f":"IFERROR(INDEX(Haz_Cat,SMALL(IF(Hazard=Engine!$Q250,ROW(Haz_Cat)-MIN(ROW(Haz_Cat))+1),COLUMNS($U252:U252)),COLUMNS(Main!$D250:$G250)),\"\")","v":0},{"$f":"IFERROR(INDEX(Haz_Cat,SMALL(IF(Hazard=Engine!$Q250,ROW(Haz_Cat)-MIN(ROW(Haz_Cat))+1),COLUMNS($U252:V252)),COLUMNS(Main!$D250:$G250)),\"\")","v":0},{"$f":"IFERROR(INDEX(Haz_Cat,SMALL(IF(Hazard=Engine!$Q250,ROW(Haz_Cat)-MIN(ROW(Haz_Cat))+1),COLUMNS($U252:W252)),COLUMNS(Main!$D250:$G250)),\"\")","v":0},{"$f":"IFERROR(INDEX(Haz_Cat,SMALL(IF(Hazard=Engine!$Q250,ROW(Haz_Cat)-MIN(ROW(Haz_Cat))+1),COLUMNS($U252:X252)),COLUMNS(Main!$D250:$G250)),\"\")","v":0},{"$f":"IFERROR(INDEX(Haz_Cat,SMALL(IF(Hazard=Engine!$Q250,ROW(Haz_Cat)-MIN(ROW(Haz_Cat))+1),COLUMNS($U252:Y252)),COLUMNS(Main!$D250:$G250)),\"\")","v":0},{"$f":"IFERROR(INDEX(Haz_Cat,SMALL(IF(Hazard=Engine!$Q250,ROW(Haz_Cat)-MIN(ROW(Haz_Cat))+1),COLUMNS($U252:Z252)),COLUMNS(Main!$D250:$G250)),\"\")","v":0},{"$f":"IFERROR(INDEX(Haz_Cat,SMALL(IF(Hazard=Engine!$Q250,ROW(Haz_Cat)-MIN(ROW(Haz_Cat))+1),COLUMNS($U252:AA252)),COLUMNS(Main!$D250:$G250)),\"\")","v":0},{"$f":"IFERROR(INDEX(Haz_Cat,SMALL(IF(Hazard=Engine!$Q250,ROW(Haz_Cat)-MIN(ROW(Haz_Cat))+1),COLUMNS($U252:AB252)),COLUMNS(Main!$D250:$G250)),\"\")","v":0},{"$f":"IFERROR(INDEX(Haz_Cat,SMALL(IF(Hazard=Engine!$Q250,ROW(Haz_Cat)-MIN(ROW(Haz_Cat))+1),COLUMNS($U252:AC252)),COLUMNS(Main!$D250:$G250)),\"\")","v":0},{"$f":"IFERROR(INDEX(Haz_Cat,SMALL(IF(Hazard=Engine!$Q250,ROW(Haz_Cat)-MIN(ROW(Haz_Cat))+1),COLUMNS($U252:AD252)),COLUMNS(Main!$D250:$G250)),\"\")","v":0},{"$f":"IFERROR(INDEX(Haz_Cat,SMALL(IF(Hazard=Engine!$Q250,ROW(Haz_Cat)-MIN(ROW(Haz_Cat))+1),COLUMNS($U252:AE252)),COLUMNS(Main!$D250:$G250)),\"\")","v":0},{"$f":"IFERROR(INDEX(Haz_Cat,SMALL(IF(Hazard=Engine!$Q250,ROW(Haz_Cat)-MIN(ROW(Haz_Cat))+1),COLUMNS($U252:AF252)),COLUMNS(Main!$D250:$G250)),\"\")","v":0},{"$f":"IFERROR(INDEX(Haz_Cat,SMALL(IF(Hazard=Engine!$Q250,ROW(Haz_Cat)-MIN(ROW(Haz_Cat))+1),COLUMNS($U252:AG252)),COLUMNS(Main!$D250:$G250)),\"\")","v":0},{"$f":"IFERROR(INDEX(Haz_Cat,SMALL(IF(Hazard=Engine!$Q250,ROW(Haz_Cat)-MIN(ROW(Haz_Cat))+1),COLUMNS($U252:AH252)),COLUMNS(Main!$D250:$G250)),\"\")","v":0},{"$f":"IFERROR(INDEX(Haz_Cat,SMALL(IF(Hazard=Engine!$Q250,ROW(Haz_Cat)-MIN(ROW(Haz_Cat))+1),COLUMNS($U252:AI252)),COLUMNS(Main!$D250:$G250)),\"\")","v":0},{"$f":"IFERROR(INDEX(Haz_Cat,SMALL(IF(Hazard=Engine!$Q250,ROW(Haz_Cat)-MIN(ROW(Haz_Cat))+1),COLUMNS($U252:AJ252)),COLUMNS(Main!$D250:$G250)),\"\")","v":0},{"$f":"IFERROR(INDEX(Haz_Cat,SMALL(IF(Hazard=Engine!$Q250,ROW(Haz_Cat)-MIN(ROW(Haz_Cat))+1),COLUMNS($U252:AK252)),COLUMNS(Main!$D250:$G250)),\"\")","v":0},{"$f":"IFERROR(INDEX(Haz_Cat,SMALL(IF(Hazard=Engine!$Q250,ROW(Haz_Cat)-MIN(ROW(Haz_Cat))+1),COLUMNS($U252:AL252)),COLUMNS(Main!$D250:$G250)),\"\")","v":0},{"$f":"IFERROR(INDEX(Haz_Cat,SMALL(IF(Hazard=Engine!$Q250,ROW(Haz_Cat)-MIN(ROW(Haz_Cat))+1),COLUMNS($U252:AM252)),COLUMNS(Main!$D250:$G250)),\"\")","v":0},{"$f":"IFERROR(INDEX(Haz_Cat,SMALL(IF(Hazard=Engine!$Q250,ROW(Haz_Cat)-MIN(ROW(Haz_Cat))+1),COLUMNS($U252:AN252)),COLUMNS(Main!$D250:$G250)),\"\")","v":0},{"$f":"IFERROR(INDEX(Haz_Cat,SMALL(IF(Hazard=Engine!$Q250,ROW(Haz_Cat)-MIN(ROW(Haz_Cat))+1),COLUMNS($U252:AO252)),COLUMNS(Main!$D250:$G250)),\"\")","v":0},{"$f":"IFERROR(INDEX(Haz_Cat,SMALL(IF(Hazard=Engine!$Q250,ROW(Haz_Cat)-MIN(ROW(Haz_Cat))+1),COLUMNS($U252:AP252)),COLUMNS(Main!$D250:$G250)),\"\")","v":0},{"$f":"IFERROR(INDEX(Haz_Cat,SMALL(IF(Hazard=Engine!$Q250,ROW(Haz_Cat)-MIN(ROW(Haz_Cat))+1),COLUMNS($U252:AQ252)),COLUMNS(Main!$D250:$G250)),\"\")","v":0},{"$f":"IFERROR(INDEX(Haz_Cat,SMALL(IF(Hazard=Engine!$Q250,ROW(Haz_Cat)-MIN(ROW(Haz_Cat))+1),COLUMNS($U252:AR252)),COLUMNS(Main!$D250:$G250)),\"\")","v":0},{"$f":"IFERROR(INDEX(Haz_Cat,SMALL(IF(Hazard=Engine!$Q250,ROW(Haz_Cat)-MIN(ROW(Haz_Cat))+1),COLUMNS($U252:AS252)),COLUMNS(Main!$D250:$G250)),\"\")","v":0},{"$f":"IFERROR(INDEX(Haz_Cat,SMALL(IF(Hazard=Engine!$Q250,ROW(Haz_Cat)-MIN(ROW(Haz_Cat))+1),COLUMNS($U252:AT252)),COLUMNS(Main!$D250:$G250)),\"\")","v":0},{"$f":"IFERROR(INDEX(Haz_Cat,SMALL(IF(Hazard=Engine!$Q250,ROW(Haz_Cat)-MIN(ROW(Haz_Cat))+1),COLUMNS($U252:AU252)),COLUMNS(Main!$D250:$G250)),\"\")","v":0},{"$f":"IFERROR(INDEX(Haz_Cat,SMALL(IF(Hazard=Engine!$Q250,ROW(Haz_Cat)-MIN(ROW(Haz_Cat))+1),COLUMNS($U252:AV252)),COLUMNS(Main!$D250:$G250)),\"\")","v":0},null,{"$f":"INDIRECT(TEXT(MIN(IF(($U259:$AV264<>\"\")*(COUNTIF($AX249:$AX254,$U259:$AV264)=0),ROW($P259:$BM264)*100+COLUMN($U249:$AV277),7^8)),\"R0C00\"),)&\"\"","v":""},false,"","",{"$f":"COUNTIF(AZ250:AZ260,\"<=\"&AZ255)","v":0},{"$f":"IF(COUNTIF(BA250:BA260,\"<=\"&BA255)=0,\"\",COUNTIF(BA250:BA260,\"<=\"&BA255))","v":""},{"$f":"IFERROR(SMALL(AZ250:AZ260,ROWS(AX250:AX255)),\"\")","v":""},{"$f":"IFERROR(INDEX(BD250:BD271,SMALL(IF(BD250:BD271<>\"\",ROW(BD250:BD271)-MIN(ROW(BD250:BD271))+1),ROWS(AX250:AX255))),\"\")","v":""},null,{"$f":"+Z268","v":0},{"$f":"COUNTIF($BG$2:BG255,\"*\"&BG255&\"*\")","v":0},"","",{"$f":"IFERROR(INDEX(BI$2:BI$308,MATCH(ROWS(BJ$2:BJ255),BJ$2:BJ$308,0)),\"\")","v":""},{"$f":"COUNTIF($BK255:$BK$308,\"*\"&BK255&\"*\")","v":54},"","",{"$f":"IFERROR(INDEX($BM$2:$BM$308,MATCH(ROWS(BN$2:BN255),BN$2:BN561,0)),\"\")","v":""},{"$f":"IFERROR(VLOOKUP(Engine!BO255,P_sentences_overview!H256:I385,2),\"\")","v":""}]
[null,null,null,null,null,null,null,null,null,null,null,null,null,null,null,null,null,null,null,null,{"$f":"IFERROR(INDEX(Haz_Cat,SMALL(IF(Hazard=Engine!$Q250,ROW(Haz_Cat)-MIN(ROW(Haz_Cat))+1),COLUMNS($U252:U252)),COLUMNS(Main!$D250:$H250)),\"\")","v":0},{"$f":"IFERROR(INDEX(Haz_Cat,SMALL(IF(Hazard=Engine!$Q250,ROW(Haz_Cat)-MIN(ROW(Haz_Cat))+1),COLUMNS($U252:V252)),COLUMNS(Main!$D250:$H250)),\"\")","v":0},{"$f":"IFERROR(INDEX(Haz_Cat,SMALL(IF(Hazard=Engine!$Q250,ROW(Haz_Cat)-MIN(ROW(Haz_Cat))+1),COLUMNS($U252:W252)),COLUMNS(Main!$D250:$H250)),\"\")","v":0},{"$f":"IFERROR(INDEX(Haz_Cat,SMALL(IF(Hazard=Engine!$Q250,ROW(Haz_Cat)-MIN(ROW(Haz_Cat))+1),COLUMNS($U252:X252)),COLUMNS(Main!$D250:$H250)),\"\")","v":0},{"$f":"IFERROR(INDEX(Haz_Cat,SMALL(IF(Hazard=Engine!$Q250,ROW(Haz_Cat)-MIN(ROW(Haz_Cat))+1),COLUMNS($U252:Y252)),COLUMNS(Main!$D250:$H250)),\"\")","v":0},{"$f":"IFERROR(INDEX(Haz_Cat,SMALL(IF(Hazard=Engine!$Q250,ROW(Haz_Cat)-MIN(ROW(Haz_Cat))+1),COLUMNS($U252:Z252)),COLUMNS(Main!$D250:$H250)),\"\")","v":0},{"$f":"IFERROR(INDEX(Haz_Cat,SMALL(IF(Hazard=Engine!$Q250,ROW(Haz_Cat)-MIN(ROW(Haz_Cat))+1),COLUMNS($U252:AA252)),COLUMNS(Main!$D250:$H250)),\"\")","v":0},{"$f":"IFERROR(INDEX(Haz_Cat,SMALL(IF(Hazard=Engine!$Q250,ROW(Haz_Cat)-MIN(ROW(Haz_Cat))+1),COLUMNS($U252:AB252)),COLUMNS(Main!$D250:$H250)),\"\")","v":0},{"$f":"IFERROR(INDEX(Haz_Cat,SMALL(IF(Hazard=Engine!$Q250,ROW(Haz_Cat)-MIN(ROW(Haz_Cat))+1),COLUMNS($U252:AC252)),COLUMNS(Main!$D250:$H250)),\"\")","v":0},{"$f":"IFERROR(INDEX(Haz_Cat,SMALL(IF(Hazard=Engine!$Q250,ROW(Haz_Cat)-MIN(ROW(Haz_Cat))+1),COLUMNS($U252:AD252)),COLUMNS(Main!$D250:$H250)),\"\")","v":0},{"$f":"IFERROR(INDEX(Haz_Cat,SMALL(IF(Hazard=Engine!$Q250,ROW(Haz_Cat)-MIN(ROW(Haz_Cat))+1),COLUMNS($U252:AE252)),COLUMNS(Main!$D250:$H250)),\"\")","v":0},{"$f":"IFERROR(INDEX(Haz_Cat,SMALL(IF(Hazard=Engine!$Q250,ROW(Haz_Cat)-MIN(ROW(Haz_Cat))+1),COLUMNS($U252:AF252)),COLUMNS(Main!$D250:$H250)),\"\")","v":0},{"$f":"IFERROR(INDEX(Haz_Cat,SMALL(IF(Hazard=Engine!$Q250,ROW(Haz_Cat)-MIN(ROW(Haz_Cat))+1),COLUMNS($U252:AG252)),COLUMNS(Main!$D250:$H250)),\"\")","v":0},{"$f":"IFERROR(INDEX(Haz_Cat,SMALL(IF(Hazard=Engine!$Q250,ROW(Haz_Cat)-MIN(ROW(Haz_Cat))+1),COLUMNS($U252:AH252)),COLUMNS(Main!$D250:$H250)),\"\")","v":0},{"$f":"IFERROR(INDEX(Haz_Cat,SMALL(IF(Hazard=Engine!$Q250,ROW(Haz_Cat)-MIN(ROW(Haz_Cat))+1),COLUMNS($U252:AI252)),COLUMNS(Main!$D250:$H250)),\"\")","v":0},{"$f":"IFERROR(INDEX(Haz_Cat,SMALL(IF(Hazard=Engine!$Q250,ROW(Haz_Cat)-MIN(ROW(Haz_Cat))+1),COLUMNS($U252:AJ252)),COLUMNS(Main!$D250:$H250)),\"\")","v":0},{"$f":"IFERROR(INDEX(Haz_Cat,SMALL(IF(Hazard=Engine!$Q250,ROW(Haz_Cat)-MIN(ROW(Haz_Cat))+1),COLUMNS($U252:AK252)),COLUMNS(Main!$D250:$H250)),\"\")","v":0},{"$f":"IFERROR(INDEX(Haz_Cat,SMALL(IF(Hazard=Engine!$Q250,ROW(Haz_Cat)-MIN(ROW(Haz_Cat))+1),COLUMNS($U252:AL252)),COLUMNS(Main!$D250:$H250)),\"\")","v":0},{"$f":"IFERROR(INDEX(Haz_Cat,SMALL(IF(Hazard=Engine!$Q250,ROW(Haz_Cat)-MIN(ROW(Haz_Cat))+1),COLUMNS($U252:AM252)),COLUMNS(Main!$D250:$H250)),\"\")","v":0},{"$f":"IFERROR(INDEX(Haz_Cat,SMALL(IF(Hazard=Engine!$Q250,ROW(Haz_Cat)-MIN(ROW(Haz_Cat))+1),COLUMNS($U252:AN252)),COLUMNS(Main!$D250:$H250)),\"\")","v":0},{"$f":"IFERROR(INDEX(Haz_Cat,SMALL(IF(Hazard=Engine!$Q250,ROW(Haz_Cat)-MIN(ROW(Haz_Cat))+1),COLUMNS($U252:AO252)),COLUMNS(Main!$D250:$H250)),\"\")","v":0},{"$f":"IFERROR(INDEX(Haz_Cat,SMALL(IF(Hazard=Engine!$Q250,ROW(Haz_Cat)-MIN(ROW(Haz_Cat))+1),COLUMNS($U252:AP252)),COLUMNS(Main!$D250:$H250)),\"\")","v":0},{"$f":"IFERROR(INDEX(Haz_Cat,SMALL(IF(Hazard=Engine!$Q250,ROW(Haz_Cat)-MIN(ROW(Haz_Cat))+1),COLUMNS($U252:AQ252)),COLUMNS(Main!$D250:$H250)),\"\")","v":0},{"$f":"IFERROR(INDEX(Haz_Cat,SMALL(IF(Hazard=Engine!$Q250,ROW(Haz_Cat)-MIN(ROW(Haz_Cat))+1),COLUMNS($U252:AR252)),COLUMNS(Main!$D250:$H250)),\"\")","v":0},{"$f":"IFERROR(INDEX(Haz_Cat,SMALL(IF(Hazard=Engine!$Q250,ROW(Haz_Cat)-MIN(ROW(Haz_Cat))+1),COLUMNS($U252:AS252)),COLUMNS(Main!$D250:$H250)),\"\")","v":0},{"$f":"IFERROR(INDEX(Haz_Cat,SMALL(IF(Hazard=Engine!$Q250,ROW(Haz_Cat)-MIN(ROW(Haz_Cat))+1),COLUMNS($U252:AT252)),COLUMNS(Main!$D250:$H250)),\"\")","v":0},{"$f":"IFERROR(INDEX(Haz_Cat,SMALL(IF(Hazard=Engine!$Q250,ROW(Haz_Cat)-MIN(ROW(Haz_Cat))+1),COLUMNS($U252:AU252)),COLUMNS(Main!$D250:$H250)),\"\")","v":0},{"$f":"IFERROR(INDEX(Haz_Cat,SMALL(IF(Hazard=Engine!$Q250,ROW(Haz_Cat)-MIN(ROW(Haz_Cat))+1),COLUMNS($U252:AV252)),COLUMNS(Main!$D250:$H250)),\"\")","v":0},null,{"$f":"INDIRECT(TEXT(MIN(IF(($U259:$AV264<>\"\")*(COUNTIF($AX249:$AX255,$U259:$AV264)=0),ROW($P259:$BM264)*100+COLUMN($U249:$AV277),7^8)),\"R0C00\"),)&\"\"","v":""},false,"","",{"$f":"COUNTIF(AZ250:AZ260,\"<=\"&AZ256)","v":0},{"$f":"IF(COUNTIF(BA250:BA260,\"<=\"&BA256)=0,\"\",COUNTIF(BA250:BA260,\"<=\"&BA256))","v":""},{"$f":"IFERROR(SMALL(AZ250:AZ260,ROWS(AX250:AX256)),\"\")","v":""},{"$f":"IFERROR(INDEX(BD250:BD271,SMALL(IF(BD250:BD271<>\"\",ROW(BD250:BD271)-MIN(ROW(BD250:BD271))+1),ROWS(AX250:AX256))),\"\")","v":""},null,{"$f":"+AA268","v":0},{"$f":"COUNTIF($BG$2:BG256,\"*\"&BG256&\"*\")","v":0},"","",{"$f":"IFERROR(INDEX(BI$2:BI$308,MATCH(ROWS(BJ$2:BJ256),BJ$2:BJ$308,0)),\"\")","v":""},{"$f":"COUNTIF($BK256:$BK$308,\"*\"&BK256&\"*\")","v":53},"","",{"$f":"IFERROR(INDEX($BM$2:$BM$308,MATCH(ROWS(BN$2:BN256),BN$2:BN562,0)),\"\")","v":""},{"$f":"IFERROR(VLOOKUP(Engine!BO256,P_sentences_overview!H257:I386,2),\"\")","v":""}]
[null,null,null,null,null,null,null,null,null,null,null,null,null,null,null,null,null,null,null,null,{"$f":"IFERROR(INDEX(Haz_Cat,SMALL(IF(Hazard=Engine!$Q250,ROW(Haz_Cat)-MIN(ROW(Haz_Cat))+1),COLUMNS($U252:U252)),COLUMNS(Main!$D250:$I250)),\"\")","v":0},{"$f":"IFERROR(INDEX(Haz_Cat,SMALL(IF(Hazard=Engine!$Q250,ROW(Haz_Cat)-MIN(ROW(Haz_Cat))+1),COLUMNS($U252:V252)),COLUMNS(Main!$D250:$I250)),\"\")","v":0},{"$f":"IFERROR(INDEX(Haz_Cat,SMALL(IF(Hazard=Engine!$Q250,ROW(Haz_Cat)-MIN(ROW(Haz_Cat))+1),COLUMNS($U252:W252)),COLUMNS(Main!$D250:$I250)),\"\")","v":0},{"$f":"IFERROR(INDEX(Haz_Cat,SMALL(IF(Hazard=Engine!$Q250,ROW(Haz_Cat)-MIN(ROW(Haz_Cat))+1),COLUMNS($U252:X252)),COLUMNS(Main!$D250:$I250)),\"\")","v":0},{"$f":"IFERROR(INDEX(Haz_Cat,SMALL(IF(Hazard=Engine!$Q250,ROW(Haz_Cat)-MIN(ROW(Haz_Cat))+1),COLUMNS($U252:Y252)),COLUMNS(Main!$D250:$I250)),\"\")","v":0},{"$f":"IFERROR(INDEX(Haz_Cat,SMALL(IF(Hazard=Engine!$Q250,ROW(Haz_Cat)-MIN(ROW(Haz_Cat))+1),COLUMNS($U252:Z252)),COLUMNS(Main!$D250:$I250)),\"\")","v":0},{"$f":"IFERROR(INDEX(Haz_Cat,SMALL(IF(Hazard=Engine!$Q250,ROW(Haz_Cat)-MIN(ROW(Haz_Cat))+1),COLUMNS($U252:AA252)),COLUMNS(Main!$D250:$I250)),\"\")","v":0},{"$f":"IFERROR(INDEX(Haz_Cat,SMALL(IF(Hazard=Engine!$Q250,ROW(Haz_Cat)-MIN(ROW(Haz_Cat))+1),COLUMNS($U252:AB252)),COLUMNS(Main!$D250:$I250)),\"\")","v":0},{"$f":"IFERROR(INDEX(Haz_Cat,SMALL(IF(Hazard=Engine!$Q250,ROW(Haz_Cat)-MIN(ROW(Haz_Cat))+1),COLUMNS($U252:AC252)),COLUMNS(Main!$D250:$I250)),\"\")","v":0},{"$f":"IFERROR(INDEX(Haz_Cat,SMALL(IF(Hazard=Engine!$Q250,ROW(Haz_Cat)-MIN(ROW(Haz_Cat))+1),COLUMNS($U252:AD252)),COLUMNS(Main!$D250:$I250)),\"\")","v":0},{"$f":"IFERROR(INDEX(Haz_Cat,SMALL(IF(Hazard=Engine!$Q250,ROW(Haz_Cat)-MIN(ROW(Haz_Cat))+1),COLUMNS($U252:AE252)),COLUMNS(Main!$D250:$I250)),\"\")","v":0},{"$f":"IFERROR(INDEX(Haz_Cat,SMALL(IF(Hazard=Engine!$Q250,ROW(Haz_Cat)-MIN(ROW(Haz_Cat))+1),COLUMNS($U252:AF252)),COLUMNS(Main!$D250:$I250)),\"\")","v":0},{"$f":"IFERROR(INDEX(Haz_Cat,SMALL(IF(Hazard=Engine!$Q250,ROW(Haz_Cat)-MIN(ROW(Haz_Cat))+1),COLUMNS($U252:AG252)),COLUMNS(Main!$D250:$I250)),\"\")","v":0},{"$f":"IFERROR(INDEX(Haz_Cat,SMALL(IF(Hazard=Engine!$Q250,ROW(Haz_Cat)-MIN(ROW(Haz_Cat))+1),COLUMNS($U252:AH252)),COLUMNS(Main!$D250:$I250)),\"\")","v":0},{"$f":"IFERROR(INDEX(Haz_Cat,SMALL(IF(Hazard=Engine!$Q250,ROW(Haz_Cat)-MIN(ROW(Haz_Cat))+1),COLUMNS($U252:AI252)),COLUMNS(Main!$D250:$I250)),\"\")","v":0},{"$f":"IFERROR(INDEX(Haz_Cat,SMALL(IF(Hazard=Engine!$Q250,ROW(Haz_Cat)-MIN(ROW(Haz_Cat))+1),COLUMNS($U252:AJ252)),COLUMNS(Main!$D250:$I250)),\"\")","v":0},{"$f":"IFERROR(INDEX(Haz_Cat,SMALL(IF(Hazard=Engine!$Q250,ROW(Haz_Cat)-MIN(ROW(Haz_Cat))+1),COLUMNS($U252:AK252)),COLUMNS(Main!$D250:$I250)),\"\")","v":0},{"$f":"IFERROR(INDEX(Haz_Cat,SMALL(IF(Hazard=Engine!$Q250,ROW(Haz_Cat)-MIN(ROW(Haz_Cat))+1),COLUMNS($U252:AL252)),COLUMNS(Main!$D250:$I250)),\"\")","v":0},{"$f":"IFERROR(INDEX(Haz_Cat,SMALL(IF(Hazard=Engine!$Q250,ROW(Haz_Cat)-MIN(ROW(Haz_Cat))+1),COLUMNS($U252:AM252)),COLUMNS(Main!$D250:$I250)),\"\")","v":0},{"$f":"IFERROR(INDEX(Haz_Cat,SMALL(IF(Hazard=Engine!$Q250,ROW(Haz_Cat)-MIN(ROW(Haz_Cat))+1),COLUMNS($U252:AN252)),COLUMNS(Main!$D250:$I250)),\"\")","v":0},{"$f":"IFERROR(INDEX(Haz_Cat,SMALL(IF(Hazard=Engine!$Q250,ROW(Haz_Cat)-MIN(ROW(Haz_Cat))+1),COLUMNS($U252:AO252)),COLUMNS(Main!$D250:$I250)),\"\")","v":0},{"$f":"IFERROR(INDEX(Haz_Cat,SMALL(IF(Hazard=Engine!$Q250,ROW(Haz_Cat)-MIN(ROW(Haz_Cat))+1),COLUMNS($U252:AP252)),COLUMNS(Main!$D250:$I250)),\"\")","v":0},{"$f":"IFERROR(INDEX(Haz_Cat,SMALL(IF(Hazard=Engine!$Q250,ROW(Haz_Cat)-MIN(ROW(Haz_Cat))+1),COLUMNS($U252:AQ252)),COLUMNS(Main!$D250:$I250)),\"\")","v":0},{"$f":"IFERROR(INDEX(Haz_Cat,SMALL(IF(Hazard=Engine!$Q250,ROW(Haz_Cat)-MIN(ROW(Haz_Cat))+1),COLUMNS($U252:AR252)),COLUMNS(Main!$D250:$I250)),\"\")","v":0},{"$f":"IFERROR(INDEX(Haz_Cat,SMALL(IF(Hazard=Engine!$Q250,ROW(Haz_Cat)-MIN(ROW(Haz_Cat))+1),COLUMNS($U252:AS252)),COLUMNS(Main!$D250:$I250)),\"\")","v":0},{"$f":"IFERROR(INDEX(Haz_Cat,SMALL(IF(Hazard=Engine!$Q250,ROW(Haz_Cat)-MIN(ROW(Haz_Cat))+1),COLUMNS($U252:AT252)),COLUMNS(Main!$D250:$I250)),\"\")","v":0},{"$f":"IFERROR(INDEX(Haz_Cat,SMALL(IF(Hazard=Engine!$Q250,ROW(Haz_Cat)-MIN(ROW(Haz_Cat))+1),COLUMNS($U252:AU252)),COLUMNS(Main!$D250:$I250)),\"\")","v":0},{"$f":"IFERROR(INDEX(Haz_Cat,SMALL(IF(Hazard=Engine!$Q250,ROW(Haz_Cat)-MIN(ROW(Haz_Cat))+1),COLUMNS($U252:AV252)),COLUMNS(Main!$D250:$I250)),\"\")","v":0},null,{"$f":"INDIRECT(TEXT(MIN(IF(($U259:$AV264<>\"\")*(COUNTIF($AX249:$AX256,$U259:$AV264)=0),ROW($P259:$BM264)*100+COLUMN($U249:$AV277),7^8)),\"R0C00\"),)&\"\"","v":""},false,"","",{"$f":"COUNTIF(AZ250:AZ260,\"<=\"&AZ257)","v":0},{"$f":"IF(COUNTIF(BA250:BA260,\"<=\"&BA257)=0,\"\",COUNTIF(BA250:BA260,\"<=\"&BA257))","v":""},{"$f":"IFERROR(SMALL(AZ250:AZ260,ROWS(AX250:AX257)),\"\")","v":""},{"$f":"IFERROR(INDEX(BD250:BD271,SMALL(IF(BD250:BD271<>\"\",ROW(BD250:BD271)-MIN(ROW(BD250:BD271))+1),ROWS(AX250:AX257))),\"\")","v":""},null,{"$f":"+AB268","v":0},{"$f":"COUNTIF($BG$2:BG257,\"*\"&BG257&\"*\")","v":0},"","",{"$f":"IFERROR(INDEX(BI$2:BI$308,MATCH(ROWS(BJ$2:BJ257),BJ$2:BJ$308,0)),\"\")","v":""},{"$f":"COUNTIF($BK257:$BK$308,\"*\"&BK257&\"*\")","v":52},"","",{"$f":"IFERROR(INDEX($BM$2:$BM$308,MATCH(ROWS(BN$2:BN257),BN$2:BN563,0)),\"\")","v":""},{"$f":"IFERROR(VLOOKUP(Engine!BO257,P_sentences_overview!H258:I387,2),\"\")","v":""}]
[null,null,null,null,null,null,null,null,null,null,null,null,null,null,null,null,null,null,null,null,null,null,null,null,null,null,null,null,null,null,null,null,null,null,null,null,null,null,null,null,null,null,null,null,null,null,null,null,null,{"$f":"INDIRECT(TEXT(MIN(IF(($U259:$AV264<>\"\")*(COUNTIF($AX249:$AX257,$U259:$AV264)=0),ROW($P259:$BM264)*100+COLUMN($U249:$AV277),7^8)),\"R0C00\"),)&\"\"","v":""},false,"","",{"$f":"COUNTIF(AZ250:AZ260,\"<=\"&AZ258)","v":0},{"$f":"IF(COUNTIF(BA250:BA260,\"<=\"&BA258)=0,\"\",COUNTIF(BA250:BA260,\"<=\"&BA258))","v":""},{"$f":"IFERROR(SMALL(AZ250:AZ260,ROWS(AX250:AX258)),\"\")","v":""},{"$f":"IFERROR(INDEX(BD250:BD271,SMALL(IF(BD250:BD271<>\"\",ROW(BD250:BD271)-MIN(ROW(BD250:BD271))+1),ROWS(AX250:AX258))),\"\")","v":""},null,{"$f":"+AC268","v":0},{"$f":"COUNTIF($BG$2:BG258,\"*\"&BG258&\"*\")","v":0},"","",{"$f":"IFERROR(INDEX(BI$2:BI$308,MATCH(ROWS(BJ$2:BJ258),BJ$2:BJ$308,0)),\"\")","v":""},{"$f":"COUNTIF($BK258:$BK$308,\"*\"&BK258&\"*\")","v":51},"","",{"$f":"IFERROR(INDEX($BM$2:$BM$308,MATCH(ROWS(BN$2:BN258),BN$2:BN564,0)),\"\")","v":""},{"$f":"IFERROR(VLOOKUP(Engine!BO258,P_sentences_overview!H259:I388,2),\"\")","v":""}]
[null,null,null,null,null,null,null,null,null,null,null,null,null,null,null,null,null,null,null,null,{"$f":"+IF(U252=0,\"\",U252)","v":""},"","","","","","","","","","","","","","","","","","","","","","","","","","","",null,{"$f":"INDIRECT(TEXT(MIN(IF(($U259:$AV264<>\"\")*(COUNTIF($AX249:$AX258,$U259:$AV264)=0),ROW($P259:$BM264)*100+COLUMN($U249:$AV277),7^8)),\"R0C00\"),)&\"\"","v":""},false,"","",{"$f":"COUNTIF(AZ250:AZ260,\"<=\"&AZ259)","v":0},{"$f":"IF(COUNTIF(BA250:BA260,\"<=\"&BA259)=0,\"\",COUNTIF(BA250:BA260,\"<=\"&BA259))","v":""},{"$f":"IFERROR(SMALL(AZ250:AZ260,ROWS(AX250:AX259)),\"\")","v":""},{"$f":"IFERROR(INDEX(BD250:BD271,SMALL(IF(BD250:BD271<>\"\",ROW(BD250:BD271)-MIN(ROW(BD250:BD271))+1),ROWS(AX250:AX259))),\"\")","v":""},null,{"$f":"+AD268","v":0},{"$f":"COUNTIF($BG$2:BG259,\"*\"&BG259&\"*\")","v":0},"",{"$f":"IF(COUNTIF($BI$2:$BI$308,\"<=\"&BI259)=0,\"\",COUNTIF($BI$2:$BI$308,\"<=\"&BI259)-COUNTBLANK($BI$2:$BI$308))","v":""},{"$f":"IFERROR(INDEX(BI$2:BI$308,MATCH(ROWS(BJ$2:BJ259),BJ$2:BJ$308,0)),\"\")","v":""},{"$f":"COUNTIF($BK259:$BK$308,\"*\"&BK259&\"*\")","v":50},{"$f":"IF(BL259=1,BK259,\"\")","v":""},{"$f":"IF(COUNTIF(BM$2:BM$308,\"<=\"&BM259)=0,\"\",COUNTIF(BM$2:BM$308,\"<=\"&BM259)-COUNTBLANK(BM$2:BM$308))","v":""},{"$f":"IFERROR(INDEX($BM$2:$BM$308,MATCH(ROWS(BN$2:BN259),BN$2:BN565,0)),\"\")","v":""},{"$f":"IFERROR(VLOOKUP(Engine!BO259,P_sentences_overview!H260:I389,2),\"\")","v":""}]
[null,null,null,null,null,null,null,null,null,null,null,null,null,null,null,null,null,null,null,null,{"$f":"+IF(U253=0,\"\",U253)","v":""},"","","","","","","","","","","","","","","","","","","","","","","","","","","",null,{"$f":"INDIRECT(TEXT(MIN(IF(($U259:$AV264<>\"\")*(COUNTIF($AX249:$AX259,$U259:$AV264)=0),ROW($P259:$BM264)*100+COLUMN($U249:$AV277),7^8)),\"R0C00\"),)&\"\"","v":""},false,"","",{"$f":"COUNTIF(AZ250:AZ260,\"<=\"&AZ260)","v":0},{"$f":"IF(COUNTIF(BA250:BA260,\"<=\"&BA260)=0,\"\",COUNTIF(BA250:BA260,\"<=\"&BA260))","v":""},{"$f":"IFERROR(SMALL(AZ250:AZ260,ROWS(AX250:AX260)),\"\")","v":""},{"$f":"IFERROR(INDEX(BD250:BD271,SMALL(IF(BD250:BD271<>\"\",ROW(BD250:BD271)-MIN(ROW(BD250:BD271))+1),ROWS(AX250:AX260))),\"\")","v":""},null,{"$f":"+AE268","v":0},{"$f":"COUNTIF($BG$2:BG260,\"*\"&BG260&\"*\")","v":0},"","",{"$f":"IFERROR(INDEX(BI$2:BI$308,MATCH(ROWS(BJ$2:BJ260),BJ$2:BJ$308,0)),\"\")","v":""},{"$f":"COUNTIF($BK260:$BK$308,\"*\"&BK260&\"*\")","v":49},"","",{"$f":"IFERROR(INDEX($BM$2:$BM$308,MATCH(ROWS(BN$2:BN260),BN$2:BN566,0)),\"\")","v":""},{"$f":"IFERROR(VLOOKUP(Engine!BO260,P_sentences_overview!H261:I390,2),\"\")","v":""}]
[null,null,null,null,null,null,null,null,null,null,null,null,null,null,null,null,null,null,null,null,{"$f":"+IF(U254=0,\"\",U254)","v":""},"","","","","","","","","","","","","","","","","","","","","","","","","","","",null,null,null,null,null,null,null,{"$f":"IFERROR(INDEX(BA250:BA260,MATCH(SMALL(BC250:BC260,ROWS(BA250:BA250)),BC250:BC260,)),\"\")","v":""},{"$f":"IFERROR(INDEX(BD250:BD271,SMALL(IF(BD250:BD271<>\"\",ROW(BD250:BD271)-MIN(ROW(BD250:BD271))+1),ROWS(AX250:AX261))),\"\")","v":""},null,{"$f":"+AF268","v":0},{"$f":"COUNTIF($BG$2:BG261,\"*\"&BG261&\"*\")","v":0},"","",{"$f":"IFERROR(INDEX(BI$2:BI$308,MATCH(ROWS(BJ$2:BJ261),BJ$2:BJ$308,0)),\"\")","v":""},{"$f":"COUNTIF($BK261:$BK$308,\"*\"&BK261&\"*\")","v":48},"","",{"$f":"IFERROR(INDEX($BM$2:$BM$308,MATCH(ROWS(BN$2:BN261),BN$2:BN567,0)),\"\")","v":""},{"$f":"IFERROR(VLOOKUP(Engine!BO261,P_sentences_overview!H262:I391,2),\"\")","v":""}]
[null,null,null,null,null,null,null,null,null,null,null,null,null,null,null,null,null,null,null,null,{"$f":"+IF(U255=0,\"\",U255)","v":""},"","","","","","","","","","","","","","","","","","","","","","","","","","","",null,null,null,null,null,null,null,{"$f":"IFERROR(INDEX(BA250:BA260,MATCH(SMALL(BC250:BC260,ROWS(BA250:BA251)),BC250:BC260,)),\"\")","v":""},{"$f":"IFERROR(INDEX(BD250:BD271,SMALL(IF(BD250:BD271<>\"\",ROW(BD250:BD271)-MIN(ROW(BD250:BD271))+1),ROWS(AX250:AX262))),\"\")","v":""},null,{"$f":"+AG268","v":0},{"$f":"COUNTIF($BG$2:BG262,\"*\"&BG262&\"*\")","v":0},"","",{"$f":"IFERROR(INDEX(BI$2:BI$308,MATCH(ROWS(BJ$2:BJ262),BJ$2:BJ$308,0)),\"\")","v":""},{"$f":"COUNTIF($BK262:$BK$308,\"*\"&BK262&\"*\")","v":47},"","",{"$f":"IFERROR(INDEX($BM$2:$BM$308,MATCH(ROWS(BN$2:BN262),BN$2:BN568,0)),\"\")","v":""},{"$f":"IFERROR(VLOOKUP(Engine!BO262,P_sentences_overview!H263:I392,2),\"\")","v":""}]
[null,null,null,null,null,null,null,null,null,null,null,null,null,null,null,null,null,null,null,null,{"$f":"+IF(U256=0,\"\",U256)","v":""},"","","","","","","","","","","","","","","","","","","","","","","","","","","",null,null,null,null,null,null,null,{"$f":"IFERROR(INDEX(BA250:BA260,MATCH(SMALL(BC250:BC260,ROWS(BA250:BA252)),BC250:BC260,)),\"\")","v":""},{"$f":"IFERROR(INDEX(BD250:BD271,SMALL(IF(BD250:BD271<>\"\",ROW(BD250:BD271)-MIN(ROW(BD250:BD271))+1),ROWS(AX250:AX263))),\"\")","v":""},null,{"$f":"+AH268","v":0},{"$f":"COUNTIF($BG$2:BG263,\"*\"&BG263&\"*\")","v":0},"","",{"$f":"IFERROR(INDEX(BI$2:BI$308,MATCH(ROWS(BJ$2:BJ263),BJ$2:BJ$308,0)),\"\")","v":""},{"$f":"COUNTIF($BK263:$BK$308,\"*\"&BK263&\"*\")","v":46},"","",{"$f":"IFERROR(INDEX($BM$2:$BM$308,MATCH(ROWS(BN$2:BN263),BN$2:BN569,0)),\"\")","v":""},{"$f":"IFERROR(VLOOKUP(Engine!BO263,P_sentences_overview!H264:I393,2),\"\")","v":""}]
[null,null,null,null,null,null,null,null,null,null,null,null,null,null,null,null,null,null,null,null,{"$f":"+IF(U257=0,\"\",U257)","v":""},"","","","","","","","","","","","","","","","","","","","","","","","","","","",null,null,null,null,null,null,null,{"$f":"IFERROR(INDEX(BA250:BA260,MATCH(SMALL(BC250:BC260,ROWS(BA250:BA253)),BC250:BC260,)),\"\")","v":""},{"$f":"IFERROR(INDEX(BD250:BD271,SMALL(IF(BD250:BD271<>\"\",ROW(BD250:BD271)-MIN(ROW(BD250:BD271))+1),ROWS(AX250:AX264))),\"\")","v":""},null,{"$f":"+AI268","v":0},{"$f":"COUNTIF($BG$2:BG264,\"*\"&BG264&\"*\")","v":0},"","",{"$f":"IFERROR(INDEX(BI$2:BI$308,MATCH(ROWS(BJ$2:BJ264),BJ$2:BJ$308,0)),\"\")","v":""},{"$f":"COUNTIF($BK264:$BK$308,\"*\"&BK264&\"*\")","v":45},"","",{"$f":"IFERROR(INDEX($BM$2:$BM$308,MATCH(ROWS(BN$2:BN264),BN$2:BN570,0)),\"\")","v":""},{"$f":"IFERROR(VLOOKUP(Engine!BO264,P_sentences_overview!H265:I394,2),\"\")","v":""}]
[null,null,null,null,null,null,null,null,null,null,null,null,null,null,null,null,null,null,null,null,null,null,null,null,null,null,null,null,null,null,null,null,null,null,null,null,null,null,null,null,null,null,null,null,null,null,null,null,null,null,null,null,null,null,null,{"$f":"IFERROR(INDEX(BA250:BA260,MATCH(SMALL(BC250:BC260,ROWS(BA250:BA254)),BC250:BC260,)),\"\")","v":""},{"$f":"IFERROR(INDEX(BD250:BD271,SMALL(IF(BD250:BD271<>\"\",ROW(BD250:BD271)-MIN(ROW(BD250:BD271))+1),ROWS(AX250:AX265))),\"\")","v":""},null,{"$f":"+AJ268","v":0},{"$f":"COUNTIF($BG$2:BG265,\"*\"&BG265&\"*\")","v":0},"","",{"$f":"IFERROR(INDEX(BI$2:BI$308,MATCH(ROWS(BJ$2:BJ265),BJ$2:BJ$308,0)),\"\")","v":""},{"$f":"COUNTIF($BK265:$BK$308,\"*\"&BK265&\"*\")","v":44},"","",{"$f":"IFERROR(INDEX($BM$2:$BM$308,MATCH(ROWS(BN$2:BN265),BN$2:BN571,0)),\"\")","v":""},{"$f":"IFERROR(VLOOKUP(Engine!BO265,P_sentences_overview!H266:I395,2),\"\")","v":""}]
[null,null,null,null,null,null,null,null,null,null,null,null,null,null,null,null,null,null,null,null,{"$f":"IF(ISNUMBER(MATCH($R250,U259:U264,0)),U250,\"\")","v":0},{"$f":"IF(ISNUMBER(MATCH($R250,V259:V264,0)),V250,\"\")","v":0},0,0,0,0,0,0,0,0,0,0,0,0,0,0,0,0,0,0,0,0,0,0,0,0,0,0,null,null,null,null,null,null,null,{"$f":"IFERROR(INDEX(BA250:BA260,MATCH(SMALL(BC250:BC260,ROWS(BA250:BA255)),BC250:BC260,)),\"\")","v":""},{"$f":"IFERROR(INDEX(BD250:BD271,SMALL(IF(BD250:BD271<>\"\",ROW(BD250:BD271)-MIN(ROW(BD250:BD271))+1),ROWS(AX250:AX266))),\"\")","v":""},null,{"$f":"+AK268","v":0},{"$f":"COUNTIF($BG$2:BG266,\"*\"&BG266&\"*\")","v":0},"","",{"$f":"IFERROR(INDEX(BI$2:BI$308,MATCH(ROWS(BJ$2:BJ266),BJ$2:BJ$308,0)),\"\")","v":""},{"$f":"COUNTIF($BK266:$BK$308,\"*\"&BK266&\"*\")","v":43},"","",{"$f":"IFERROR(INDEX($BM$2:$BM$308,MATCH(ROWS(BN$2:BN266),BN$2:BN572,0)),\"\")","v":""},{"$f":"IFERROR(VLOOKUP(Engine!BO266,P_sentences_overview!H267:I396,2),\"\")","v":""}]
[null,null,null,null,null,null,null,null,null,null,null,null,null,null,null,null,null,null,null,null,null,null,null,null,null,null,null,null,null,null,null,null,null,null,null,null,null,null,null,null,null,null,null,null,null,null,null,null,null,null,null,null,null,null,null,{"$f":"IFERROR(INDEX(BA250:BA260,MATCH(SMALL(BC250:BC260,ROWS(BA250:BA256)),BC250:BC260,)),\"\")","v":""},{"$f":"IFERROR(INDEX(BD250:BD271,SMALL(IF(BD250:BD271<>\"\",ROW(BD250:BD271)-MIN(ROW(BD250:BD271))+1),ROWS(AX250:AX267))),\"\")","v":""},null,{"$f":"+AL268","v":0},{"$f":"COUNTIF($BG$2:BG267,\"*\"&BG267&\"*\")","v":0},"","",{"$f":"IFERROR(INDEX(BI$2:BI$308,MATCH(ROWS(BJ$2:BJ267),BJ$2:BJ$308,0)),\"\")","v":""},{"$f":"COUNTIF($BK267:$BK$308,\"*\"&BK267&\"*\")","v":42},"","",{"$f":"IFERROR(INDEX($BM$2:$BM$308,MATCH(ROWS(BN$2:BN267),BN$2:BN573,0)),\"\")","v":""},{"$f":"IFERROR(VLOOKUP(Engine!BO267,P_sentences_overview!H268:I397,2),\"\")","v":""}]
[null,null,null,null,null,null,null,null,null,null,null,null,null,null,null,null,null,null,null,null,{"$f":"IFERROR(INDEX(U266:AV266,1,SMALL(IF(U266:AV266<>\"\",COLUMN(U266:AV266)-MIN(COLUMN(U266:AV266))+1),COLUMNS($U$2:U250))),\"\")","v":0},{"$f":"IFERROR(INDEX(U266:AV266,1,SMALL(IF(U266:AV266<>\"\",COLUMN(U266:AV266)-MIN(COLUMN(U266:AV266))+1),COLUMNS($U$2:V250))),\"\")","v":0},{"$f":"IFERROR(INDEX(U266:AV266,1,SMALL(IF(U266:AV266<>\"\",COLUMN(U266:AV266)-MIN(COLUMN(U266:AV266))+1),COLUMNS($U$2:W250))),\"\")","v":0},{"$f":"IFERROR(INDEX(U266:AV266,1,SMALL(IF(U266:AV266<>\"\",COLUMN(U266:AV266)-MIN(COLUMN(U266:AV266))+1),COLUMNS($U$2:X250))),\"\")","v":0},{"$f":"IFERROR(INDEX(U266:AV266,1,SMALL(IF(U266:AV266<>\"\",COLUMN(U266:AV266)-MIN(COLUMN(U266:AV266))+1),COLUMNS($U$2:Y250))),\"\")","v":0},{"$f":"IFERROR(INDEX(U266:AV266,1,SMALL(IF(U266:AV266<>\"\",COLUMN(U266:AV266)-MIN(COLUMN(U266:AV266))+1),COLUMNS($U$2:Z250))),\"\")","v":0},{"$f":"IFERROR(INDEX(U266:AV266,1,SMALL(IF(U266:AV266<>\"\",COLUMN(U266:AV266)-MIN(COLUMN(U266:AV266))+1),COLUMNS($U$2:AA250))),\"\")","v":0},{"$f":"IFERROR(INDEX(U266:AV266,1,SMALL(IF(U266:AV266<>\"\",COLUMN(U266:AV266)-MIN(COLUMN(U266:AV266))+1),COLUMNS($U$2:AB250))),\"\")","v":0},{"$f":"IFERROR(INDEX(U266:AV266,1,SMALL(IF(U266:AV266<>\"\",COLUMN(U266:AV266)-MIN(COLUMN(U266:AV266))+1),COLUMNS($U$2:AC250))),\"\")","v":0},{"$f":"IFERROR(INDEX(U266:AV266,1,SMALL(IF(U266:AV266<>\"\",COLUMN(U266:AV266)-MIN(COLUMN(U266:AV266))+1),COLUMNS($U$2:AD250))),\"\")","v":0},{"$f":"IFERROR(INDEX(U266:AV266,1,SMALL(IF(U266:AV266<>\"\",COLUMN(U266:AV266)-MIN(COLUMN(U266:AV266))+1),COLUMNS($U$2:AE250))),\"\")","v":0},{"$f":"IFERROR(INDEX(U266:AV266,1,SMALL(IF(U266:AV266<>\"\",COLUMN(U266:AV266)-MIN(COLUMN(U266:AV266))+1),COLUMNS($U$2:AF250))),\"\")","v":0},{"$f":"IFERROR(INDEX(U266:AV266,1,SMALL(IF(U266:AV266<>\"\",COLUMN(U266:AV266)-MIN(COLUMN(U266:AV266))+1),COLUMNS($U$2:AG250))),\"\")","v":0},{"$f":"IFERROR(INDEX(U266:AV266,1,SMALL(IF(U266:AV266<>\"\",COLUMN(U266:AV266)-MIN(COLUMN(U266:AV266))+1),COLUMNS($U$2:AH250))),\"\")","v":0},{"$f":"IFERROR(INDEX(U266:AV266,1,SMALL(IF(U266:AV266<>\"\",COLUMN(U266:AV266)-MIN(COLUMN(U266:AV266))+1),COLUMNS($U$2:AI250))),\"\")","v":0},{"$f":"IFERROR(INDEX(U266:AV266,1,SMALL(IF(U266:AV266<>\"\",COLUMN(U266:AV266)-MIN(COLUMN(U266:AV266))+1),COLUMNS($U$2:AJ250))),\"\")","v":0},{"$f":"IFERROR(INDEX(U266:AV266,1,SMALL(IF(U266:AV266<>\"\",COLUMN(U266:AV266)-MIN(COLUMN(U266:AV266))+1),COLUMNS($U$2:AK250))),\"\")","v":0},{"$f":"IFERROR(INDEX(U266:AV266,1,SMALL(IF(U266:AV266<>\"\",COLUMN(U266:AV266)-MIN(COLUMN(U266:AV266))+1),COLUMNS($U$2:AL250))),\"\")","v":0},{"$f":"IFERROR(INDEX(U266:AV266,1,SMALL(IF(U266:AV266<>\"\",COLUMN(U266:AV266)-MIN(COLUMN(U266:AV266))+1),COLUMNS($U$2:AM250))),\"\")","v":0},{"$f":"IFERROR(INDEX(U266:AV266,1,SMALL(IF(U266:AV266<>\"\",COLUMN(U266:AV266)-MIN(COLUMN(U266:AV266))+1),COLUMNS($U$2:AN250))),\"\")","v":0},{"$f":"IFERROR(INDEX(U266:AV266,1,SMALL(IF(U266:AV266<>\"\",COLUMN(U266:AV266)-MIN(COLUMN(U266:AV266))+1),COLUMNS($U$2:AO250))),\"\")","v":0},{"$f":"IFERROR(INDEX(U266:AV266,1,SMALL(IF(U266:AV266<>\"\",COLUMN(U266:AV266)-MIN(COLUMN(U266:AV266))+1),COLUMNS($U$2:AP250))),\"\")","v":0},{"$f":"IFERROR(INDEX(U266:AV266,1,SMALL(IF(U266:AV266<>\"\",COLUMN(U266:AV266)-MIN(COLUMN(U266:AV266))+1),COLUMNS($U$2:AQ250))),\"\")","v":0},{"$f":"IFERROR(INDEX(U266:AV266,1,SMALL(IF(U266:AV266<>\"\",COLUMN(U266:AV266)-MIN(COLUMN(U266:AV266))+1),COLUMNS($U$2:AR250))),\"\")","v":0},{"$f":"IFERROR(INDEX(U266:AV266,1,SMALL(IF(U266:AV266<>\"\",COLUMN(U266:AV266)-MIN(COLUMN(U266:AV266))+1),COLUMNS($U$2:AS250))),\"\")","v":0},{"$f":"IFERROR(INDEX(U266:AV266,1,SMALL(IF(U266:AV266<>\"\",COLUMN(U266:AV266)-MIN(COLUMN(U266:AV266))+1),COLUMNS($U$2:AT250))),\"\")","v":0},{"$f":"IFERROR(INDEX(U266:AV266,1,SMALL(IF(U266:AV266<>\"\",COLUMN(U266:AV266)-MIN(COLUMN(U266:AV266))+1),COLUMNS($U$2:AU250))),\"\")","v":0},{"$f":"IFERROR(INDEX(U266:AV266,1,SMALL(IF(U266:AV266<>\"\",COLUMN(U266:AV266)-MIN(COLUMN(U266:AV266))+1),COLUMNS($U$2:AV250))),\"\")","v":0},null,null,null,null,null,null,null,{"$f":"IFERROR(INDEX(BA250:BA260,MATCH(SMALL(BC250:BC260,ROWS(BA250:BA257)),BC250:BC260,)),\"\")","v":""},{"$f":"IFERROR(INDEX(BD250:BD271,SMALL(IF(BD250:BD271<>\"\",ROW(BD250:BD271)-MIN(ROW(BD250:BD271))+1),ROWS(AX250:AX268))),\"\")","v":""},null,{"$f":"+AM268","v":0},{"$f":"COUNTIF($BG$2:BG268,\"*\"&BG268&\"*\")","v":0},"","",{"$f":"IFERROR(INDEX(BI$2:BI$308,MATCH(ROWS(BJ$2:BJ268),BJ$2:BJ$308,0)),\"\")","v":""},{"$f":"COUNTIF($BK268:$BK$308,\"*\"&BK268&\"*\")","v":41},"","",{"$f":"IFERROR(INDEX($BM$2:$BM$308,MATCH(ROWS(BN$2:BN268),BN$2:BN574,0)),\"\")","v":""},{"$f":"IFERROR(VLOOKUP(Engine!BO268,P_sentences_overview!H269:I398,2),\"\")","v":""}]
[null,null,null,null,null,null,null,null,null,null,null,null,null,null,null,null,null,null,null,null,null,null,null,null,null,null,null,null,null,null,null,null,null,null,null,null,null,null,null,null,null,null,null,null,null,null,null,null,null,null,null,null,null,null,null,{"$f":"IFERROR(INDEX(BA250:BA260,MATCH(SMALL(BC250:BC260,ROWS(BA250:BA258)),BC250:BC260,)),\"\")","v":""},{"$f":"IFERROR(INDEX(BD250:BD271,SMALL(IF(BD250:BD271<>\"\",ROW(BD250:BD271)-MIN(ROW(BD250:BD271))+1),ROWS(AX250:AX269))),\"\")","v":""},null,{"$f":"+AN268","v":0},{"$f":"COUNTIF($BG$2:BG269,\"*\"&BG269&\"*\")","v":0},"","",{"$f":"IFERROR(INDEX(BI$2:BI$308,MATCH(ROWS(BJ$2:BJ269),BJ$2:BJ$308,0)),\"\")","v":""},{"$f":"COUNTIF($BK269:$BK$308,\"*\"&BK269&\"*\")","v":40},"","",{"$f":"IFERROR(INDEX($BM$2:$BM$308,MATCH(ROWS(BN$2:BN269),BN$2:BN575,0)),\"\")","v":""},{"$f":"IFERROR(VLOOKUP(Engine!BO269,P_sentences_overview!H270:I399,2),\"\")","v":""}]
[null,null,null,null,null,null,null,null,null,null,null,null,null,null,null,null,null,null,null,null,null,null,null,null,null,null,null,null,null,null,null,null,null,null,null,null,null,null,null,null,null,null,null,null,null,null,null,null,null,null,null,null,null,null,null,{"$f":"IFERROR(INDEX(BA250:BA260,MATCH(SMALL(BC250:BC260,ROWS(BA250:BA259)),BC250:BC260,)),\"\")","v":""},{"$f":"IFERROR(INDEX(BD250:BD271,SMALL(IF(BD250:BD271<>\"\",ROW(BD250:BD271)-MIN(ROW(BD250:BD271))+1),ROWS(AX250:AX270))),\"\")","v":""},null,{"$f":"+AO268","v":0},{"$f":"COUNTIF($BG$2:BG270,\"*\"&BG270&\"*\")","v":0},"","",{"$f":"IFERROR(INDEX(BI$2:BI$308,MATCH(ROWS(BJ$2:BJ270),BJ$2:BJ$308,0)),\"\")","v":""},{"$f":"COUNTIF($BK270:$BK$308,\"*\"&BK270&\"*\")","v":39},"","",{"$f":"IFERROR(INDEX($BM$2:$BM$308,MATCH(ROWS(BN$2:BN270),BN$2:BN576,0)),\"\")","v":""},{"$f":"IFERROR(VLOOKUP(Engine!BO270,P_sentences_overview!H271:I400,2),\"\")","v":""}]
[null,null,null,null,null,null,null,null,null,null,null,null,null,null,null,null,null,null,null,null,null,null,null,null,null,null,null,null,null,null,null,null,null,null,null,null,null,null,null,null,null,null,null,null,null,null,null,null,null,null,null,null,null,null,null,{"$f":"IFERROR(INDEX(BA250:BA260,MATCH(SMALL(BC250:BC260,ROWS(BA250:BA260)),BC250:BC260,)),\"\")","v":""},{"$f":"IFERROR(INDEX(BD250:BD271,SMALL(IF(BD250:BD271<>\"\",ROW(BD250:BD271)-MIN(ROW(BD250:BD271))+1),ROWS(AX250:AX271))),\"\")","v":""},null,{"$f":"+AP268","v":0},{"$f":"COUNTIF($BG$2:BG271,\"*\"&BG271&\"*\")","v":0},"","",{"$f":"IFERROR(INDEX(BI$2:BI$308,MATCH(ROWS(BJ$2:BJ271),BJ$2:BJ$308,0)),\"\")","v":""},{"$f":"COUNTIF($BK271:$BK$308,\"*\"&BK271&\"*\")","v":38},"","",{"$f":"IFERROR(INDEX($BM$2:$BM$308,MATCH(ROWS(BN$2:BN271),BN$2:BN577,0)),\"\")","v":""},{"$f":"IFERROR(VLOOKUP(Engine!BO271,P_sentences_overview!H272:I401,2),\"\")","v":""}]
[null,null,null,null,null,null,null,null,null,null,null,null,null,null,null,null,null,null,null,null,null,null,null,null,null,null,null,null,null,null,null,null,null,null,null,null,null,null,null,null,null,null,null,null,null,null,null,null,null,null,null,null,null,null,null,null,null,null,{"$f":"+AQ268","v":0},{"$f":"COUNTIF($BG$2:BG272,\"*\"&BG272&\"*\")","v":0},"","",{"$f":"IFERROR(INDEX(BI$2:BI$308,MATCH(ROWS(BJ$2:BJ272),BJ$2:BJ$308,0)),\"\")","v":""},{"$f":"COUNTIF($BK272:$BK$308,\"*\"&BK272&\"*\")","v":37},"","",{"$f":"IFERROR(INDEX($BM$2:$BM$308,MATCH(ROWS(BN$2:BN272),BN$2:BN578,0)),\"\")","v":""},{"$f":"IFERROR(VLOOKUP(Engine!BO272,P_sentences_overview!H273:I402,2),\"\")","v":""}]
[null,null,null,null,null,null,null,null,null,null,null,null,null,null,null,null,null,null,null,null,null,null,null,null,null,null,null,null,null,null,null,null,null,null,null,null,null,null,null,null,null,null,null,null,null,null,null,null,null,null,null,null,null,null,null,null,null,null,{"$f":"+AR268","v":0},{"$f":"COUNTIF($BG$2:BG273,\"*\"&BG273&\"*\")","v":0},"","",{"$f":"IFERROR(INDEX(BI$2:BI$308,MATCH(ROWS(BJ$2:BJ273),BJ$2:BJ$308,0)),\"\")","v":""},{"$f":"COUNTIF($BK273:$BK$308,\"*\"&BK273&\"*\")","v":36},"","",{"$f":"IFERROR(INDEX($BM$2:$BM$308,MATCH(ROWS(BN$2:BN273),BN$2:BN579,0)),\"\")","v":""},{"$f":"IFERROR(VLOOKUP(Engine!BO273,P_sentences_overview!H274:I403,2),\"\")","v":""}]
[null,null,null,null,null,null,null,null,null,null,null,null,null,null,null,null,null,null,null,null,null,null,null,null,null,null,null,null,null,null,null,null,null,null,null,null,null,null,null,null,null,null,null,null,null,null,null,null,null,null,null,null,null,null,null,null,null,null,{"$f":"+AS268","v":0},{"$f":"COUNTIF($BG$2:BG274,\"*\"&BG274&\"*\")","v":0},"","",{"$f":"IFERROR(INDEX(BI$2:BI$308,MATCH(ROWS(BJ$2:BJ274),BJ$2:BJ$308,0)),\"\")","v":""},{"$f":"COUNTIF($BK274:$BK$308,\"*\"&BK274&\"*\")","v":35},"","",{"$f":"IFERROR(INDEX($BM$2:$BM$308,MATCH(ROWS(BN$2:BN274),BN$2:BN580,0)),\"\")","v":""},{"$f":"IFERROR(VLOOKUP(Engine!BO274,P_sentences_overview!H275:I404,2),\"\")","v":""}]
[null,null,null,null,null,null,null,null,null,null,null,null,null,null,null,null,null,null,null,null,null,null,null,null,null,null,null,null,null,null,null,null,null,null,null,null,null,null,null,null,null,null,null,null,null,null,null,null,null,null,null,null,null,null,null,null,null,null,{"$f":"+AT268","v":0},{"$f":"COUNTIF($BG$2:BG275,\"*\"&BG275&\"*\")","v":0},"","",{"$f":"IFERROR(INDEX(BI$2:BI$308,MATCH(ROWS(BJ$2:BJ275),BJ$2:BJ$308,0)),\"\")","v":""},{"$f":"COUNTIF($BK275:$BK$308,\"*\"&BK275&\"*\")","v":34},"","",{"$f":"IFERROR(INDEX($BM$2:$BM$308,MATCH(ROWS(BN$2:BN275),BN$2:BN581,0)),\"\")","v":""},{"$f":"IFERROR(VLOOKUP(Engine!BO275,P_sentences_overview!H276:I405,2),\"\")","v":""}]
[null,null,null,null,null,null,null,null,null,null,null,null,null,null,null,null,null,null,null,null,null,null,null,null,null,null,null,null,null,null,null,null,null,null,null,null,null,null,null,null,null,null,null,null,null,null,null,null,null,null,null,null,null,null,null,null,null,null,{"$f":"+AU268","v":0},{"$f":"COUNTIF($BG$2:BG276,\"*\"&BG276&\"*\")","v":0},"","",{"$f":"IFERROR(INDEX(BI$2:BI$308,MATCH(ROWS(BJ$2:BJ276),BJ$2:BJ$308,0)),\"\")","v":""},{"$f":"COUNTIF($BK276:$BK$308,\"*\"&BK276&\"*\")","v":33},"","",{"$f":"IFERROR(INDEX($BM$2:$BM$308,MATCH(ROWS(BN$2:BN276),BN$2:BN582,0)),\"\")","v":""},{"$f":"IFERROR(VLOOKUP(Engine!BO276,P_sentences_overview!H277:I406,2),\"\")","v":""}]
[null,null,null,null,null,null,null,null,null,null,null,null,null,null,null,null,null,null,null,null,null,null,null,null,null,null,null,null,null,null,null,null,null,null,null,null,null,null,null,null,null,null,null,null,null,null,null,null,null,null,null,null,null,null,null,null,null,null,{"$f":"+AV268","v":0},{"$f":"COUNTIF($BG$2:BG277,\"*\"&BG277&\"*\")","v":0},"","",{"$f":"IFERROR(INDEX(BI$2:BI$308,MATCH(ROWS(BJ$2:BJ277),BJ$2:BJ$308,0)),\"\")","v":""},{"$f":"COUNTIF($BK277:$BK$308,\"*\"&BK277&\"*\")","v":32},"","",{"$f":"IFERROR(INDEX($BM$2:$BM$308,MATCH(ROWS(BN$2:BN277),BN$2:BN583,0)),\"\")","v":""},{"$f":"IFERROR(VLOOKUP(Engine!BO277,P_sentences_overview!H278:I407,2),\"\")","v":""}]
[null,null,null,null,null,null,null,null,null,null,null,null,null,null,null,null,null,null,null,null,null,null,null,null,null,null,null,null,null,null,null,null,null,null,null,null,null,null,null,null,null,null,null,null,null,null,null,null,null,null,null,null,null,null,null,null,null,null,null,{"$f":"COUNTIF($BG$2:BG278,\"*\"&BG278&\"*\")","v":0},"","",{"$f":"IFERROR(INDEX(BI$2:BI$308,MATCH(ROWS(BJ$2:BJ278),BJ$2:BJ$308,0)),\"\")","v":""},{"$f":"COUNTIF($BK278:$BK$308,\"*\"&BK278&\"*\")","v":31},"","",{"$f":"IFERROR(INDEX($BM$2:$BM$308,MATCH(ROWS(BN$2:BN278),BN$2:BN584,0)),\"\")","v":""},{"$f":"IFERROR(VLOOKUP(Engine!BO278,P_sentences_overview!H279:I408,2),\"\")","v":""}]
[null,null,null,null,null,null,null,null,null,null,null,null,null,null,null,null,null,null,null,null,null,null,null,null,null,null,null,null,null,null,null,null,null,null,null,null,null,null,null,null,null,null,null,null,null,null,null,null,null,null,null,null,null,null,null,null,null,null,null,{"$f":"COUNTIF($BG$2:BG279,\"*\"&BG279&\"*\")","v":0},"","",{"$f":"IFERROR(INDEX(BI$2:BI$308,MATCH(ROWS(BJ$2:BJ279),BJ$2:BJ$308,0)),\"\")","v":""},{"$f":"COUNTIF($BK279:$BK$308,\"*\"&BK279&\"*\")","v":30},"","",{"$f":"IFERROR(INDEX($BM$2:$BM$308,MATCH(ROWS(BN$2:BN279),BN$2:BN585,0)),\"\")","v":""},{"$f":"IFERROR(VLOOKUP(Engine!BO279,P_sentences_overview!H280:I409,2),\"\")","v":""}]
[null,null,null,null,null,null,null,null,null,null,null,null,null,null,null,"Vælg  Hazard code","Opslag Hazard category","Vælg Hazard class","Opslag Hazard category","Opslag Hazard class","Column1","Column2","Column3","Column4",null,null,null,null,null,null,null,null,null,null,null,null,null,null,null,null,null,null,null,null,null,null,null,null,null,"Unique values","Number check","numbers_pull","text_pull","numbers_pull_rated","text_pull_rated","All_sorted","All_sorted_top",null,null,{"$f":"COUNTIF($BG$2:BG280,\"*\"&BG280&\"*\")","v":0},"","",{"$f":"IFERROR(INDEX(BI$2:BI$308,MATCH(ROWS(BJ$2:BJ280),BJ$2:BJ$308,0)),\"\")","v":""},{"$f":"COUNTIF($BK280:$BK$308,\"*\"&BK280&\"*\")","v":29},"","",{"$f":"IFERROR(INDEX($BM$2:$BM$308,MATCH(ROWS(BN$2:BN280),BN$2:BN586,0)),\"\")","v":""},{"$f":"IFERROR(VLOOKUP(Engine!BO280,P_sentences_overview!H281:I410,2),\"\")","v":""}]
[null,null,null,null,null,null,null,null,null,null,null,null,null,null,null,{"$f":"INDEX(H_sentences_overview!$A$1:$A$134,Engine!P286)","v":"(none)"},{"$f":"IFERROR(VLOOKUP(P281,H_sentences_overview!$A$2:$D$161,3),\"\")","v":""},{"$f":"INDEX(BE281:BE302,Engine!R286)","v":""},null,null,{"$f":"IFERROR(INDEX(P_saetn,SMALL(IF(Hazard=Engine!$Q281,ROW(P_saetn)-MIN(ROW(P_saetn))+1),COLUMNS($U281:U281))),\"\")","v":0},{"$f":"IFERROR(INDEX(P_saetn,SMALL(IF(Hazard=Engine!$Q281,ROW(P_saetn)-MIN(ROW(P_saetn))+1),COLUMNS($U281:V281))),\"\")","v":0},{"$f":"IFERROR(INDEX(P_saetn,SMALL(IF(Hazard=Engine!$Q281,ROW(P_saetn)-MIN(ROW(P_saetn))+1),COLUMNS($U281:W281))),\"\")","v":0},{"$f":"IFERROR(INDEX(P_saetn,SMALL(IF(Hazard=Engine!$Q281,ROW(P_saetn)-MIN(ROW(P_saetn))+1),COLUMNS($U281:X281))),\"\")","v":0},{"$f":"IFERROR(INDEX(P_saetn,SMALL(IF(Hazard=Engine!$Q281,ROW(P_saetn)-MIN(ROW(P_saetn))+1),COLUMNS($U281:Y281))),\"\")","v":0},{"$f":"IFERROR(INDEX(P_saetn,SMALL(IF(Hazard=Engine!$Q281,ROW(P_saetn)-MIN(ROW(P_saetn))+1),COLUMNS($U281:Z281))),\"\")","v":0},{"$f":"IFERROR(INDEX(P_saetn,SMALL(IF(Hazard=Engine!$Q281,ROW(P_saetn)-MIN(ROW(P_saetn))+1),COLUMNS($U281:AA281))),\"\")","v":0},{"$f":"IFERROR(INDEX(P_saetn,SMALL(IF(Hazard=Engine!$Q281,ROW(P_saetn)-MIN(ROW(P_saetn))+1),COLUMNS($U281:AB281))),\"\")","v":0},{"$f":"IFERROR(INDEX(P_saetn,SMALL(IF(Hazard=Engine!$Q281,ROW(P_saetn)-MIN(ROW(P_saetn))+1),COLUMNS($U281:AC281))),\"\")","v":0},{"$f":"IFERROR(INDEX(P_saetn,SMALL(IF(Hazard=Engine!$Q281,ROW(P_saetn)-MIN(ROW(P_saetn))+1),COLUMNS($U281:AD281))),\"\")","v":0},{"$f":"IFERROR(INDEX(P_saetn,SMALL(IF(Hazard=Engine!$Q281,ROW(P_saetn)-MIN(ROW(P_saetn))+1),COLUMNS($U281:AE281))),\"\")","v":0},{"$f":"IFERROR(INDEX(P_saetn,SMALL(IF(Hazard=Engine!$Q281,ROW(P_saetn)-MIN(ROW(P_saetn))+1),COLUMNS($U281:AF281))),\"\")","v":0},{"$f":"IFERROR(INDEX(P_saetn,SMALL(IF(Hazard=Engine!$Q281,ROW(P_saetn)-MIN(ROW(P_saetn))+1),COLUMNS($U281:AG281))),\"\")","v":0},{"$f":"IFERROR(INDEX(P_saetn,SMALL(IF(Hazard=Engine!$Q281,ROW(P_saetn)-MIN(ROW(P_saetn))+1),COLUMNS($U281:AH281))),\"\")","v":0},{"$f":"IFERROR(INDEX(P_saetn,SMALL(IF(Hazard=Engine!$Q281,ROW(P_saetn)-MIN(ROW(P_saetn))+1),COLUMNS($U281:AI281))),\"\")","v":0},{"$f":"IFERROR(INDEX(P_saetn,SMALL(IF(Hazard=Engine!$Q281,ROW(P_saetn)-MIN(ROW(P_saetn))+1),COLUMNS($U281:AJ281))),\"\")","v":0},{"$f":"IFERROR(INDEX(P_saetn,SMALL(IF(Hazard=Engine!$Q281,ROW(P_saetn)-MIN(ROW(P_saetn))+1),COLUMNS($U281:AK281))),\"\")","v":0},{"$f":"IFERROR(INDEX(P_saetn,SMALL(IF(Hazard=Engine!$Q281,ROW(P_saetn)-MIN(ROW(P_saetn))+1),COLUMNS($U281:AL281))),\"\")","v":0},{"$f":"IFERROR(INDEX(P_saetn,SMALL(IF(Hazard=Engine!$Q281,ROW(P_saetn)-MIN(ROW(P_saetn))+1),COLUMNS($U281:AM281))),\"\")","v":0},{"$f":"IFERROR(INDEX(P_saetn,SMALL(IF(Hazard=Engine!$Q281,ROW(P_saetn)-MIN(ROW(P_saetn))+1),COLUMNS($U281:AN281))),\"\")","v":0},{"$f":"IFERROR(INDEX(P_saetn,SMALL(IF(Hazard=Engine!$Q281,ROW(P_saetn)-MIN(ROW(P_saetn))+1),COLUMNS($U281:AO281))),\"\")","v":0},{"$f":"IFERROR(INDEX(P_saetn,SMALL(IF(Hazard=Engine!$Q281,ROW(P_saetn)-MIN(ROW(P_saetn))+1),COLUMNS($U281:AP281))),\"\")","v":0},{"$f":"IFERROR(INDEX(P_saetn,SMALL(IF(Hazard=Engine!$Q281,ROW(P_saetn)-MIN(ROW(P_saetn))+1),COLUMNS($U281:AQ281))),\"\")","v":0},{"$f":"IFERROR(INDEX(P_saetn,SMALL(IF(Hazard=Engine!$Q281,ROW(P_saetn)-MIN(ROW(P_saetn))+1),COLUMNS($U281:AR281))),\"\")","v":0},{"$f":"IFERROR(INDEX(P_saetn,SMALL(IF(Hazard=Engine!$Q281,ROW(P_saetn)-MIN(ROW(P_saetn))+1),COLUMNS($U281:AS281))),\"\")","v":0},{"$f":"IFERROR(INDEX(P_saetn,SMALL(IF(Hazard=Engine!$Q281,ROW(P_saetn)-MIN(ROW(P_saetn))+1),COLUMNS($U281:AT281))),\"\")","v":0},{"$f":"IFERROR(INDEX(P_saetn,SMALL(IF(Hazard=Engine!$Q281,ROW(P_saetn)-MIN(ROW(P_saetn))+1),COLUMNS($U281:AU281))),\"\")","v":0},{"$f":"IFERROR(INDEX(P_saetn,SMALL(IF(Hazard=Engine!$Q281,ROW(P_saetn)-MIN(ROW(P_saetn))+1),COLUMNS($U281:AV281))),\"\")","v":0},null,{"$f":"INDIRECT(TEXT(MIN(IF(($U290:$AV295<>\"\")*(COUNTIF($AX280:$AX280,$U290:$AV295)=0),ROW($P290:$BM295)*100+COLUMN($U280:$AV308),7^8)),\"R0C00\"),)&\"\"","v":""},{"$f":"ISNUMBER(AX281*1)","v":false},{"$f":"IF(AY281=TRUE,AX281*1,\"\")","v":""},{"$f":"IF(AY281=FALSE,AX281,\"\")","v":""},{"$f":"COUNTIF(AZ281:AZ291,\"<=\"&AZ281)","v":0},{"$f":"IF(COUNTIF(BA281:BA291,\"<=\"&BA281)=0,\"\",COUNTIF(BA281:BA291,\"<=\"&BA281))","v":""},{"$f":"IFERROR(SMALL(AZ281:AZ291,ROWS(AX281:AX281)),\"\")","v":""},{"$f":"IFERROR(INDEX(BD281:BD302,SMALL(IF(BD281:BD302<>\"\",ROW(BD281:BD302)-MIN(ROW(BD281:BD302))+1),ROWS(AX281:AX281))),\"\")","v":""},null,{"$f":"U299","v":0},{"$f":"COUNTIF($BG$2:BG281,\"*\"&BG281&\"*\")","v":0},"","",{"$f":"IFERROR(INDEX(BI$2:BI$308,MATCH(ROWS(BJ$2:BJ281),BJ$2:BJ$308,0)),\"\")","v":""},{"$f":"COUNTIF($BK281:$BK$308,\"*\"&BK281&\"*\")","v":28},"","",{"$f":"IFERROR(INDEX($BM$2:$BM$308,MATCH(ROWS(BN$2:BN281),BN$2:BN587,0)),\"\")","v":""},{"$f":"IFERROR(VLOOKUP(Engine!BO281,P_sentences_overview!H282:I411,2),\"\")","v":""}]
[null,null,null,null,null,null,null,null,null,null,null,null,null,null,null,null,null,null,null,null,{"$f":"SMALL(IF(Hazard=Engine!$Q281,ROW(P_saetn)-MIN(ROW(P_saetn))+1),COLUMNS($U281:U281)+1)","v":465},{"$f":"SMALL(IF(Hazard=Engine!$Q281,ROW(P_saetn)-MIN(ROW(P_saetn))+1),COLUMNS($U281:V281)+1)","v":466},{"$f":"SMALL(IF(Hazard=Engine!$Q281,ROW(P_saetn)-MIN(ROW(P_saetn))+1),COLUMNS($U281:W281)+1)","v":467},{"$f":"SMALL(IF(Hazard=Engine!$Q281,ROW(P_saetn)-MIN(ROW(P_saetn))+1),COLUMNS($U281:X281)+1)","v":468},{"$f":"SMALL(IF(Hazard=Engine!$Q281,ROW(P_saetn)-MIN(ROW(P_saetn))+1),COLUMNS($U281:Y281)+1)","v":469},{"$f":"SMALL(IF(Hazard=Engine!$Q281,ROW(P_saetn)-MIN(ROW(P_saetn))+1),COLUMNS($U281:Z281)+1)","v":470},{"$f":"SMALL(IF(Hazard=Engine!$Q281,ROW(P_saetn)-MIN(ROW(P_saetn))+1),COLUMNS($U281:AA281)+1)","v":471},{"$f":"SMALL(IF(Hazard=Engine!$Q281,ROW(P_saetn)-MIN(ROW(P_saetn))+1),COLUMNS($U281:AB281)+1)","v":472},{"$f":"SMALL(IF(Hazard=Engine!$Q281,ROW(P_saetn)-MIN(ROW(P_saetn))+1),COLUMNS($U281:AC281)+1)","v":473},{"$f":"SMALL(IF(Hazard=Engine!$Q281,ROW(P_saetn)-MIN(ROW(P_saetn))+1),COLUMNS($U281:AD281)+1)","v":474},{"$f":"SMALL(IF(Hazard=Engine!$Q281,ROW(P_saetn)-MIN(ROW(P_saetn))+1),COLUMNS($U281:AE281)+1)","v":475},{"$f":"SMALL(IF(Hazard=Engine!$Q281,ROW(P_saetn)-MIN(ROW(P_saetn))+1),COLUMNS($U281:AF281)+1)","v":476},{"$f":"SMALL(IF(Hazard=Engine!$Q281,ROW(P_saetn)-MIN(ROW(P_saetn))+1),COLUMNS($U281:AG281)+1)","v":477},{"$f":"SMALL(IF(Hazard=Engine!$Q281,ROW(P_saetn)-MIN(ROW(P_saetn))+1),COLUMNS($U281:AH281)+1)","v":478},{"$f":"SMALL(IF(Hazard=Engine!$Q281,ROW(P_saetn)-MIN(ROW(P_saetn))+1),COLUMNS($U281:AI281)+1)","v":479},{"$f":"SMALL(IF(Hazard=Engine!$Q281,ROW(P_saetn)-MIN(ROW(P_saetn))+1),COLUMNS($U281:AJ281)+1)","v":480},{"$f":"SMALL(IF(Hazard=Engine!$Q281,ROW(P_saetn)-MIN(ROW(P_saetn))+1),COLUMNS($U281:AK281)+1)","v":481},{"$f":"SMALL(IF(Hazard=Engine!$Q281,ROW(P_saetn)-MIN(ROW(P_saetn))+1),COLUMNS($U281:AL281)+1)","v":482},{"$f":"SMALL(IF(Hazard=Engine!$Q281,ROW(P_saetn)-MIN(ROW(P_saetn))+1),COLUMNS($U281:AM281)+1)","v":483},{"$f":"SMALL(IF(Hazard=Engine!$Q281,ROW(P_saetn)-MIN(ROW(P_saetn))+1),COLUMNS($U281:AN281)+1)","v":484},{"$f":"SMALL(IF(Hazard=Engine!$Q281,ROW(P_saetn)-MIN(ROW(P_saetn))+1),COLUMNS($U281:AO281)+1)","v":485},{"$f":"SMALL(IF(Hazard=Engine!$Q281,ROW(P_saetn)-MIN(ROW(P_saetn))+1),COLUMNS($U281:AP281)+1)","v":486},{"$f":"SMALL(IF(Hazard=Engine!$Q281,ROW(P_saetn)-MIN(ROW(P_saetn))+1),COLUMNS($U281:AQ281)+1)","v":487},{"$f":"SMALL(IF(Hazard=Engine!$Q281,ROW(P_saetn)-MIN(ROW(P_saetn))+1),COLUMNS($U281:AR281)+1)","v":488},{"$f":"SMALL(IF(Hazard=Engine!$Q281,ROW(P_saetn)-MIN(ROW(P_saetn))+1),COLUMNS($U281:AS281)+1)","v":489},{"$f":"SMALL(IF(Hazard=Engine!$Q281,ROW(P_saetn)-MIN(ROW(P_saetn))+1),COLUMNS($U281:AT281)+1)","v":490},{"$f":"SMALL(IF(Hazard=Engine!$Q281,ROW(P_saetn)-MIN(ROW(P_saetn))+1),COLUMNS($U281:AU281)+1)","v":491},{"$f":"SMALL(IF(Hazard=Engine!$Q281,ROW(P_saetn)-MIN(ROW(P_saetn))+1),COLUMNS($U281:AV281)+1)","v":492},null,{"$f":"INDIRECT(TEXT(MIN(IF(($U290:$AV295<>\"\")*(COUNTIF($AX280:$AX281,$U290:$AV295)=0),ROW($P290:$BM295)*100+COLUMN($U280:$AV308),7^8)),\"R0C00\"),)&\"\"","v":""},false,"","",{"$f":"COUNTIF(AZ281:AZ291,\"<=\"&AZ282)","v":0},{"$f":"IF(COUNTIF(BA281:BA291,\"<=\"&BA282)=0,\"\",COUNTIF(BA281:BA291,\"<=\"&BA282))","v":""},{"$f":"IFERROR(SMALL(AZ281:AZ291,ROWS(AX281:AX282)),\"\")","v":""},{"$f":"IFERROR(INDEX(BD281:BD302,SMALL(IF(BD281:BD302<>\"\",ROW(BD281:BD302)-MIN(ROW(BD281:BD302))+1),ROWS(AX281:AX282))),\"\")","v":""},null,{"$f":"+V299","v":0},{"$f":"COUNTIF($BG$2:BG282,\"*\"&BG282&\"*\")","v":0},"","",{"$f":"IFERROR(INDEX(BI$2:BI$308,MATCH(ROWS(BJ$2:BJ282),BJ$2:BJ$308,0)),\"\")","v":""},{"$f":"COUNTIF($BK282:$BK$308,\"*\"&BK282&\"*\")","v":27},"","",{"$f":"IFERROR(INDEX($BM$2:$BM$308,MATCH(ROWS(BN$2:BN282),BN$2:BN588,0)),\"\")","v":""},{"$f":"IFERROR(VLOOKUP(Engine!BO282,P_sentences_overview!H283:I412,2),\"\")","v":""}]
[null,null,null,null,null,null,null,null,null,null,null,null,null,null,null,null,null,null,null,null,{"$f":"IFERROR(INDEX(Haz_Cat,SMALL(IF(Hazard=Engine!$Q281,ROW(Haz_Cat)-MIN(ROW(Haz_Cat))+1),COLUMNS($U283:U283)),COLUMNS(Main!D$2:D$2)),\"\")","v":0},{"$f":"IFERROR(INDEX(Haz_Cat,SMALL(IF(Hazard=Engine!$Q281,ROW(Haz_Cat)-MIN(ROW(Haz_Cat))+1),COLUMNS($U283:V283)),COLUMNS(Main!E$2:E$2)),\"\")","v":0},{"$f":"IFERROR(INDEX(Haz_Cat,SMALL(IF(Hazard=Engine!$Q281,ROW(Haz_Cat)-MIN(ROW(Haz_Cat))+1),COLUMNS($U283:W283)),COLUMNS(Main!F$2:F$2)),\"\")","v":0},{"$f":"IFERROR(INDEX(Haz_Cat,SMALL(IF(Hazard=Engine!$Q281,ROW(Haz_Cat)-MIN(ROW(Haz_Cat))+1),COLUMNS($U283:X283)),COLUMNS(Main!G$2:G$2)),\"\")","v":0},{"$f":"IFERROR(INDEX(Haz_Cat,SMALL(IF(Hazard=Engine!$Q281,ROW(Haz_Cat)-MIN(ROW(Haz_Cat))+1),COLUMNS($U283:Y283)),COLUMNS(Main!H$2:H$2)),\"\")","v":0},{"$f":"IFERROR(INDEX(Haz_Cat,SMALL(IF(Hazard=Engine!$Q281,ROW(Haz_Cat)-MIN(ROW(Haz_Cat))+1),COLUMNS($U283:Z283)),COLUMNS(Main!I$2:I$2)),\"\")","v":0},{"$f":"IFERROR(INDEX(Haz_Cat,SMALL(IF(Hazard=Engine!$Q281,ROW(Haz_Cat)-MIN(ROW(Haz_Cat))+1),COLUMNS($U283:AA283)),COLUMNS(Main!J$2:J$2)),\"\")","v":0},{"$f":"IFERROR(INDEX(Haz_Cat,SMALL(IF(Hazard=Engine!$Q281,ROW(Haz_Cat)-MIN(ROW(Haz_Cat))+1),COLUMNS($U283:AB283)),COLUMNS(Main!K$2:K$2)),\"\")","v":0},{"$f":"IFERROR(INDEX(Haz_Cat,SMALL(IF(Hazard=Engine!$Q281,ROW(Haz_Cat)-MIN(ROW(Haz_Cat))+1),COLUMNS($U283:AC283)),COLUMNS(Main!L$2:L$2)),\"\")","v":0},{"$f":"IFERROR(INDEX(Haz_Cat,SMALL(IF(Hazard=Engine!$Q281,ROW(Haz_Cat)-MIN(ROW(Haz_Cat))+1),COLUMNS($U283:AD283)),COLUMNS(Main!M$2:M$2)),\"\")","v":0},{"$f":"IFERROR(INDEX(Haz_Cat,SMALL(IF(Hazard=Engine!$Q281,ROW(Haz_Cat)-MIN(ROW(Haz_Cat))+1),COLUMNS($U283:AE283)),COLUMNS(Main!N$2:N$2)),\"\")","v":0},{"$f":"IFERROR(INDEX(Haz_Cat,SMALL(IF(Hazard=Engine!$Q281,ROW(Haz_Cat)-MIN(ROW(Haz_Cat))+1),COLUMNS($U283:AF283)),COLUMNS(Main!O$2:O$2)),\"\")","v":0},{"$f":"IFERROR(INDEX(Haz_Cat,SMALL(IF(Hazard=Engine!$Q281,ROW(Haz_Cat)-MIN(ROW(Haz_Cat))+1),COLUMNS($U283:AG283)),COLUMNS(Main!P$2:P$2)),\"\")","v":0},{"$f":"IFERROR(INDEX(Haz_Cat,SMALL(IF(Hazard=Engine!$Q281,ROW(Haz_Cat)-MIN(ROW(Haz_Cat))+1),COLUMNS($U283:AH283)),COLUMNS(Main!Q$2:Q$2)),\"\")","v":0},{"$f":"IFERROR(INDEX(Haz_Cat,SMALL(IF(Hazard=Engine!$Q281,ROW(Haz_Cat)-MIN(ROW(Haz_Cat))+1),COLUMNS($U283:AI283)),COLUMNS(Main!R$2:R$2)),\"\")","v":0},{"$f":"IFERROR(INDEX(Haz_Cat,SMALL(IF(Hazard=Engine!$Q281,ROW(Haz_Cat)-MIN(ROW(Haz_Cat))+1),COLUMNS($U283:AJ283)),COLUMNS(Main!S$2:S$2)),\"\")","v":0},{"$f":"IFERROR(INDEX(Haz_Cat,SMALL(IF(Hazard=Engine!$Q281,ROW(Haz_Cat)-MIN(ROW(Haz_Cat))+1),COLUMNS($U283:AK283)),COLUMNS(Main!T$2:T$2)),\"\")","v":0},{"$f":"IFERROR(INDEX(Haz_Cat,SMALL(IF(Hazard=Engine!$Q281,ROW(Haz_Cat)-MIN(ROW(Haz_Cat))+1),COLUMNS($U283:AL283)),COLUMNS(Main!U$2:U$2)),\"\")","v":0},{"$f":"IFERROR(INDEX(Haz_Cat,SMALL(IF(Hazard=Engine!$Q281,ROW(Haz_Cat)-MIN(ROW(Haz_Cat))+1),COLUMNS($U283:AM283)),COLUMNS(Main!V$2:V$2)),\"\")","v":0},{"$f":"IFERROR(INDEX(Haz_Cat,SMALL(IF(Hazard=Engine!$Q281,ROW(Haz_Cat)-MIN(ROW(Haz_Cat))+1),COLUMNS($U283:AN283)),COLUMNS(Main!W$2:W$2)),\"\")","v":0},{"$f":"IFERROR(INDEX(Haz_Cat,SMALL(IF(Hazard=Engine!$Q281,ROW(Haz_Cat)-MIN(ROW(Haz_Cat))+1),COLUMNS($U283:AO283)),COLUMNS(Main!X$2:X$2)),\"\")","v":0},{"$f":"IFERROR(INDEX(Haz_Cat,SMALL(IF(Hazard=Engine!$Q281,ROW(Haz_Cat)-MIN(ROW(Haz_Cat))+1),COLUMNS($U283:AP283)),COLUMNS(Main!Y$2:Y$2)),\"\")","v":0},{"$f":"IFERROR(INDEX(Haz_Cat,SMALL(IF(Hazard=Engine!$Q281,ROW(Haz_Cat)-MIN(ROW(Haz_Cat))+1),COLUMNS($U283:AQ283)),COLUMNS(Main!Z$2:Z$2)),\"\")","v":0},{"$f":"IFERROR(INDEX(Haz_Cat,SMALL(IF(Hazard=Engine!$Q281,ROW(Haz_Cat)-MIN(ROW(Haz_Cat))+1),COLUMNS($U283:AR283)),COLUMNS(Main!AA$2:AA$2)),\"\")","v":0},{"$f":"IFERROR(INDEX(Haz_Cat,SMALL(IF(Hazard=Engine!$Q281,ROW(Haz_Cat)-MIN(ROW(Haz_Cat))+1),COLUMNS($U283:AS283)),COLUMNS(Main!AB$2:AB$2)),\"\")","v":0},{"$f":"IFERROR(INDEX(Haz_Cat,SMALL(IF(Hazard=Engine!$Q281,ROW(Haz_Cat)-MIN(ROW(Haz_Cat))+1),COLUMNS($U283:AT283)),COLUMNS(Main!AC$2:AC$2)),\"\")","v":0},{"$f":"IFERROR(INDEX(Haz_Cat,SMALL(IF(Hazard=Engine!$Q281,ROW(Haz_Cat)-MIN(ROW(Haz_Cat))+1),COLUMNS($U283:AU283)),COLUMNS(Main!AD$2:AD$2)),\"\")","v":0},{"$f":"IFERROR(INDEX(Haz_Cat,SMALL(IF(Hazard=Engine!$Q281,ROW(Haz_Cat)-MIN(ROW(Haz_Cat))+1),COLUMNS($U283:AV283)),COLUMNS(Main!AE$2:AE$2)),\"\")","v":0},null,{"$f":"INDIRECT(TEXT(MIN(IF(($U290:$AV295<>\"\")*(COUNTIF($AX280:$AX282,$U290:$AV295)=0),ROW($P290:$BM295)*100+COLUMN($U280:$AV308),7^8)),\"R0C00\"),)&\"\"","v":""},false,"","",{"$f":"COUNTIF(AZ281:AZ291,\"<=\"&AZ283)","v":0},{"$f":"IF(COUNTIF(BA281:BA291,\"<=\"&BA283)=0,\"\",COUNTIF(BA281:BA291,\"<=\"&BA283))","v":""},{"$f":"IFERROR(SMALL(AZ281:AZ291,ROWS(AX281:AX283)),\"\")","v":""},{"$f":"IFERROR(INDEX(BD281:BD302,SMALL(IF(BD281:BD302<>\"\",ROW(BD281:BD302)-MIN(ROW(BD281:BD302))+1),ROWS(AX281:AX283))),\"\")","v":""},null,{"$f":"+W299","v":0},{"$f":"COUNTIF($BG$2:BG283,\"*\"&BG283&\"*\")","v":0},"","",{"$f":"IFERROR(INDEX(BI$2:BI$308,MATCH(ROWS(BJ$2:BJ283),BJ$2:BJ$308,0)),\"\")","v":""},{"$f":"COUNTIF($BK283:$BK$308,\"*\"&BK283&\"*\")","v":26},"","",{"$f":"IFERROR(INDEX($BM$2:$BM$308,MATCH(ROWS(BN$2:BN283),BN$2:BN589,0)),\"\")","v":""},{"$f":"IFERROR(VLOOKUP(Engine!BO283,P_sentences_overview!H284:I413,2),\"\")","v":""}]
[null,null,null,null,null,null,null,null,null,null,null,null,null,null,null,null,null,null,null,null,{"$f":"IFERROR(INDEX(Haz_Cat,SMALL(IF(Hazard=Engine!$Q281,ROW(Haz_Cat)-MIN(ROW(Haz_Cat))+1),COLUMNS($U283:U283)),COLUMNS(Main!$D281:$E281)),\"\")","v":0},{"$f":"IFERROR(INDEX(Haz_Cat,SMALL(IF(Hazard=Engine!$Q281,ROW(Haz_Cat)-MIN(ROW(Haz_Cat))+1),COLUMNS($U283:V283)),COLUMNS(Main!$D281:$E281)),\"\")","v":0},{"$f":"IFERROR(INDEX(Haz_Cat,SMALL(IF(Hazard=Engine!$Q281,ROW(Haz_Cat)-MIN(ROW(Haz_Cat))+1),COLUMNS($U283:W283)),COLUMNS(Main!$D281:$E281)),\"\")","v":0},{"$f":"IFERROR(INDEX(Haz_Cat,SMALL(IF(Hazard=Engine!$Q281,ROW(Haz_Cat)-MIN(ROW(Haz_Cat))+1),COLUMNS($U283:X283)),COLUMNS(Main!$D281:$E281)),\"\")","v":0},{"$f":"IFERROR(INDEX(Haz_Cat,SMALL(IF(Hazard=Engine!$Q281,ROW(Haz_Cat)-MIN(ROW(Haz_Cat))+1),COLUMNS($U283:Y283)),COLUMNS(Main!$D281:$E281)),\"\")","v":0},{"$f":"IFERROR(INDEX(Haz_Cat,SMALL(IF(Hazard=Engine!$Q281,ROW(Haz_Cat)-MIN(ROW(Haz_Cat))+1),COLUMNS($U283:Z283)),COLUMNS(Main!$D281:$E281)),\"\")","v":0},{"$f":"IFERROR(INDEX(Haz_Cat,SMALL(IF(Hazard=Engine!$Q281,ROW(Haz_Cat)-MIN(ROW(Haz_Cat))+1),COLUMNS($U283:AA283)),COLUMNS(Main!$D281:$E281)),\"\")","v":0},{"$f":"IFERROR(INDEX(Haz_Cat,SMALL(IF(Hazard=Engine!$Q281,ROW(Haz_Cat)-MIN(ROW(Haz_Cat))+1),COLUMNS($U283:AB283)),COLUMNS(Main!$D281:$E281)),\"\")","v":0},{"$f":"IFERROR(INDEX(Haz_Cat,SMALL(IF(Hazard=Engine!$Q281,ROW(Haz_Cat)-MIN(ROW(Haz_Cat))+1),COLUMNS($U283:AC283)),COLUMNS(Main!$D281:$E281)),\"\")","v":0},{"$f":"IFERROR(INDEX(Haz_Cat,SMALL(IF(Hazard=Engine!$Q281,ROW(Haz_Cat)-MIN(ROW(Haz_Cat))+1),COLUMNS($U283:AD283)),COLUMNS(Main!$D281:$E281)),\"\")","v":0},{"$f":"IFERROR(INDEX(Haz_Cat,SMALL(IF(Hazard=Engine!$Q281,ROW(Haz_Cat)-MIN(ROW(Haz_Cat))+1),COLUMNS($U283:AE283)),COLUMNS(Main!$D281:$E281)),\"\")","v":0},{"$f":"IFERROR(INDEX(Haz_Cat,SMALL(IF(Hazard=Engine!$Q281,ROW(Haz_Cat)-MIN(ROW(Haz_Cat))+1),COLUMNS($U283:AF283)),COLUMNS(Main!$D281:$E281)),\"\")","v":0},{"$f":"IFERROR(INDEX(Haz_Cat,SMALL(IF(Hazard=Engine!$Q281,ROW(Haz_Cat)-MIN(ROW(Haz_Cat))+1),COLUMNS($U283:AG283)),COLUMNS(Main!$D281:$E281)),\"\")","v":0},{"$f":"IFERROR(INDEX(Haz_Cat,SMALL(IF(Hazard=Engine!$Q281,ROW(Haz_Cat)-MIN(ROW(Haz_Cat))+1),COLUMNS($U283:AH283)),COLUMNS(Main!$D281:$E281)),\"\")","v":0},{"$f":"IFERROR(INDEX(Haz_Cat,SMALL(IF(Hazard=Engine!$Q281,ROW(Haz_Cat)-MIN(ROW(Haz_Cat))+1),COLUMNS($U283:AI283)),COLUMNS(Main!$D281:$E281)),\"\")","v":0},{"$f":"IFERROR(INDEX(Haz_Cat,SMALL(IF(Hazard=Engine!$Q281,ROW(Haz_Cat)-MIN(ROW(Haz_Cat))+1),COLUMNS($U283:AJ283)),COLUMNS(Main!$D281:$E281)),\"\")","v":0},{"$f":"IFERROR(INDEX(Haz_Cat,SMALL(IF(Hazard=Engine!$Q281,ROW(Haz_Cat)-MIN(ROW(Haz_Cat))+1),COLUMNS($U283:AK283)),COLUMNS(Main!$D281:$E281)),\"\")","v":0},{"$f":"IFERROR(INDEX(Haz_Cat,SMALL(IF(Hazard=Engine!$Q281,ROW(Haz_Cat)-MIN(ROW(Haz_Cat))+1),COLUMNS($U283:AL283)),COLUMNS(Main!$D281:$E281)),\"\")","v":0},{"$f":"IFERROR(INDEX(Haz_Cat,SMALL(IF(Hazard=Engine!$Q281,ROW(Haz_Cat)-MIN(ROW(Haz_Cat))+1),COLUMNS($U283:AM283)),COLUMNS(Main!$D281:$E281)),\"\")","v":0},{"$f":"IFERROR(INDEX(Haz_Cat,SMALL(IF(Hazard=Engine!$Q281,ROW(Haz_Cat)-MIN(ROW(Haz_Cat))+1),COLUMNS($U283:AN283)),COLUMNS(Main!$D281:$E281)),\"\")","v":0},{"$f":"IFERROR(INDEX(Haz_Cat,SMALL(IF(Hazard=Engine!$Q281,ROW(Haz_Cat)-MIN(ROW(Haz_Cat))+1),COLUMNS($U283:AO283)),COLUMNS(Main!$D281:$E281)),\"\")","v":0},{"$f":"IFERROR(INDEX(Haz_Cat,SMALL(IF(Hazard=Engine!$Q281,ROW(Haz_Cat)-MIN(ROW(Haz_Cat))+1),COLUMNS($U283:AP283)),COLUMNS(Main!$D281:$E281)),\"\")","v":0},{"$f":"IFERROR(INDEX(Haz_Cat,SMALL(IF(Hazard=Engine!$Q281,ROW(Haz_Cat)-MIN(ROW(Haz_Cat))+1),COLUMNS($U283:AQ283)),COLUMNS(Main!$D281:$E281)),\"\")","v":0},{"$f":"IFERROR(INDEX(Haz_Cat,SMALL(IF(Hazard=Engine!$Q281,ROW(Haz_Cat)-MIN(ROW(Haz_Cat))+1),COLUMNS($U283:AR283)),COLUMNS(Main!$D281:$E281)),\"\")","v":0},{"$f":"IFERROR(INDEX(Haz_Cat,SMALL(IF(Hazard=Engine!$Q281,ROW(Haz_Cat)-MIN(ROW(Haz_Cat))+1),COLUMNS($U283:AS283)),COLUMNS(Main!$D281:$E281)),\"\")","v":0},{"$f":"IFERROR(INDEX(Haz_Cat,SMALL(IF(Hazard=Engine!$Q281,ROW(Haz_Cat)-MIN(ROW(Haz_Cat))+1),COLUMNS($U283:AT283)),COLUMNS(Main!$D281:$E281)),\"\")","v":0},{"$f":"IFERROR(INDEX(Haz_Cat,SMALL(IF(Hazard=Engine!$Q281,ROW(Haz_Cat)-MIN(ROW(Haz_Cat))+1),COLUMNS($U283:AU283)),COLUMNS(Main!$D281:$E281)),\"\")","v":0},{"$f":"IFERROR(INDEX(Haz_Cat,SMALL(IF(Hazard=Engine!$Q281,ROW(Haz_Cat)-MIN(ROW(Haz_Cat))+1),COLUMNS($U283:AV283)),COLUMNS(Main!$D281:$E281)),\"\")","v":0},null,{"$f":"INDIRECT(TEXT(MIN(IF(($U290:$AV295<>\"\")*(COUNTIF($AX280:$AX283,$U290:$AV295)=0),ROW($P290:$BM295)*100+COLUMN($U280:$AV308),7^8)),\"R0C00\"),)&\"\"","v":""},false,"","",{"$f":"COUNTIF(AZ281:AZ291,\"<=\"&AZ284)","v":0},{"$f":"IF(COUNTIF(BA281:BA291,\"<=\"&BA284)=0,\"\",COUNTIF(BA281:BA291,\"<=\"&BA284))","v":""},{"$f":"IFERROR(SMALL(AZ281:AZ291,ROWS(AX281:AX284)),\"\")","v":""},{"$f":"IFERROR(INDEX(BD281:BD302,SMALL(IF(BD281:BD302<>\"\",ROW(BD281:BD302)-MIN(ROW(BD281:BD302))+1),ROWS(AX281:AX284))),\"\")","v":""},null,{"$f":"+X299","v":0},{"$f":"COUNTIF($BG$2:BG284,\"*\"&BG284&\"*\")","v":0},"","",{"$f":"IFERROR(INDEX(BI$2:BI$308,MATCH(ROWS(BJ$2:BJ284),BJ$2:BJ$308,0)),\"\")","v":""},{"$f":"COUNTIF($BK284:$BK$308,\"*\"&BK284&\"*\")","v":25},"","",{"$f":"IFERROR(INDEX($BM$2:$BM$308,MATCH(ROWS(BN$2:BN284),BN$2:BN590,0)),\"\")","v":""},{"$f":"IFERROR(VLOOKUP(Engine!BO284,P_sentences_overview!H285:I414,2),\"\")","v":""}]
[null,null,null,null,null,null,null,null,null,null,null,null,null,null,null,{"$f":"INDEX(H_sentences_overview!$A$1:$A$134,Engine!P286)","v":"(none)"},null,{"$f":"INDEX(BE281:BE286,Engine!R286)","v":""},null,null,{"$f":"IFERROR(INDEX(Haz_Cat,SMALL(IF(Hazard=Engine!$Q281,ROW(Haz_Cat)-MIN(ROW(Haz_Cat))+1),COLUMNS($U283:U283)),COLUMNS(Main!$D281:$F281)),\"\")","v":0},{"$f":"IFERROR(INDEX(Haz_Cat,SMALL(IF(Hazard=Engine!$Q281,ROW(Haz_Cat)-MIN(ROW(Haz_Cat))+1),COLUMNS($U283:V283)),COLUMNS(Main!$D281:$F281)),\"\")","v":0},{"$f":"IFERROR(INDEX(Haz_Cat,SMALL(IF(Hazard=Engine!$Q281,ROW(Haz_Cat)-MIN(ROW(Haz_Cat))+1),COLUMNS($U283:W283)),COLUMNS(Main!$D281:$F281)),\"\")","v":0},{"$f":"IFERROR(INDEX(Haz_Cat,SMALL(IF(Hazard=Engine!$Q281,ROW(Haz_Cat)-MIN(ROW(Haz_Cat))+1),COLUMNS($U283:X283)),COLUMNS(Main!$D281:$F281)),\"\")","v":0},{"$f":"IFERROR(INDEX(Haz_Cat,SMALL(IF(Hazard=Engine!$Q281,ROW(Haz_Cat)-MIN(ROW(Haz_Cat))+1),COLUMNS($U283:Y283)),COLUMNS(Main!$D281:$F281)),\"\")","v":0},{"$f":"IFERROR(INDEX(Haz_Cat,SMALL(IF(Hazard=Engine!$Q281,ROW(Haz_Cat)-MIN(ROW(Haz_Cat))+1),COLUMNS($U283:Z283)),COLUMNS(Main!$D281:$F281)),\"\")","v":0},{"$f":"IFERROR(INDEX(Haz_Cat,SMALL(IF(Hazard=Engine!$Q281,ROW(Haz_Cat)-MIN(ROW(Haz_Cat))+1),COLUMNS($U283:AA283)),COLUMNS(Main!$D281:$F281)),\"\")","v":0},{"$f":"IFERROR(INDEX(Haz_Cat,SMALL(IF(Hazard=Engine!$Q281,ROW(Haz_Cat)-MIN(ROW(Haz_Cat))+1),COLUMNS($U283:AB283)),COLUMNS(Main!$D281:$F281)),\"\")","v":0},{"$f":"IFERROR(INDEX(Haz_Cat,SMALL(IF(Hazard=Engine!$Q281,ROW(Haz_Cat)-MIN(ROW(Haz_Cat))+1),COLUMNS($U283:AC283)),COLUMNS(Main!$D281:$F281)),\"\")","v":0},{"$f":"IFERROR(INDEX(Haz_Cat,SMALL(IF(Hazard=Engine!$Q281,ROW(Haz_Cat)-MIN(ROW(Haz_Cat))+1),COLUMNS($U283:AD283)),COLUMNS(Main!$D281:$F281)),\"\")","v":0},{"$f":"IFERROR(INDEX(Haz_Cat,SMALL(IF(Hazard=Engine!$Q281,ROW(Haz_Cat)-MIN(ROW(Haz_Cat))+1),COLUMNS($U283:AE283)),COLUMNS(Main!$D281:$F281)),\"\")","v":0},{"$f":"IFERROR(INDEX(Haz_Cat,SMALL(IF(Hazard=Engine!$Q281,ROW(Haz_Cat)-MIN(ROW(Haz_Cat))+1),COLUMNS($U283:AF283)),COLUMNS(Main!$D281:$F281)),\"\")","v":0},{"$f":"IFERROR(INDEX(Haz_Cat,SMALL(IF(Hazard=Engine!$Q281,ROW(Haz_Cat)-MIN(ROW(Haz_Cat))+1),COLUMNS($U283:AG283)),COLUMNS(Main!$D281:$F281)),\"\")","v":0},{"$f":"IFERROR(INDEX(Haz_Cat,SMALL(IF(Hazard=Engine!$Q281,ROW(Haz_Cat)-MIN(ROW(Haz_Cat))+1),COLUMNS($U283:AH283)),COLUMNS(Main!$D281:$F281)),\"\")","v":0},{"$f":"IFERROR(INDEX(Haz_Cat,SMALL(IF(Hazard=Engine!$Q281,ROW(Haz_Cat)-MIN(ROW(Haz_Cat))+1),COLUMNS($U283:AI283)),COLUMNS(Main!$D281:$F281)),\"\")","v":0},{"$f":"IFERROR(INDEX(Haz_Cat,SMALL(IF(Hazard=Engine!$Q281,ROW(Haz_Cat)-MIN(ROW(Haz_Cat))+1),COLUMNS($U283:AJ283)),COLUMNS(Main!$D281:$F281)),\"\")","v":0},{"$f":"IFERROR(INDEX(Haz_Cat,SMALL(IF(Hazard=Engine!$Q281,ROW(Haz_Cat)-MIN(ROW(Haz_Cat))+1),COLUMNS($U283:AK283)),COLUMNS(Main!$D281:$F281)),\"\")","v":0},{"$f":"IFERROR(INDEX(Haz_Cat,SMALL(IF(Hazard=Engine!$Q281,ROW(Haz_Cat)-MIN(ROW(Haz_Cat))+1),COLUMNS($U283:AL283)),COLUMNS(Main!$D281:$F281)),\"\")","v":0},{"$f":"IFERROR(INDEX(Haz_Cat,SMALL(IF(Hazard=Engine!$Q281,ROW(Haz_Cat)-MIN(ROW(Haz_Cat))+1),COLUMNS($U283:AM283)),COLUMNS(Main!$D281:$F281)),\"\")","v":0},{"$f":"IFERROR(INDEX(Haz_Cat,SMALL(IF(Hazard=Engine!$Q281,ROW(Haz_Cat)-MIN(ROW(Haz_Cat))+1),COLUMNS($U283:AN283)),COLUMNS(Main!$D281:$F281)),\"\")","v":0},{"$f":"IFERROR(INDEX(Haz_Cat,SMALL(IF(Hazard=Engine!$Q281,ROW(Haz_Cat)-MIN(ROW(Haz_Cat))+1),COLUMNS($U283:AO283)),COLUMNS(Main!$D281:$F281)),\"\")","v":0},{"$f":"IFERROR(INDEX(Haz_Cat,SMALL(IF(Hazard=Engine!$Q281,ROW(Haz_Cat)-MIN(ROW(Haz_Cat))+1),COLUMNS($U283:AP283)),COLUMNS(Main!$D281:$F281)),\"\")","v":0},{"$f":"IFERROR(INDEX(Haz_Cat,SMALL(IF(Hazard=Engine!$Q281,ROW(Haz_Cat)-MIN(ROW(Haz_Cat))+1),COLUMNS($U283:AQ283)),COLUMNS(Main!$D281:$F281)),\"\")","v":0},{"$f":"IFERROR(INDEX(Haz_Cat,SMALL(IF(Hazard=Engine!$Q281,ROW(Haz_Cat)-MIN(ROW(Haz_Cat))+1),COLUMNS($U283:AR283)),COLUMNS(Main!$D281:$F281)),\"\")","v":0},{"$f":"IFERROR(INDEX(Haz_Cat,SMALL(IF(Hazard=Engine!$Q281,ROW(Haz_Cat)-MIN(ROW(Haz_Cat))+1),COLUMNS($U283:AS283)),COLUMNS(Main!$D281:$F281)),\"\")","v":0},{"$f":"IFERROR(INDEX(Haz_Cat,SMALL(IF(Hazard=Engine!$Q281,ROW(Haz_Cat)-MIN(ROW(Haz_Cat))+1),COLUMNS($U283:AT283)),COLUMNS(Main!$D281:$F281)),\"\")","v":0},{"$f":"IFERROR(INDEX(Haz_Cat,SMALL(IF(Hazard=Engine!$Q281,ROW(Haz_Cat)-MIN(ROW(Haz_Cat))+1),COLUMNS($U283:AU283)),COLUMNS(Main!$D281:$F281)),\"\")","v":0},{"$f":"IFERROR(INDEX(Haz_Cat,SMALL(IF(Hazard=Engine!$Q281,ROW(Haz_Cat)-MIN(ROW(Haz_Cat))+1),COLUMNS($U283:AV283)),COLUMNS(Main!$D281:$F281)),\"\")","v":0},null,{"$f":"INDIRECT(TEXT(MIN(IF(($U290:$AV295<>\"\")*(COUNTIF($AX280:$AX284,$U290:$AV295)=0),ROW($P290:$BM295)*100+COLUMN($U280:$AV308),7^8)),\"R0C00\"),)&\"\"","v":""},false,"","",{"$f":"COUNTIF(AZ281:AZ291,\"<=\"&AZ285)","v":0},{"$f":"IF(COUNTIF(BA281:BA291,\"<=\"&BA285)=0,\"\",COUNTIF(BA281:BA291,\"<=\"&BA285))","v":""},{"$f":"IFERROR(SMALL(AZ281:AZ291,ROWS(AX281:AX285)),\"\")","v":""},{"$f":"IFERROR(INDEX(BD281:BD302,SMALL(IF(BD281:BD302<>\"\",ROW(BD281:BD302)-MIN(ROW(BD281:BD302))+1),ROWS(AX281:AX285))),\"\")","v":""},null,{"$f":"+Y299","v":0},{"$f":"COUNTIF($BG$2:BG285,\"*\"&BG285&\"*\")","v":0},"","",{"$f":"IFERROR(INDEX(BI$2:BI$308,MATCH(ROWS(BJ$2:BJ285),BJ$2:BJ$308,0)),\"\")","v":""},{"$f":"COUNTIF($BK285:$BK$308,\"*\"&BK285&\"*\")","v":24},"","",{"$f":"IFERROR(INDEX($BM$2:$BM$308,MATCH(ROWS(BN$2:BN285),BN$2:BN591,0)),\"\")","v":""},{"$f":"IFERROR(VLOOKUP(Engine!BO285,P_sentences_overview!H286:I415,2),\"\")","v":""}]
[null,null,null,null,null,null,null,null,null,null,null,null,null,null,null,1,null,2,null,null,{"$f":"IFERROR(INDEX(Haz_Cat,SMALL(IF(Hazard=Engine!$Q281,ROW(Haz_Cat)-MIN(ROW(Haz_Cat))+1),COLUMNS($U283:U283)),COLUMNS(Main!$D281:$G281)),\"\")","v":0},{"$f":"IFERROR(INDEX(Haz_Cat,SMALL(IF(Hazard=Engine!$Q281,ROW(Haz_Cat)-MIN(ROW(Haz_Cat))+1),COLUMNS($U283:V283)),COLUMNS(Main!$D281:$G281)),\"\")","v":0},{"$f":"IFERROR(INDEX(Haz_Cat,SMALL(IF(Hazard=Engine!$Q281,ROW(Haz_Cat)-MIN(ROW(Haz_Cat))+1),COLUMNS($U283:W283)),COLUMNS(Main!$D281:$G281)),\"\")","v":0},{"$f":"IFERROR(INDEX(Haz_Cat,SMALL(IF(Hazard=Engine!$Q281,ROW(Haz_Cat)-MIN(ROW(Haz_Cat))+1),COLUMNS($U283:X283)),COLUMNS(Main!$D281:$G281)),\"\")","v":0},{"$f":"IFERROR(INDEX(Haz_Cat,SMALL(IF(Hazard=Engine!$Q281,ROW(Haz_Cat)-MIN(ROW(Haz_Cat))+1),COLUMNS($U283:Y283)),COLUMNS(Main!$D281:$G281)),\"\")","v":0},{"$f":"IFERROR(INDEX(Haz_Cat,SMALL(IF(Hazard=Engine!$Q281,ROW(Haz_Cat)-MIN(ROW(Haz_Cat))+1),COLUMNS($U283:Z283)),COLUMNS(Main!$D281:$G281)),\"\")","v":0},{"$f":"IFERROR(INDEX(Haz_Cat,SMALL(IF(Hazard=Engine!$Q281,ROW(Haz_Cat)-MIN(ROW(Haz_Cat))+1),COLUMNS($U283:AA283)),COLUMNS(Main!$D281:$G281)),\"\")","v":0},{"$f":"IFERROR(INDEX(Haz_Cat,SMALL(IF(Hazard=Engine!$Q281,ROW(Haz_Cat)-MIN(ROW(Haz_Cat))+1),COLUMNS($U283:AB283)),COLUMNS(Main!$D281:$G281)),\"\")","v":0},{"$f":"IFERROR(INDEX(Haz_Cat,SMALL(IF(Hazard=Engine!$Q281,ROW(Haz_Cat)-MIN(ROW(Haz_Cat))+1),COLUMNS($U283:AC283)),COLUMNS(Main!$D281:$G281)),\"\")","v":0},{"$f":"IFERROR(INDEX(Haz_Cat,SMALL(IF(Hazard=Engine!$Q281,ROW(Haz_Cat)-MIN(ROW(Haz_Cat))+1),COLUMNS($U283:AD283)),COLUMNS(Main!$D281:$G281)),\"\")","v":0},{"$f":"IFERROR(INDEX(Haz_Cat,SMALL(IF(Hazard=Engine!$Q281,ROW(Haz_Cat)-MIN(ROW(Haz_Cat))+1),COLUMNS($U283:AE283)),COLUMNS(Main!$D281:$G281)),\"\")","v":0},{"$f":"IFERROR(INDEX(Haz_Cat,SMALL(IF(Hazard=Engine!$Q281,ROW(Haz_Cat)-MIN(ROW(Haz_Cat))+1),COLUMNS($U283:AF283)),COLUMNS(Main!$D281:$G281)),\"\")","v":0},{"$f":"IFERROR(INDEX(Haz_Cat,SMALL(IF(Hazard=Engine!$Q281,ROW(Haz_Cat)-MIN(ROW(Haz_Cat))+1),COLUMNS($U283:AG283)),COLUMNS(Main!$D281:$G281)),\"\")","v":0},{"$f":"IFERROR(INDEX(Haz_Cat,SMALL(IF(Hazard=Engine!$Q281,ROW(Haz_Cat)-MIN(ROW(Haz_Cat))+1),COLUMNS($U283:AH283)),COLUMNS(Main!$D281:$G281)),\"\")","v":0},{"$f":"IFERROR(INDEX(Haz_Cat,SMALL(IF(Hazard=Engine!$Q281,ROW(Haz_Cat)-MIN(ROW(Haz_Cat))+1),COLUMNS($U283:AI283)),COLUMNS(Main!$D281:$G281)),\"\")","v":0},{"$f":"IFERROR(INDEX(Haz_Cat,SMALL(IF(Hazard=Engine!$Q281,ROW(Haz_Cat)-MIN(ROW(Haz_Cat))+1),COLUMNS($U283:AJ283)),COLUMNS(Main!$D281:$G281)),\"\")","v":0},{"$f":"IFERROR(INDEX(Haz_Cat,SMALL(IF(Hazard=Engine!$Q281,ROW(Haz_Cat)-MIN(ROW(Haz_Cat))+1),COLUMNS($U283:AK283)),COLUMNS(Main!$D281:$G281)),\"\")","v":0},{"$f":"IFERROR(INDEX(Haz_Cat,SMALL(IF(Hazard=Engine!$Q281,ROW(Haz_Cat)-MIN(ROW(Haz_Cat))+1),COLUMNS($U283:AL283)),COLUMNS(Main!$D281:$G281)),\"\")","v":0},{"$f":"IFERROR(INDEX(Haz_Cat,SMALL(IF(Hazard=Engine!$Q281,ROW(Haz_Cat)-MIN(ROW(Haz_Cat))+1),COLUMNS($U283:AM283)),COLUMNS(Main!$D281:$G281)),\"\")","v":0},{"$f":"IFERROR(INDEX(Haz_Cat,SMALL(IF(Hazard=Engine!$Q281,ROW(Haz_Cat)-MIN(ROW(Haz_Cat))+1),COLUMNS($U283:AN283)),COLUMNS(Main!$D281:$G281)),\"\")","v":0},{"$f":"IFERROR(INDEX(Haz_Cat,SMALL(IF(Hazard=Engine!$Q281,ROW(Haz_Cat)-MIN(ROW(Haz_Cat))+1),COLUMNS($U283:AO283)),COLUMNS(Main!$D281:$G281)),\"\")","v":0},{"$f":"IFERROR(INDEX(Haz_Cat,SMALL(IF(Hazard=Engine!$Q281,ROW(Haz_Cat)-MIN(ROW(Haz_Cat))+1),COLUMNS($U283:AP283)),COLUMNS(Main!$D281:$G281)),\"\")","v":0},{"$f":"IFERROR(INDEX(Haz_Cat,SMALL(IF(Hazard=Engine!$Q281,ROW(Haz_Cat)-MIN(ROW(Haz_Cat))+1),COLUMNS($U283:AQ283)),COLUMNS(Main!$D281:$G281)),\"\")","v":0},{"$f":"IFERROR(INDEX(Haz_Cat,SMALL(IF(Hazard=Engine!$Q281,ROW(Haz_Cat)-MIN(ROW(Haz_Cat))+1),COLUMNS($U283:AR283)),COLUMNS(Main!$D281:$G281)),\"\")","v":0},{"$f":"IFERROR(INDEX(Haz_Cat,SMALL(IF(Hazard=Engine!$Q281,ROW(Haz_Cat)-MIN(ROW(Haz_Cat))+1),COLUMNS($U283:AS283)),COLUMNS(Main!$D281:$G281)),\"\")","v":0},{"$f":"IFERROR(INDEX(Haz_Cat,SMALL(IF(Hazard=Engine!$Q281,ROW(Haz_Cat)-MIN(ROW(Haz_Cat))+1),COLUMNS($U283:AT283)),COLUMNS(Main!$D281:$G281)),\"\")","v":0},{"$f":"IFERROR(INDEX(Haz_Cat,SMALL(IF(Hazard=Engine!$Q281,ROW(Haz_Cat)-MIN(ROW(Haz_Cat))+1),COLUMNS($U283:AU283)),COLUMNS(Main!$D281:$G281)),\"\")","v":0},{"$f":"IFERROR(INDEX(Haz_Cat,SMALL(IF(Hazard=Engine!$Q281,ROW(Haz_Cat)-MIN(ROW(Haz_Cat))+1),COLUMNS($U283:AV283)),COLUMNS(Main!$D281:$G281)),\"\")","v":0},null,{"$f":"INDIRECT(TEXT(MIN(IF(($U290:$AV295<>\"\")*(COUNTIF($AX280:$AX285,$U290:$AV295)=0),ROW($P290:$BM295)*100+COLUMN($U280:$AV308),7^8)),\"R0C00\"),)&\"\"","v":""},false,"","",{"$f":"COUNTIF(AZ281:AZ291,\"<=\"&AZ286)","v":0},{"$f":"IF(COUNTIF(BA281:BA291,\"<=\"&BA286)=0,\"\",COUNTIF(BA281:BA291,\"<=\"&BA286))","v":""},{"$f":"IFERROR(SMALL(AZ281:AZ291,ROWS(AX281:AX286)),\"\")","v":""},{"$f":"IFERROR(INDEX(BD281:BD302,SMALL(IF(BD281:BD302<>\"\",ROW(BD281:BD302)-MIN(ROW(BD281:BD302))+1),ROWS(AX281:AX286))),\"\")","v":""},null,{"$f":"+Z299","v":0},{"$f":"COUNTIF($BG$2:BG286,\"*\"&BG286&\"*\")","v":0},"","",{"$f":"IFERROR(INDEX(BI$2:BI$308,MATCH(ROWS(BJ$2:BJ286),BJ$2:BJ$308,0)),\"\")","v":""},{"$f":"COUNTIF($BK286:$BK$308,\"*\"&BK286&\"*\")","v":23},"","",{"$f":"IFERROR(INDEX($BM$2:$BM$308,MATCH(ROWS(BN$2:BN286),BN$2:BN592,0)),\"\")","v":""},{"$f":"IFERROR(VLOOKUP(Engine!BO286,P_sentences_overview!H287:I416,2),\"\")","v":""}]
[null,null,null,null,null,null,null,null,null,null,null,null,null,null,null,null,null,null,null,null,{"$f":"IFERROR(INDEX(Haz_Cat,SMALL(IF(Hazard=Engine!$Q281,ROW(Haz_Cat)-MIN(ROW(Haz_Cat))+1),COLUMNS($U283:U283)),COLUMNS(Main!$D281:$H281)),\"\")","v":0},{"$f":"IFERROR(INDEX(Haz_Cat,SMALL(IF(Hazard=Engine!$Q281,ROW(Haz_Cat)-MIN(ROW(Haz_Cat))+1),COLUMNS($U283:V283)),COLUMNS(Main!$D281:$H281)),\"\")","v":0},{"$f":"IFERROR(INDEX(Haz_Cat,SMALL(IF(Hazard=Engine!$Q281,ROW(Haz_Cat)-MIN(ROW(Haz_Cat))+1),COLUMNS($U283:W283)),COLUMNS(Main!$D281:$H281)),\"\")","v":0},{"$f":"IFERROR(INDEX(Haz_Cat,SMALL(IF(Hazard=Engine!$Q281,ROW(Haz_Cat)-MIN(ROW(Haz_Cat))+1),COLUMNS($U283:X283)),COLUMNS(Main!$D281:$H281)),\"\")","v":0},{"$f":"IFERROR(INDEX(Haz_Cat,SMALL(IF(Hazard=Engine!$Q281,ROW(Haz_Cat)-MIN(ROW(Haz_Cat))+1),COLUMNS($U283:Y283)),COLUMNS(Main!$D281:$H281)),\"\")","v":0},{"$f":"IFERROR(INDEX(Haz_Cat,SMALL(IF(Hazard=Engine!$Q281,ROW(Haz_Cat)-MIN(ROW(Haz_Cat))+1),COLUMNS($U283:Z283)),COLUMNS(Main!$D281:$H281)),\"\")","v":0},{"$f":"IFERROR(INDEX(Haz_Cat,SMALL(IF(Hazard=Engine!$Q281,ROW(Haz_Cat)-MIN(ROW(Haz_Cat))+1),COLUMNS($U283:AA283)),COLUMNS(Main!$D281:$H281)),\"\")","v":0},{"$f":"IFERROR(INDEX(Haz_Cat,SMALL(IF(Hazard=Engine!$Q281,ROW(Haz_Cat)-MIN(ROW(Haz_Cat))+1),COLUMNS($U283:AB283)),COLUMNS(Main!$D281:$H281)),\"\")","v":0},{"$f":"IFERROR(INDEX(Haz_Cat,SMALL(IF(Hazard=Engine!$Q281,ROW(Haz_Cat)-MIN(ROW(Haz_Cat))+1),COLUMNS($U283:AC283)),COLUMNS(Main!$D281:$H281)),\"\")","v":0},{"$f":"IFERROR(INDEX(Haz_Cat,SMALL(IF(Hazard=Engine!$Q281,ROW(Haz_Cat)-MIN(ROW(Haz_Cat))+1),COLUMNS($U283:AD283)),COLUMNS(Main!$D281:$H281)),\"\")","v":0},{"$f":"IFERROR(INDEX(Haz_Cat,SMALL(IF(Hazard=Engine!$Q281,ROW(Haz_Cat)-MIN(ROW(Haz_Cat))+1),COLUMNS($U283:AE283)),COLUMNS(Main!$D281:$H281)),\"\")","v":0},{"$f":"IFERROR(INDEX(Haz_Cat,SMALL(IF(Hazard=Engine!$Q281,ROW(Haz_Cat)-MIN(ROW(Haz_Cat))+1),COLUMNS($U283:AF283)),COLUMNS(Main!$D281:$H281)),\"\")","v":0},{"$f":"IFERROR(INDEX(Haz_Cat,SMALL(IF(Hazard=Engine!$Q281,ROW(Haz_Cat)-MIN(ROW(Haz_Cat))+1),COLUMNS($U283:AG283)),COLUMNS(Main!$D281:$H281)),\"\")","v":0},{"$f":"IFERROR(INDEX(Haz_Cat,SMALL(IF(Hazard=Engine!$Q281,ROW(Haz_Cat)-MIN(ROW(Haz_Cat))+1),COLUMNS($U283:AH283)),COLUMNS(Main!$D281:$H281)),\"\")","v":0},{"$f":"IFERROR(INDEX(Haz_Cat,SMALL(IF(Hazard=Engine!$Q281,ROW(Haz_Cat)-MIN(ROW(Haz_Cat))+1),COLUMNS($U283:AI283)),COLUMNS(Main!$D281:$H281)),\"\")","v":0},{"$f":"IFERROR(INDEX(Haz_Cat,SMALL(IF(Hazard=Engine!$Q281,ROW(Haz_Cat)-MIN(ROW(Haz_Cat))+1),COLUMNS($U283:AJ283)),COLUMNS(Main!$D281:$H281)),\"\")","v":0},{"$f":"IFERROR(INDEX(Haz_Cat,SMALL(IF(Hazard=Engine!$Q281,ROW(Haz_Cat)-MIN(ROW(Haz_Cat))+1),COLUMNS($U283:AK283)),COLUMNS(Main!$D281:$H281)),\"\")","v":0},{"$f":"IFERROR(INDEX(Haz_Cat,SMALL(IF(Hazard=Engine!$Q281,ROW(Haz_Cat)-MIN(ROW(Haz_Cat))+1),COLUMNS($U283:AL283)),COLUMNS(Main!$D281:$H281)),\"\")","v":0},{"$f":"IFERROR(INDEX(Haz_Cat,SMALL(IF(Hazard=Engine!$Q281,ROW(Haz_Cat)-MIN(ROW(Haz_Cat))+1),COLUMNS($U283:AM283)),COLUMNS(Main!$D281:$H281)),\"\")","v":0},{"$f":"IFERROR(INDEX(Haz_Cat,SMALL(IF(Hazard=Engine!$Q281,ROW(Haz_Cat)-MIN(ROW(Haz_Cat))+1),COLUMNS($U283:AN283)),COLUMNS(Main!$D281:$H281)),\"\")","v":0},{"$f":"IFERROR(INDEX(Haz_Cat,SMALL(IF(Hazard=Engine!$Q281,ROW(Haz_Cat)-MIN(ROW(Haz_Cat))+1),COLUMNS($U283:AO283)),COLUMNS(Main!$D281:$H281)),\"\")","v":0},{"$f":"IFERROR(INDEX(Haz_Cat,SMALL(IF(Hazard=Engine!$Q281,ROW(Haz_Cat)-MIN(ROW(Haz_Cat))+1),COLUMNS($U283:AP283)),COLUMNS(Main!$D281:$H281)),\"\")","v":0},{"$f":"IFERROR(INDEX(Haz_Cat,SMALL(IF(Hazard=Engine!$Q281,ROW(Haz_Cat)-MIN(ROW(Haz_Cat))+1),COLUMNS($U283:AQ283)),COLUMNS(Main!$D281:$H281)),\"\")","v":0},{"$f":"IFERROR(INDEX(Haz_Cat,SMALL(IF(Hazard=Engine!$Q281,ROW(Haz_Cat)-MIN(ROW(Haz_Cat))+1),COLUMNS($U283:AR283)),COLUMNS(Main!$D281:$H281)),\"\")","v":0},{"$f":"IFERROR(INDEX(Haz_Cat,SMALL(IF(Hazard=Engine!$Q281,ROW(Haz_Cat)-MIN(ROW(Haz_Cat))+1),COLUMNS($U283:AS283)),COLUMNS(Main!$D281:$H281)),\"\")","v":0},{"$f":"IFERROR(INDEX(Haz_Cat,SMALL(IF(Hazard=Engine!$Q281,ROW(Haz_Cat)-MIN(ROW(Haz_Cat))+1),COLUMNS($U283:AT283)),COLUMNS(Main!$D281:$H281)),\"\")","v":0},{"$f":"IFERROR(INDEX(Haz_Cat,SMALL(IF(Hazard=Engine!$Q281,ROW(Haz_Cat)-MIN(ROW(Haz_Cat))+1),COLUMNS($U283:AU283)),COLUMNS(Main!$D281:$H281)),\"\")","v":0},{"$f":"IFERROR(INDEX(Haz_Cat,SMALL(IF(Hazard=Engine!$Q281,ROW(Haz_Cat)-MIN(ROW(Haz_Cat))+1),COLUMNS($U283:AV283)),COLUMNS(Main!$D281:$H281)),\"\")","v":0},null,{"$f":"INDIRECT(TEXT(MIN(IF(($U290:$AV295<>\"\")*(COUNTIF($AX280:$AX286,$U290:$AV295)=0),ROW($P290:$BM295)*100+COLUMN($U280:$AV308),7^8)),\"R0C00\"),)&\"\"","v":""},false,"","",{"$f":"COUNTIF(AZ281:AZ291,\"<=\"&AZ287)","v":0},{"$f":"IF(COUNTIF(BA281:BA291,\"<=\"&BA287)=0,\"\",COUNTIF(BA281:BA291,\"<=\"&BA287))","v":""},{"$f":"IFERROR(SMALL(AZ281:AZ291,ROWS(AX281:AX287)),\"\")","v":""},{"$f":"IFERROR(INDEX(BD281:BD302,SMALL(IF(BD281:BD302<>\"\",ROW(BD281:BD302)-MIN(ROW(BD281:BD302))+1),ROWS(AX281:AX287))),\"\")","v":""},null,{"$f":"+AA299","v":0},{"$f":"COUNTIF($BG$2:BG287,\"*\"&BG287&\"*\")","v":0},{"$f":"IF(BH287=1,BG287,\"\")","v":""},"",{"$f":"IFERROR(INDEX(BI$2:BI$308,MATCH(ROWS(BJ$2:BJ287),BJ$2:BJ$308,0)),\"\")","v":""},{"$f":"COUNTIF($BK287:$BK$308,\"*\"&BK287&\"*\")","v":22},"","",{"$f":"IFERROR(INDEX($BM$2:$BM$308,MATCH(ROWS(BN$2:BN287),BN$2:BN593,0)),\"\")","v":""},{"$f":"IFERROR(VLOOKUP(Engine!BO287,P_sentences_overview!H288:I417,2),\"\")","v":""}]
[null,null,null,null,null,null,null,null,null,null,null,null,null,null,null,null,null,null,null,null,{"$f":"IFERROR(INDEX(Haz_Cat,SMALL(IF(Hazard=Engine!$Q281,ROW(Haz_Cat)-MIN(ROW(Haz_Cat))+1),COLUMNS($U283:U283)),COLUMNS(Main!$D281:$I281)),\"\")","v":0},{"$f":"IFERROR(INDEX(Haz_Cat,SMALL(IF(Hazard=Engine!$Q281,ROW(Haz_Cat)-MIN(ROW(Haz_Cat))+1),COLUMNS($U283:V283)),COLUMNS(Main!$D281:$I281)),\"\")","v":0},{"$f":"IFERROR(INDEX(Haz_Cat,SMALL(IF(Hazard=Engine!$Q281,ROW(Haz_Cat)-MIN(ROW(Haz_Cat))+1),COLUMNS($U283:W283)),COLUMNS(Main!$D281:$I281)),\"\")","v":0},{"$f":"IFERROR(INDEX(Haz_Cat,SMALL(IF(Hazard=Engine!$Q281,ROW(Haz_Cat)-MIN(ROW(Haz_Cat))+1),COLUMNS($U283:X283)),COLUMNS(Main!$D281:$I281)),\"\")","v":0},{"$f":"IFERROR(INDEX(Haz_Cat,SMALL(IF(Hazard=Engine!$Q281,ROW(Haz_Cat)-MIN(ROW(Haz_Cat))+1),COLUMNS($U283:Y283)),COLUMNS(Main!$D281:$I281)),\"\")","v":0},{"$f":"IFERROR(INDEX(Haz_Cat,SMALL(IF(Hazard=Engine!$Q281,ROW(Haz_Cat)-MIN(ROW(Haz_Cat))+1),COLUMNS($U283:Z283)),COLUMNS(Main!$D281:$I281)),\"\")","v":0},{"$f":"IFERROR(INDEX(Haz_Cat,SMALL(IF(Hazard=Engine!$Q281,ROW(Haz_Cat)-MIN(ROW(Haz_Cat))+1),COLUMNS($U283:AA283)),COLUMNS(Main!$D281:$I281)),\"\")","v":0},{"$f":"IFERROR(INDEX(Haz_Cat,SMALL(IF(Hazard=Engine!$Q281,ROW(Haz_Cat)-MIN(ROW(Haz_Cat))+1),COLUMNS($U283:AB283)),COLUMNS(Main!$D281:$I281)),\"\")","v":0},{"$f":"IFERROR(INDEX(Haz_Cat,SMALL(IF(Hazard=Engine!$Q281,ROW(Haz_Cat)-MIN(ROW(Haz_Cat))+1),COLUMNS($U283:AC283)),COLUMNS(Main!$D281:$I281)),\"\")","v":0},{"$f":"IFERROR(INDEX(Haz_Cat,SMALL(IF(Hazard=Engine!$Q281,ROW(Haz_Cat)-MIN(ROW(Haz_Cat))+1),COLUMNS($U283:AD283)),COLUMNS(Main!$D281:$I281)),\"\")","v":0},{"$f":"IFERROR(INDEX(Haz_Cat,SMALL(IF(Hazard=Engine!$Q281,ROW(Haz_Cat)-MIN(ROW(Haz_Cat))+1),COLUMNS($U283:AE283)),COLUMNS(Main!$D281:$I281)),\"\")","v":0},{"$f":"IFERROR(INDEX(Haz_Cat,SMALL(IF(Hazard=Engine!$Q281,ROW(Haz_Cat)-MIN(ROW(Haz_Cat))+1),COLUMNS($U283:AF283)),COLUMNS(Main!$D281:$I281)),\"\")","v":0},{"$f":"IFERROR(INDEX(Haz_Cat,SMALL(IF(Hazard=Engine!$Q281,ROW(Haz_Cat)-MIN(ROW(Haz_Cat))+1),COLUMNS($U283:AG283)),COLUMNS(Main!$D281:$I281)),\"\")","v":0},{"$f":"IFERROR(INDEX(Haz_Cat,SMALL(IF(Hazard=Engine!$Q281,ROW(Haz_Cat)-MIN(ROW(Haz_Cat))+1),COLUMNS($U283:AH283)),COLUMNS(Main!$D281:$I281)),\"\")","v":0},{"$f":"IFERROR(INDEX(Haz_Cat,SMALL(IF(Hazard=Engine!$Q281,ROW(Haz_Cat)-MIN(ROW(Haz_Cat))+1),COLUMNS($U283:AI283)),COLUMNS(Main!$D281:$I281)),\"\")","v":0},{"$f":"IFERROR(INDEX(Haz_Cat,SMALL(IF(Hazard=Engine!$Q281,ROW(Haz_Cat)-MIN(ROW(Haz_Cat))+1),COLUMNS($U283:AJ283)),COLUMNS(Main!$D281:$I281)),\"\")","v":0},{"$f":"IFERROR(INDEX(Haz_Cat,SMALL(IF(Hazard=Engine!$Q281,ROW(Haz_Cat)-MIN(ROW(Haz_Cat))+1),COLUMNS($U283:AK283)),COLUMNS(Main!$D281:$I281)),\"\")","v":0},{"$f":"IFERROR(INDEX(Haz_Cat,SMALL(IF(Hazard=Engine!$Q281,ROW(Haz_Cat)-MIN(ROW(Haz_Cat))+1),COLUMNS($U283:AL283)),COLUMNS(Main!$D281:$I281)),\"\")","v":0},{"$f":"IFERROR(INDEX(Haz_Cat,SMALL(IF(Hazard=Engine!$Q281,ROW(Haz_Cat)-MIN(ROW(Haz_Cat))+1),COLUMNS($U283:AM283)),COLUMNS(Main!$D281:$I281)),\"\")","v":0},{"$f":"IFERROR(INDEX(Haz_Cat,SMALL(IF(Hazard=Engine!$Q281,ROW(Haz_Cat)-MIN(ROW(Haz_Cat))+1),COLUMNS($U283:AN283)),COLUMNS(Main!$D281:$I281)),\"\")","v":0},{"$f":"IFERROR(INDEX(Haz_Cat,SMALL(IF(Hazard=Engine!$Q281,ROW(Haz_Cat)-MIN(ROW(Haz_Cat))+1),COLUMNS($U283:AO283)),COLUMNS(Main!$D281:$I281)),\"\")","v":0},{"$f":"IFERROR(INDEX(Haz_Cat,SMALL(IF(Hazard=Engine!$Q281,ROW(Haz_Cat)-MIN(ROW(Haz_Cat))+1),COLUMNS($U283:AP283)),COLUMNS(Main!$D281:$I281)),\"\")","v":0},{"$f":"IFERROR(INDEX(Haz_Cat,SMALL(IF(Hazard=Engine!$Q281,ROW(Haz_Cat)-MIN(ROW(Haz_Cat))+1),COLUMNS($U283:AQ283)),COLUMNS(Main!$D281:$I281)),\"\")","v":0},{"$f":"IFERROR(INDEX(Haz_Cat,SMALL(IF(Hazard=Engine!$Q281,ROW(Haz_Cat)-MIN(ROW(Haz_Cat))+1),COLUMNS($U283:AR283)),COLUMNS(Main!$D281:$I281)),\"\")","v":0},{"$f":"IFERROR(INDEX(Haz_Cat,SMALL(IF(Hazard=Engine!$Q281,ROW(Haz_Cat)-MIN(ROW(Haz_Cat))+1),COLUMNS($U283:AS283)),COLUMNS(Main!$D281:$I281)),\"\")","v":0},{"$f":"IFERROR(INDEX(Haz_Cat,SMALL(IF(Hazard=Engine!$Q281,ROW(Haz_Cat)-MIN(ROW(Haz_Cat))+1),COLUMNS($U283:AT283)),COLUMNS(Main!$D281:$I281)),\"\")","v":0},{"$f":"IFERROR(INDEX(Haz_Cat,SMALL(IF(Hazard=Engine!$Q281,ROW(Haz_Cat)-MIN(ROW(Haz_Cat))+1),COLUMNS($U283:AU283)),COLUMNS(Main!$D281:$I281)),\"\")","v":0},{"$f":"IFERROR(INDEX(Haz_Cat,SMALL(IF(Hazard=Engine!$Q281,ROW(Haz_Cat)-MIN(ROW(Haz_Cat))+1),COLUMNS($U283:AV283)),COLUMNS(Main!$D281:$I281)),\"\")","v":0},null,{"$f":"INDIRECT(TEXT(MIN(IF(($U290:$AV295<>\"\")*(COUNTIF($AX280:$AX287,$U290:$AV295)=0),ROW($P290:$BM295)*100+COLUMN($U280:$AV308),7^8)),\"R0C00\"),)&\"\"","v":""},false,"","",{"$f":"COUNTIF(AZ281:AZ291,\"<=\"&AZ288)","v":0},{"$f":"IF(COUNTIF(BA281:BA291,\"<=\"&BA288)=0,\"\",COUNTIF(BA281:BA291,\"<=\"&BA288))","v":""},{"$f":"IFERROR(SMALL(AZ281:AZ291,ROWS(AX281:AX288)),\"\")","v":""},{"$f":"IFERROR(INDEX(BD281:BD302,SMALL(IF(BD281:BD302<>\"\",ROW(BD281:BD302)-MIN(ROW(BD281:BD302))+1),ROWS(AX281:AX288))),\"\")","v":""},null,{"$f":"+AB299","v":0},{"$f":"COUNTIF($BG$2:BG288,\"*\"&BG288&\"*\")","v":0},"","",{"$f":"IFERROR(INDEX(BI$2:BI$308,MATCH(ROWS(BJ$2:BJ288),BJ$2:BJ$308,0)),\"\")","v":""},{"$f":"COUNTIF($BK288:$BK$308,\"*\"&BK288&\"*\")","v":21},"","",{"$f":"IFERROR(INDEX($BM$2:$BM$308,MATCH(ROWS(BN$2:BN288),BN$2:BN594,0)),\"\")","v":""},{"$f":"IFERROR(VLOOKUP(Engine!BO288,P_sentences_overview!H289:I418,2),\"\")","v":""}]
[null,null,null,null,null,null,null,null,null,null,null,null,null,null,null,null,null,null,null,null,null,null,null,null,null,null,null,null,null,null,null,null,null,null,null,null,null,null,null,null,null,null,null,null,null,null,null,null,null,{"$f":"INDIRECT(TEXT(MIN(IF(($U290:$AV295<>\"\")*(COUNTIF($AX280:$AX288,$U290:$AV295)=0),ROW($P290:$BM295)*100+COLUMN($U280:$AV308),7^8)),\"R0C00\"),)&\"\"","v":""},false,"","",{"$f":"COUNTIF(AZ281:AZ291,\"<=\"&AZ289)","v":0},{"$f":"IF(COUNTIF(BA281:BA291,\"<=\"&BA289)=0,\"\",COUNTIF(BA281:BA291,\"<=\"&BA289))","v":""},{"$f":"IFERROR(SMALL(AZ281:AZ291,ROWS(AX281:AX289)),\"\")","v":""},{"$f":"IFERROR(INDEX(BD281:BD302,SMALL(IF(BD281:BD302<>\"\",ROW(BD281:BD302)-MIN(ROW(BD281:BD302))+1),ROWS(AX281:AX289))),\"\")","v":""},null,{"$f":"+AC299","v":0},{"$f":"COUNTIF($BG$2:BG289,\"*\"&BG289&\"*\")","v":0},"","",{"$f":"IFERROR(INDEX(BI$2:BI$308,MATCH(ROWS(BJ$2:BJ289),BJ$2:BJ$308,0)),\"\")","v":""},{"$f":"COUNTIF($BK289:$BK$308,\"*\"&BK289&\"*\")","v":20},"","",{"$f":"IFERROR(INDEX($BM$2:$BM$308,MATCH(ROWS(BN$2:BN289),BN$2:BN595,0)),\"\")","v":""},{"$f":"IFERROR(VLOOKUP(Engine!BO289,P_sentences_overview!H290:I419,2),\"\")","v":""}]
[null,null,null,null,null,null,null,null,null,null,null,null,null,null,null,null,null,null,null,null,{"$f":"+IF(U283=0,\"\",U283)","v":""},"","","","","","","","","","","","","","","","","","","","","","","","","","","",null,{"$f":"INDIRECT(TEXT(MIN(IF(($U290:$AV295<>\"\")*(COUNTIF($AX280:$AX289,$U290:$AV295)=0),ROW($P290:$BM295)*100+COLUMN($U280:$AV308),7^8)),\"R0C00\"),)&\"\"","v":""},false,"","",{"$f":"COUNTIF(AZ281:AZ291,\"<=\"&AZ290)","v":0},{"$f":"IF(COUNTIF(BA281:BA291,\"<=\"&BA290)=0,\"\",COUNTIF(BA281:BA291,\"<=\"&BA290))","v":""},{"$f":"IFERROR(SMALL(AZ281:AZ291,ROWS(AX281:AX290)),\"\")","v":""},{"$f":"IFERROR(INDEX(BD281:BD302,SMALL(IF(BD281:BD302<>\"\",ROW(BD281:BD302)-MIN(ROW(BD281:BD302))+1),ROWS(AX281:AX290))),\"\")","v":""},null,{"$f":"+AD299","v":0},{"$f":"COUNTIF($BG$2:BG290,\"*\"&BG290&\"*\")","v":0},"","",{"$f":"IFERROR(INDEX(BI$2:BI$308,MATCH(ROWS(BJ$2:BJ290),BJ$2:BJ$308,0)),\"\")","v":""},{"$f":"COUNTIF($BK290:$BK$308,\"*\"&BK290&\"*\")","v":19},"","",{"$f":"IFERROR(INDEX($BM$2:$BM$308,MATCH(ROWS(BN$2:BN290),BN$2:BN596,0)),\"\")","v":""},{"$f":"IFERROR(VLOOKUP(Engine!BO290,P_sentences_overview!H291:I420,2),\"\")","v":""}]
[null,null,null,null,null,null,null,null,null,null,null,null,null,null,null,null,null,null,null,null,{"$f":"+IF(U284=0,\"\",U284)","v":""},"","","","","","","","","","","","","","","","","","","","","","","","","","","",null,{"$f":"INDIRECT(TEXT(MIN(IF(($U290:$AV295<>\"\")*(COUNTIF($AX280:$AX290,$U290:$AV295)=0),ROW($P290:$BM295)*100+COLUMN($U280:$AV308),7^8)),\"R0C00\"),)&\"\"","v":""},false,"","",{"$f":"COUNTIF(AZ281:AZ291,\"<=\"&AZ291)","v":0},{"$f":"IF(COUNTIF(BA281:BA291,\"<=\"&BA291)=0,\"\",COUNTIF(BA281:BA291,\"<=\"&BA291))","v":""},{"$f":"IFERROR(SMALL(AZ281:AZ291,ROWS(AX281:AX291)),\"\")","v":""},{"$f":"IFERROR(INDEX(BD281:BD302,SMALL(IF(BD281:BD302<>\"\",ROW(BD281:BD302)-MIN(ROW(BD281:BD302))+1),ROWS(AX281:AX291))),\"\")","v":""},null,{"$f":"+AE299","v":0},{"$f":"COUNTIF($BG$2:BG291,\"*\"&BG291&\"*\")","v":0},"","",{"$f":"IFERROR(INDEX(BI$2:BI$308,MATCH(ROWS(BJ$2:BJ291),BJ$2:BJ$308,0)),\"\")","v":""},{"$f":"COUNTIF($BK291:$BK$308,\"*\"&BK291&\"*\")","v":18},"","",{"$f":"IFERROR(INDEX($BM$2:$BM$308,MATCH(ROWS(BN$2:BN291),BN$2:BN597,0)),\"\")","v":""},{"$f":"IFERROR(VLOOKUP(Engine!BO291,P_sentences_overview!H292:I421,2),\"\")","v":""}]
[null,null,null,null,null,null,null,null,null,null,null,null,null,null,null,null,null,null,null,null,{"$f":"+IF(U285=0,\"\",U285)","v":""},"","","","","","","","","","","","","","","","","","","","","","","","","","","",null,null,null,null,null,null,null,{"$f":"IFERROR(INDEX(BA281:BA291,MATCH(SMALL(BC281:BC291,ROWS(BA281:BA281)),BC281:BC291,)),\"\")","v":""},{"$f":"IFERROR(INDEX(BD281:BD302,SMALL(IF(BD281:BD302<>\"\",ROW(BD281:BD302)-MIN(ROW(BD281:BD302))+1),ROWS(AX281:AX292))),\"\")","v":""},null,{"$f":"+AF299","v":0},{"$f":"COUNTIF($BG$2:BG292,\"*\"&BG292&\"*\")","v":0},"","",{"$f":"IFERROR(INDEX(BI$2:BI$308,MATCH(ROWS(BJ$2:BJ292),BJ$2:BJ$308,0)),\"\")","v":""},{"$f":"COUNTIF($BK292:$BK$308,\"*\"&BK292&\"*\")","v":17},"","",{"$f":"IFERROR(INDEX($BM$2:$BM$308,MATCH(ROWS(BN$2:BN292),BN$2:BN598,0)),\"\")","v":""},{"$f":"IFERROR(VLOOKUP(Engine!BO292,P_sentences_overview!H293:I422,2),\"\")","v":""}]
[null,null,null,null,null,null,null,null,null,null,null,null,null,null,null,null,null,null,null,null,{"$f":"+IF(U286=0,\"\",U286)","v":""},"","","","","","","","","","","","","","","","","","","","","","","","","","","",null,null,null,null,null,null,null,{"$f":"IFERROR(INDEX(BA281:BA291,MATCH(SMALL(BC281:BC291,ROWS(BA281:BA282)),BC281:BC291,)),\"\")","v":""},{"$f":"IFERROR(INDEX(BD281:BD302,SMALL(IF(BD281:BD302<>\"\",ROW(BD281:BD302)-MIN(ROW(BD281:BD302))+1),ROWS(AX281:AX293))),\"\")","v":""},null,{"$f":"+AG299","v":0},{"$f":"COUNTIF($BG$2:BG293,\"*\"&BG293&\"*\")","v":0},"","",{"$f":"IFERROR(INDEX(BI$2:BI$308,MATCH(ROWS(BJ$2:BJ293),BJ$2:BJ$308,0)),\"\")","v":""},{"$f":"COUNTIF($BK293:$BK$308,\"*\"&BK293&\"*\")","v":16},"","",{"$f":"IFERROR(INDEX($BM$2:$BM$308,MATCH(ROWS(BN$2:BN293),BN$2:BN599,0)),\"\")","v":""},{"$f":"IFERROR(VLOOKUP(Engine!BO293,P_sentences_overview!H294:I423,2),\"\")","v":""}]
[null,null,null,null,null,null,null,null,null,null,null,null,null,null,null,null,null,null,null,null,{"$f":"+IF(U287=0,\"\",U287)","v":""},"","","","","","","","","","","","","","","","","","","","","","","","","","","",null,null,null,null,null,null,null,{"$f":"IFERROR(INDEX(BA281:BA291,MATCH(SMALL(BC281:BC291,ROWS(BA281:BA283)),BC281:BC291,)),\"\")","v":""},{"$f":"IFERROR(INDEX(BD281:BD302,SMALL(IF(BD281:BD302<>\"\",ROW(BD281:BD302)-MIN(ROW(BD281:BD302))+1),ROWS(AX281:AX294))),\"\")","v":""},null,{"$f":"+AH299","v":0},{"$f":"COUNTIF($BG$2:BG294,\"*\"&BG294&\"*\")","v":0},"","",{"$f":"IFERROR(INDEX(BI$2:BI$308,MATCH(ROWS(BJ$2:BJ294),BJ$2:BJ$308,0)),\"\")","v":""},{"$f":"COUNTIF($BK294:$BK$308,\"*\"&BK294&\"*\")","v":15},"","",{"$f":"IFERROR(INDEX($BM$2:$BM$308,MATCH(ROWS(BN$2:BN294),BN$2:BN600,0)),\"\")","v":""},{"$f":"IFERROR(VLOOKUP(Engine!BO294,P_sentences_overview!H295:I424,2),\"\")","v":""}]
[null,null,null,null,null,null,null,null,null,null,null,null,null,null,null,null,null,null,null,null,{"$f":"+IF(U288=0,\"\",U288)","v":""},"","","","","","","","","","","","","","","","","","","","","","","","","","","",null,null,null,null,null,null,null,{"$f":"IFERROR(INDEX(BA281:BA291,MATCH(SMALL(BC281:BC291,ROWS(BA281:BA284)),BC281:BC291,)),\"\")","v":""},{"$f":"IFERROR(INDEX(BD281:BD302,SMALL(IF(BD281:BD302<>\"\",ROW(BD281:BD302)-MIN(ROW(BD281:BD302))+1),ROWS(AX281:AX295))),\"\")","v":""},null,{"$f":"+AI299","v":0},{"$f":"COUNTIF($BG$2:BG295,\"*\"&BG295&\"*\")","v":0},"","",{"$f":"IFERROR(INDEX(BI$2:BI$308,MATCH(ROWS(BJ$2:BJ295),BJ$2:BJ$308,0)),\"\")","v":""},{"$f":"COUNTIF($BK295:$BK$308,\"*\"&BK295&\"*\")","v":14},"","",{"$f":"IFERROR(INDEX($BM$2:$BM$308,MATCH(ROWS(BN$2:BN295),BN$2:BN601,0)),\"\")","v":""},{"$f":"IFERROR(VLOOKUP(Engine!BO295,P_sentences_overview!H296:I425,2),\"\")","v":""}]
[null,null,null,null,null,null,null,null,null,null,null,null,null,null,null,null,null,null,null,null,null,null,null,null,null,null,null,null,null,null,null,null,null,null,null,null,null,null,null,null,null,null,null,null,null,null,null,null,null,null,null,null,null,null,null,{"$f":"IFERROR(INDEX(BA281:BA291,MATCH(SMALL(BC281:BC291,ROWS(BA281:BA285)),BC281:BC291,)),\"\")","v":""},{"$f":"IFERROR(INDEX(BD281:BD302,SMALL(IF(BD281:BD302<>\"\",ROW(BD281:BD302)-MIN(ROW(BD281:BD302))+1),ROWS(AX281:AX296))),\"\")","v":""},null,{"$f":"+AJ299","v":0},{"$f":"COUNTIF($BG$2:BG296,\"*\"&BG296&\"*\")","v":0},"","",{"$f":"IFERROR(INDEX(BI$2:BI$308,MATCH(ROWS(BJ$2:BJ296),BJ$2:BJ$308,0)),\"\")","v":""},{"$f":"COUNTIF($BK296:$BK$308,\"*\"&BK296&\"*\")","v":13},"","",{"$f":"IFERROR(INDEX($BM$2:$BM$308,MATCH(ROWS(BN$2:BN296),BN$2:BN602,0)),\"\")","v":""},{"$f":"IFERROR(VLOOKUP(Engine!BO296,P_sentences_overview!H297:I426,2),\"\")","v":""}]
[null,null,null,null,null,null,null,null,null,null,null,null,null,null,null,null,null,null,null,null,{"$f":"IF(ISNUMBER(MATCH($R281,U290:U295,0)),U281,\"\")","v":0},{"$f":"IF(ISNUMBER(MATCH($R281,V290:V295,0)),V281,\"\")","v":0},0,0,0,0,0,0,0,0,0,0,0,0,0,0,0,0,0,0,0,0,0,0,0,0,0,0,null,null,null,null,null,null,null,{"$f":"IFERROR(INDEX(BA281:BA291,MATCH(SMALL(BC281:BC291,ROWS(BA281:BA286)),BC281:BC291,)),\"\")","v":""},{"$f":"IFERROR(INDEX(BD281:BD302,SMALL(IF(BD281:BD302<>\"\",ROW(BD281:BD302)-MIN(ROW(BD281:BD302))+1),ROWS(AX281:AX297))),\"\")","v":""},null,{"$f":"+AK299","v":0},{"$f":"COUNTIF($BG$2:BG297,\"*\"&BG297&\"*\")","v":0},"","",{"$f":"IFERROR(INDEX(BI$2:BI$308,MATCH(ROWS(BJ$2:BJ297),BJ$2:BJ$308,0)),\"\")","v":""},{"$f":"COUNTIF($BK297:$BK$308,\"*\"&BK297&\"*\")","v":12},"","",{"$f":"IFERROR(INDEX($BM$2:$BM$308,MATCH(ROWS(BN$2:BN297),BN$2:BN603,0)),\"\")","v":""},{"$f":"IFERROR(VLOOKUP(Engine!BO297,P_sentences_overview!H298:I427,2),\"\")","v":""}]
[null,null,null,null,null,null,null,null,null,null,null,null,null,null,null,null,null,null,null,null,null,null,null,null,null,null,null,null,null,null,null,null,null,null,null,null,null,null,null,null,null,null,null,null,null,null,null,null,null,null,null,null,null,null,null,{"$f":"IFERROR(INDEX(BA281:BA291,MATCH(SMALL(BC281:BC291,ROWS(BA281:BA287)),BC281:BC291,)),\"\")","v":""},{"$f":"IFERROR(INDEX(BD281:BD302,SMALL(IF(BD281:BD302<>\"\",ROW(BD281:BD302)-MIN(ROW(BD281:BD302))+1),ROWS(AX281:AX298))),\"\")","v":""},null,{"$f":"+AL299","v":0},{"$f":"COUNTIF($BG$2:BG298,\"*\"&BG298&\"*\")","v":0},"","",{"$f":"IFERROR(INDEX(BI$2:BI$308,MATCH(ROWS(BJ$2:BJ298),BJ$2:BJ$308,0)),\"\")","v":""},{"$f":"COUNTIF($BK298:$BK$308,\"*\"&BK298&\"*\")","v":11},"","",{"$f":"IFERROR(INDEX($BM$2:$BM$308,MATCH(ROWS(BN$2:BN298),BN$2:BN604,0)),\"\")","v":""},{"$f":"IFERROR(VLOOKUP(Engine!BO298,P_sentences_overview!H299:I428,2),\"\")","v":""}]
[null,null,null,null,null,null,null,null,null,null,null,null,null,null,null,null,null,null,null,null,{"$f":"IFERROR(INDEX(U297:AV297,1,SMALL(IF(U297:AV297<>\"\",COLUMN(U297:AV297)-MIN(COLUMN(U297:AV297))+1),COLUMNS($U$2:U281))),\"\")","v":0},{"$f":"IFERROR(INDEX(U297:AV297,1,SMALL(IF(U297:AV297<>\"\",COLUMN(U297:AV297)-MIN(COLUMN(U297:AV297))+1),COLUMNS($U$2:V281))),\"\")","v":0},{"$f":"IFERROR(INDEX(U297:AV297,1,SMALL(IF(U297:AV297<>\"\",COLUMN(U297:AV297)-MIN(COLUMN(U297:AV297))+1),COLUMNS($U$2:W281))),\"\")","v":0},{"$f":"IFERROR(INDEX(U297:AV297,1,SMALL(IF(U297:AV297<>\"\",COLUMN(U297:AV297)-MIN(COLUMN(U297:AV297))+1),COLUMNS($U$2:X281))),\"\")","v":0},{"$f":"IFERROR(INDEX(U297:AV297,1,SMALL(IF(U297:AV297<>\"\",COLUMN(U297:AV297)-MIN(COLUMN(U297:AV297))+1),COLUMNS($U$2:Y281))),\"\")","v":0},{"$f":"IFERROR(INDEX(U297:AV297,1,SMALL(IF(U297:AV297<>\"\",COLUMN(U297:AV297)-MIN(COLUMN(U297:AV297))+1),COLUMNS($U$2:Z281))),\"\")","v":0},{"$f":"IFERROR(INDEX(U297:AV297,1,SMALL(IF(U297:AV297<>\"\",COLUMN(U297:AV297)-MIN(COLUMN(U297:AV297))+1),COLUMNS($U$2:AA281))),\"\")","v":0},{"$f":"IFERROR(INDEX(U297:AV297,1,SMALL(IF(U297:AV297<>\"\",COLUMN(U297:AV297)-MIN(COLUMN(U297:AV297))+1),COLUMNS($U$2:AB281))),\"\")","v":0},{"$f":"IFERROR(INDEX(U297:AV297,1,SMALL(IF(U297:AV297<>\"\",COLUMN(U297:AV297)-MIN(COLUMN(U297:AV297))+1),COLUMNS($U$2:AC281))),\"\")","v":0},{"$f":"IFERROR(INDEX(U297:AV297,1,SMALL(IF(U297:AV297<>\"\",COLUMN(U297:AV297)-MIN(COLUMN(U297:AV297))+1),COLUMNS($U$2:AD281))),\"\")","v":0},{"$f":"IFERROR(INDEX(U297:AV297,1,SMALL(IF(U297:AV297<>\"\",COLUMN(U297:AV297)-MIN(COLUMN(U297:AV297))+1),COLUMNS($U$2:AE281))),\"\")","v":0},{"$f":"IFERROR(INDEX(U297:AV297,1,SMALL(IF(U297:AV297<>\"\",COLUMN(U297:AV297)-MIN(COLUMN(U297:AV297))+1),COLUMNS($U$2:AF281))),\"\")","v":0},{"$f":"IFERROR(INDEX(U297:AV297,1,SMALL(IF(U297:AV297<>\"\",COLUMN(U297:AV297)-MIN(COLUMN(U297:AV297))+1),COLUMNS($U$2:AG281))),\"\")","v":0},{"$f":"IFERROR(INDEX(U297:AV297,1,SMALL(IF(U297:AV297<>\"\",COLUMN(U297:AV297)-MIN(COLUMN(U297:AV297))+1),COLUMNS($U$2:AH281))),\"\")","v":0},{"$f":"IFERROR(INDEX(U297:AV297,1,SMALL(IF(U297:AV297<>\"\",COLUMN(U297:AV297)-MIN(COLUMN(U297:AV297))+1),COLUMNS($U$2:AI281))),\"\")","v":0},{"$f":"IFERROR(INDEX(U297:AV297,1,SMALL(IF(U297:AV297<>\"\",COLUMN(U297:AV297)-MIN(COLUMN(U297:AV297))+1),COLUMNS($U$2:AJ281))),\"\")","v":0},{"$f":"IFERROR(INDEX(U297:AV297,1,SMALL(IF(U297:AV297<>\"\",COLUMN(U297:AV297)-MIN(COLUMN(U297:AV297))+1),COLUMNS($U$2:AK281))),\"\")","v":0},{"$f":"IFERROR(INDEX(U297:AV297,1,SMALL(IF(U297:AV297<>\"\",COLUMN(U297:AV297)-MIN(COLUMN(U297:AV297))+1),COLUMNS($U$2:AL281))),\"\")","v":0},{"$f":"IFERROR(INDEX(U297:AV297,1,SMALL(IF(U297:AV297<>\"\",COLUMN(U297:AV297)-MIN(COLUMN(U297:AV297))+1),COLUMNS($U$2:AM281))),\"\")","v":0},{"$f":"IFERROR(INDEX(U297:AV297,1,SMALL(IF(U297:AV297<>\"\",COLUMN(U297:AV297)-MIN(COLUMN(U297:AV297))+1),COLUMNS($U$2:AN281))),\"\")","v":0},{"$f":"IFERROR(INDEX(U297:AV297,1,SMALL(IF(U297:AV297<>\"\",COLUMN(U297:AV297)-MIN(COLUMN(U297:AV297))+1),COLUMNS($U$2:AO281))),\"\")","v":0},{"$f":"IFERROR(INDEX(U297:AV297,1,SMALL(IF(U297:AV297<>\"\",COLUMN(U297:AV297)-MIN(COLUMN(U297:AV297))+1),COLUMNS($U$2:AP281))),\"\")","v":0},{"$f":"IFERROR(INDEX(U297:AV297,1,SMALL(IF(U297:AV297<>\"\",COLUMN(U297:AV297)-MIN(COLUMN(U297:AV297))+1),COLUMNS($U$2:AQ281))),\"\")","v":0},{"$f":"IFERROR(INDEX(U297:AV297,1,SMALL(IF(U297:AV297<>\"\",COLUMN(U297:AV297)-MIN(COLUMN(U297:AV297))+1),COLUMNS($U$2:AR281))),\"\")","v":0},{"$f":"IFERROR(INDEX(U297:AV297,1,SMALL(IF(U297:AV297<>\"\",COLUMN(U297:AV297)-MIN(COLUMN(U297:AV297))+1),COLUMNS($U$2:AS281))),\"\")","v":0},{"$f":"IFERROR(INDEX(U297:AV297,1,SMALL(IF(U297:AV297<>\"\",COLUMN(U297:AV297)-MIN(COLUMN(U297:AV297))+1),COLUMNS($U$2:AT281))),\"\")","v":0},{"$f":"IFERROR(INDEX(U297:AV297,1,SMALL(IF(U297:AV297<>\"\",COLUMN(U297:AV297)-MIN(COLUMN(U297:AV297))+1),COLUMNS($U$2:AU281))),\"\")","v":0},{"$f":"IFERROR(INDEX(U297:AV297,1,SMALL(IF(U297:AV297<>\"\",COLUMN(U297:AV297)-MIN(COLUMN(U297:AV297))+1),COLUMNS($U$2:AV281))),\"\")","v":0},null,null,null,null,null,null,null,{"$f":"IFERROR(INDEX(BA281:BA291,MATCH(SMALL(BC281:BC291,ROWS(BA281:BA288)),BC281:BC291,)),\"\")","v":""},{"$f":"IFERROR(INDEX(BD281:BD302,SMALL(IF(BD281:BD302<>\"\",ROW(BD281:BD302)-MIN(ROW(BD281:BD302))+1),ROWS(AX281:AX299))),\"\")","v":""},null,{"$f":"+AM299","v":0},{"$f":"COUNTIF($BG$2:BG299,\"*\"&BG299&\"*\")","v":0},"","",{"$f":"IFERROR(INDEX(BI$2:BI$308,MATCH(ROWS(BJ$2:BJ299),BJ$2:BJ$308,0)),\"\")","v":""},{"$f":"COUNTIF($BK299:$BK$308,\"*\"&BK299&\"*\")","v":10},"","",{"$f":"IFERROR(INDEX($BM$2:$BM$308,MATCH(ROWS(BN$2:BN299),BN$2:BN605,0)),\"\")","v":""},{"$f":"IFERROR(VLOOKUP(Engine!BO299,P_sentences_overview!H300:I429,2),\"\")","v":""}]
[null,null,null,null,null,null,null,null,null,null,null,null,null,null,null,null,null,null,null,null,null,null,null,null,null,null,null,null,null,null,null,null,null,null,null,null,null,null,null,null,null,null,null,null,null,null,null,null,null,null,null,null,null,null,null,{"$f":"IFERROR(INDEX(BA281:BA291,MATCH(SMALL(BC281:BC291,ROWS(BA281:BA289)),BC281:BC291,)),\"\")","v":""},{"$f":"IFERROR(INDEX(BD281:BD302,SMALL(IF(BD281:BD302<>\"\",ROW(BD281:BD302)-MIN(ROW(BD281:BD302))+1),ROWS(AX281:AX300))),\"\")","v":""},null,{"$f":"+AN299","v":0},{"$f":"COUNTIF($BG$2:BG300,\"*\"&BG300&\"*\")","v":0},"","",{"$f":"IFERROR(INDEX(BI$2:BI$308,MATCH(ROWS(BJ$2:BJ300),BJ$2:BJ$308,0)),\"\")","v":""},{"$f":"COUNTIF($BK300:$BK$308,\"*\"&BK300&\"*\")","v":9},"","",{"$f":"IFERROR(INDEX($BM$2:$BM$308,MATCH(ROWS(BN$2:BN300),BN$2:BN606,0)),\"\")","v":""},{"$f":"IFERROR(VLOOKUP(Engine!BO300,P_sentences_overview!H301:I430,2),\"\")","v":""}]
[null,null,null,null,null,null,null,null,null,null,null,null,null,null,null,null,null,null,null,null,null,null,null,null,null,null,null,null,null,null,null,null,null,null,null,null,null,null,null,null,null,null,null,null,null,null,null,null,null,null,null,null,null,null,null,{"$f":"IFERROR(INDEX(BA281:BA291,MATCH(SMALL(BC281:BC291,ROWS(BA281:BA290)),BC281:BC291,)),\"\")","v":""},{"$f":"IFERROR(INDEX(BD281:BD302,SMALL(IF(BD281:BD302<>\"\",ROW(BD281:BD302)-MIN(ROW(BD281:BD302))+1),ROWS(AX281:AX301))),\"\")","v":""},null,{"$f":"+AO299","v":0},{"$f":"COUNTIF($BG$2:BG301,\"*\"&BG301&\"*\")","v":0},"","",{"$f":"IFERROR(INDEX(BI$2:BI$308,MATCH(ROWS(BJ$2:BJ301),BJ$2:BJ$308,0)),\"\")","v":""},{"$f":"COUNTIF($BK301:$BK$308,\"*\"&BK301&\"*\")","v":8},"","",{"$f":"IFERROR(INDEX($BM$2:$BM$308,MATCH(ROWS(BN$2:BN301),BN$2:BN607,0)),\"\")","v":""},{"$f":"IFERROR(VLOOKUP(Engine!BO301,P_sentences_overview!H302:I431,2),\"\")","v":""}]
[null,null,null,null,null,null,null,null,null,null,null,null,null,null,null,null,null,null,null,null,null,null,null,null,null,null,null,null,null,null,null,null,null,null,null,null,null,null,null,null,null,null,null,null,null,null,null,null,null,null,null,null,null,null,null,{"$f":"IFERROR(INDEX(BA281:BA291,MATCH(SMALL(BC281:BC291,ROWS(BA281:BA291)),BC281:BC291,)),\"\")","v":""},{"$f":"IFERROR(INDEX(BD281:BD302,SMALL(IF(BD281:BD302<>\"\",ROW(BD281:BD302)-MIN(ROW(BD281:BD302))+1),ROWS(AX281:AX302))),\"\")","v":""},null,{"$f":"+AP299","v":0},{"$f":"COUNTIF($BG$2:BG302,\"*\"&BG302&\"*\")","v":0},"","",{"$f":"IFERROR(INDEX(BI$2:BI$308,MATCH(ROWS(BJ$2:BJ302),BJ$2:BJ$308,0)),\"\")","v":""},{"$f":"COUNTIF($BK302:$BK$308,\"*\"&BK302&\"*\")","v":7},"","",{"$f":"IFERROR(INDEX($BM$2:$BM$308,MATCH(ROWS(BN$2:BN302),BN$2:BN608,0)),\"\")","v":""},{"$f":"IFERROR(VLOOKUP(Engine!BO302,P_sentences_overview!H303:I432,2),\"\")","v":""}]
[null,null,null,null,null,null,null,null,null,null,null,null,null,null,null,null,null,null,null,null,null,null,null,null,null,null,null,null,null,null,null,null,null,null,null,null,null,null,null,null,null,null,null,null,null,null,null,null,null,null,null,null,null,null,null,null,null,null,{"$f":"+AQ299","v":0},{"$f":"COUNTIF($BG$2:BG303,\"*\"&BG303&\"*\")","v":0},"","",{"$f":"IFERROR(INDEX(BI$2:BI$308,MATCH(ROWS(BJ$2:BJ303),BJ$2:BJ$308,0)),\"\")","v":""},{"$f":"COUNTIF($BK303:$BK$308,\"*\"&BK303&\"*\")","v":6},"","",{"$f":"IFERROR(INDEX($BM$2:$BM$308,MATCH(ROWS(BN$2:BN303),BN$2:BN609,0)),\"\")","v":""},{"$f":"IFERROR(VLOOKUP(Engine!BO303,P_sentences_overview!H304:I433,2),\"\")","v":""}]
[null,null,null,null,null,null,null,null,null,null,null,null,null,null,null,null,null,null,null,null,null,null,null,null,null,null,null,null,null,null,null,null,null,null,null,null,null,null,null,null,null,null,null,null,null,null,null,null,null,null,null,null,null,null,null,null,null,null,{"$f":"+AR299","v":0},{"$f":"COUNTIF($BG$2:BG304,\"*\"&BG304&\"*\")","v":0},"","",{"$f":"IFERROR(INDEX(BI$2:BI$308,MATCH(ROWS(BJ$2:BJ304),BJ$2:BJ$308,0)),\"\")","v":""},{"$f":"COUNTIF($BK304:$BK$308,\"*\"&BK304&\"*\")","v":5},"","",{"$f":"IFERROR(INDEX($BM$2:$BM$308,MATCH(ROWS(BN$2:BN304),BN$2:BN610,0)),\"\")","v":""},{"$f":"IFERROR(VLOOKUP(Engine!BO304,P_sentences_overview!H305:I434,2),\"\")","v":""}]
[null,null,null,null,null,null,null,null,null,null,null,null,null,null,null,null,null,null,null,null,null,null,null,null,null,null,null,null,null,null,null,null,null,null,null,null,null,null,null,null,null,null,null,null,null,null,null,null,null,null,null,null,null,null,null,null,null,null,{"$f":"+AS299","v":0},{"$f":"COUNTIF($BG$2:BG305,\"*\"&BG305&\"*\")","v":0},"","",{"$f":"IFERROR(INDEX(BI$2:BI$308,MATCH(ROWS(BJ$2:BJ305),BJ$2:BJ$308,0)),\"\")","v":""},{"$f":"COUNTIF($BK305:$BK$308,\"*\"&BK305&\"*\")","v":4},"","",{"$f":"IFERROR(INDEX($BM$2:$BM$308,MATCH(ROWS(BN$2:BN305),BN$2:BN611,0)),\"\")","v":""},{"$f":"IFERROR(VLOOKUP(Engine!BO305,P_sentences_overview!H306:I435,2),\"\")","v":""}]
[null,null,null,null,null,null,null,null,null,null,null,null,null,null,null,null,null,null,null,null,null,null,null,null,null,null,null,null,null,null,null,null,null,null,null,null,null,null,null,null,null,null,null,null,null,null,null,null,null,null,null,null,null,null,null,null,null,null,{"$f":"+AT299","v":0},{"$f":"COUNTIF($BG$2:BG306,\"*\"&BG306&\"*\")","v":0},"","",{"$f":"IFERROR(INDEX(BI$2:BI$308,MATCH(ROWS(BJ$2:BJ306),BJ$2:BJ$308,0)),\"\")","v":""},{"$f":"COUNTIF($BK306:$BK$308,\"*\"&BK306&\"*\")","v":3},"","",{"$f":"IFERROR(INDEX($BM$2:$BM$308,MATCH(ROWS(BN$2:BN306),BN$2:BN612,0)),\"\")","v":""},{"$f":"IFERROR(VLOOKUP(Engine!BO306,P_sentences_overview!H307:I436,2),\"\")","v":""}]
[null,null,null,null,null,null,null,null,null,null,null,null,null,null,null,null,null,null,null,null,null,null,null,null,null,null,null,null,null,null,null,null,null,null,null,null,null,null,null,null,null,null,null,null,null,null,null,null,null,null,null,null,null,null,null,null,null,null,{"$f":"+AU299","v":0},{"$f":"COUNTIF($BG$2:BG307,\"*\"&BG307&\"*\")","v":0},"","",{"$f":"IFERROR(INDEX(BI$2:BI$308,MATCH(ROWS(BJ$2:BJ307),BJ$2:BJ$308,0)),\"\")","v":""},{"$f":"COUNTIF($BK307:$BK$308,\"*\"&BK307&\"*\")","v":2},"","",{"$f":"IFERROR(INDEX($BM$2:$BM$308,MATCH(ROWS(BN$2:BN307),BN$2:BN613,0)),\"\")","v":""},{"$f":"IFERROR(VLOOKUP(Engine!BO307,P_sentences_overview!H308:I437,2),\"\")","v":""}]
[null,null,null,null,null,null,null,null,null,null,null,null,null,null,null,null,null,null,null,null,null,null,null,null,null,null,null,null,null,null,null,null,null,null,null,null,null,null,null,null,null,null,null,null,null,null,null,null,null,null,null,null,null,null,null,null,null,null,{"$f":"+AV299","v":0},{"$f":"COUNTIF($BG$2:BG308,\"*\"&BG308&\"*\")","v":0},"","",{"$f":"IFERROR(INDEX(BI$2:BI$308,MATCH(ROWS(BJ$2:BJ308),BJ$2:BJ$308,0)),\"\")","v":""},{"$f":"COUNTIF($BK308:$BK$308,\"*\"&BK308&\"*\")","v":1},"","",{"$f":"IFERROR(INDEX($BM$2:$BM$308,MATCH(ROWS(BN$2:BN308),BN$2:BN614,0)),\"\")","v":""},{"$f":"IFERROR(VLOOKUP(Engine!BO308,P_sentences_overview!H309:I438,2),\"\")","v":""}]

{"sheet":"Front","index":5,"n_rows":7,"n_cols":16,"rows_kept":7,"cut":false,"hidden":true,"merged":[]}
[]
[]
[]
[]
[]
[]
[null,null,null,null,null,null,null,null,null,null,null,null,null,null,null,6]